Workbook
Name ChartMonths: OFFSET(Summary!$AA$42,,,12-COUNTIF(Summary!$Z$42:$Z$53,""))
Name ChartValues: OFFSET(Summary!$Z$42,,,12-COUNTIF(Summary!$Z$42:$Z$53,""))

Sheet Narrative
B2: =H5 -> NOREBT | G2: RELEVANT DATA BELOW Update formulas upon XFER Backups in column "H"
C3: PLAN REVIEW & DISCUSSION POINTS
B5: OVERVIEW | G5: Client Name: | H5: NOREBT | I5: =PROPER(Addendum!E2)
C6: ="Attached for review are health care program reports for "&$B$2&", for the period "&H6&". Included reports are as follows;" -> Attached for review are health care program reports for NOREBT, for the period July 2024 through February 2025. Included reports are as follows; | G6: Report Period To-Date: | H6: =H7&" "&H8&" through "&TEXT(DATE(2000,H10-1,1), "mmmm")&" "&(IF(H10=1,YEAR(H9)-1, YEAR(H9))) -> July 2024 through February 2025 | I6: =G7&" "&G8&" through "&TEXT(DATE(2000,G10-1,1), "mmmm")&" "&(IF(G10=1,YEAR(G9)-1, YEAR(G9)))
G7: Report Year Begin Month: | H7: =Addendum!B12 -> July | I7: =Addendum!B12
C8: - Demographics | G8: Report Year Begin Year: | H8: =IF(MONTH(H9)=MONTH(DATEVALUE(H7&"1")),(YEAR(H9)-1),IF(MONTH(H9)>MONTH(DATEVALUE(H7&"1")),YEAR(H9), IF(MONTH(H9)<MONTH(DATEVALUE(H7&"1")),YEAR(H9)-1, "ERROR"))) -> 2024 | I8: =IF(MONTH(G9)=MONTH(DATEVALUE(G7&"1")),(YEAR(G9)-1),IF(MONTH(G9)>MONTH(DATEVALUE(G7&"1")),YEAR(G9), IF(MONTH(G9)<MONTH(DATEVALUE(G7&"1")),YEAR(G9)-1, "ERROR")))
C9: - Major Cost Components | G9: Completed Date: | H9: =Summary!K3 -> 45742 | I9: =Addendum!B3
C10: - Financial Performance | G10: Completed Month: | H10: =MONTH(H9) -> 3 | I10: =MONTH(G9)
C11: - High Cost Claimants
C12: - Invoiced Expense Addendum
C14: ="Average health care enrollment stands at "&TEXT(H15,"0")&" employees. "&"Program costs for the current plan year, based on transmitted EDI feeds from each carrier, are as follows;" -> Average health care enrollment stands at 3419 employees. Program costs for the current plan year, based on transmitted EDI feeds from each carrier, are as follows; | G14: Innovu Total Subscribers: | H14: ='CR Reconcile'!D35 -> 27353 | I14: ='CR Reconcile'!D35
C15: =" - Claims Paid:" -> - Claims Paid: | D15: =DOLLAR(H16,0) -> $54,683,177 | G15: Innovu Avg Subscribers: | H15: =AVERAGE('CR Reconcile'!D23:D34) -> 3419.125 | I15: =AVERAGE('CR Reconcile'!D23:D34)
C16: =" - Fixed Costs Paid:" -> - Fixed Costs Paid: | D16: =DOLLAR(H17,0) -> $1,283,403 | G16: Innovu Paid Claims: | H16: =SUM('CR Reconcile'!J18:L18) -> 54683177 | I16: =SUM('CR Reconcile'!F18:H18)
C17: =" - SL Reimbursements & Additional Items: " -> - SL Reimbursements & Additional Items: | D17: =DOLLAR(H18,0) -> ($4,076,950) | G17: Innovu Fixed Costs: | H17: ='CR Reconcile'!M18 -> 1283402.8 | I17: ='CR Reconcile'!I18
C18: =" - Overall Plan Cost:" -> - Overall Plan Cost: | D18: =DOLLAR(H19,0) -> $51,889,630 | G18: IEA Total: | H18: =Addendum!P22 -> -4076949.6 | I18: =Addendum!M22
G19: Total Plan Cost: | H19: =SUM(H16:H18) -> 51889630 | I19: =SUM(G16:G18)
C20: ="Net health care program costs after refinements and adjustments come to "&DOLLAR(H19/H14,0)&" PEPM in the current plan year." -> Net health care program costs after refinements and adjustments come to $1,897 PEPM in the current plan year.
B22: RECONCILIATION
C24: ="HUB reconciles data from our analytics platform against your invoices to determine if any discrepancy exists. For the period "&H6&", the Claims Cost discrepancy is "&DOLLAR(ABS(H25),0)&" while the Fixed Cost discrepancy is "&DOLLAR(ABS(H26),0)&". The total discrepancy between Innovu's data and carrier invoices is "&DOLLAR((H27),0)&", or "&TEXT(H27/H19,"0.00%")&" of total spend over the current reporting period." -> HUB reconciles data from our analytics platform against your invoices to determine if any discrepancy exists. For the period July 2024 through February 2025, the Claims Cost discrepancy is $98,010 while the Fixed Cost discrepancy is $258,913. The total discrepancy between Innovu's data and carrier invoices is ($356,924), or -0.69% of total spend over the current reporting period.
G25: Claims Discrepancy: | H25: ='CR Reconcile'!O18 -> -98010.34 | I25: ='CR Reconcile'!K18
C26: We will continue to monitor the program status monthly. If you have any questions regarding the above comments or attached reports, please let us know. | G26: Fixed Cost Discrepancy: | H26: ='CR Reconcile'!P18 -> -258913.33 | I26: ='CR Reconcile'!L18
G27: Total Discrepancy: | H27: =SUM(H25:H26) -> -356923.67 | I27: =SUM(G23:G24)
C30: NOTE: Stop Loss Reimbursements are reported as received, not during the month the claim was originally incurred

Sheet Summary
B2: =P6 -> NOREBT | K2: Date Completed: | O2: RELEVANT DATA BELOW Update formulas upon XFER | Q2: BOLDED RED = Update on First Introduction
B3: Comprehensive Summary Dashboard | K3: =Addendum!B3 -> 45742 | Q3: RED = Formulaic - No Updates Required
Q4: BLACK = Hard Coded - Update As Necessary
B5: Healthcare KPIs | C5: ="Report Year "&$P$9-2 -> Report Year 2022 | D5: ="Report Year "&$P$9-1 -> Report Year 2023 | E5: % Change | F5: ="Report Year "&$P$9 -> Report Year 2024 | H5: Est. % Change
F6: YTD | G6: Est. Annualized | O6: Client Name: | P6: =Addendum!E2 -> NOREBT
B7: Average Enrolled Employees | C7: =AVERAGE($P$18:$P$29) -> 3487.3333 | D7: =AVERAGE($P$30:$P$41) -> 3445.25 | E7: =(ABS(D7)-ABS(C7))/ABS(C7) -> -0.012067482 | F7: =AVERAGE(P42:P53) -> 3419.125 | H7: =(ABS(F7)-ABS(D7))/ABS(D7) -> -0.007582904 | O7: Report Period To-Date: | P7: =P8&" "&P9&" through "&TEXT(DATE(2000,P14-1,1), "mmmm")&" "&(IF(P14=1,YEAR(P13)-1, YEAR(P13))) -> July 2024 through February 2025
B8: Average Enrolled Members | C8: =AVERAGE($Q$18:$Q$29) -> 9799.4167 | D8: =AVERAGE(Q30:Q41) -> 9717 | E8: =(ABS(D8)-ABS(C8))/ABS(C8) -> -0.0084103646 | F8: =AVERAGE(Q42:Q53) -> 9641 | H8: =(ABS(F8)-ABS(D8))/ABS(D8) -> -0.007821344 | O8: Report Year Begin Month: | P8: =Addendum!$B$12 -> July
O9: Report Year Begin Year: | P9: =IF(MONTH(P13)=MONTH(DATEVALUE(P8&"1")),(YEAR(P13)-1),IF(MONTH(P13)>MONTH(DATEVALUE(P8&"1")),YEAR(P13), IF(MONTH(P13)<MONTH(DATEVALUE(P8&"1")),YEAR(P13)-1, "ERROR"))) -> 2024
B10: Medical Claims | C10: =SUM(R18:R29,T18:T29)-C12 -> 48399606 | D10: =SUM(R30:R41,T30:T41)-D12 -> 56012279 | E10: =(ABS(D10)-ABS(C10))/ABS(C10) -> 0.15728792 | F10: =SUM(R42:R53,T42:T53)-F12 -> 37762081 | G10: =(F10/COUNT(P$42:P$53))*12 -> 56643122 | H10: =(ABS(G10)-ABS(D10))/ABS(D10) -> 0.011262591 | O10: Report Year End Month: | P10: =Addendum!$B$13 -> June
B11: Rx Claims | C11: =SUM(S18:S29) -> 18326458 | D11: =SUM(S30:S41) -> 21838168 | E11: =(ABS(D11)-ABS(C11))/ABS(C11) -> 0.19161967 | F11: =SUM(S42:S53) -> 16913853 | G11: =(F11/COUNT(P$42:P$53))*12 -> 25370779 | H11: =(ABS(G11)-ABS(D11))/ABS(D11) -> 0.16176316 | J11: 2021 | K11: 2022 | L11: 2023 | O11: Report Year End Year: | P11: =IF(P10="December",P9,P9+1) -> 2025
B12: Vision Claims | C12: =J12 -> 11105 | D12: =K12 -> 10707.9 | E12: =IFERROR((ABS(D12)-ABS(C12))/ABS(C12),"") -> -0.035758667 | F12: =L12 -> 7243 | G12: =(F12/COUNT(P$42:P$53))*12 -> 10864.5 | H12: =(ABS(G12)-ABS(D12))/ABS(D12) -> 0.014624716 | J12: 11105 | K12: 10707.9 | L12: ='Trust Cash Flow'!P20 -> 7243
B13: Total Claims | C13: =SUM(C10:C12) -> 66737169 | D13: =SUM(D10:D12) -> 77861154 | E13: =(ABS(D13)-ABS(C13))/ABS(C13) -> 0.16668352 | F13: =SUM(F10:F12) -> 54683177 | G13: =SUM(G10:G12) -> 82024765 | H13: =(ABS(G13)-ABS(D13))/ABS(D13) -> 0.053474817 | O13: Completed Date: | P13: =K3 -> 45742
J14: =K14-1 -> 2022 | K14: =L14-1 -> 2023 | L14: =$P$9 -> 2024 | O14: Completed Month: | P14: =MONTH(P13) -> 3
B15: Administrative Costs | C15: =J15 -> 2561793.2 | D15: =K15 -> 2621008.7 | E15: =(ABS(D15)-ABS(C15))/ABS(C15) -> 0.023114871 | F15: =L15 -> 1687082.8 | G15: =(F15/COUNT(P$42:P$53))*12 -> 2530624.2 | H15: =(ABS(G15)-ABS(D15))/ABS(D15) -> -0.034484615 | J15: 2561793.2 | K15: 2621008.7 | L15: =SUM('Trust Cash Flow'!P36,'Trust Cash Flow'!P40,'Trust Cash Flow'!P41) -> 1687082.8 | O15: HCC Threshold: | P15: 25000
B16: Mini-Pool Contributions | C16: =J16 -> 9720583.6 | D16: =K16 -> 14288653 | E16: =(ABS(D16)-ABS(C16))/ABS(C16) -> 0.46993776 | F16: =L16 -> 10093790 | G16: =(F16/COUNT(P$42:P$53))*12 -> 15140685 | H16: =(ABS(G16)-ABS(D16))/ABS(D16) -> 0.059629979 | J16: 9720583.6 | K16: 14288653 | L16: ='Trust Cash Flow'!P39 -> 10093790 | O16: PASTE BELOW FROM RECONCILIATION EXPORT
B17: Stop Loss Premium | C17: =J17 -> 4011258.1 | D17: =K17 -> 4166961 | E17: =(ABS(D17)-ABS(C17))/ABS(C17) -> 0.03881647 | F17: =L17 -> 2701655.8 | G17: =(F17/COUNT(P$42:P$53))*12 -> 4052483.7 | H17: =(ABS(G17)-ABS(D17))/ABS(D17) -> -0.027472601 | J17: 4011258.1 | K17: 4166961 | L17: ='Trust Cash Flow'!P38 -> 2701655.8 | P17: Enrolled Subs | Q17: Enrolled Mems | R17: Medical Claims | S17: Rx Claims | T17: Rebates & Adjustments | U17: Admin | V17: Budget | W17: SL Spec Premium | X17: SL Agg Premium | Y17: EE Contributions | Z17: PEPM | AA17: MONTH | AB17: PY | AC17: 3 YR AVERAGE
B18: Total Fixed Costs | C18: =SUM(C15:C17) -> 16293635 | D18: =SUM(D15:D17) -> 21076623 | E18: =(ABS(D18)-ABS(C18))/ABS(C18) -> 0.29354946 | F18: =SUM(F15:F17) -> 14482529 | G18: =(F18/COUNT(P$42:P$53))*12 -> 21723793 | H18: =(ABS(G18)-ABS(D18))/ABS(D18) -> 0.0307056 | M18: =TEXT(MONTH(DATEVALUE(P8&"1")),"00") -> 07 | N18: =P9-2 -> 2022 | O18: =N18&M18 -> 202207 | P18: 3487 | Q18: 9755 | R18: 4895324.3 | S18: 1535555.7 | T18: 0 | U18: =W18+(P18*-3.36) -> 322931.07 | V18: 5413564 | W18: =P18*95.97 -> 334647.39 | X18: 0 | Y18: 160505 | Z18: =IFERROR(SUM(#REF!)/#REF!,"") | AA18: =RIGHT(O18,2) -> 07 | AB18: =IF(LEFT($O$18,4)=LEFT($O$29,4), LEFT($O$18,4),LEFT($O$18,4)&"-"&LEFT($O$29,4)) -> 2022-2023
J19: =K19-1 -> 2022 | K19: =L19-1 -> 2023 | L19: =$P$9 -> 2024 | M19: =TEXT(IF(M18+1>12, (M18+1)-12, M18+1),"00") -> 08 | N19: =IF(TEXT(DATE(2000,M19,1),"mmmm")="January",N18+1,N18) -> 2022 | O19: =N19&M19 -> 202208 | P19: 3485 | Q19: 9760 | R19: 3286809.4 | S19: 1418798.1 | T19: 71008.23 | U19: =W19+(P19*-3.36) -> 322745.85 | V19: 5411322.4 | W19: =P19*95.97 -> 334455.45 | X19: 0 | Y19: 161080 | Z19: =IFERROR(SUM(#REF!)/#REF!,"") | AA19: =RIGHT(O19,2) -> 08 | AB19: =$AB$18 -> 2022-2023
B20: Invoiced Expenses | C20: =J20 -> -3513858 | D20: =K20 -> 1500037.1 | E20: =(ABS(D20)-ABS(C20))/ABS(C20) -> -0.57310821 | F20: =L20 -> -157351.16 | G20: =(F20/COUNT(P$42:P$53))*12 -> -236026.74 | H20: =(ABS(G20)-ABS(D20))/ABS(D20) -> -0.84265274 | J20: -3513858 | K20: 1500037.1 | L20: =SUM(Addendum!F22:L22) -> -157351.16 | M20: =TEXT(IF(M19+1>12, (M19+1)-12, M19+1),"00") -> 09 | N20: =IF(TEXT(DATE(2000,M20,1),"mmmm")="January",N19+1,N19) -> 2022 | O20: =N20&M20 -> 202209 | P20: 3488 | Q20: 9766 | R20: 4559659.6 | S20: 1576088.8 | T20: 35199.87 | U20: =W20+(P20*-3.36) -> 323023.68 | V20: 5411152 | W20: =P20*95.97 -> 334743.36 | X20: 0 | Y20: 161816 | Z20: =IFERROR(SUM(#REF!)/#REF!,"") | AA20: =RIGHT(O20,2) -> 09 | AB20: =$AB$18 -> 2022-2023
B21: Rx Rebates & Discount Guarantees | C21: =J21 -> -2002276.1 | D21: =K21 -> -7337404.8 | E21: =(ABS(D21)-ABS(C21))/ABS(C21) -> 2.6645319 | F21: =L21 -> -3663161.3 | G21: =(F21/COUNT(P$42:P$53))*12 -> -5494741.9 | H21: =(ABS(G21)-ABS(D21))/ABS(D21) -> -0.25113278 | J21: -2002276.1 | K21: -7337404.8 | L21: =SUM('Trust Cash Flow'!P24,Addendum!M22) -> -3663161.3 | M21: =TEXT(IF(M20+1>12, (M20+1)-12, M20+1),"00") -> 10 | N21: =IF(TEXT(DATE(2000,M21,1),"mmmm")="January",N20+1,N20) -> 2022 | O21: =N21&M21 -> 202210 | P21: 3490 | Q21: 9774 | R21: 3516848 | S21: 1385356.2 | T21: 35688.28 | U21: =W21+(P21*-3.36) -> 323208.9 | V21: 5402762.3 | W21: =P21*95.97 -> 334935.3 | X21: 0 | Y21: 163467 | Z21: =IFERROR(SUM(#REF!)/#REF!,"") | AA21: =RIGHT(O21,2) -> 10 | AB21: =$AB$18 -> 2022-2023
B22: Mini-Pool Reimbursements | C22: =J22 -> -9636461.8 | D22: =K22 -> -11976558 | E22: =(ABS(D22)-ABS(C22))/ABS(C22) -> 0.24283772 | F22: =L22 -> -7792458.3 | G22: =(F22/COUNT(P$42:P$53))*12 -> -11688687 | H22: =(ABS(G22)-ABS(D22))/ABS(D22) -> -0.024036174 | J22: -9636461.8 | K22: -11976558 | L22: ='Trust Cash Flow'!P21 -> -7792458.3 | M22: =TEXT(IF(M21+1>12, (M21+1)-12, M21+1),"00") -> 11 | N22: =IF(TEXT(DATE(2000,M22,1),"mmmm")="January",N21+1,N21) -> 2022 | O22: =N22&M22 -> 202211 | P22: 3496 | Q22: 9820 | R22: 2791511.3 | S22: 1327745.2 | T22: 36076.64 | U22: =W22+(P22*-3.36) -> 323764.56 | V22: 5423902.8 | W22: =P22*95.97 -> 335511.12 | X22: 0 | Y22: 159823 | Z22: =IFERROR(SUM(#REF!)/#REF!,"") | AA22: =RIGHT(O22,2) -> 11 | AB22: =$AB$18 -> 2022-2023
B23: Stop Loss Reimbursements | C23: =J23 -> -3571042.4 | D23: =K23 -> -8020488 | E23: =(ABS(D23)-ABS(C23))/ABS(C23) -> 1.2459795 | F23: =L23 -> -2843777.2 | G23: =(F23/COUNT(P$42:P$53))*12 -> -4265665.9 | H23: =IFERROR((ABS(G23)-ABS(D23))/ABS(D23),"") -> -0.46815383 | J23: -3571042.4 | K23: -8020488 | L23: ='Trust Cash Flow'!P23 -> -2843777.2 | M23: =TEXT(IF(M22+1>12, (M22+1)-12, M22+1),"00") -> 12 | N23: =IF(TEXT(DATE(2000,M23,1),"mmmm")="January",N22+1,N22) -> 2022 | O23: =N23&M23 -> 202212 | P23: 3492 | Q23: 9826 | R23: 4681866.3 | S23: 1577419.6 | T23: 234418.47 | U23: =W23+(P23*-3.36) -> 323394.12 | V23: 5426941.9 | W23: =P23*95.97 -> 335127.24 | X23: 0 | Y23: 160023 | Z23: =IFERROR(SUM(#REF!)/#REF!,"") | AA23: =RIGHT(O23,2) -> 12 | AB23: =$AB$18 -> 2022-2023
B24: Total Additional Items | C24: =SUM(C20:C23) -> -18723638 | D24: =SUM(D20:D23) -> -25834414 | E24: =(ABS(D24)-ABS(C24))/ABS(C24) -> 0.37977531 | F24: =SUM(F20:F23) -> -14456748 | G24: =SUM(G20:G23) -> -21685122 | H24: =(ABS(G24)-ABS(D24))/ABS(D24) -> -0.16061103 | M24: =TEXT(IF(M23+1>12, (M23+1)-12, M23+1),"00") -> 01 | N24: =IF(TEXT(DATE(2000,M24,1),"mmmm")="January",N23+1,N23) -> 2023 | O24: =N24&M24 -> 202301 | P24: 3498 | Q24: 9851 | R24: 3972790.7 | S24: 1256553.3 | T24: 55835.16 | U24: =W24+(P24*-3.36) -> 323949.78 | V24: 5448121 | W24: =P24*95.97 -> 335703.06 | X24: 0 | Y24: 192867 | Z24: =IFERROR(SUM(#REF!)/#REF!,"") | AA24: =RIGHT(O24,2) -> 01 | AB24: =$AB$18 -> 2022-2023
M25: =TEXT(IF(M24+1>12, (M24+1)-12, M24+1),"00") -> 02 | N25: =IF(TEXT(DATE(2000,M25,1),"mmmm")="January",N24+1,N24) -> 2023 | O25: =N25&M25 -> 202302 | P25: 3495 | Q25: 9835 | R25: 3275619.9 | S25: 1273244.7 | T25: 50375.96 | U25: =W25+(P25*-3.36) -> 323671.95 | V25: 5442304.6 | W25: =P25*95.97 -> 335415.15 | X25: 0 | Y25: 191434 | Z25: =IFERROR(SUM(#REF!)/#REF!,"") | AA25: =RIGHT(O25,2) -> 02 | AB25: =$AB$18 -> 2022-2023
B26: Actual Total Cost | C26: =SUM(C18,C13,C24) -> 64307165 | D26: =SUM(D18,D13,D24) -> 73103363 | E26: =(ABS(D26)-ABS(C26))/ABS(C26) -> 0.13678411 | F26: =SUM(F18,F13,F24) -> 54708958 | G26: =SUM(G18,G13,G24) -> 82063436 | H26: =(ABS(G26)-ABS(D26))/ABS(D26) -> 0.12256718 | M26: =TEXT(IF(M25+1>12, (M25+1)-12, M25+1),"00") -> 03 | N26: =IF(TEXT(DATE(2000,M26,1),"mmmm")="January",N25+1,N25) -> 2023 | O26: =N26&M26 -> 202303 | P26: 3485 | Q26: 9813 | R26: 4957457 | S26: 1856958.8 | T26: 60266.95 | U26: =W26+(P26*-3.36) -> 322745.85 | V26: 5423243 | W26: =P26*95.97 -> 334455.45 | X26: 0 | Y26: 189943 | Z26: =IFERROR(SUM(#REF!)/#REF!,"") | AA26: =RIGHT(O26,2) -> 03 | AB26: =$AB$18 -> 2022-2023
B27: Actual Cost PEPY | C27: =C26/C7 -> 18440.212 | D27: =D26/D7 -> 21218.595 | E27: =(ABS(D27)-ABS(C27))/ABS(C27) -> 0.15066979 | F27: =G26/F7 -> 24001.298 | H27: =(ABS(F27)-ABS(D27))/ABS(D27) -> 0.13114454 | J27: =K27-1 -> 2022 | K27: =L27-1 -> 2023 | L27: =$P$9 -> 2024 | M27: =TEXT(IF(M26+1>12, (M26+1)-12, M26+1),"00") -> 04 | N27: =IF(TEXT(DATE(2000,M27,1),"mmmm")="January",N26+1,N26) -> 2023 | O27: =N27&M27 -> 202304 | P27: 3476 | Q27: 9799 | R27: 3381430.6 | S27: 1446104.8 | T27: 57985.28 | U27: =W27+(P27*-3.36) -> 321912.36 | V27: 5409682.2 | W27: =P27*95.97 -> 333591.72 | X27: 0 | Y27: 191029 | Z27: =IFERROR(SUM(#REF!)/#REF!,"") | AA27: =RIGHT(O27,2) -> 04 | AB27: =$AB$18 -> 2022-2023
B28: Trust Contributions | C28: =J28 -> 65554466 | D28: =K28 -> 69759687 | E28: =(ABS(D28)-ABS(C28))/ABS(C28) -> 0.064148501 | F28: =L28 -> 47200696 | G28: =(F28/COUNT(P$42:P$53))*12 -> 70801044 | H28: =(ABS(G28)-ABS(D28))/ABS(D28) -> 0.014927768 | J28: 65554466 | K28: 69759687 | L28: ='Trust Cash Flow'!P10 -> 47200696 | M28: =TEXT(IF(M27+1>12, (M27+1)-12, M27+1),"00") -> 05 | N28: =IF(TEXT(DATE(2000,M28,1),"mmmm")="January",N27+1,N27) -> 2023 | O28: =N28&M28 -> 202305 | P28: 3476 | Q28: 9789 | R28: 4192804.2 | S28: 1632316.9 | T28: 57660.74 | U28: =W28+(P28*-3.36) -> 321912.36 | V28: 5411132.1 | W28: =P28*95.97 -> 333591.72 | X28: 0 | Y28: 190318 | Z28: =IFERROR(SUM(#REF!)/#REF!,"") | AA28: =RIGHT(O28,2) -> 05 | AB28: =$AB$18 -> 2022-2023
B29: Contributions PEPY | C29: =C28/C7 -> 18797.878 | D29: =D28/D7 -> 20248.077 | E29: =(ABS(D29)-ABS(C29))/ABS(C29) -> 0.077146953 | F29: =G28/F7 -> 20707.357 | H29: =(ABS(F29)-ABS(D29))/ABS(D29) -> 0.022682673 | M29: =TEXT(IF(M28+1>12, (M28+1)-12, M28+1),"00") -> 06 | N29: =IF(TEXT(DATE(2000,M29,1),"mmmm")="January",N28+1,N28) -> 2023 | O29: =N29&M29 -> 202306 | P29: 3480 | Q29: 9805 | R29: 4143539 | S29: 2040315.7 | T29: 60534.54 | U29: =W29+(P29*-3.36) -> 322282.8 | V29: 5418631 | W29: =P29*95.97 -> 333975.6 | X29: 0 | Y29: 191292 | Z29: =IFERROR(SUM(#REF!)/#REF!,"") | AA29: =RIGHT(O29,2) -> 06 | AB29: =$AB$18 -> 2022-2023
B30: Actual/Budget | C30: =C26/C28 -> 0.98097305 | D30: =D26/D28 -> 1.0479314 | F30: =IF(F28=0,"No Budget Structure",F26/F28) -> 1.159071 | M30: =TEXT(IF(M29+1>12, (M29+1)-12, M29+1),"00") -> 07 | N30: =IF(TEXT(DATE(2000,M30,1),"mmmm")="January",N29+1,N29) -> 2023 | O30: =N30&M30 -> 202307 | P30: 3454 | Q30: 9739 | R30: 3714171.6 | S30: 1632586.1 | T30: 59977.07 | U30: =W30+(P30*-52.35) -> 168668.1 | V30: 5981454.5 | W30: 349485 | X30: 0 | Y30: 222065 | Z30: =IFERROR(SUM(R18:U18)/P18,"") -> 1936.8544 | AA30: =RIGHT(O30,2) -> 07 | AB30: =IF(LEFT($O$30,4)=LEFT($O$41,4), LEFT($O$30,4),LEFT($O$30,4)&"-"&LEFT($O$41,4)) -> 2023-2024 | AC30: =SUM($R$18:$U$41)/SUM($P$18:$P$41) -> 1808.9848
M31: =TEXT(IF(M30+1>12, (M30+1)-12, M30+1),"00") -> 08 | N31: =IF(TEXT(DATE(2000,M31,1),"mmmm")="January",N30+1,N30) -> 2023 | O31: =N31&M31 -> 202308 | P31: 3470 | Q31: 9788 | R31: 4457853 | S31: 1487004.8 | T31: 60125.9 | U31: =W31+(P31*-52.35) -> 169326.5 | V31: 6006573.1 | W31: 350981 | X31: 0 | Y31: 222736 | Z31: =IFERROR(SUM(R19:U19)/P19,"") -> 1463.2315 | AA31: =RIGHT(O31,2) -> 08 | AB31: =$AB$30 -> 2023-2024 | AC31: =SUM($R$18:$U$41)/SUM($P$18:$P$41) -> 1808.9848
B32: Large Claimants | C32: ="Report Year "&$P$9-2 -> Report Year 2022 | D32: ="Report Year "&$P$9-1 -> Report Year 2023 | E32: % Change | F32: ="Report Year "&$P$9 -> Report Year 2024 | H32: Est. % Change | M32: =TEXT(IF(M31+1>12, (M31+1)-12, M31+1),"00") -> 09 | N32: =IF(TEXT(DATE(2000,M32,1),"mmmm")="January",N31+1,N31) -> 2023 | O32: =N32&M32 -> 202309 | P32: 3483 | Q32: 9805 | R32: 4222989.6 | S32: 2084426.5 | T32: 61303.6 | U32: =W32+(P32*-52.35) -> 169866.95 | V32: 6003910.8 | W32: 352202 | X32: 0 | Y32: 221430 | Z32: =IFERROR(SUM(R20:U20)/P20,"") -> 1861.8039 | AA32: =RIGHT(O32,2) -> 09 | AB32: =$AB$30 -> 2023-2024 | AC32: =SUM($R$18:$U$41)/SUM($P$18:$P$41) -> 1808.9848
F33: YTD | G33: Est. Annualized | M33: =TEXT(IF(M32+1>12, (M32+1)-12, M32+1),"00") -> 10 | N33: =IF(TEXT(DATE(2000,M33,1),"mmmm")="January",N32+1,N32) -> 2023 | O33: =N33&M33 -> 202310 | P33: 3461 | Q33: 9762 | R33: 7441335.5 | S33: 1667751.6 | T33: 59620.23 | U33: =W33+(P33*-52.35) -> 168816.65 | V33: 5962607.2 | W33: 350000 | X33: 0 | Y33: 219781 | Z33: =IFERROR(SUM(R21:U21)/P21,"") -> 1507.4789 | AA33: =RIGHT(O33,2) -> 10 | AB33: =$AB$30 -> 2023-2024 | AC33: =SUM($R$18:$U$41)/SUM($P$18:$P$41) -> 1808.9848
B34: Reporting Threshold | C34: =P15 -> 25000 | D34: =P15 -> 25000 | F34: =P15 -> 25000 | J34: =K34-1 -> 2022 | K34: =L34-1 -> 2023 | L34: =$P$9 -> 2024 | M34: =TEXT(IF(M33+1>12, (M33+1)-12, M33+1),"00") -> 11 | N34: =IF(TEXT(DATE(2000,M34,1),"mmmm")="January",N33+1,N33) -> 2023 | O34: =N34&M34 -> 202311 | P34: 3461 | Q34: 9747 | R34: 2786925.3 | S34: 1675939.6 | T34: 60186.01 | U34: =W34+(P34*-52.35) -> 169002.65 | V34: 5950947.2 | W34: 350186 | X34: 0 | Y34: 223498 | Z34: =IFERROR(SUM(R22:U22)/P22,"") -> 1281.2064 | AA34: =RIGHT(O34,2) -> 11 | AB34: =$AB$30 -> 2023-2024 | AC34: =SUM($R$18:$U$41)/SUM($P$18:$P$41) -> 1808.9848
B35: Claimants over Threshold | C35: =J35 -> 460 | D35: =K35 -> 492 | E35: =(ABS(D35)-ABS(C35))/ABS(C35) -> 0.069565217 | F35: =L35 -> 331 | G35: =(F35/COUNT(P$42:P$53))*12 -> 496.5 | H35: =(ABS(G35)-ABS(D35))/ABS(D35) -> 0.0091463415 | J35: 460 | K35: 492 | L35: ='HCC Summary'!D28 -> 331 | M35: =TEXT(IF(M34+1>12, (M34+1)-12, M34+1),"00") -> 12 | N35: =IF(TEXT(DATE(2000,M35,1),"mmmm")="January",N34+1,N34) -> 2023 | O35: =N35&M35 -> 202312 | P35: 3457 | Q35: 9742 | R35: 6530881.5 | S35: 2081856.4 | T35: 229739.93 | U35: =W35+(P35*-52.35) -> 168602.05 | V35: 5953935.5 | W35: 349576 | X35: 0 | Y35: 224483 | Z35: =IFERROR(SUM(R23:U23)/P23,"") -> 1952.2046 | AA35: =RIGHT(O35,2) -> 12 | AB35: =$AB$30 -> 2023-2024 | AC35: =SUM($R$18:$U$41)/SUM($P$18:$P$41) -> 1808.9848
B36: Average Cost Per Claimant | C36: =C37/C35 -> 80181.971 | D36: =D37/D35 -> 90424.848 | E36: =(ABS(D36)-ABS(C36))/ABS(C36) -> 0.12774539 | F36: =F37/F35 -> 85316.508 | G36: =G37/G35 -> 85316.508 | H36: =(ABS(G36)-ABS(D36))/ABS(D36) -> -0.056492659 | M36: =TEXT(IF(M35+1>12, (M35+1)-12, M35+1),"00") -> 01 | N36: =IF(TEXT(DATE(2000,M36,1),"mmmm")="January",N35+1,N35) -> 2024 | O36: =N36&M36 -> 202401 | P36: 3443 | Q36: 9717 | R36: 3190815.7 | S36: 1684656.1 | T36: 3190.44 | U36: =W36+(P36*-52.35) -> 167928.95 | V36: 5942116.7 | W36: 348170 | X36: 0 | Y36: 220556 | Z36: =IFERROR(SUM(R24:U24)/P24,"") -> 1603.5246 | AA36: =RIGHT(O36,2) -> 01 | AB36: =$AB$30 -> 2023-2024 | AC36: =SUM($R$18:$U$41)/SUM($P$18:$P$41) -> 1808.9848
B37: Total Cost | C37: =J37 -> 36883707 | D37: =K37 -> 44489025 | E37: =(ABS(D37)-ABS(C37))/ABS(C37) -> 0.20619724 | F37: =L37 -> 28239764 | G37: =(F37/COUNT(P$42:P$53))*12 -> 42359646 | H37: =(ABS(G37)-ABS(D37))/ABS(D37) -> -0.047863019 | J37: 36883707 | K37: 44489025 | L37: ='HCC Summary'!G28 -> 28239764 | M37: =TEXT(IF(M36+1>12, (M36+1)-12, M36+1),"00") -> 02 | N37: =IF(TEXT(DATE(2000,M37,1),"mmmm")="January",N36+1,N36) -> 2024 | O37: =N37&M37 -> 202402 | P37: 3442 | Q37: 9715 | R37: 4349816.3 | S37: 1575764.1 | T37: 118683.35 | U37: =W37+(P37*-52.35) -> 167870.3 | V37: 5938684.6 | W37: 348059 | X37: 0 | Y37: 219678 | Z37: =IFERROR(SUM(R25:U25)/P25,"") -> 1408.5587 | AA37: =RIGHT(O37,2) -> 02 | AB37: =$AB$30 -> 2023-2024 | AC37: =SUM($R$18:$U$41)/SUM($P$18:$P$41) -> 1808.9848
B38: % of Total Claims | C38: =C37/C13 -> 0.55267113 | D38: =D37/D13 -> 0.57138923 | F38: =G37/G13 -> 0.51642508 | M38: =TEXT(IF(M37+1>12, (M37+1)-12, M37+1),"00") -> 03 | N38: =IF(TEXT(DATE(2000,M38,1),"mmmm")="January",N37+1,N37) -> 2024 | O38: =N38&M38 -> 202403 | P38: 3433 | Q38: 9700 | R38: 4910524.6 | S38: 2076329.1 | T38: 60539.44 | U38: =W38+(P38*-52.35) -> 167635.45 | V38: 5934191.6 | W38: 347353 | X38: 0 | Y38: 217260 | Z38: =IFERROR(SUM(R26:U26)/P26,"") -> 2065.2593 | AA38: =RIGHT(O38,2) -> 03 | AB38: =$AB$30 -> 2023-2024 | AC38: =SUM($R$18:$U$41)/SUM($P$18:$P$41) -> 1808.9848
M39: =TEXT(IF(M38+1>12, (M38+1)-12, M38+1),"00") -> 04 | N39: =IF(TEXT(DATE(2000,M39,1),"mmmm")="January",N38+1,N38) -> 2024 | O39: =N39&M39 -> 202404 | P39: 3425 | Q39: 9667 | R39: 4489002.9 | S39: 1804714.2 | T39: 58451.17 | U39: =W39+(P39*-52.35) -> 167141.25 | V39: 5910558.2 | W39: 346440 | X39: 0 | Y39: 215419 | Z39: =IFERROR(SUM(R27:U27)/P27,"") -> 1498.1108 | AA39: =RIGHT(O39,2) -> 04 | AB39: =$AB$30 -> 2023-2024 | AC39: =SUM($R$18:$U$41)/SUM($P$18:$P$41) -> 1808.9848
B40: Actual PEPM by Plan Year | M40: =TEXT(IF(M39+1>12, (M39+1)-12, M39+1),"00") -> 05 | N40: =IF(TEXT(DATE(2000,M40,1),"mmmm")="January",N39+1,N39) -> 2024 | O40: =N40&M40 -> 202405 | P40: 3411 | Q40: 9622 | R40: 4684914.8 | S40: 2147941 | T40: 61112.54 | U40: =W40+(P40*-52.35) -> 166559.15 | V40: 5887570 | W40: 345125 | X40: 0 | Y40: 213503 | Z40: =IFERROR(SUM(R28:U28)/P28,"") -> 1785.0099 | AA40: =RIGHT(O40,2) -> 05 | AB40: =$AB$30 -> 2023-2024 | AC40: =SUM($R$18:$U$41)/SUM($P$18:$P$41) -> 1808.9848
M41: =TEXT(IF(M40+1>12, (M40+1)-12, M40+1),"00") -> 06 | N41: =IF(TEXT(DATE(2000,M41,1),"mmmm")="January",N40+1,N40) -> 2024 | O41: =N41&M41 -> 202406 | P41: 3403 | Q41: 9600 | R41: 4362829.5 | S41: 1919198.5 | T41: 47996.67 | U41: =W41+(P41*-52.35) -> 165969.95 | V41: 5874104 | W41: 344117 | X41: 0 | Y41: 212861 | Z41: =IFERROR(SUM(R29:U29)/P29,"") -> 1886.9747 | AA41: =RIGHT(O41,2) -> 06 | AB41: =$AB$30 -> 2023-2024 | AC41: =SUM($R$18:$U$41)/SUM($P$18:$P$41) -> 1808.9848
...

Sheet Addendum
B2: Date Completed: | E2: =Narrative!H5 -> NOREBT
B3: 45742 | C3: =MONTH(B3) -> 3 | E3: Invoiced Expense Addendum
E5: ="Plan Year: "&B8&" "&C8&" - "&B9&" "&C9 -> Plan Year: July 2024 - June 2025
E6: ="Claims Paid "&B12&" "&C12&" through "&TEXT(DATE(2000,C3-1,1), "mmmm")&" "&(IF(C3=1,YEAR(B3)-1, YEAR(B3))) -> Claims Paid July 2024 through February 2025
B7: Plan Year Begin: | F7: A | G7: B | H7: C | I7: D | J7: E | K7: F | L7: G | M7: H | N7: I | O7: J
B8: July | C8: =IF(MONTH(B3)=MONTH(DATEVALUE(B8&"1")),(YEAR(B3)-1),IF(MONTH(B3)>MONTH(DATEVALUE(B8&"1")),YEAR(B3), IF(MONTH(B3)<MONTH(DATEVALUE(B8&"1")),YEAR(B3)-1, "ERROR"))) -> 2024 | E8: Month | F8: INVOICED EXPENSES | P8: Total
B9: =IF(B8="","",TEXT(DATE(2000,MONTH(DATEVALUE(B8&"1")) + 11,1), "mmmm")) -> June | C9: =IF(B9="December", C8,C8+1) -> 2025 | F9: Prepay Claims Savings Fees | G9: Reimbs., Chargebacks, & Adjustments | H9: Taxes & Fees | I9: Utilization Management | J9: Claims Related Expenses | K9: Other Prepay Fees | L9: Copay Armor | M9: Highmark Rebates & Discount Guarantees | N9: ScriptWorld Rx Rebates | O9: Stop Loss Reimbursements
D10: =MONTH(DATEVALUE(B12&"1")) -> 7 | E10: =B12&" "&C12 -> July 2024 | F10: =IF(Conneaut!K68="","",SUM(Conneaut:Wattsburg!L68)) -> 13140.05 | G10: =IF(Conneaut!K68="","",SUM(Conneaut:Wattsburg!M68)) -> 0 | H10: =IF(Conneaut!K68="","",SUM(Conneaut:Wattsburg!N68)) -> 205.04 | I10: =IF(Conneaut!K68="","",SUM(Conneaut:Wattsburg!O68)) -> 19780 | J10: =IF(Conneaut!K68="","",SUM(Conneaut:Wattsburg!P68)) -> 10926.87 | K10: =IF(Conneaut!K68="","",SUM(Conneaut:Wattsburg!Q68)) -> 4024.55 | L10: =IF(Conneaut!K68="","",SUM(Conneaut:Wattsburg!R68)) -> -499.45 | M10: =IF(Conneaut!K68="","",SUM(Conneaut:Wattsburg!T68,Conneaut:Wattsburg!S68)) -> -4611.85 | N10: =IF(Girard!K85="","",Girard!K85+HarborCreek!K85) -> -209146.01 | O10: =IF(Conneaut!D$11="","",SUM(Conneaut:Wattsburg!$U68)) -> -581176.75 | P10: =SUM(F10:O10) -> -747357.55
B11: Report Year Begin: | D11: =IF(D10+1>12, (D10+1)-12, D10+1) -> 8 | E11: =TEXT(DATE(2000,D11,1), "mmmm")&IF(D11=1, " "&$C$13,"") -> August | F11: =IF(Conneaut!K69="","",SUM(Conneaut:Wattsburg!L69)) -> 10640.7 | G11: =IF(Conneaut!K69="","",SUM(Conneaut:Wattsburg!M69)) -> 0 | H11: =IF(Conneaut!K69="","",SUM(Conneaut:Wattsburg!N69)) -> 2434.68 | I11: =IF(Conneaut!K69="","",SUM(Conneaut:Wattsburg!O69)) -> 38500 | J11: =IF(Conneaut!K69="","",SUM(Conneaut:Wattsburg!P69)) -> 6162.94 | K11: =IF(Conneaut!K69="","",SUM(Conneaut:Wattsburg!Q69)) -> 7222.03 | L11: =IF(Conneaut!K69="","",SUM(Conneaut:Wattsburg!R69)) -> 0 | M11: =IF(Conneaut!K69="","",SUM(Conneaut:Wattsburg!T69,Conneaut:Wattsburg!S69)) -> -3514.5 | N11: =IF(Girard!K86="","",Girard!K86+HarborCreek!K86) -> 0 | O11: =IF(Conneaut!E$11="","",SUM(Conneaut:Wattsburg!$U69)) -> -177847.22 | P11: =SUM(F11:O11) -> -116401.37
B12: July | C12: =IF(MONTH(B3)=MONTH(DATEVALUE(B12&"1")),(YEAR(B3)-1),IF(MONTH(B3)>MONTH(DATEVALUE(B12&"1")),YEAR(B3), IF(MONTH(B3)<MONTH(DATEVALUE(B12&"1")),YEAR(B3)-1, "ERROR"))) -> 2024 | D12: =IF(D11+1>12, (D11+1)-12, D11+1) -> 9 | E12: =TEXT(DATE(2000,D12,1), "mmmm")&IF(D12=1, " "&$C$13,"") -> September | F12: =IF(Conneaut!K70="","",SUM(Conneaut:Wattsburg!L70)) -> 53154.51 | G12: =IF(Conneaut!K70="","",SUM(Conneaut:Wattsburg!M70)) -> 0 | H12: =IF(Conneaut!K70="","",SUM(Conneaut:Wattsburg!N70)) -> 234.19 | I12: =IF(Conneaut!K70="","",SUM(Conneaut:Wattsburg!O70)) -> 25550 | J12: =IF(Conneaut!K70="","",SUM(Conneaut:Wattsburg!P70)) -> -636538 | K12: =IF(Conneaut!K70="","",SUM(Conneaut:Wattsburg!Q70)) -> 113.6 | L12: =IF(Conneaut!K70="","",SUM(Conneaut:Wattsburg!R70)) -> 0 | M12: =IF(Conneaut!K70="","",SUM(Conneaut:Wattsburg!T70,Conneaut:Wattsburg!S70)) -> -5875.83 | N12: =IF(Girard!K87="","",Girard!K87+HarborCreek!K87) -> 0 | O12: =IF(Conneaut!F$11="","",SUM(Conneaut:Wattsburg!$U70)) -> 0 | P12: =SUM(F12:O12) -> -563361.53
B13: =IF(B12="","",TEXT(DATE(2000,MONTH(DATEVALUE(B12&"1")) + 11,1), "mmmm")) -> June | C13: =IF(B13="December", C12,C12+1) -> 2025 | D13: =IF(D12+1>12, (D12+1)-12, D12+1) -> 10 | E13: =TEXT(DATE(2000,D13,1), "mmmm")&IF(D13=1, " "&$C$13,"") -> October | F13: =IF(Conneaut!K71="","",SUM(Conneaut:Wattsburg!L71)) -> 19853.7 | G13: =IF(Conneaut!K71="","",SUM(Conneaut:Wattsburg!M71)) -> 11900.7 | H13: =IF(Conneaut!K71="","",SUM(Conneaut:Wattsburg!N71)) -> 221.26 | I13: =IF(Conneaut!K71="","",SUM(Conneaut:Wattsburg!O71)) -> 24500 | J13: =IF(Conneaut!K71="","",SUM(Conneaut:Wattsburg!P71)) -> 0 | K13: =IF(Conneaut!K71="","",SUM(Conneaut:Wattsburg!Q71)) -> 5376.83 | L13: =IF(Conneaut!K71="","",SUM(Conneaut:Wattsburg!R71)) -> 0 | M13: =IF(Conneaut!K71="","",SUM(Conneaut:Wattsburg!T71,Conneaut:Wattsburg!S71)) -> -22657.14 | N13: =IF(Girard!K88="","",Girard!K88+HarborCreek!K88) -> -222684.26 | O13: =IF(Conneaut!G$11="","",SUM(Conneaut:Wattsburg!$U71)) -> -241494.2 | P13: =SUM(F13:O13) -> -424983.11
D14: =IF(D13+1>12, (D13+1)-12, D13+1) -> 11 | E14: =TEXT(DATE(2000,D14,1), "mmmm")&IF(D14=1, " "&$C$13,"") -> November | F14: =IF(Conneaut!K72="","",SUM(Conneaut:Wattsburg!L72)) -> -22084.66 | G14: =IF(Conneaut!K72="","",SUM(Conneaut:Wattsburg!M72)) -> 1451.1 | H14: =IF(Conneaut!K72="","",SUM(Conneaut:Wattsburg!N72)) -> 208.82 | I14: =IF(Conneaut!K72="","",SUM(Conneaut:Wattsburg!O72)) -> 33140 | J14: =IF(Conneaut!K72="","",SUM(Conneaut:Wattsburg!P72)) -> 8627.49 | K14: =IF(Conneaut!K72="","",SUM(Conneaut:Wattsburg!Q72)) -> 6125.09 | L14: =IF(Conneaut!K72="","",SUM(Conneaut:Wattsburg!R72)) -> 0 | M14: =IF(Conneaut!K72="","",SUM(Conneaut:Wattsburg!T72,Conneaut:Wattsburg!S72)) -> -2151.91 | N14: =IF(Girard!K89="","",Girard!K89+HarborCreek!K89) -> 0 | O14: =IF(Conneaut!H$11="","",SUM(Conneaut:Wattsburg!$U72)) -> -251789.18 | P14: =SUM(F14:O14) -> -226473.25
D15: =IF(D14+1>12, (D14+1)-12, D14+1) -> 12 | E15: =TEXT(DATE(2000,D15,1), "mmmm")&IF(D15=1, " "&$C$13,"") -> December | F15: =IF(Conneaut!K73="","",SUM(Conneaut:Wattsburg!L73)) -> 3423.35 | G15: =IF(Conneaut!K73="","",SUM(Conneaut:Wattsburg!M73)) -> 0 | H15: =IF(Conneaut!K73="","",SUM(Conneaut:Wattsburg!N73)) -> 239.1 | I15: =IF(Conneaut!K73="","",SUM(Conneaut:Wattsburg!O73)) -> 27400 | J15: =IF(Conneaut!K73="","",SUM(Conneaut:Wattsburg!P73)) -> 660604.45 | K15: =IF(Conneaut!K73="","",SUM(Conneaut:Wattsburg!Q73)) -> 1905.61 | L15: =IF(Conneaut!K73="","",SUM(Conneaut:Wattsburg!R73)) -> 0 | M15: =IF(Conneaut!K73="","",SUM(Conneaut:Wattsburg!T73,Conneaut:Wattsburg!S73)) -> -608.83 | N15: =IF(Girard!K90="","",Girard!K90+HarborCreek!K90) -> -269947.83 | O15: =IF(Conneaut!I$11="","",SUM(Conneaut:Wattsburg!$U73)) -> -615302.64 | P15: =SUM(F15:O15) -> -192286.79
D16: =IF(D15+1>12, (D15+1)-12, D15+1) -> 1 | E16: =TEXT(DATE(2000,D16,1), "mmmm")&IF(D16=1, " "&$C$13,"") -> January 2025 | F16: =IF(Conneaut!K74="","",SUM(Conneaut:Wattsburg!L74)) -> 21892.84 | G16: =IF(Conneaut!K74="","",SUM(Conneaut:Wattsburg!M74)) -> -29.09 | H16: =IF(Conneaut!K74="","",SUM(Conneaut:Wattsburg!N74)) -> 350.38 | I16: =IF(Conneaut!K74="","",SUM(Conneaut:Wattsburg!O74)) -> 38920 | J16: =IF(Conneaut!K74="","",SUM(Conneaut:Wattsburg!P74)) -> -607001.03 | K16: =IF(Conneaut!K74="","",SUM(Conneaut:Wattsburg!Q74)) -> 4813.56 | L16: =IF(Conneaut!K74="","",SUM(Conneaut:Wattsburg!R74)) -> 137.76 | M16: =IF(Conneaut!K74="","",SUM(Conneaut:Wattsburg!T74,Conneaut:Wattsburg!S74)) -> 9.98 | N16: =IF(Girard!K91="","",Girard!K91+HarborCreek!K91) -> 0 | O16: =IF(Conneaut!J$11="","",SUM(Conneaut:Wattsburg!$U74)) -> -241987.17 | P16: =SUM(F16:O16) -> -782892.77
D17: =IF(D16+1>12, (D16+1)-12, D16+1) -> 2 | E17: =TEXT(DATE(2000,D17,1), "mmmm")&IF(D17=1, " "&$C$13,"") -> February | F17: =IF(Conneaut!K75="","",SUM(Conneaut:Wattsburg!L75)) -> -6175.97 | G17: =IF(Conneaut!K75="","",SUM(Conneaut:Wattsburg!M75)) -> 0 | H17: =IF(Conneaut!K75="","",SUM(Conneaut:Wattsburg!N75)) -> 211.82 | I17: =IF(Conneaut!K75="","",SUM(Conneaut:Wattsburg!O75)) -> 25990 | J17: =IF(Conneaut!K75="","",SUM(Conneaut:Wattsburg!P75)) -> 21927.3 | K17: =IF(Conneaut!K75="","",SUM(Conneaut:Wattsburg!Q75)) -> 3659.07 | L17: =IF(Conneaut!K75="","",SUM(Conneaut:Wattsburg!R75)) -> 7.65 | M17: =IF(Conneaut!K75="","",SUM(Conneaut:Wattsburg!T75,Conneaut:Wattsburg!S75)) -> -334633 | N17: =IF(Girard!K92="","",Girard!K92+HarborCreek!K92) -> 0 | O17: =IF(Conneaut!K$11="","",SUM(Conneaut:Wattsburg!$U75)) -> -734180.08 | P17: =SUM(F17:O17) -> -1023193.2
D18: =IF(D17+1>12, (D17+1)-12, D17+1) -> 3 | E18: =TEXT(DATE(2000,D18,1), "mmmm")&IF(D18=1, " "&$C$13,"") -> March | F18: =IF(Conneaut!K76="","",SUM(Conneaut:Wattsburg!L76)) | G18: =IF(Conneaut!K76="","",SUM(Conneaut:Wattsburg!M76)) | H18: =IF(Conneaut!K76="","",SUM(Conneaut:Wattsburg!N76)) | I18: =IF(Conneaut!K76="","",SUM(Conneaut:Wattsburg!O76)) | J18: =IF(Conneaut!K76="","",SUM(Conneaut:Wattsburg!P76)) | K18: =IF(Conneaut!K76="","",SUM(Conneaut:Wattsburg!Q76)) | L18: =IF(Conneaut!K76="","",SUM(Conneaut:Wattsburg!R76)) | M18: =IF(Conneaut!K76="","",SUM(Conneaut:Wattsburg!T76,Conneaut:Wattsburg!S76)) | N18: =IF(Girard!K93="","",Girard!K93+HarborCreek!K93) | O18: =IF(Conneaut!L$11="","",SUM(Conneaut:Wattsburg!$U76)) | P18: =SUM(F18:O18) -> 0
D19: =IF(D18+1>12, (D18+1)-12, D18+1) -> 4 | E19: =TEXT(DATE(2000,D19,1), "mmmm")&IF(D19=1, " "&$C$13,"") -> April | F19: =IF(Conneaut!K77="","",SUM(Conneaut:Wattsburg!L77)) | G19: =IF(Conneaut!K77="","",SUM(Conneaut:Wattsburg!M77)) | H19: =IF(Conneaut!K77="","",SUM(Conneaut:Wattsburg!N77)) | I19: =IF(Conneaut!K77="","",SUM(Conneaut:Wattsburg!O77)) | J19: =IF(Conneaut!K77="","",SUM(Conneaut:Wattsburg!P77)) | K19: =IF(Conneaut!K77="","",SUM(Conneaut:Wattsburg!Q77)) | L19: =IF(Conneaut!K77="","",SUM(Conneaut:Wattsburg!R77)) | M19: =IF(Conneaut!K77="","",SUM(Conneaut:Wattsburg!T77,Conneaut:Wattsburg!S77)) | N19: =IF(Girard!K94="","",Girard!K94+HarborCreek!K94) | O19: =IF(Conneaut!M$11="","",SUM(Conneaut:Wattsburg!$U77)) | P19: =SUM(F19:O19) -> 0
D20: =IF(D19+1>12, (D19+1)-12, D19+1) -> 5 | E20: =TEXT(DATE(2000,D20,1), "mmmm")&IF(D20=1, " "&$C$13,"") -> May | F20: =IF(Conneaut!K78="","",SUM(Conneaut:Wattsburg!L78)) | G20: =IF(Conneaut!K78="","",SUM(Conneaut:Wattsburg!M78)) | H20: =IF(Conneaut!K78="","",SUM(Conneaut:Wattsburg!N78)) | I20: =IF(Conneaut!K78="","",SUM(Conneaut:Wattsburg!O78)) | J20: =IF(Conneaut!K78="","",SUM(Conneaut:Wattsburg!P78)) | K20: =IF(Conneaut!K78="","",SUM(Conneaut:Wattsburg!Q78)) | L20: =IF(Conneaut!K78="","",SUM(Conneaut:Wattsburg!R78)) | M20: =IF(Conneaut!K78="","",SUM(Conneaut:Wattsburg!T78,Conneaut:Wattsburg!S78)) | N20: =IF(Girard!K95="","",Girard!K95+HarborCreek!K95) | O20: =IF(Conneaut!N$11="","",SUM(Conneaut:Wattsburg!$U78)) | P20: =SUM(F20:O20) -> 0
D21: =IF(D20+1>12, (D20+1)-12, D20+1) -> 6 | E21: =TEXT(DATE(2000,D21,1), "mmmm")&IF(D21=1, " "&$C$13,"") -> June | F21: =IF(Conneaut!K79="","",SUM(Conneaut:Wattsburg!L79)) | G21: =IF(Conneaut!K79="","",SUM(Conneaut:Wattsburg!M79)) | H21: =IF(Conneaut!K79="","",SUM(Conneaut:Wattsburg!N79)) | I21: =IF(Conneaut!K79="","",SUM(Conneaut:Wattsburg!O79)) | J21: =IF(Conneaut!K79="","",SUM(Conneaut:Wattsburg!P79)) | K21: =IF(Conneaut!K79="","",SUM(Conneaut:Wattsburg!Q79)) | L21: =IF(Conneaut!K79="","",SUM(Conneaut:Wattsburg!R79)) | M21: =IF(Conneaut!K79="","",SUM(Conneaut:Wattsburg!T79,Conneaut:Wattsburg!S79)) | N21: =IF(Girard!K96="","",Girard!K96+HarborCreek!K96) | O21: =IF(Conneaut!O$11="","",SUM(Conneaut:Wattsburg!$U79)) | P21: =SUM(F21:O21) -> 0
E22: Totals | F22: =SUM(F10:F21) -> 93844.52 | G22: =SUM(G10:G21) -> 13322.71 | H22: =SUM(H10:H21) -> 4105.29 | I22: =SUM(I10:I21) -> 233780 | J22: =SUM(J10:J21) -> -535289.98 | K22: =SUM(K10:K21) -> 33240.34 | L22: =SUM(L10:L21) -> -354.04 | M22: =SUM(M10:M21) -> -374043.08 | ... P22: =SUM(P10:P21) -> -4076949.6

Sheet Rolling Projection
C2: =Narrative!H5 -> NOREBT | W2: =DATEDIF(DATE(YEAR($Y$5),MONTH($Y$5)+X6/2,DAY($Y$5)),DATE(YEAR($X$3),MONTH($X$3)+6,DAY($X$3)),"m") -> 16 | X2: Proj. Plan Yr
C3: Rolling Projection | W3: Start: | X3: 45839
X4: Exp. Period | Y4: Auto Start | Z4: Auto End
C5: =Addendum!E6&" and Annualized through the Remaining Plan Year" -> Claims Paid July 2024 through February 2025 and Annualized through the Remaining Plan Year | W5: Start: | Y5: =IF(X5="",EDATE(X3,(-COUNTBLANK('Trust Cash Flow'!$D$8:$O$8))-12),X5) -> 45352 | Z5: =EOMONTH(X3,(11-COUNTBLANK('Trust Cash Flow'!$D$8:$O$8)-12)) -> 45716
W6: Length: | X6: 12
C7: District | D7: EE Months | E7: Mem Months | F7: Annualized Current PEPM | H7: Annualized Adjustments | J7: Three-Year Weighting | L7: Blend w/ Current R12 | N7: Trended Claims | Q7: Credibility Adjustment | S7: Fixed Costs | T7: Projected Funding | U7: Current Funding | V7: Required Rate Action
F8: Medical | G8: Rx | H8: Medical | I8: Rx | J8: Medical | K8: Rx | L8: Medical | M8: Rx | N8: Medical | O8: Rx | P8: Combined PEPM | Q8: Credibility | R8: Cred. Adj. PEPM
B9: Conneaut | C9: ='HCC Data Entry'!I4 -> Conneaut School District | D9: =SUMIF('Cash Flow Entry'!$B$3:$B$500,'Rolling Projection'!C9,'Cash Flow Entry'!$D$3:$D$500) -> 1715 | E9: =SUMIF('Cash Flow Entry'!$B$3:$B$500,'Rolling Projection'!C9,'Cash Flow Entry'!$E$3:$E$500) -> 4621 | F9: {=((INDIRECT($B9&"!P18")/(12-COUNTBLANK('Trust Cash Flow'!$D$8:$O$8)))*12)/(($D9/(12-COUNTBLANK('Trust Cash Flow'!$D$8:$O$8)))*12)} -> 1363.6019 | G9: {=((INDIRECT($B9&"!P19")/(12-COUNTBLANK('Trust Cash Flow'!$D$8:$O$8)))*12)/(($D9/(12-COUNTBLANK('Trust Cash Flow'!$D$8:$O$8)))*12)} -> 672.81683 | H9: {=((((INDIRECT($B9&"!P21")+INDIRECT($B9&"!P23")+INDIRECT($B9&"!P25"))/(12-COUNTBLANK('Trust Cash Flow'!$D$8:$O$8)))*12)/(($D9/(12-COUNTBLANK('Trust Cash Flow'!$D$8:$O$8)))*12))*($F9/SUM($F9:$G9))} -> -249.6644 | I9: {=(((((INDIRECT($B9&"!P21")+INDIRECT($B9&"!P23")+INDIRECT($B9&"!P25"))/(12-COUNTBLANK('Trust Cash Flow'!$D$8:$O$8)))*12)/(($D9/(12-COUNTBLANK('Trust Cash Flow'!$D$8:$O$8)))*12))*($G9/SUM($F9:$G9)))+((((INDIRECT($B9&"!P24"))/(12-COUNTBLANK('Trust Cash Flow'!$D$8:$O$8)))*12)/(($D9/(12-COUNTBLANK('Trust Cash Flow'!$D$8:$O$8)))*12))} -> -233.18728 | J9: =((F9+H9)*$K$29)+(H37*$K$30)+(F37*$K$31) -> 1111.1425 | K9: =((G9+I9)*$K$29)+(I37*$K$30)+(G37*$K$31) -> 424.9393 | L9: =(J37*$M$29)+(J9*$M$30) -> 1084.1315 | M9: =(K37*$M$29)+(K9*$M$30) -> 416.38042 | N9: =L9*((1+$P$30)^($P$29/12)) -> 1246.8388 | O9: =M9*((1+$P$31)^($P$29/12)) -> 510.90803 | P9: =SUM(N9:O9) -> 1757.7468 | Q9: =IF((SQRT($E9/(12-COUNTBLANK('Trust Cash Flow'!$D$8:$O$8)))*0.0275973662330441)>1,1,SQRT($E9/(12-COUNTBLANK('Trust Cash Flow'!$D$8:$O$8)))*0.0275973662330441) -> 0.66327042 | R9: =(P9*Q9)+($P$28*(1-Q9)) -> 1778.2841 | S9: {=(INDIRECT($B9&"!P36")+INDIRECT($B9&"!P42"))/$D9} -> 570.7712 | T9: =SUM(R9:S9) -> 2349.0553 | U9: {=INDIRECT($B9&"!Q10")} -> 2054.25 | V9: =(T9-U9)/U9 -> 0.14350992
B10: Corry | C10: ='HCC Data Entry'!I5 -> Corry Area School District | D10: =SUMIF('Cash Flow Entry'!$B$3:$B$500,'Rolling Projection'!C10,'Cash Flow Entry'!$D$3:$D$500) -> 2042 | E10: =SUMIF('Cash Flow Entry'!$B$3:$B$500,'Rolling Projection'!C10,'Cash Flow Entry'!$E$3:$E$500) -> 6459 | F10: {=((INDIRECT($B10&"!P18")/(12-COUNTBLANK('Trust Cash Flow'!$D$8:$O$8)))*12)/(($D10/(12-COUNTBLANK('Trust Cash Flow'!$D$8:$O$8)))*12)} -> 1137.6398 | G10: {=((INDIRECT($B10&"!P19")/(12-COUNTBLANK('Trust Cash Flow'!$D$8:$O$8)))*12)/(($D10/(12-COUNTBLANK('Trust Cash Flow'!$D$8:$O$8)))*12)} -> 671.77 | H10: {=((((INDIRECT($B10&"!P21")+INDIRECT($B10&"!P23")+INDIRECT($B10&"!P25"))/(12-COUNTBLANK('Trust Cash Flow'!$D$8:$O$8)))*12)/(($D10/(12-COUNTBLANK('Trust Cash Flow'!$D$8:$O$8)))*12))*($F10/SUM($F10:$G10))} -> -127.20873 | I10: {=(((((INDIRECT($B10&"!P21")+INDIRECT($B10&"!P23")+INDIRECT($B10&"!P25"))/(12-COUNTBLANK('Trust Cash Flow'!$D$8:$O$8)))*12)/(($D10/(12-COUNTBLANK('Trust Cash Flow'!$D$8:$O$8)))*12))*($G10/SUM($F10:$G10)))+((((INDIRECT($B10&"!P24"))/(12-COUNTBLANK('Trust Cash Flow'!$D$8:$O$8)))*12)/(($D10/(12-COUNTBLANK('Trust Cash Flow'!$D$8:$O$8)))*12))} -> -185.11605 | J10: =((F10+H10)*$K$29)+(H38*$K$30)+(F38*$K$31) -> 950.80652 | K10: =((G10+I10)*$K$29)+(I38*$K$30)+(G38*$K$31) -> 420.71818 | L10: =(J38*$M$29)+(J10*$M$30) -> 960.20125 | M10: =(K38*$M$29)+(K10*$M$30) -> 424.47325 | N10: =L10*((1+$P$30)^($P$29/12)) -> 1104.309 | O10: =M10*((1+$P$31)^($P$29/12)) -> 520.83811 | P10: =SUM(N10:O10) -> 1625.1471 | Q10: =IF((SQRT($E10/(12-COUNTBLANK('Trust Cash Flow'!$D$8:$O$8)))*0.0275973662330441)>1,1,SQRT($E10/(12-COUNTBLANK('Trust Cash Flow'!$D$8:$O$8)))*0.0275973662330441) -> 0.78416108 | R10: =(P10*Q10)+($P$28*(1-Q10)) -> 1666.9314 | S10: {=(INDIRECT($B10&"!P36")+INDIRECT($B10&"!P42"))/$D10} -> 571.10523 | T10: =SUM(R10:S10) -> 2238.0366 | U10: {=INDIRECT($B10&"!Q10")} -> 1813.76 | V10: =(T10-U10)/U10 -> 0.23392102
B11: Crawford | C11: ='HCC Data Entry'!I6 -> Crawford County Career & Technical Center | D11: =SUMIF('Cash Flow Entry'!$B$3:$B$500,'Rolling Projection'!C11,'Cash Flow Entry'!$D$3:$D$500) -> 309 | E11: =SUMIF('Cash Flow Entry'!$B$3:$B$500,'Rolling Projection'!C11,'Cash Flow Entry'!$E$3:$E$500) -> 881 | F11: {=((INDIRECT($B11&"!P18")/(12-COUNTBLANK('Trust Cash Flow'!$D$8:$O$8)))*12)/(($D11/(12-COUNTBLANK('Trust Cash Flow'!$D$8:$O$8)))*12)} -> 1134.7636 | G11: {=((INDIRECT($B11&"!P19")/(12-COUNTBLANK('Trust Cash Flow'!$D$8:$O$8)))*12)/(($D11/(12-COUNTBLANK('Trust Cash Flow'!$D$8:$O$8)))*12)} -> 799.67443 | H11: {=((((INDIRECT($B11&"!P21")+INDIRECT($B11&"!P23")+INDIRECT($B11&"!P25"))/(12-COUNTBLANK('Trust Cash Flow'!$D$8:$O$8)))*12)/(($D11/(12-COUNTBLANK('Trust Cash Flow'!$D$8:$O$8)))*12))*($F11/SUM($F11:$G11))} -> -54.261109 | I11: {=(((((INDIRECT($B11&"!P21")+INDIRECT($B11&"!P23")+INDIRECT($B11&"!P25"))/(12-COUNTBLANK('Trust Cash Flow'!$D$8:$O$8)))*12)/(($D11/(12-COUNTBLANK('Trust Cash Flow'!$D$8:$O$8)))*12))*($G11/SUM($F11:$G11)))+((((INDIRECT($B11&"!P24"))/(12-COUNTBLANK('Trust Cash Flow'!$D$8:$O$8)))*12)/(($D11/(12-COUNTBLANK('Trust Cash Flow'!$D$8:$O$8)))*12))} -> -148.23811 | J11: =((F11+H11)*$K$29)+(H39*$K$30)+(F39*$K$31) -> 1078.2584 | K11: =((G11+I11)*$K$29)+(I39*$K$30)+(G39*$K$31) -> 663.01099 | L11: =(J39*$M$29)+(J11*$M$30) -> 1030.7698 | M11: =(K39*$M$29)+(K11*$M$30) -> 657.35477 | N11: =L11*((1+$P$30)^($P$29/12)) -> 1185.4686 | O11: =M11*((1+$P$31)^($P$29/12)) -> 806.58891 | P11: =SUM(N11:O11) -> 1992.0575 | Q11: =IF((SQRT($E11/(12-COUNTBLANK('Trust Cash Flow'!$D$8:$O$8)))*0.0275973662330441)>1,1,SQRT($E11/(12-COUNTBLANK('Trust Cash Flow'!$D$8:$O$8)))*0.0275973662330441) -> 0.28960803 | R11: =(P11*Q11)+($P$28*(1-Q11)) -> 1868.9321 | S11: {=(INDIRECT($B11&"!P36")+INDIRECT($B11&"!P42"))/$D11} -> 747.75359 | T11: =SUM(R11:S11) -> 2616.6857 | U11: {=INDIRECT($B11&"!Q10")} -> 2341.38 | V11: =(T11-U11)/U11 -> 0.11758265
B12: Erie | C12: ='HCC Data Entry'!I7 -> Erie County Technical School | D12: =SUMIF('Cash Flow Entry'!$B$3:$B$500,'Rolling Projection'!C12,'Cash Flow Entry'!$D$3:$D$500) -> 349 | E12: =SUMIF('Cash Flow Entry'!$B$3:$B$500,'Rolling Projection'!C12,'Cash Flow Entry'!$E$3:$E$500) -> 939 | F12: {=((INDIRECT($B12&"!P18")/(12-COUNTBLANK('Trust Cash Flow'!$D$8:$O$8)))*12)/(($D12/(12-COUNTBLANK('Trust Cash Flow'!$D$8:$O$8)))*12)} -> 1039.059 | G12: {=((INDIRECT($B12&"!P19")/(12-COUNTBLANK('Trust Cash Flow'!$D$8:$O$8)))*12)/(($D12/(12-COUNTBLANK('Trust Cash Flow'!$D$8:$O$8)))*12)} -> 946.76628 | H12: {=((((INDIRECT($B12&"!P21")+INDIRECT($B12&"!P23")+INDIRECT($B12&"!P25"))/(12-COUNTBLANK('Trust Cash Flow'!$D$8:$O$8)))*12)/(($D12/(12-COUNTBLANK('Trust Cash Flow'!$D$8:$O$8)))*12))*($F12/SUM($F12:$G12))} -> -170.33525 | I12: {=(((((INDIRECT($B12&"!P21")+INDIRECT($B12&"!P23")+INDIRECT($B12&"!P25"))/(12-COUNTBLANK('Trust Cash Flow'!$D$8:$O$8)))*12)/(($D12/(12-COUNTBLANK('Trust Cash Flow'!$D$8:$O$8)))*12))*($G12/SUM($F12:$G12)))+((((INDIRECT($B12&"!P24"))/(12-COUNTBLANK('Trust Cash Flow'!$D$8:$O$8)))*12)/(($D12/(12-COUNTBLANK('Trust Cash Flow'!$D$8:$O$8)))*12))} -> -378.12836 | J12: =((F12+H12)*$K$29)+(H40*$K$30)+(F40*$K$31) -> 780.86546 | K12: =((G12+I12)*$K$29)+(I40*$K$30)+(G40*$K$31) -> 437.21902 | L12: =(J40*$M$29)+(J12*$M$30) -> 779.56703 | M12: =(K40*$M$29)+(K12*$M$30) -> 472.09737 | N12: =L12*((1+$P$30)^($P$29/12)) -> 896.56505 | O12: =M12*((1+$P$31)^($P$29/12)) -> 579.27396 | P12: =SUM(N12:O12) -> 1475.839 | Q12: =IF((SQRT($E12/(12-COUNTBLANK('Trust Cash Flow'!$D$8:$O$8)))*0.0275973662330441)>1,1,SQRT($E12/(12-COUNTBLANK('Trust Cash Flow'!$D$8:$O$8)))*0.0275973662330441) -> 0.29898916 | R12: =(P12*Q12)+($P$28*(1-Q12)) -> 1716.2143 | S12: {=(INDIRECT($B12&"!P36")+INDIRECT($B12&"!P42"))/$D12} -> 742.45691 | T12: =SUM(R12:S12) -> 2458.6712 | U12: {=INDIRECT($B12&"!Q10")} -> 1892.98 | V12: =(T12-U12)/U12 -> 0.29883633
B13: Fairview | C13: ='HCC Data Entry'!I8 -> Fairview School District | D13: =SUMIF('Cash Flow Entry'!$B$3:$B$500,'Rolling Projection'!C13,'Cash Flow Entry'!$D$3:$D$500) -> 1458 | E13: =SUMIF('Cash Flow Entry'!$B$3:$B$500,'Rolling Projection'!C13,'Cash Flow Entry'!$E$3:$E$500) -> 3987 | F13: {=((INDIRECT($B13&"!P18")/(12-COUNTBLANK('Trust Cash Flow'!$D$8:$O$8)))*12)/(($D13/(12-COUNTBLANK('Trust Cash Flow'!$D$8:$O$8)))*12)} -> 2198.5095 | G13: {=((INDIRECT($B13&"!P19")/(12-COUNTBLANK('Trust Cash Flow'!$D$8:$O$8)))*12)/(($D13/(12-COUNTBLANK('Trust Cash Flow'!$D$8:$O$8)))*12)} -> 905.80818 | H13: {=((((INDIRECT($B13&"!P21")+INDIRECT($B13&"!P23")+INDIRECT($B13&"!P25"))/(12-COUNTBLANK('Trust Cash Flow'!$D$8:$O$8)))*12)/(($D13/(12-COUNTBLANK('Trust Cash Flow'!$D$8:$O$8)))*12))*($F13/SUM($F13:$G13))} -> -949.49812 | I13: {=(((((INDIRECT($B13&"!P21")+INDIRECT($B13&"!P23")+INDIRECT($B13&"!P25"))/(12-COUNTBLANK('Trust Cash Flow'!$D$8:$O$8)))*12)/(($D13/(12-COUNTBLANK('Trust Cash Flow'!$D$8:$O$8)))*12))*($G13/SUM($F13:$G13)))+((((INDIRECT($B13&"!P24"))/(12-COUNTBLANK('Trust Cash Flow'!$D$8:$O$8)))*12)/(($D13/(12-COUNTBLANK('Trust Cash Flow'!$D$8:$O$8)))*12))} -> -501.20284 | J13: =((F13+H13)*$K$29)+(H41*$K$30)+(F41*$K$31) -> 1198.3983 | K13: =((G13+I13)*$K$29)+(I41*$K$30)+(G41*$K$31) -> 336.12139 | L13: =(J41*$M$29)+(J13*$M$30) -> 1234.4771 | M13: =(K41*$M$29)+(K13*$M$30) -> 367.49936 | N13: =L13*((1+$P$30)^($P$29/12)) -> 1419.7484 | O13: =M13*((1+$P$31)^($P$29/12)) -> 450.92987 | P13: =SUM(N13:O13) -> 1870.6783 | Q13: =IF((SQRT($E13/(12-COUNTBLANK('Trust Cash Flow'!$D$8:$O$8)))*0.0275973662330441)>1,1,SQRT($E13/(12-COUNTBLANK('Trust Cash Flow'!$D$8:$O$8)))*0.0275973662330441) -> 0.61609227 | R13: =(P13*Q13)+($P$28*(1-Q13)) -> 1850.7377 | S13: {=(INDIRECT($B13&"!P36")+INDIRECT($B13&"!P42"))/$D13} -> 570.05701 | T13: =SUM(R13:S13) -> 2420.7947 | U13: {=INDIRECT($B13&"!Q10")} -> 1805.82 | V13: =(T13-U13)/U13 -> 0.34055148
B14: FtLeBoeuf | C14: ='HCC Data Entry'!I9 -> Ft LeBoeuf School District | D14: =SUMIF('Cash Flow Entry'!$B$3:$B$500,'Rolling Projection'!C14,'Cash Flow Entry'!$D$3:$D$500) -> 2265 | E14: =SUMIF('Cash Flow Entry'!$B$3:$B$500,'Rolling Projection'!C14,'Cash Flow Entry'!$E$3:$E$500) -> 5847 | F14: {=((INDIRECT($B14&"!P18")/(12-COUNTBLANK('Trust Cash Flow'!$D$8:$O$8)))*12)/(($D14/(12-COUNTBLANK('Trust Cash Flow'!$D$8:$O$8)))*12)} -> 1182.6101 | G14: {=((INDIRECT($B14&"!P19")/(12-COUNTBLANK('Trust Cash Flow'!$D$8:$O$8)))*12)/(($D14/(12-COUNTBLANK('Trust Cash Flow'!$D$8:$O$8)))*12)} -> 495.30914 | H14: {=((((INDIRECT($B14&"!P21")+INDIRECT($B14&"!P23")+INDIRECT($B14&"!P25"))/(12-COUNTBLANK('Trust Cash Flow'!$D$8:$O$8)))*12)/(($D14/(12-COUNTBLANK('Trust Cash Flow'!$D$8:$O$8)))*12))*($F14/SUM($F14:$G14))} -> -198.18178 | I14: {=(((((INDIRECT($B14&"!P21")+INDIRECT($B14&"!P23")+INDIRECT($B14&"!P25"))/(12-COUNTBLANK('Trust Cash Flow'!$D$8:$O$8)))*12)/(($D14/(12-COUNTBLANK('Trust Cash Flow'!$D$8:$O$8)))*12))*($G14/SUM($F14:$G14)))+((((INDIRECT($B14&"!P24"))/(12-COUNTBLANK('Trust Cash Flow'!$D$8:$O$8)))*12)/(($D14/(12-COUNTBLANK('Trust Cash Flow'!$D$8:$O$8)))*12))} -> -193.00389 | J14: =((F14+H14)*$K$29)+(H42*$K$30)+(F42*$K$31) -> 912.09534 | K14: =((G14+I14)*$K$29)+(I42*$K$30)+(G42*$K$31) -> 264.02501 | L14: =(J42*$M$29)+(J14*$M$30) -> 894.85363 | M14: =(K42*$M$29)+(K14*$M$30) -> 279.21667 | N14: =L14*((1+$P$30)^($P$29/12)) -> 1029.154 | O14: =M14*((1+$P$31)^($P$29/12)) -> 342.60506 | P14: =SUM(N14:O14) -> 1371.759 | Q14: =IF((SQRT($E14/(12-COUNTBLANK('Trust Cash Flow'!$D$8:$O$8)))*0.0275973662330441)>1,1,SQRT($E14/(12-COUNTBLANK('Trust Cash Flow'!$D$8:$O$8)))*0.0275973662330441) -> 0.74608651 | R14: =(P14*Q14)+($P$28*(1-Q14)) -> 1485.2528 | S14: {=(INDIRECT($B14&"!P36")+INDIRECT($B14&"!P42"))/$D14} -> 465.79161 | T14: =SUM(R14:S14) -> 1951.0444 | U14: {=INDIRECT($B14&"!Q10")} -> 1597.79 | V14: =(T14-U14)/U14 -> 0.22108937
B15: Franklin | C15: ='HCC Data Entry'!I10 -> Franklin Area School District | D15: =SUMIF('Cash Flow Entry'!$B$3:$B$500,'Rolling Projection'!C15,'Cash Flow Entry'!$D$3:$D$500) -> 1978 | E15: =SUMIF('Cash Flow Entry'!$B$3:$B$500,'Rolling Projection'!C15,'Cash Flow Entry'!$E$3:$E$500) -> 5172 | F15: {=((INDIRECT($B15&"!P18")/(12-COUNTBLANK('Trust Cash Flow'!$D$8:$O$8)))*12)/(($D15/(12-COUNTBLANK('Trust Cash Flow'!$D$8:$O$8)))*12)} -> 1053.0667 | G15: {=((INDIRECT($B15&"!P19")/(12-COUNTBLANK('Trust Cash Flow'!$D$8:$O$8)))*12)/(($D15/(12-COUNTBLANK('Trust Cash Flow'!$D$8:$O$8)))*12)} -> 375.55336 | H15: {=((((INDIRECT($B15&"!P21")+INDIRECT($B15&"!P23")+INDIRECT($B15&"!P25"))/(12-COUNTBLANK('Trust Cash Flow'!$D$8:$O$8)))*12)/(($D15/(12-COUNTBLANK('Trust Cash Flow'!$D$8:$O$8)))*12))*($F15/SUM($F15:$G15))} -> -139.02506 | I15: {=(((((INDIRECT($B15&"!P21")+INDIRECT($B15&"!P23")+INDIRECT($B15&"!P25"))/(12-COUNTBLANK('Trust Cash Flow'!$D$8:$O$8)))*12)/(($D15/(12-COUNTBLANK('Trust Cash Flow'!$D$8:$O$8)))*12))*($G15/SUM($F15:$G15)))+((((INDIRECT($B15&"!P24"))/(12-COUNTBLANK('Trust Cash Flow'!$D$8:$O$8)))*12)/(($D15/(12-COUNTBLANK('Trust Cash Flow'!$D$8:$O$8)))*12))} -> -159.58027 | J15: =((F15+H15)*$K$29)+(H43*$K$30)+(F43*$K$31) -> 949.24361 | K15: =((G15+I15)*$K$29)+(I43*$K$30)+(G43*$K$31) -> 204.79109 | L15: =(J43*$M$29)+(J15*$M$30) -> 967.32139 | M15: =(K43*$M$29)+(K15*$M$30) -> 204.45892 | N15: =L15*((1+$P$30)^($P$29/12)) -> 1112.4977 | O15: =M15*((1+$P$31)^($P$29/12)) -> 250.87563 | P15: =SUM(N15:O15) -> 1363.3734 | Q15: =IF((SQRT($E15/(12-COUNTBLANK('Trust Cash Flow'!$D$8:$O$8)))*0.0275973662330441)>1,1,SQRT($E15/(12-COUNTBLANK('Trust Cash Flow'!$D$8:$O$8)))*0.0275973662330441) -> 0.70170069 | R15: =(P15*Q15)+($P$28*(1-Q15)) -> 1499.2081 | S15: {=(INDIRECT($B15&"!P36")+INDIRECT($B15&"!P42"))/$D15} -> 571.8167 | T15: =SUM(R15:S15) -> 2071.0248 | U15: {=INDIRECT($B15&"!Q10")} -> 1675.74 | V15: =(T15-U15)/U15 -> 0.23588668
B16: Girard | C16: ='HCC Data Entry'!I11 -> Girard School District | D16: =SUMIF('Cash Flow Entry'!$B$3:$B$500,'Rolling Projection'!C16,'Cash Flow Entry'!$D$3:$D$500) -> 1581 | E16: =SUMIF('Cash Flow Entry'!$B$3:$B$500,'Rolling Projection'!C16,'Cash Flow Entry'!$E$3:$E$500) -> 4796 | F16: {=((INDIRECT($B16&"!P18")/(12-COUNTBLANK('Trust Cash Flow'!$D$8:$O$8)))*12)/(($D16/(12-COUNTBLANK('Trust Cash Flow'!$D$8:$O$8)))*12)} -> 955.33733 | G16: {=((INDIRECT($B16&"!P19")/(12-COUNTBLANK('Trust Cash Flow'!$D$8:$O$8)))*12)/(($D16/(12-COUNTBLANK('Trust Cash Flow'!$D$8:$O$8)))*12)} -> 492.20906 | H16: {=((((INDIRECT($B16&"!P21")+INDIRECT($B16&"!P23")+INDIRECT($B16&"!P25"))/(12-COUNTBLANK('Trust Cash Flow'!$D$8:$O$8)))*12)/(($D16/(12-COUNTBLANK('Trust Cash Flow'!$D$8:$O$8)))*12))*($F16/SUM($F16:$G16))} -> -51.319229 | I16: {=(((((INDIRECT($B16&"!P21")+INDIRECT($B16&"!P23")+INDIRECT($B16&"!P25"))/(12-COUNTBLANK('Trust Cash Flow'!$D$8:$O$8)))*12)/(($D16/(12-COUNTBLANK('Trust Cash Flow'!$D$8:$O$8)))*12))*($G16/SUM($F16:$G16)))+((((INDIRECT($B16&"!P24"))/(12-COUNTBLANK('Trust Cash Flow'!$D$8:$O$8)))*12)/(($D16/(12-COUNTBLANK('Trust Cash Flow'!$D$8:$O$8)))*12))} -> -162.57746 | J16: =((F16+H16)*$K$29)+(H44*$K$30)+(F44*$K$31) -> 886.25167 | K16: =((G16+I16)*$K$29)+(I44*$K$30)+(G44*$K$31) -> 331.16659 | L16: =(J44*$M$29)+(J16*$M$30) -> 898.82142 | M16: =(K44*$M$29)+(K16*$M$30) -> 331.62528 | N16: =L16*((1+$P$30)^($P$29/12)) -> 1033.7172 | O16: =M16*((1+$P$31)^($P$29/12)) -> 406.91158 | P16: =SUM(N16:O16) -> 1440.6288 | Q16: =IF((SQRT($E16/(12-COUNTBLANK('Trust Cash Flow'!$D$8:$O$8)))*0.0275973662330441)>1,1,SQRT($E16/(12-COUNTBLANK('Trust Cash Flow'!$D$8:$O$8)))*0.0275973662330441) -> 0.67571293 | R16: =(P16*Q16)+($P$28*(1-Q16)) -> 1563.2444 | S16: {=(INDIRECT($B16&"!P36")+INDIRECT($B16&"!P42"))/$D16} -> 567.88921 | T16: =SUM(R16:S16) -> 2131.1336 | U16: {=INDIRECT($B16&"!Q10")} -> 1822.72 | V16: =(T16-U16)/U16 -> 0.16920517
B17: HarborCreek | C17: ='HCC Data Entry'!I12 -> Harborcreek School District | D17: =SUMIF('Cash Flow Entry'!$B$3:$B$500,'Rolling Projection'!C17,'Cash Flow Entry'!$D$3:$D$500) -> 1757 | E17: =SUMIF('Cash Flow Entry'!$B$3:$B$500,'Rolling Projection'!C17,'Cash Flow Entry'!$E$3:$E$500) -> 5242 | F17: {=((INDIRECT($B17&"!P18")/(12-COUNTBLANK('Trust Cash Flow'!$D$8:$O$8)))*12)/(($D17/(12-COUNTBLANK('Trust Cash Flow'!$D$8:$O$8)))*12)} -> 1616.3361 | G17: {=((INDIRECT($B17&"!P19")/(12-COUNTBLANK('Trust Cash Flow'!$D$8:$O$8)))*12)/(($D17/(12-COUNTBLANK('Trust Cash Flow'!$D$8:$O$8)))*12)} -> 833.05801 | H17: {=((((INDIRECT($B17&"!P21")+INDIRECT($B17&"!P23")+INDIRECT($B17&"!P25"))/(12-COUNTBLANK('Trust Cash Flow'!$D$8:$O$8)))*12)/(($D17/(12-COUNTBLANK('Trust Cash Flow'!$D$8:$O$8)))*12))*($F17/SUM($F17:$G17))} -> -328.37147 | I17: {=(((((INDIRECT($B17&"!P21")+INDIRECT($B17&"!P23")+INDIRECT($B17&"!P25"))/(12-COUNTBLANK('Trust Cash Flow'!$D$8:$O$8)))*12)/(($D17/(12-COUNTBLANK('Trust Cash Flow'!$D$8:$O$8)))*12))*($G17/SUM($F17:$G17)))+((((INDIRECT($B17&"!P24"))/(12-COUNTBLANK('Trust Cash Flow'!$D$8:$O$8)))*12)/(($D17/(12-COUNTBLANK('Trust Cash Flow'!$D$8:$O$8)))*12))} -> -446.16087 | J17: =((F17+H17)*$K$29)+(H45*$K$30)+(F45*$K$31) -> 1188.9053 | K17: =((G17+I17)*$K$29)+(I45*$K$30)+(G45*$K$31) -> 432.6287 | L17: =(J45*$M$29)+(J17*$M$30) -> 1208.7269 | M17: =(K45*$M$29)+(K17*$M$30) -> 423.42377 | N17: =L17*((1+$P$30)^($P$29/12)) -> 1390.1336 | O17: =M17*((1+$P$31)^($P$29/12)) -> 519.55038 | P17: =SUM(N17:O17) -> 1909.6839 | Q17: =IF((SQRT($E17/(12-COUNTBLANK('Trust Cash Flow'!$D$8:$O$8)))*0.0275973662330441)>1,1,SQRT($E17/(12-COUNTBLANK('Trust Cash Flow'!$D$8:$O$8)))*0.0275973662330441) -> 0.70643328 | R17: =(P17*Q17)+($P$28*(1-Q17)) -> 1882.985 | S17: {=(INDIRECT($B17&"!P36")+INDIRECT($B17&"!P42"))/$D17} -> 566.05662 | T17: =SUM(R17:S17) -> 2449.0416 | U17: {=INDIRECT($B17&"!Q10")} -> 2003.07 | V17: =(T17-U17)/U17 -> 0.22264404
B18: Iroquois | C18: ='HCC Data Entry'!I13 -> Iroquois School District | D18: =SUMIF('Cash Flow Entry'!$B$3:$B$500,'Rolling Projection'!C18,'Cash Flow Entry'!$D$3:$D$500) -> 1260 | E18: =SUMIF('Cash Flow Entry'!$B$3:$B$500,'Rolling Projection'!C18,'Cash Flow Entry'!$E$3:$E$500) -> 3283 | F18: {=((INDIRECT($B18&"!P18")/(12-COUNTBLANK('Trust Cash Flow'!$D$8:$O$8)))*12)/(($D18/(12-COUNTBLANK('Trust Cash Flow'!$D$8:$O$8)))*12)} -> 1113.4628 | G18: {=((INDIRECT($B18&"!P19")/(12-COUNTBLANK('Trust Cash Flow'!$D$8:$O$8)))*12)/(($D18/(12-COUNTBLANK('Trust Cash Flow'!$D$8:$O$8)))*12)} -> 497.10067 | H18: {=((((INDIRECT($B18&"!P21")+INDIRECT($B18&"!P23")+INDIRECT($B18&"!P25"))/(12-COUNTBLANK('Trust Cash Flow'!$D$8:$O$8)))*12)/(($D18/(12-COUNTBLANK('Trust Cash Flow'!$D$8:$O$8)))*12))*($F18/SUM($F18:$G18))} -> -198.92722 | I18: {=(((((INDIRECT($B18&"!P21")+INDIRECT($B18&"!P23")+INDIRECT($B18&"!P25"))/(12-COUNTBLANK('Trust Cash Flow'!$D$8:$O$8)))*12)/(($D18/(12-COUNTBLANK('Trust Cash Flow'!$D$8:$O$8)))*12))*($G18/SUM($F18:$G18)))+((((INDIRECT($B18&"!P24"))/(12-COUNTBLANK('Trust Cash Flow'!$D$8:$O$8)))*12)/(($D18/(12-COUNTBLANK('Trust Cash Flow'!$D$8:$O$8)))*12))} -> -171.3975 | J18: =((F18+H18)*$K$29)+(H46*$K$30)+(F46*$K$31) -> 874.90056 | K18: =((G18+I18)*$K$29)+(I46*$K$30)+(G46*$K$31) -> 292.02284 | L18: =(J46*$M$29)+(J18*$M$30) -> 902.54772 | M18: =(K46*$M$29)+(K18*$M$30) -> 303.58223 | N18: =L18*((1+$P$30)^($P$29/12)) -> 1038.0028 | O18: =M18*((1+$P$31)^($P$29/12)) -> 372.50215 | P18: =SUM(N18:O18) -> 1410.5049 | Q18: =IF((SQRT($E18/(12-COUNTBLANK('Trust Cash Flow'!$D$8:$O$8)))*0.0275973662330441)>1,1,SQRT($E18/(12-COUNTBLANK('Trust Cash Flow'!$D$8:$O$8)))*0.0275973662330441) -> 0.55905957 | R18: =(P18*Q18)+($P$28*(1-Q18)) -> 1590.511 | S18: {=(INDIRECT($B18&"!P36")+INDIRECT($B18&"!P42"))/$D18} -> 573.30998 | T18: =SUM(R18:S18) -> 2163.821 | U18: {=INDIRECT($B18&"!Q10")} -> 1718.22 | V18: =(T18-U18)/U18 -> 0.25933873
B19: NE | C19: ='HCC Data Entry'!I14 -> North East School District | D19: =SUMIF('Cash Flow Entry'!$B$3:$B$500,'Rolling Projection'!C19,'Cash Flow Entry'!$D$3:$D$500) -> 1285 | E19: =SUMIF('Cash Flow Entry'!$B$3:$B$500,'Rolling Projection'!C19,'Cash Flow Entry'!$E$3:$E$500) -> 3172 | F19: {=((INDIRECT($B19&"!P18")/(12-COUNTBLANK('Trust Cash Flow'!$D$8:$O$8)))*12)/(($D19/(12-COUNTBLANK('Trust Cash Flow'!$D$8:$O$8)))*12)} -> 1107.4693 | G19: {=((INDIRECT($B19&"!P19")/(12-COUNTBLANK('Trust Cash Flow'!$D$8:$O$8)))*12)/(($D19/(12-COUNTBLANK('Trust Cash Flow'!$D$8:$O$8)))*12)} -> 378.76935 | H19: {=((((INDIRECT($B19&"!P21")+INDIRECT($B19&"!P23")+INDIRECT($B19&"!P25"))/(12-COUNTBLANK('Trust Cash Flow'!$D$8:$O$8)))*12)/(($D19/(12-COUNTBLANK('Trust Cash Flow'!$D$8:$O$8)))*12))*($F19/SUM($F19:$G19))} -> -154.15375 | I19: {=(((((INDIRECT($B19&"!P21")+INDIRECT($B19&"!P23")+INDIRECT($B19&"!P25"))/(12-COUNTBLANK('Trust Cash Flow'!$D$8:$O$8)))*12)/(($D19/(12-COUNTBLANK('Trust Cash Flow'!$D$8:$O$8)))*12))*($G19/SUM($F19:$G19)))+((((INDIRECT($B19&"!P24"))/(12-COUNTBLANK('Trust Cash Flow'!$D$8:$O$8)))*12)/(($D19/(12-COUNTBLANK('Trust Cash Flow'!$D$8:$O$8)))*12))} -> -162.72265 | J19: =((F19+H19)*$K$29)+(H47*$K$30)+(F47*$K$31) -> 871.74378 | K19: =((G19+I19)*$K$29)+(I47*$K$30)+(G47*$K$31) -> 200.19777 | L19: =(J47*$M$29)+(J19*$M$30) -> 931.19684 | M19: =(K47*$M$29)+(K19*$M$30) -> 199.94854 | N19: =L19*((1+$P$30)^($P$29/12)) -> 1070.9516 | O19: =M19*((1+$P$31)^($P$29/12)) -> 245.3413 | P19: =SUM(N19:O19) -> 1316.2929 | Q19: =IF((SQRT($E19/(12-COUNTBLANK('Trust Cash Flow'!$D$8:$O$8)))*0.0275973662330441)>1,1,SQRT($E19/(12-COUNTBLANK('Trust Cash Flow'!$D$8:$O$8)))*0.0275973662330441) -> 0.54952725 | R19: =(P19*Q19)+($P$28*(1-Q19)) -> 1542.6303 | S19: {=(INDIRECT($B19&"!P36")+INDIRECT($B19&"!P42"))/$D19} -> 449.55798 | T19: =SUM(R19:S19) -> 1992.1883 | U19: {=INDIRECT($B19&"!Q10")} -> 1555.57 | V19: =(T19-U19)/U19 -> 0.28068058
