Workbook

Sheet Board mileage-master
A1: Erie County Technical School
A2: Expense Reimbursement Request Form
A4: Name:
A5: District:
E7: Budget Acct: | F7: 10-2310-581
A8: Particulars | D8: Automobile | F8: Other Expenses | G8: Total
A9: Date | B9: Destination | C9: Purpose/Contact | D9: Miles | E9: 0.54 | F9: Amount | G9: Expenses
A11: 40935 | B11: Operating Committee Meeting | D11: 0 | E11: =D11*0.36 -> 0 | F11: 0 | G11: =SUM(E11:F11) -> 0
B14: Professional Unit Negotiations
A18: Please enter all other meetings attended
A19: and any travel related expenses incurred
A20: for which you request reimbursement.
A24: Totals | D24: =SUM(D10:D23) -> 0 | E24: =SUM(E10:E23) -> 0 | F24: =SUM(F10:F23) -> 0 | G24: =SUM(G10:G23) -> 0
B26: I certify the above expenses are true and accurate:
B28: Signature
B32: Please make check payable to Erie County Vocational Technical School Foundation
B34: Signature

Sheet Fairview
A1: Erie County Technical School
A2: Expense Reimbursement Request Form
A4: Name: | B4: Andrew Foyle | C4: 8330 Keefer Rd, Girard, PA 16417
A5: District: | B5: Fairview School District
E7: Budget Acct: 10-2310-581
A8: Particulars | D8: Automobile | F8: Other Expenses | G8: Total
A9: Date | B9: Destination | C9: Purpose/Contact | D9: Miles | E9: ='Board mileage-master'!E9 -> 0.54 | F9: Amount | G9: Expenses
A11: ='Board mileage-master'!A11 -> 40935 | B11: Operating Committee Meeting | D11: 25 | E11: =E9*D11 -> 13.5 | F11: 0 | G11: =SUM(E11:F11) -> 13.5
B13: Professional Unit Negotiations
A15: 40929 | B15: Agenda Review | C15: (jackson to foyle office)
A18: Please enter all other meetings attended
A19: and any travel related expenses incurred
A20: for which you request reimbursement.
A25: Totals | D25: =SUM(D10:D24) -> 25 | E25: =SUM(E10:E24) -> 13.5 | F25: =SUM(F10:F24) -> 0 | G25: =SUM(G10:G24) -> 13.5
B27: I certify the above expenses are true and accurate:
B29: Signature
B32: Please make check payable to Erie County Vocational Technical School Foundation
B34: Signature

Sheet Fort LeBoeuf
A1: Erie County Technical School
A2: Expense Reimbursement Request Form
A4: Name: | B4: Mr. John Ogden | C4: 358 Circuit St, Waterford, PA 16441
A5: District: | B5: Fort Leboeuf School District
E7: Budget Acct: 10-2310-581
A8: Particulars | D8: Automobile | F8: Other Expenses | G8: Total
A9: Date | B9: Destination | C9: Purpose/Contact | D9: Miles | E9: ='Board mileage-master'!E9 -> 0.54 | F9: Amount | G9: Expenses
A11: ='Board mileage-master'!A11 -> 40935 | B11: Operating Committee Meeting | D11: 18 | E11: =E9*D11 -> 9.72 | F11: 0 | G11: =SUM(E11:F11) -> 9.72
A16: Please enter all other meetings attended
A17: and any travel related expenses incurred
A18: for which you request reimbursement.
A22: Totals | D22: =SUM(D10:D21) -> 18 | E22: =SUM(E10:E21) -> 9.72 | F22: =SUM(F10:F21) -> 0 | G22: =SUM(G10:G21) -> 9.72
B24: I certify the above expenses are true and accurate:
B26: Signature
B29: Please make check payable to Erie County Vocational Technical School Foundation
B31: Signature

Sheet General McLane
A1: Erie County Technical School
A2: Expense Reimbursement Request Form
A4: Name: | B4: James Bucksbee | C4: 5187 W. West Rd, McKean, PA 16426
A5: District: | B5: General McLane School District
E7: Budget Acct: 10-2310-581
A8: Particulars | D8: Automobile | F8: Other Expenses | G8: Total
A9: Date | B9: Destination | C9: Purpose/Contact | D9: Miles | E9: ='Board mileage-master'!E9 -> 0.54 | F9: Amount | G9: Expenses
A11: ='Board mileage-master'!A11 -> 40935 | B11: Operating Committee Meeting | D11: 8 | E11: =D11*E9 -> 4.32 | G11: =E11 -> 4.32
B12: Curtze Foods - check preparation | D12: 16.44 | E12: =D12*0.54 -> 8.8776 | G12: =E12 -> 8.8776
B13: Professional Unit Negotiations
A16: Please enter all other meetings attended
A17: and any travel related expenses incurred
A18: for which you request reimbursement.
A22: Totals | D22: =SUM(D10:D21) -> 24.44 | E22: =SUM(E10:E21) -> 13.1976 | F22: =SUM(F10:F21) -> 0 | G22: =SUM(G10:G21) -> 13.1976
B24: I certify the above expenses are true and accurate:
B26: Signature
B28: Please make check payable to Erie County Vocational Technical School Foundation
B30: Signature

Sheet Girard
A1: Erie County Technical School
A2: Expense Reimbursement Request Form
A4: Name: | B4: Mr. Dennis Olesnanik | D4: 10662 West Middle Rd., Lake City, PA 16423
A5: District: | B5: Girard School District
E7: Budget Acct: 10-2310-581
A8: Particulars | D8: Automobile | F8: Other Expenses | G8: Total
A9: Date | B9: Destination | C9: Purpose/Contact | D9: Miles | E9: ='Board mileage-master'!E9 -> 0.54 | F9: Amount | G9: Expenses
A11: ='Board mileage-master'!A11 -> 40935 | B11: Operating Committee Meeting | D11: 41 | E11: =E9*D11 -> 22.14 | F11: 0 | G11: =SUM(E11:F11) -> 22.14
B13: Professional Unit Negotiations
A17: Please enter all other meetings attended
A18: and any travel related expenses incurred
A19: for which you request reimbursement.
A23: Totals | D23: =SUM(D10:D22) -> 41 | E23: =SUM(E10:E22) -> 22.14 | F23: =SUM(F10:F22) -> 0 | G23: =SUM(G10:G22) -> 22.14
B25: I certify the above expenses are true and accurate:
B27: Signature
B30: Please make check payable to Erie County Vocational Technical School Foundation
B32: Signature

Sheet Harbor Creek
A1: Erie County Technical School
A2: Expense Reimbursement Request Form
A4: Name: | B4: William Lutz | C4: 402 Parkside Dr., Erie, PA 16511
A5: District: | B5: Harbor Creek School District
E7: Budget Acct: 10-2310-581
A8: Particulars | D8: Automobile | F8: Other Expenses | G8: Total
A9: Date | B9: Destination | C9: Purpose/Contact | D9: Miles | E9: ='Board mileage-master'!E9 -> 0.54 | F9: Amount | G9: Expenses
A11: ='Board mileage-master'!A11 -> 40935 | B11: Operating Committee Meeting | D11: 28 | E11: =E9*D11 -> 15.12 | F11: 0 | G11: =SUM(E11:F11) -> 15.12
B13: Professional Unit Negotiations
A17: Please enter all other meetings attended
A18: and any travel related expenses incurred
A19: for which you request reimbursement.
A22: Totals | D22: =SUM(D10:D21) -> 28 | E22: =SUM(E10:E21) -> 15.12 | F22: =SUM(F10:F21) -> 0 | G22: =SUM(G10:G21) -> 15.12
B24: I certify the above expenses are true and accurate:
B26: Signature
B29: Please make check payable to Erie County Vocational Technical School Foundation
B31: Signature

Sheet Iroquois
A1: Erie County Technical School
A2: Expense Reimbursement Request Form
A4: Name: | B4: Mr. Wade King | C4: 1080 Rankine Avenue, Erie, PA 16511
A5: District: | B5: Iroquois School District
E7: Budget Acct: 10-2310-581
A8: Particulars | D8: Automobile | F8: Other Expenses | G8: Total
A9: Date | B9: Destination | C9: Purpose/Contact | D9: Miles | E9: ='Board mileage-master'!E9 -> 0.54 | F9: Amount | G9: Expenses
A11: ='Board mileage-master'!A11 -> 40935 | B11: Operating Committee Meeting | D11: 29 | E11: =E9*D11 -> 15.66 | F11: 0 | G11: =SUM(E11:F11) -> 15.66
B13: Professional Unit Negotiations
A17: Please enter all other meetings attended
A18: and any travel related expenses incurred
A19: for which you request reimbursement.
A22: Totals | D22: =SUM(D10:D21) -> 29 | E22: =SUM(E10:E21) -> 15.66 | F22: =SUM(F10:F21) -> 0 | G22: =SUM(G10:G21) -> 15.66
B24: I certify the above expenses are true and accurate:
B26: Signature
B29: Please make check payable to Erie County Vocational Technical School Foundation
B31: Signature

Sheet Millcreek
A1: Erie County Technical School
A2: Expense Reimbursement Request Form
A4: Name: | B4: John DiPlacido | C4: 3005 West 53rd St., Erie, PA 16506
A5: District: | B5: Millcreek Township School District
E7: Budget Acct: 10-2310-581
A8: Particulars | D8: Automobile | F8: Other Expenses | G8: Total
A9: Date | B9: Destination | C9: Purpose/Contact | D9: Miles | E9: ='Board mileage-master'!E9 -> 0.54 | F9: Amount | G9: Expenses
A11: ='Board mileage-master'!A11 -> 40935 | B11: Operating Committee Meeting | D11: =8.54*2 -> 17.08 | E11: =E9*D11 -> 9.2232 | F11: 0 | G11: =SUM(E11:F11) -> 9.2232
B13: Professional Unit Negotiations
A17: Please enter all other meetings attended
A18: and any travel related expenses incurred
A19: for which you request reimbursement.
A22: Totals | D22: =SUM(D10:D21) -> 17.08 | E22: =SUM(E10:E21) -> 9.2232 | F22: =SUM(F10:F21) -> 0 | G22: =SUM(G10:G21) -> 9.2232
B24: I certify the above expenses are true and accurate:
B26: Signature
B29: Please make check payable to Erie County Vocational Technical School Foundation
B31: Signature

Sheet Northwestern 
A1: Erie County Technical School
A2: Expense Reimbursement Request Form
A4: Name: | B4: Glen Black | C4: 10595 Reservoir Road, Albion PA 16401
A5: District: | B5: Northwestern School District
E7: Budget Acct: 10-2310-581
A8: Particulars | D8: Automobile | F8: Other Expenses | G8: Total
A9: Date | B9: Destination | C9: Purpose/Contact | D9: Miles | E9: ='Board mileage-master'!E9 -> 0.54 | F9: Amount | G9: Expenses
A11: ='Board mileage-master'!A11 -> 40935 | B11: Operating Committee Meeting | D11: 46 | E11: =E9*D11 -> 24.84 | F11: 0 | G11: =SUM(E11:F11) -> 24.84
B13: Professional Unit Negotiations
A17: Please enter all other meetings attended
A18: and any travel related expenses incurred
A19: for which you request reimbursement.
A25: Totals | D25: =SUM(D10:D24) -> 46 | E25: =SUM(E10:E24) -> 24.84 | F25: =SUM(F10:F24) -> 0 | G25: =SUM(G10:G24) -> 24.84
B27: I certify the above expenses are true and accurate:
B29: Signature
B32: Please make check payable to Erie County Vocational Technical School Foundation
B34: Signature

Sheet Union City
A1: Erie County Technical School
A2: Expense Reimbursement Request Form
A4: Name: | B4: Jennifer Gourley | C4: 24704 Rockdale Rd, Union City, PA 16438
A5: District: | B5: Union City Area School District
E7: Budget Acct: 10-2310-581
A8: Particulars | D8: Automobile | F8: Other Expenses | G8: Total
A9: Date | B9: Destination | C9: Purpose/Contact | D9: Miles | E9: ='Board mileage-master'!E9 -> 0.54 | F9: Amount | G9: Expenses
A11: ='Board mileage-master'!A11 -> 40935 | B11: Operating Committee Meeting | D11: =26.36*2 -> 52.72 | E11: =E9*D11 -> 28.4688 | F11: 0 | G11: =SUM(E11:F11) -> 28.4688
B13: Professional Unit Negotiations
A17: Please enter all other meetings attended
A18: and any travel related expenses incurred
A19: for which you request reimbursement.
A23: Totals | D23: =SUM(D10:D22) -> 52.72 | E23: =SUM(E10:E22) -> 28.4688 | F23: =SUM(F10:F22) -> 0 | G23: =SUM(G10:G22) -> 28.4688
B25: I certify the above expenses are true and accurate:
B27: Signature
B30: Please make check payable to Erie County Vocational Technical School Foundation
B32: Signature

Sheet Wattsburg
A1: Erie County Technical School
A2: Expense Reimbursement Request Form
A4: Name: | B4: Mr. Eric Duda | C4: 9165 Townhall Rd, Wattsburg, PA 16442
A5: District: | B5: Wattsburg Area School District
E7: Budget Acct: 10-2310-581
A8: Particulars | D8: Automobile | F8: Other Expenses | G8: Total
A9: Date | B9: Destination | C9: Purpose/Contact | D9: Miles | E9: ='Board mileage-master'!E9 -> 0.54 | F9: Amount | G9: Expenses
A11: ='Board mileage-master'!A11 -> 40935 | B11: Operating Committee Meeting | D11: 38 | E11: =E9*D11 -> 20.52 | F11: 0 | G11: =SUM(E11:F11) -> 20.52
B13: Professional Unit Negotiations
A16: Please enter all other meetings attended
A17: and any travel related expenses incurred
A18: for which you request reimbursement.
A22: Totals | D22: =SUM(D10:D21) -> 38 | E22: =SUM(E10:E21) -> 20.52 | F22: =SUM(F10:F21) -> 0 | G22: =SUM(G10:G21) -> 20.52
B24: I certify the above expenses are true and accurate:
B26: Signature
B30: Please make check payable to Erie County Vocational Technical School Foundation
B32: Signature

Sheet Superintendent
A1: Erie County Technical School
A2: Expense Reimbursement Request Form
A4: Name: | B4: Dr. Sandra Myers
A5: District: | B5: Union City School District | D5: 107 Concord St., Union City, PA 16438
E7: Budget Acct: 10-2310-581
A8: Particulars | D8: Automobile | F8: Other Expenses | G8: Total
A9: Date | B9: Destination | C9: Purpose/Contact | D9: Miles | E9: ='Board mileage-master'!E9 -> 0.54 | F9: Amount | G9: Expenses
A11: ='Board mileage-master'!A11 -> 40935 | B11: Operating Committee Meeting | D11: =18.6*2 -> 37.2 | E11: =D11*E9 -> 20.088 | F11: 0 | G11: =SUM(E11:F11) -> 20.088
B13: Professional Unit Negotiations
A16: Please enter all other meetings attended
A17: and any travel related expenses incurred
A18: for which you request reimbursement.
A23: Totals | D23: =SUM(D10:D22) -> 37.2 | E23: =SUM(E10:E22) -> 20.088 | F23: =SUM(F10:F22) -> 0 | G23: =SUM(G10:G22) -> 20.088
B25: I certify the above expenses are true and accurate:
B27: Signature
B31: Please make check payable to Erie County Vocational Technical School Foundation
B33: Signature

Sheet Sheet1
