Workbook

Sheet Board mileage-master
A1: Erie County Technical School
A2: Expense Reimbursement Request Form
A4: Name:
A5: District:
E7: Budget Acct: | F7: 10-2310-581
A8: Particulars | D8: Automobile | F8: Other Expenses | G8: Total
A9: Date | B9: Destination | C9: Purpose/Contact | D9: Miles | E9: 0.575 | F9: Amount | G9: Expenses
A11: 40891 | B11: Operating Committee Meeting | D11: 0 | E11: =D11*0.36 -> 0 | F11: 0 | G11: =SUM(E11:F11) -> 0
B12: Professional Unit Negotiations
B13: Please enter all other meetings attended
B14: and any travel related expenses incurred
B15: for which you request reimbursement.
A24: Totals | D24: =SUM(D10:D23) -> 0 | E24: =SUM(E10:E23) -> 0 | F24: =SUM(F10:F23) -> 0 | G24: =SUM(G10:G23) -> 0
B26: I certify the above expenses are true and accurate:
B28: Signature
B32: Please make check payable to Erie County Vocational Technical School Foundation
B34: Signature

Sheet Fairview
A1: Erie County Technical School
A2: Expense Reimbursement Request Form
A4: Name: | B4: Andrew Foyle | C4: 8330 Keefer Rd, Girard, PA 16417
A5: District: | B5: Fairview School District
E7: Budget Acct: 10-2310-581
A8: Particulars | D8: Automobile | F8: Other Expenses | G8: Total
A9: Date | B9: Destination | C9: Purpose/Contact | D9: Miles | E9: ='Board mileage-master'!E9 -> 0.575 | F9: Amount | G9: Expenses
A11: ='Board mileage-master'!A11 -> 40891 | B11: Operating Committee Meeting | D11: 25 | E11: =E9*D11 -> 14.375 | F11: 0 | G11: =SUM(E11:F11) -> 14.375
A12: 40878 | B12: professional negotiations | D12: 25 | E12: =D12*E9 -> 14.375 | G12: =SUM(E12:F12) -> 14.375
B13: ='Board mileage-master'!B13:B15 -> Please enter all other meetings attended
B14: ='Board mileage-master'!B14 -> and any travel related expenses incurred
B15: ='Board mileage-master'!B15 -> for which you request reimbursement.
A28: Totals | D28: =SUM(D10:D27) -> 50 | E28: =SUM(E10:E27) -> 28.75 | F28: =SUM(F10:F27) -> 0 | G28: =SUM(G10:G27) -> 28.75
B30: I certify the above expenses are true and accurate:
B32: Signature
B35: Please make check payable to Erie County Vocational Technical School Foundation
B37: Signature

Sheet Fort LeBoeuf
A1: Erie County Technical School
A2: Expense Reimbursement Request Form
A4: Name: | B4: Mr. John Ogden | C4: 358 Circuit St, Waterford, PA 16441
A5: District: | B5: Fort Leboeuf School District
E7: Budget Acct: 10-2310-581
A8: Particulars | D8: Automobile | F8: Other Expenses | G8: Total
A9: Date | B9: Destination | C9: Purpose/Contact | D9: Miles | E9: ='Board mileage-master'!E9 -> 0.575 | F9: Amount | G9: Expenses
A11: ='Board mileage-master'!A11 -> 40891 | B11: Operating Committee Meeting | D11: 18 | E11: =E9*D11 -> 10.35 | F11: 0 | G11: =SUM(E11:F11) -> 10.35
B13: ='Board mileage-master'!B13:B15 -> Please enter all other meetings attended
B14: ='Board mileage-master'!B14 -> and any travel related expenses incurred
B15: ='Board mileage-master'!B15 -> for which you request reimbursement.
A22: Totals | D22: =SUM(D10:D21) -> 18 | E22: =SUM(E10:E21) -> 10.35 | F22: =SUM(F10:F21) -> 0 | G22: =SUM(G10:G21) -> 10.35
B24: I certify the above expenses are true and accurate:
B26: Signature
B29: Please make check payable to Erie County Vocational Technical School Foundation
B31: Signature

Sheet General McLane
A1: Erie County Technical School
A2: Expense Reimbursement Request Form
A4: Name: | B4: James Bucksbee | C4: 5187 W. West Rd, McKean, PA 16426
A5: District: | B5: General McLane School District
E7: Budget Acct: 10-2310-581
A8: Particulars | D8: Automobile | F8: Other Expenses | G8: Total
A9: Date | B9: Destination | C9: Purpose/Contact | D9: Miles | E9: ='Board mileage-master'!E9 -> 0.575 | F9: Amount | G9: Expenses
A11: ='Board mileage-master'!A11 -> 40891 | B11: Operating Committee Meeting | D11: 8 | E11: =E9*D11 -> 4.6 | G11: =SUM(E11:F11) -> 4.6
A12: 40878 | B12: professional negotiations | D12: 8 | E12: =D12*E9 -> 4.6 | G12: =SUM(E12:F12) -> 4.6
A13: 12/10/15/2015 | B13: Agenda review | D13: 8 | E13: =D13*E9 -> 4.6 | G13: =SUM(E13:F13) -> 4.6
B17: ='Board mileage-master'!B13 -> Please enter all other meetings attended
B18: ='Board mileage-master'!B14 -> and any travel related expenses incurred
B19: ='Board mileage-master'!B15 -> for which you request reimbursement.
A22: Totals | D22: =SUM(D10:D21) -> 24 | E22: =SUM(E10:E21) -> 13.8 | F22: =SUM(F10:F21) -> 0 | G22: =SUM(G10:G21) -> 13.8
B24: I certify the above expenses are true and accurate:
B26: Signature
B28: Please make check payable to Erie County Vocational Technical School Foundation
B30: Signature

Sheet Girard
A1: Erie County Technical School
A2: Expense Reimbursement Request Form
A4: Name: | B4: Mr. Dennis Olesnanik | D4: 10662 West Middle Rd., Lake City, PA 16423
A5: District: | B5: Girard School District
E7: Budget Acct: 10-2310-581
A8: Particulars | D8: Automobile | F8: Other Expenses | G8: Total
A9: Date | B9: Destination | C9: Purpose/Contact | D9: Miles | E9: ='Board mileage-master'!E9 -> 0.575 | F9: Amount | G9: Expenses
A11: ='Board mileage-master'!A11 -> 40891 | B11: Operating Committee Meeting | D11: 41 | E11: =E9*D11 -> 23.575 | F11: 0 | G11: =SUM(E11:F11) -> 23.575
B13: Professional Unit Negotiations
B14: ='Board mileage-master'!B13:B15 -> and any travel related expenses incurred
B15: ='Board mileage-master'!B14 -> and any travel related expenses incurred
B16: ='Board mileage-master'!B15 -> for which you request reimbursement.
A23: Totals | D23: =SUM(D10:D22) -> 41 | E23: =SUM(E10:E22) -> 23.575 | F23: =SUM(F10:F22) -> 0 | G23: =SUM(G10:G22) -> 23.575
B25: I certify the above expenses are true and accurate:
B27: Signature
B30: Please make check payable to Erie County Vocational Technical School Foundation
B32: Signature

Sheet Harbor Creek
A1: Erie County Technical School
A2: Expense Reimbursement Request Form
A4: Name: | B4: William Lutz | C4: 402 Parkside Dr., Erie, PA 16511
A5: District: | B5: Harbor Creek School District
E7: Budget Acct: 10-2310-581
A8: Particulars | D8: Automobile | F8: Other Expenses | G8: Total
A9: Date | B9: Destination | C9: Purpose/Contact | D9: Miles | E9: ='Board mileage-master'!E9 -> 0.575 | F9: Amount | G9: Expenses
A11: ='Board mileage-master'!A11 -> 40891 | B11: Operating Committee Meeting | D11: 28 | E11: =E9*D11 -> 16.1 | F11: 0 | G11: =SUM(E11:F11) -> 16.1
B13: Professional Unit Negotiations
B14: ='Board mileage-master'!B13:B15 -> and any travel related expenses incurred
B15: ='Board mileage-master'!B14 -> and any travel related expenses incurred
B16: ='Board mileage-master'!B15 -> for which you request reimbursement.
A22: Totals | D22: =SUM(D10:D21) -> 28 | E22: =SUM(E10:E21) -> 16.1 | F22: =SUM(F10:F21) -> 0 | G22: =SUM(G10:G21) -> 16.1
B24: I certify the above expenses are true and accurate:
B26: Signature
B29: Please make check payable to Erie County Vocational Technical School Foundation
B31: Signature

Sheet Iroquois
A1: Erie County Technical School
A2: Expense Reimbursement Request Form
A4: Name: | B4: Mr. Wade King | C4: 1080 Rankine Avenue, Erie, PA 16511
A5: District: | B5: Iroquois School District
E7: Budget Acct: 10-2310-581
A8: Particulars | D8: Automobile | F8: Other Expenses | G8: Total
A9: Date | B9: Destination | C9: Purpose/Contact | D9: Miles | E9: ='Board mileage-master'!E9 -> 0.575 | F9: Amount | G9: Expenses
A11: ='Board mileage-master'!A11 -> 40891 | B11: Operating Committee Meeting | D11: 29 | E11: =E9*D11 -> 16.675 | F11: 0 | G11: =SUM(E11:F11) -> 16.675
B13: Professional Unit Negotiations
B14: ='Board mileage-master'!B13:B15 -> and any travel related expenses incurred
B15: ='Board mileage-master'!B14 -> and any travel related expenses incurred
B16: ='Board mileage-master'!B15 -> for which you request reimbursement.
E21: =D21*0.36 -> 0
A22: Totals | D22: =SUM(D10:D21) -> 29 | E22: =SUM(E10:E21) -> 16.675 | F22: =SUM(F10:F21) -> 0 | G22: =SUM(G10:G21) -> 16.675
B24: I certify the above expenses are true and accurate:
B26: Signature
B29: Please make check payable to Erie County Vocational Technical School Foundation
B31: Signature

Sheet Millcreek
A1: Erie County Technical School
A2: Expense Reimbursement Request Form
A4: Name: | B4: John DiPlacido | C4: 3005 West 53rd St., Erie, PA 16506
A5: District: | B5: Millcreek Township School District
E7: Budget Acct: 10-2310-581
A8: Particulars | D8: Automobile | F8: Other Expenses | G8: Total
A9: Date | B9: Destination | C9: Purpose/Contact | D9: Miles | E9: ='Board mileage-master'!E9 -> 0.575 | F9: Amount | G9: Expenses
A11: ='Board mileage-master'!A11 -> 40891 | B11: Operating Committee Meeting | D11: =8.54*2 -> 17.08 | E11: =E9*D11 -> 9.821 | F11: 0 | G11: =SUM(E11:F11) -> 9.821
B13: Professional Unit Negotiations
B14: ='Board mileage-master'!B13:B15 -> and any travel related expenses incurred
B15: ='Board mileage-master'!B14 -> and any travel related expenses incurred
B16: ='Board mileage-master'!B15 -> for which you request reimbursement.
A22: Totals | D22: =SUM(D10:D21) -> 17.08 | E22: =SUM(E10:E21) -> 9.821 | F22: =SUM(F10:F21) -> 0 | G22: =SUM(G10:G21) -> 9.821
B24: I certify the above expenses are true and accurate:
B26: Signature
B29: Please make check payable to Erie County Vocational Technical School Foundation
B31: Signature

Sheet Northwestern 
A1: Erie County Technical School
A2: Expense Reimbursement Request Form
A4: Name: | B4: Glen Black | C4: 10595 Reservoir Road, Albion PA 16401
A5: District: | B5: Northwestern School District
E7: Budget Acct: 10-2310-581
A8: Particulars | D8: Automobile | F8: Other Expenses | G8: Total
A9: Date | B9: Destination | C9: Purpose/Contact | D9: Miles | E9: ='Board mileage-master'!E9 -> 0.575 | F9: Amount | G9: Expenses
A11: ='Board mileage-master'!A11 -> 40891 | B11: Operating Committee Meeting | D11: 46 | E11: =E9*D11 -> 26.45 | F11: 0 | G11: =SUM(E11:F11) -> 26.45
B13: Professional Unit Negotiations
B14: Please enter all other meetings attended
B15: and any travel related expenses incurred
B16: for which you request reimbursement.
A25: Totals | D25: =SUM(D10:D24) -> 46 | E25: =SUM(E10:E24) -> 26.45 | F25: =SUM(F10:F24) -> 0 | G25: =SUM(G10:G24) -> 26.45
B27: I certify the above expenses are true and accurate:
B29: Signature
B32: Please make check payable to Erie County Vocational Technical School Foundation
B34: Signature

Sheet Union City
A1: Erie County Technical School
A2: Expense Reimbursement Request Form
A4: Name: | B4: Jennifer Gourley | C4: 24704 Rockdale Rd, Union City, PA 16438
A5: District: | B5: Union City Area School District
E7: Budget Acct: 10-2310-581
A8: Particulars | D8: Automobile | F8: Other Expenses | G8: Total
A9: Date | B9: Destination | C9: Purpose/Contact | D9: Miles | E9: ='Board mileage-master'!E9 -> 0.575 | F9: Amount | G9: Expenses
A11: ='Board mileage-master'!A11 -> 40891 | B11: Operating Committee Meeting | D11: =26.36*2 -> 52.72 | E11: =E9*D11 -> 30.314 | F11: 0 | G11: =SUM(E11:F11) -> 30.314
B13: Professional Unit Negotiations
B14: ='Board mileage-master'!B13:B15 -> and any travel related expenses incurred
B15: ='Board mileage-master'!B14 -> and any travel related expenses incurred
B16: ='Board mileage-master'!B15 -> for which you request reimbursement.
B17: Professional Unit Negotiations
A23: Totals | D23: =SUM(D10:D22) -> 52.72 | E23: =SUM(E10:E22) -> 30.314 | F23: =SUM(F10:F22) -> 0 | G23: =SUM(G10:G22) -> 30.314
B25: I certify the above expenses are true and accurate:
B27: Signature
B30: Please make check payable to Erie County Vocational Technical School Foundation
B32: Signature

Sheet Wattsburg
A1: Erie County Technical School
A2: Expense Reimbursement Request Form
A4: Name: | B4: Mr. Eric Duda | C4: 9165 Townhall Rd, Wattsburg, PA 16442
A5: District: | B5: Wattsburg Area School District
E7: Budget Acct: 10-2310-581
A8: Particulars | D8: Automobile | F8: Other Expenses | G8: Total
A9: Date | B9: Destination | C9: Purpose/Contact | D9: Miles | E9: ='Board mileage-master'!E9 -> 0.575 | F9: Amount | G9: Expenses
A11: ='Board mileage-master'!A11 -> 40891 | B11: Operating Committee Meeting | D11: 38 | E11: =E9*D11 -> 21.85 | F11: 0 | G11: =SUM(E11:F11) -> 21.85
B12: Professional Unit Negotiations
B13: ='Board mileage-master'!B13:B15 -> Please enter all other meetings attended
B14: ='Board mileage-master'!B14 -> and any travel related expenses incurred
B15: ='Board mileage-master'!B15 -> for which you request reimbursement.
B17: NOREBT Meeting
A22: Totals | D22: =SUM(D10:D21) -> 38 | E22: =SUM(E10:E21) -> 21.85 | F22: =SUM(F10:F21) -> 0 | G22: =SUM(G10:G21) -> 21.85
B24: I certify the above expenses are true and accurate:
B26: Signature
B30: Please make check payable to Erie County Vocational Technical School Foundation
B32: Signature

Sheet Superintendent
A1: Erie County Technical School
A2: Expense Reimbursement Request Form
A4: Name: | B4: Dr. Sandra Myers
A5: District: | B5: Union City School District | D5: 107 Concord St., Union City, PA 16438
E7: Budget Acct: 10-2310-581
A8: Particulars | D8: Automobile | F8: Other Expenses | G8: Total
A9: Date | B9: Destination | C9: Purpose/Contact | D9: Miles | E9: ='Board mileage-master'!E9 -> 0.575 | F9: Amount | G9: Expenses
A11: ='Board mileage-master'!A11 -> 40891 | B11: Operating Committee Meeting | D11: =18.6*2 -> 37.2 | E11: =D11*E9 -> 21.39 | F11: 0 | G11: =SUM(E11:F11) -> 21.39
B13: Professional Unit Negotiations
A20: Totals | D20: =SUM(D10:D19) -> 37.2 | E20: =SUM(E10:E19) -> 21.39 | F20: =SUM(F10:F19) -> 0 | G20: =SUM(G10:G19) -> 21.39
B22: I certify the above expenses are true and accurate:
B24: Signature
B28: Please make check payable to Erie County Vocational Technical School Foundation
B30: Signature

Sheet Sheet1
