Workbook

Sheet Board mileage-master
A1: Erie County Technical School
A2: Expense Reimbursement Request Form
A4: Name:
A5: District:
E7: Budget Acct: | F7: 10-2310-581
A8: Particulars | D8: Automobile | F8: Other Expenses | G8: Total
A9: Date | B9: Destination | C9: Purpose/Contact | D9: Miles | E9: 0.565 | F9: Amount | G9: Expenses
A11: 39990 | B11: Operating Committee Meeting | D11: 0 | E11: =D11*0.36 -> 0 | F11: 0 | G11: =SUM(E11:F11) -> 0
B13: Please enter all other meetings attended
B14: and any travel related expenses incurred
B15: for which you request reimbursement.
A24: Totals | D24: =SUM(D10:D23) -> 0 | E24: =SUM(E10:E23) -> 0 | F24: =SUM(F10:F23) -> 0 | G24: =SUM(G10:G23) -> 0
B26: I certify the above expenses are true and accurate:
B28: Signature
B32: Please make check payable to Erie County Vocational Technical Foundation
B34: Signature

Sheet Fairview
A1: Erie County Technical School
A2: Expense Reimbursement Request Form
A4: Name: | B4: Andrew Foyle | C4: 8330 Keefer Rd, Fairview, PA 16417
A5: District: | B5: Fairview School District
E7: Budget Acct: 10-2310-581
A8: Particulars | D8: Automobile | F8: Other Expenses | G8: Total
A9: Date | B9: Destination | C9: Purpose/Contact | D9: Miles | E9: ='Board mileage-master'!E9 -> 0.565 | F9: Amount | G9: Expenses
A11: ='Board mileage-master'!A11 -> 39990 | B11: Operating Committee Meeting | D11: 25 | E11: =E9*D11 -> 14.125 | F11: 0 | G11: =SUM(E11:F11) -> 14.125
B13: ='Board mileage-master'!B13:B15 -> Please enter all other meetings attended
B14: ='Board mileage-master'!B14 -> and any travel related expenses incurred
B15: ='Board mileage-master'!B15 -> for which you request reimbursement.
A28: Totals | D28: =SUM(D10:D27) -> 25 | E28: =SUM(E10:E27) -> 14.125 | F28: =SUM(F10:F27) -> 0 | G28: =SUM(G10:G27) -> 14.125
B30: I certify the above expenses are true and accurate:
B32: Signature
B35: Please make check payable to Erie County Vocational Technical Foundation
B37: Signature

Sheet Fort LeBoeuf
A1: Erie County Technical School
A2: Expense Reimbursement Request Form
A4: Name: | B4: Mr. John Ogden | C4: 358 Circuit St, Waterford, PA 16441
A5: District: | B5: Fort Leboeuf School District
E7: Budget Acct: 10-2310-581
A8: Particulars | D8: Automobile | F8: Other Expenses | G8: Total
A9: Date | B9: Destination | C9: Purpose/Contact | D9: Miles | E9: ='Board mileage-master'!E9 -> 0.565 | F9: Amount | G9: Expenses
A11: ='Board mileage-master'!A11 -> 39990 | B11: Operating Committee Meeting | D11: 18 | E11: =E9*D11 -> 10.17 | F11: 0 | G11: =SUM(E11:F11) -> 10.17
B13: ='Board mileage-master'!B13:B15 -> Please enter all other meetings attended
B14: ='Board mileage-master'!B14 -> and any travel related expenses incurred
B15: ='Board mileage-master'!B15 -> for which you request reimbursement.
A22: Totals | D22: =SUM(D10:D21) -> 18 | E22: =SUM(E10:E21) -> 10.17 | F22: =SUM(F10:F21) -> 0 | G22: =SUM(G10:G21) -> 10.17
B24: I certify the above expenses are true and accurate:
B26: Signature
B29: Please make check payable to Erie County Vocational Technical Foundation
B31: Signature

Sheet General McLane
A1: Erie County Technical School
A2: Expense Reimbursement Request Form
A4: Name: | B4: James Bucksbee | C4: 5187 W. West Rd, McKean, PA 16426
A5: District: | B5: General McLane School District
E7: Budget Acct: 10-2310-581
A8: Particulars | D8: Automobile | F8: Other Expenses | G8: Total
A9: Date | B9: Destination | C9: Purpose/Contact | D9: Miles | E9: ='Board mileage-master'!E9 -> 0.565 | F9: Amount | G9: Expenses
A11: ='Board mileage-master'!A11 -> 39990 | B11: Operating Committee Meeting | D11: 8 | E11: =E9*D11 -> 4.52 | G11: =SUM(E11:F11) -> 4.52
B14: Agenda review | D14: 8 | E14: =D14*E9 -> 4.52 | G14: =SUM(E14:F14) -> 4.52
B20: ='Board mileage-master'!B13 -> Please enter all other meetings attended
B21: ='Board mileage-master'!B14 -> and any travel related expenses incurred
B22: ='Board mileage-master'!B15 -> for which you request reimbursement.
A25: Totals | D25: =SUM(D10:D24) -> 16 | E25: =SUM(E10:E24) -> 9.04 | F25: =SUM(F10:F24) -> 0 | G25: =SUM(G10:G24) -> 9.04
B27: I certify the above expenses are true and accurate:
B29: Signature
B31: Please make check payable to Erie County Vocational Technical Foundation
B33: Signature

Sheet Girard
A1: Erie County Technical School
A2: Expense Reimbursement Request Form
A4: Name: | B4: Mr. John Hughes | C4: 233 Propect Street, Girard, PA 16417
A5: District: | B5: Girard School District
E7: Budget Acct: 10-2310-581
A8: Particulars | D8: Automobile | F8: Other Expenses | G8: Total
A9: Date | B9: Destination | C9: Purpose/Contact | D9: Miles | E9: ='Board mileage-master'!E9 -> 0.565 | F9: Amount | G9: Expenses
A11: ='Board mileage-master'!A11 -> 39990 | B11: Operating Committee Meeting | D11: =16.51*2 -> 33.02 | E11: =E9*D11 -> 18.6563 | F11: 0 | G11: =SUM(E11:F11) -> 18.6563
B13: ='Board mileage-master'!B13:B15 -> Please enter all other meetings attended
B14: ='Board mileage-master'!B14 -> and any travel related expenses incurred
B15: ='Board mileage-master'!B15 -> for which you request reimbursement.
A23: Totals | D23: =SUM(D10:D22) -> 33.02 | E23: =SUM(E10:E22) -> 18.6563 | F23: =SUM(F10:F22) -> 0 | G23: =SUM(G10:G22) -> 18.6563
B25: I certify the above expenses are true and accurate:
B27: Signature
B30: Please make check payable to Erie County Vocational Technical Foundation
B32: Signature

Sheet Harbor Creek
A1: Erie County Technical School
A2: Expense Reimbursement Request Form
A4: Name: | B4: Barbara Gainer | C4: 3878 Davison Rd, Harbor Creek, PA 16421
A5: District: | B5: Harbor Creek School District
E7: Budget Acct: 10-2310-581
A8: Particulars | D8: Automobile | F8: Other Expenses | G8: Total
A9: Date | B9: Destination | C9: Purpose/Contact | D9: Miles | E9: ='Board mileage-master'!E9 -> 0.565 | F9: Amount | G9: Expenses
A11: ='Board mileage-master'!A11 -> 39990 | B11: Operating Committee Meeting | D11: =12.53*2 -> 25.06 | E11: =E9*D11 -> 14.1589 | F11: 0 | G11: =SUM(E11:F11) -> 14.1589
B13: ='Board mileage-master'!B13:B15 -> Please enter all other meetings attended
B14: ='Board mileage-master'!B14 -> and any travel related expenses incurred
B15: ='Board mileage-master'!B15 -> for which you request reimbursement.
A22: Totals | D22: =SUM(D10:D21) -> 25.06 | E22: =SUM(E10:E21) -> 14.1589 | F22: =SUM(F10:F21) -> 0 | G22: =SUM(G10:G21) -> 14.1589
B24: I certify the above expenses are true and accurate:
B26: Signature
B29: Please make check payable to Erie County Vocational Technical Foundation
B31: Signature

Sheet Iroquois
A1: Erie County Technical School
A2: Expense Reimbursement Request Form
A4: Name: | B4: Brian Rogala | C4: 2705 Groveland Ave, Erie, PA 16510
A5: District: | B5: Iroquois School District
E7: Budget Acct: 10-2310-581
A8: Particulars | D8: Automobile | F8: Other Expenses | G8: Total
A9: Date | B9: Destination | C9: Purpose/Contact | D9: Miles | E9: ='Board mileage-master'!E9 -> 0.565 | F9: Amount | G9: Expenses
A11: ='Board mileage-master'!A11 -> 39990 | B11: Operating Committee Meeting | D11: 25 | E11: =E9*D11 -> 14.125 | F11: 0 | G11: =SUM(E11:F11) -> 14.125
B13: ='Board mileage-master'!B13:B15 -> Please enter all other meetings attended
B14: ='Board mileage-master'!B14 -> and any travel related expenses incurred
B15: ='Board mileage-master'!B15 -> for which you request reimbursement.
E21: =D21*0.36 -> 0
A22: Totals | D22: =SUM(D10:D21) -> 25 | E22: =SUM(E10:E21) -> 14.125 | F22: =SUM(F10:F21) -> 0 | G22: =SUM(G10:G21) -> 14.125
B24: I certify the above expenses are true and accurate:
B26: Signature
B29: Please make check payable to Erie County Vocational Technical Foundation
B31: Signature

Sheet Millcreek
A1: Erie County Technical School
A2: Expense Reimbursement Request Form
A4: Name: | B4: John DiPlacido | C4: 5040 West Ridge Road, Erie, PA 16506
A5: District: | B5: Millcreek Township School District
E7: Budget Acct: 10-2310-581
A8: Particulars | D8: Automobile | F8: Other Expenses | G8: Total
A9: Date | B9: Destination | C9: Purpose/Contact | D9: Miles | E9: ='Board mileage-master'!E9 -> 0.565 | F9: Amount | G9: Expenses
A11: ='Board mileage-master'!A11 -> 39990 | B11: Operating Committee Meeting | D11: =8.54*2 -> 17.08 | E11: =E9*D11 -> 9.6502 | F11: 0 | G11: =SUM(E11:F11) -> 9.6502
B13: ='Board mileage-master'!B13:B15 -> Please enter all other meetings attended
B14: ='Board mileage-master'!B14 -> and any travel related expenses incurred
B15: ='Board mileage-master'!B15 -> for which you request reimbursement.
E21: =D21*0.36 -> 0
A22: Totals | D22: =SUM(D10:D21) -> 17.08 | E22: =SUM(E10:E21) -> 9.6502 | F22: =SUM(F10:F21) -> 0 | G22: =SUM(G10:G21) -> 9.6502
B24: I certify the above expenses are true and accurate:
B26: Signature
B29: Please make check payable to Erie County Vocational Technical Foundation
B31: Signature

Sheet Northwestern 
A1: Erie County Technical School
A2: Expense Reimbursement Request Form
A4: Name: | B4: Sam Ring | C4: PO Box 85, East Springfield, PA 16411
A5: District: | B5: Northwestern School District
E7: Budget Acct: 10-2310-581
A8: Particulars | D8: Automobile | F8: Other Expenses | G8: Total
A9: Date | B9: Destination | C9: Purpose/Contact | D9: Miles | E9: ='Board mileage-master'!E9 -> 0.565 | F9: Amount | G9: Expenses
A11: ='Board mileage-master'!A11 -> 39990 | B11: Operating Committee Meeting | D11: =24.36*2 -> 48.72 | E11: =E9*D11 -> 27.5268 | F11: 0 | G11: =SUM(E11:F11) -> 27.5268
B13: Please enter all other meetings attended
B14: and any travel related expenses incurred
B15: for which you request reimbursement.
A25: Totals | D25: =SUM(D10:D24) -> 48.72 | E25: =SUM(E10:E24) -> 27.5268 | F25: =SUM(F10:F24) -> 0 | G25: =SUM(G10:G24) -> 27.5268
B27: I certify the above expenses are true and accurate:
B29: Signature
B32: Please make check payable to Erie County Vocational Technical Foundation
B34: Signature

Sheet Union City
A1: Erie County Technical School
A2: Expense Reimbursement Request Form
A4: Name: | B4: Jennifer Gourley | C4: 24704 Rockdale Rd, Union City, PA 16438
A5: District: | B5: Union City Area School District
E7: Budget Acct: 10-2310-581
A8: Particulars | D8: Automobile | F8: Other Expenses | G8: Total
A9: Date | B9: Destination | C9: Purpose/Contact | D9: Miles | E9: ='Board mileage-master'!E9 -> 0.565 | F9: Amount | G9: Expenses
A11: ='Board mileage-master'!A11 -> 39990 | B11: Operating Committee Meeting | D11: =26.36*2 -> 52.72 | E11: =E9*D11 -> 29.7868 | F11: 0 | G11: =SUM(E11:F11) -> 29.7868
B13: ='Board mileage-master'!B13:B15 -> Please enter all other meetings attended
B14: ='Board mileage-master'!B14 -> and any travel related expenses incurred
B15: ='Board mileage-master'!B15 -> for which you request reimbursement.
A23: Totals | D23: =SUM(D10:D22) -> 52.72 | E23: =SUM(E10:E22) -> 29.7868 | F23: =SUM(F10:F22) -> 0 | G23: =SUM(G10:G22) -> 29.7868
B25: I certify the above expenses are true and accurate:
B27: Signature
B30: Please make check payable to Erie County Vocational Technical Foundation
B32: Signature

Sheet Wattsburg
A1: Erie County Technical School
A2: Expense Reimbursement Request Form
A4: Name: | B4: Mr. Eric Duda | C4: 9165 Townhall Rd, Wattsburg, PA 16442
A5: District: | B5: Wattsburg Area School District
E7: Budget Acct: 10-2310-581
A8: Particulars | D8: Automobile | F8: Other Expenses | G8: Total
A9: Date | B9: Destination | C9: Purpose/Contact | D9: Miles | E9: ='Board mileage-master'!E9 -> 0.565 | F9: Amount | G9: Expenses
A11: ='Board mileage-master'!A11 -> 39990 | B11: Operating Committee Meeting | D11: 38 | E11: =E9*D11 -> 21.47 | F11: 0 | G11: =SUM(E11:F11) -> 21.47
B13: ='Board mileage-master'!B13:B15 -> Please enter all other meetings attended
B14: ='Board mileage-master'!B14 -> and any travel related expenses incurred
B15: ='Board mileage-master'!B15 -> for which you request reimbursement.
A17: 39960 | B17: NOREBT Meeting-IU5 | D17: 52 | E17: =D17*E9 -> 29.38 | G17: =E17 -> 29.38
A22: Totals | D22: =SUM(D10:D21) -> 90 | E22: =SUM(E10:E21) -> 50.85 | F22: =SUM(F10:F21) -> 0 | G22: =SUM(G10:G21) -> 50.85
B24: I certify the above expenses are true and accurate:
B26: Signature
B30: Please make check payable to Erie County Vocational Technical Foundation
B32: Signature

Sheet Superintendent
A1: Erie County Technical School
A2: Expense Reimbursement Request Form
A4: Name: | B4: Dr. James Tracy
A5: District: | B5: Girard School District | D5: 1100 Rice Ave, Girard, PA 16417
E7: Budget Acct: 10-2310-581
A8: Particulars | D8: Automobile | F8: Other Expenses | G8: Total
A9: Date | B9: Destination | C9: Purpose/Contact | D9: Miles | E9: ='Board mileage-master'!E9 -> 0.565 | F9: Amount | G9: Expenses
A11: ='Board mileage-master'!A11 -> 39990 | B11: Operating Committee Meeting | D11: =14.23*2 -> 28.46 | E11: =D11*E9 -> 16.0799 | F11: 0 | G11: =SUM(E11:F11) -> 16.0799
A20: Totals | D20: =SUM(D10:D19) -> 28.46 | E20: =SUM(E10:E19) -> 16.0799 | F20: =SUM(F10:F19) -> 0 | G20: =SUM(G10:G19) -> 16.0799
B22: I certify the above expenses are true and accurate:
B24: Signature
B28: Please make check payable to Erie County Vocational Technical Foundation
B30: Signature
