Workbook
Name QUOAVE: Combo!$AZ$15

Sheet Enrollment Changes Aug-Sept
C1: 2011-2012 | G1: 2010-2011 | K1: 2009-2010 | O1: 2008-2009 | S1: 2007-2008 | W1: 2006-2007 | AA1: 2005-2006 | AE1: 2004-2005
A2: Program | C2: Program/Year Level | F2: Total | G2: Program/Year Level | J2: Total | K2: Program/Year Level | N2: Total | O2: Program/Year Level | R2: Total | S2: Program/Year Level | V2: Total | W2: Program/Year Level | Z2: Total | AA2: Program/Year Level | AD2: Total | AE2: Program/Year Level | AH2: Total
B3: Capacity | C3: 1st | D3: 2nd | E3: 3rd | F3: Total | G3: 1st | H3: 2nd | I3: 3rd | J3: Total | K3: 1st | L3: 2nd | M3: 3rd | N3: Total | O3: 1st | P3: 2nd | Q3: 3rd | R3: Total | S3: 1st | T3: 2nd | U3: 3rd | V3: Total | W3: 1st | X3: 2nd | Y3: 3rd | Z3: Total | AA3: 1st | AB3: 2nd | AC3: 3rd | AD3: Total | AE3: 1st | AF3: 2nd | AG3: 3rd | AH3: Total
A4: Art & Design | B4: 48 | C4: ='1112Monthly '!H5-'1112Monthly '!C5 -> 0 | D4: ='1112Monthly '!I5-'1112Monthly '!D5 -> -2 | E4: ='1112Monthly '!J5-'1112Monthly '!E5 -> 0 | F4: =SUM(C4:E4) -> -2 | G4: ='1011Monthly'!AE5-'1011Monthly'!C5 -> 4 | H4: ='1011Monthly'!AF5-'1011Monthly'!D5 -> -2 | I4: ='1011Monthly'!AG5-'1011Monthly'!E5 -> -1 | J4: =SUM(G4:I4) -> 1 | K4: ='0910 Monthly '!W5-'0910 Monthly '!C5 -> 2 | L4: ='0910 Monthly '!X5-'0910 Monthly '!D5 -> 0 | M4: ='0910 Monthly '!Y5-'0910 Monthly '!E5 -> 0 | N4: =SUM(K4:M4) -> 2 | O4: ='0809 Monthly'!Q5-'0809 Monthly'!B5 -> -3 | P4: ='0809 Monthly'!R5-'0809 Monthly'!C5 -> -2 | Q4: ='0809 Monthly'!S5-'0809 Monthly'!D5 -> 0 | R4: =SUM(O4:Q4) -> -5 | S4: ='0708 Monthly'!Q5-'0708 Monthly'!B5 -> -3 | T4: ='0708 Monthly'!R5-'0708 Monthly'!C5 -> 0 | U4: ='0708 Monthly'!S5-'0708 Monthly'!D5 -> -1 | V4: =SUM(S4:U4) -> -4 | W4: ='0607 Monthly'!P5-'0607 Monthly'!B5 -> 1 | X4: ='0607 Monthly'!Q5-'0607 Monthly'!C5 -> 0 | Y4: ='0607 Monthly'!R5-'0607 Monthly'!D5 -> 0 | Z4: =SUM(W4:Y4) -> 1 | AE4: ='0405 Monthly'!P9-'0405 Monthly'!F9 -> 0 | AF4: ='0405 Monthly'!Q9-'0405 Monthly'!C9 -> -5 | AG4: ='0405 Monthly'!R9-'0405 Monthly'!D9 -> 0 | AH4: =SUM(AE4:AG4) -> -5
A5: Auto Body | B5: 48 | C5: ='1112Monthly '!H6-'1112Monthly '!C6 -> 0 | D5: ='1112Monthly '!I6-'1112Monthly '!D6 -> -2 | E5: ='1112Monthly '!J6-'1112Monthly '!E6 -> 0 | F5: =SUM(C5:E5) -> -2 | G5: ='1011Monthly'!AE6-'1011Monthly'!C6 -> -1 | H5: ='1011Monthly'!AF6-'1011Monthly'!D6 -> 0 | I5: ='1011Monthly'!AG6-'1011Monthly'!E6 -> 0 | J5: =SUM(G5:I5) -> -1 | K5: ='0910 Monthly '!W6-'0910 Monthly '!C6 -> -3 | L5: ='0910 Monthly '!X6-'0910 Monthly '!D6 -> -3 | M5: ='0910 Monthly '!Y6-'0910 Monthly '!E6 -> -1 | N5: =SUM(K5:M5) -> -7 | O5: ='0809 Monthly'!Q6-'0809 Monthly'!B6 -> -6 | P5: ='0809 Monthly'!R6-'0809 Monthly'!C6 -> 0 | Q5: ='0809 Monthly'!S6-'0809 Monthly'!D6 -> 0 | R5: =SUM(O5:Q5) -> -6 | S5: ='0708 Monthly'!Q6-'0708 Monthly'!B6 -> 0 | T5: ='0708 Monthly'!R6-'0708 Monthly'!C6 -> -1 | U5: ='0708 Monthly'!S6-'0708 Monthly'!D6 -> -1 | V5: =SUM(S5:U5) -> -2 | W5: ='0607 Monthly'!P6-'0607 Monthly'!B6 -> -1 | X5: ='0607 Monthly'!Q6-'0607 Monthly'!C6 -> -1 | Y5: ='0607 Monthly'!R6-'0607 Monthly'!D6 -> -2 | Z5: =SUM(W5:Y5) -> -4 | AE5: ='0405 Monthly'!P6-'0405 Monthly'!F6 -> 0 | AF5: ='0405 Monthly'!Q6-'0405 Monthly'!C6 -> -3 | AG5: ='0405 Monthly'!R6-'0405 Monthly'!D6 -> -1 | AH5: =SUM(AE5:AG5) -> -4
A6: Automotive Technologies | B6: 96 | C6: ='1112Monthly '!H7-'1112Monthly '!C7 -> 4 | D6: ='1112Monthly '!I7-'1112Monthly '!D7 -> -2 | E6: ='1112Monthly '!J7-'1112Monthly '!E7 -> 0 | F6: =SUM(C6:E6) -> 2 | G6: ='1011Monthly'!AE7-'1011Monthly'!C7 -> 2 | H6: ='1011Monthly'!AF7-'1011Monthly'!D7 -> -4 | I6: ='1011Monthly'!AG7-'1011Monthly'!E7 -> -1 | J6: =SUM(G6:I6) -> -3 | K6: ='0910 Monthly '!W7-'0910 Monthly '!C7 -> 8 | L6: ='0910 Monthly '!X7-'0910 Monthly '!D7 -> -2 | M6: ='0910 Monthly '!Y7-'0910 Monthly '!E7 -> -1 | N6: =SUM(K6:M6) -> 5 | O6: ='0809 Monthly'!Q7-'0809 Monthly'!B7 -> 5 | P6: ='0809 Monthly'!R7-'0809 Monthly'!C7 -> -1 | Q6: ='0809 Monthly'!S7-'0809 Monthly'!D7 -> -1 | R6: =SUM(O6:Q6) -> 3 | S6: ='0708 Monthly'!Q7-'0708 Monthly'!B7 -> -3 | T6: ='0708 Monthly'!R7-'0708 Monthly'!C7 -> 0 | U6: ='0708 Monthly'!S7-'0708 Monthly'!D7 -> -1 | V6: =SUM(S6:U6) -> -4 | W6: ='0607 Monthly'!P7-'0607 Monthly'!B7 -> -3 | X6: ='0607 Monthly'!Q7-'0607 Monthly'!C7 -> 0 | Y6: ='0607 Monthly'!R7-'0607 Monthly'!D7 -> 0 | Z6: =SUM(W6:Y6) -> -3 | AE6: ='0405 Monthly'!P7-'0405 Monthly'!F7 -> -1 | AF6: ='0405 Monthly'!Q7-'0405 Monthly'!C7 -> -6 | AG6: ='0405 Monthly'!R7-'0405 Monthly'!D7 -> -1 | AH6: =SUM(AE6:AG6) -> -8
A7: Computer Info. Systems | B7: 48 | C7: ='1112Monthly '!H8-'1112Monthly '!C8 -> -1 | D7: ='1112Monthly '!I8-'1112Monthly '!D8 -> -1 | E7: ='1112Monthly '!J8-'1112Monthly '!E8 -> 0 | F7: =SUM(C7:E7) -> -2 | G7: ='1011Monthly'!AE8-'1011Monthly'!C8 -> -2 | H7: ='1011Monthly'!AF8-'1011Monthly'!D8 -> -3 | I7: ='1011Monthly'!AG8-'1011Monthly'!E8 -> 0 | J7: =SUM(G7:I7) -> -5 | K7: ='0910 Monthly '!W8-'0910 Monthly '!C8 -> -3 | L7: ='0910 Monthly '!X8-'0910 Monthly '!D8 -> 0 | M7: ='0910 Monthly '!Y8-'0910 Monthly '!E8 -> 0 | N7: =SUM(K7:M7) -> -3 | O7: ='0809 Monthly'!Q8-'0809 Monthly'!B8 -> -4 | P7: ='0809 Monthly'!R8-'0809 Monthly'!C8 -> -2 | Q7: ='0809 Monthly'!S8-'0809 Monthly'!D8 -> -1 | R7: =SUM(O7:Q7) -> -7 | S7: ='0708 Monthly'!Q8-'0708 Monthly'!B8 -> 1 | T7: ='0708 Monthly'!R8-'0708 Monthly'!C8 -> 0 | U7: ='0708 Monthly'!S8-'0708 Monthly'!D8 -> 0 | V7: =SUM(S7:U7) -> 1 | W7: ='0607 Monthly'!P8-'0607 Monthly'!B8 -> -3 | X7: ='0607 Monthly'!Q8-'0607 Monthly'!C8 -> -1 | Y7: ='0607 Monthly'!R8-'0607 Monthly'!D8 -> 0 | Z7: =SUM(W7:Y7) -> -4 | AE7: ='0405 Monthly'!P10-'0405 Monthly'!F10 -> 1 | AF7: ='0405 Monthly'!Q10-'0405 Monthly'!C10 -> -4 | AG7: ='0405 Monthly'!R10-'0405 Monthly'!D10 -> -2 | AH7: =SUM(AE7:AG7) -> -5
A8: Construction Trades | B8: 96 | C8: ='1112Monthly '!H9-'1112Monthly '!C9 -> -5 | D8: ='1112Monthly '!I9-'1112Monthly '!D9 -> 0 | E8: ='1112Monthly '!J9-'1112Monthly '!E9 -> -1 | F8: =SUM(C8:E8) -> -6 | G8: ='1011Monthly'!AE9-'1011Monthly'!C9 -> -12 | H8: ='1011Monthly'!AF9-'1011Monthly'!D9 -> -1 | I8: ='1011Monthly'!AG9-'1011Monthly'!E9 -> -3 | J8: =SUM(G8:I8) -> -16 | K8: ='0910 Monthly '!W9-'0910 Monthly '!C9 -> -8 | L8: ='0910 Monthly '!X9-'0910 Monthly '!D9 -> -2 | M8: ='0910 Monthly '!Y9-'0910 Monthly '!E9 -> -2 | N8: =SUM(K8:M8) -> -12 | O8: ='0809 Monthly'!Q9-'0809 Monthly'!B9 -> -9 | P8: ='0809 Monthly'!R9-'0809 Monthly'!C9 -> -2 | Q8: ='0809 Monthly'!S9-'0809 Monthly'!D9 -> 0 | R8: =SUM(O8:Q8) -> -11 | S8: ='0708 Monthly'!Q9-'0708 Monthly'!B9 -> -6 | T8: ='0708 Monthly'!R9-'0708 Monthly'!C9 -> -1 | U8: ='0708 Monthly'!S9-'0708 Monthly'!D9 -> -1 | V8: =SUM(S8:U8) -> -8 | W8: ='0607 Monthly'!P9-'0607 Monthly'!B9 -> -7 | X8: ='0607 Monthly'!Q9-'0607 Monthly'!C9 -> 0 | Y8: ='0607 Monthly'!R9-'0607 Monthly'!D9 -> 0 | Z8: =SUM(W8:Y8) -> -7 | AE8: ='0405 Monthly'!P11-'0405 Monthly'!F11 -> -2 | AF8: ='0405 Monthly'!Q11-'0405 Monthly'!C11 -> -1 | AG8: ='0405 Monthly'!R11-'0405 Monthly'!D11 -> -2 | AH8: =SUM(AE8:AG8) -> -5
A9: Cosmetology | B9: 48 | C9: ='1112Monthly '!H10-'1112Monthly '!C10 -> 0 | D9: ='1112Monthly '!I10-'1112Monthly '!D10 -> -1 | E9: ='1112Monthly '!J10-'1112Monthly '!E10 -> -1 | F9: =SUM(C9:E9) -> -2 | G9: ='1011Monthly'!AE10-'1011Monthly'!C10 -> 2 | H9: ='1011Monthly'!AF10-'1011Monthly'!D10 -> -2 | I9: ='1011Monthly'!AG10-'1011Monthly'!E10 -> -2 | J9: =SUM(G9:I9) -> -2 | K9: ='0910 Monthly '!W10-'0910 Monthly '!C10 -> 1 | L9: ='0910 Monthly '!X10-'0910 Monthly '!D10 -> 1 | M9: ='0910 Monthly '!Y10-'0910 Monthly '!E10 -> 0 | N9: =SUM(K9:M9) -> 2 | O9: ='0809 Monthly'!Q10-'0809 Monthly'!B10 -> 0 | P9: ='0809 Monthly'!R10-'0809 Monthly'!C10 -> -2 | Q9: ='0809 Monthly'!S10-'0809 Monthly'!D10 -> -1 | R9: =SUM(O9:Q9) -> -3 | S9: ='0708 Monthly'!Q10-'0708 Monthly'!B10 -> 0 | T9: ='0708 Monthly'!R10-'0708 Monthly'!C10 -> -1 | U9: ='0708 Monthly'!S10-'0708 Monthly'!D10 -> 1 | V9: =SUM(S9:U9) -> 0 | W9: ='0607 Monthly'!P10-'0607 Monthly'!B10 -> 0 | X9: ='0607 Monthly'!Q10-'0607 Monthly'!C10 -> 0 | Y9: ='0607 Monthly'!R10-'0607 Monthly'!D10 -> 0 | Z9: =SUM(W9:Y9) -> 0 | AE9: ='0405 Monthly'!P12-'0405 Monthly'!F12 -> 0 | AF9: ='0405 Monthly'!Q12-'0405 Monthly'!C12 -> -1 | AG9: ='0405 Monthly'!R12-'0405 Monthly'!D12 -> -2 | AH9: =SUM(AE9:AG9) -> -3
A10: Culinary Arts | B10: 96 | C10: ='1112Monthly '!H11-'1112Monthly '!C11 -> -2 | D10: ='1112Monthly '!I11-'1112Monthly '!D11 -> -2 | E10: ='1112Monthly '!J11-'1112Monthly '!E11 -> -2 | F10: =SUM(C10:E10) -> -6 | G10: ='1011Monthly'!AE11-'1011Monthly'!C11 -> -3 | H10: ='1011Monthly'!AF11-'1011Monthly'!D11 -> -5 | I10: ='1011Monthly'!AG11-'1011Monthly'!E11 -> 0 | J10: =SUM(G10:I10) -> -8 | K10: ='0910 Monthly '!W11-'0910 Monthly '!C11 -> -7 | L10: ='0910 Monthly '!X11-'0910 Monthly '!D11 -> -4 | M10: ='0910 Monthly '!Y11-'0910 Monthly '!E11 -> -1 | N10: =SUM(K10:M10) -> -12 | O10: ='0809 Monthly'!Q11-'0809 Monthly'!B11 -> -1 | P10: ='0809 Monthly'!R11-'0809 Monthly'!C11 -> -2 | Q10: ='0809 Monthly'!S11-'0809 Monthly'!D11 -> -2 | R10: =SUM(O10:Q10) -> -5 | S10: ='0708 Monthly'!Q11-'0708 Monthly'!B11 -> -4 | T10: ='0708 Monthly'!R11-'0708 Monthly'!C11 -> -2 | U10: ='0708 Monthly'!S11-'0708 Monthly'!D11 -> 0 | V10: =SUM(S10:U10) -> -6 | W10: ='0607 Monthly'!P11-'0607 Monthly'!B11 -> -1 | X10: ='0607 Monthly'!Q11-'0607 Monthly'!C11 -> 1 | Y10: ='0607 Monthly'!R11-'0607 Monthly'!D11 -> 0 | Z10: =SUM(W10:Y10) -> 0 | AE10: ='0405 Monthly'!P13-'0405 Monthly'!F13 -> -2 | AF10: ='0405 Monthly'!Q13-'0405 Monthly'!C13 -> -7 | AG10: ='0405 Monthly'!R13-'0405 Monthly'!D13 -> -2 | AH10: =SUM(AE10:AG10) -> -11
A11: Diversified Ocupations | C11: ='1112Monthly '!H12-'1112Monthly '!C12 -> -1 | D11: ='1112Monthly '!I12-'1112Monthly '!D12 -> 1 | E11: ='1112Monthly '!J12-'1112Monthly '!E12 -> 0 | F11: =SUM(C11:E11) -> 0 | G11: ='1011Monthly'!AE12-'1011Monthly'!C12 -> -1 | H11: ='1011Monthly'!AF12-'1011Monthly'!D12 -> -2 | I11: ='1011Monthly'!AG12-'1011Monthly'!E12 -> 0 | J11: =SUM(G11:I11) -> -3 | K11: ='0910 Monthly '!W12-'0910 Monthly '!C12 -> 4 | L11: ='0910 Monthly '!X12-'0910 Monthly '!D12 -> 0 | M11: ='0910 Monthly '!Y12-'0910 Monthly '!E12 -> 0 | N11: =SUM(K11:M11) -> 4 | O11: ='0809 Monthly'!Q12-'0809 Monthly'!B12 -> 7 | P11: ='0809 Monthly'!R12-'0809 Monthly'!C12 -> 0 | Q11: ='0809 Monthly'!S12-'0809 Monthly'!D12 -> 0 | R11: =SUM(O11:Q11) -> 7 | S11: ='0708 Monthly'!Q12-'0708 Monthly'!B12 -> 10 | T11: ='0708 Monthly'!R12-'0708 Monthly'!C12 -> 0 | U11: ='0708 Monthly'!S12-'0708 Monthly'!D12 -> 0 | V11: =SUM(S11:U11) -> 10 | W11: ='0607 Monthly'!P12-'0607 Monthly'!B12 -> -4 | X11: ='0607 Monthly'!Q12-'0607 Monthly'!C12 -> 0 | Y11: ='0607 Monthly'!R12-'0607 Monthly'!D12 -> 0 | Z11: =SUM(W11:Y11) -> -4
A12: Drafting & Design | B12: 48 | C12: ='1112Monthly '!H13-'1112Monthly '!C13 -> 1 | D12: ='1112Monthly '!I13-'1112Monthly '!D13 -> -1 | E12: ='1112Monthly '!J13-'1112Monthly '!E13 -> 0 | F12: =SUM(C12:E12) -> 0 | G12: ='1011Monthly'!AE13-'1011Monthly'!C13 -> 4 | H12: ='1011Monthly'!AF13-'1011Monthly'!D13 -> -2 | I12: ='1011Monthly'!AG13-'1011Monthly'!E13 -> 0 | J12: =SUM(G12:I12) -> 2 | K12: ='0910 Monthly '!W13-'0910 Monthly '!C13 -> 4 | L12: ='0910 Monthly '!X13-'0910 Monthly '!D13 -> -1 | M12: ='0910 Monthly '!Y13-'0910 Monthly '!E13 -> 0 | N12: =SUM(K12:M12) -> 3 | O12: ='0809 Monthly'!Q13-'0809 Monthly'!B13 -> 0 | P12: ='0809 Monthly'!R13-'0809 Monthly'!C13 -> -1 | Q12: ='0809 Monthly'!S13-'0809 Monthly'!D13 -> 0 | R12: =SUM(O12:Q12) -> -1 | S12: ='0708 Monthly'!Q13-'0708 Monthly'!B13 -> 0 | T12: ='0708 Monthly'!R13-'0708 Monthly'!C13 -> 0 | U12: ='0708 Monthly'!S13-'0708 Monthly'!D13 -> 0 | V12: =SUM(S12:U12) -> 0 | W12: ='0607 Monthly'!P13-'0607 Monthly'!B13 -> 0 | X12: ='0607 Monthly'!Q13-'0607 Monthly'!C13 -> 0 | Y12: ='0607 Monthly'!R13-'0607 Monthly'!D13 -> 0 | Z12: =SUM(W12:Y12) -> 0 | AE12: ='0405 Monthly'!P14-'0405 Monthly'!F14 -> 0 | AF12: ='0405 Monthly'!Q14-'0405 Monthly'!C14 -> 0 | AG12: ='0405 Monthly'!R14-'0405 Monthly'!D14 -> -1 | AH12: =SUM(AE12:AG12) -> -1
A13: Early Childhood Education | B13: 48 | C13: ='1112Monthly '!H14-'1112Monthly '!C14 -> -3 | D13: ='1112Monthly '!I14-'1112Monthly '!D14 -> -2 | E13: ='1112Monthly '!J14-'1112Monthly '!E14 -> -1 | F13: =SUM(C13:E13) -> -6 | G13: ='1011Monthly'!AE14-'1011Monthly'!C14 -> 4 | H13: ='1011Monthly'!AF14-'1011Monthly'!D14 -> 0 | I13: ='1011Monthly'!AG14-'1011Monthly'!E14 -> 0 | J13: =SUM(G13:I13) -> 4 | K13: ='0910 Monthly '!W14-'0910 Monthly '!C14 -> -2 | L13: ='0910 Monthly '!X14-'0910 Monthly '!D14 -> -1 | M13: ='0910 Monthly '!Y14-'0910 Monthly '!E14 -> -1 | N13: =SUM(K13:M13) -> -4 | O13: ='0809 Monthly'!Q14-'0809 Monthly'!B14 -> -3 | P13: ='0809 Monthly'!R14-'0809 Monthly'!C14 -> -4 | Q13: ='0809 Monthly'!S14-'0809 Monthly'!D14 -> -1 | R13: =SUM(O13:Q13) -> -8 | S13: ='0708 Monthly'!Q14-'0708 Monthly'!B14 -> 1 | T13: ='0708 Monthly'!R14-'0708 Monthly'!C14 -> 0 | U13: ='0708 Monthly'!S14-'0708 Monthly'!D14 -> 0 | V13: =SUM(S13:U13) -> 1 | W13: ='0607 Monthly'!P14-'0607 Monthly'!B14 -> 0 | X13: ='0607 Monthly'!Q14-'0607 Monthly'!C14 -> -1 | Y13: ='0607 Monthly'!R14-'0607 Monthly'!D14 -> 0 | Z13: =SUM(W13:Y13) -> -1 | AE13: ='0405 Monthly'!P8-'0405 Monthly'!F8 -> -2 | AF13: ='0405 Monthly'!Q8-'0405 Monthly'!C8 -> -3 | AG13: ='0405 Monthly'!R8-'0405 Monthly'!D8 -> -1 | AH13: =SUM(AE13:AG13) -> -6
A14: Electrical Engineering | B14: 48 | C14: ='1112Monthly '!H15-'1112Monthly '!C15 -> 0 | D14: ='1112Monthly '!I15-'1112Monthly '!D15 -> 0 | E14: ='1112Monthly '!J15-'1112Monthly '!E15 -> -1 | F14: =SUM(C14:E14) -> -1 | G14: ='1011Monthly'!AE15-'1011Monthly'!C15 -> 1 | H14: ='1011Monthly'!AF15-'1011Monthly'!D15 -> -2 | I14: ='1011Monthly'!AG15-'1011Monthly'!E15 -> 0 | J14: =SUM(G14:I14) -> -1 | K14: ='0910 Monthly '!W15-'0910 Monthly '!C15 -> 0 | L14: ='0910 Monthly '!X15-'0910 Monthly '!D15 -> -1 | M14: ='0910 Monthly '!Y15-'0910 Monthly '!E15 -> -1 | N14: =SUM(K14:M14) -> -2 | O14: ='0809 Monthly'!Q15-'0809 Monthly'!B15 -> -2 | P14: ='0809 Monthly'!R15-'0809 Monthly'!C15 -> -1 | Q14: ='0809 Monthly'!S15-'0809 Monthly'!D15 -> 0 | R14: =SUM(O14:Q14) -> -3 | S14: ='0708 Monthly'!Q15-'0708 Monthly'!B15 -> 1 | T14: ='0708 Monthly'!R15-'0708 Monthly'!C15 -> -1 | U14: ='0708 Monthly'!S15-'0708 Monthly'!D15 -> -3 | V14: =SUM(S14:U14) -> -3 | W14: ='0607 Monthly'!P15-'0607 Monthly'!B15 -> 1 | X14: ='0607 Monthly'!Q15-'0607 Monthly'!C15 -> -1 | Y14: ='0607 Monthly'!R15-'0607 Monthly'!D15 -> -1 | Z14: =SUM(W14:Y14) -> -1 | AE14: ='0405 Monthly'!P15-'0405 Monthly'!F15 -> 0 | AF14: ='0405 Monthly'!Q15-'0405 Monthly'!C15 -> -2 | AG14: ='0405 Monthly'!R15-'0405 Monthly'!D15 -> 0 | AH14: =SUM(AE14:AG14) -> -2
A15: Electronics | B15: 48 | C15: ='1112Monthly '!H16-'1112Monthly '!C16 -> 0 | D15: ='1112Monthly '!I16-'1112Monthly '!D16 -> 0 | E15: ='1112Monthly '!J16-'1112Monthly '!E16 -> 0 | F15: =SUM(C15:E15) -> 0 | G15: ='1011Monthly'!AE16-'1011Monthly'!C16 -> -1 | H15: ='1011Monthly'!AF16-'1011Monthly'!D16 -> 0 | I15: ='1011Monthly'!AG16-'1011Monthly'!E16 -> 0 | J15: =SUM(G15:I15) -> -1 | K15: ='0910 Monthly '!W16-'0910 Monthly '!C16 -> -2 | L15: ='0910 Monthly '!X16-'0910 Monthly '!D16 -> -2 | M15: ='0910 Monthly '!Y16-'0910 Monthly '!E16 -> 0 | N15: =SUM(K15:M15) -> -4 | O15: ='0809 Monthly'!Q16-'0809 Monthly'!B16 -> 0 | P15: ='0809 Monthly'!R16-'0809 Monthly'!C16 -> -1 | Q15: ='0809 Monthly'!S16-'0809 Monthly'!D16 -> 0 | R15: =SUM(O15:Q15) -> -1 | S15: ='0708 Monthly'!Q16-'0708 Monthly'!B16 -> -3 | T15: ='0708 Monthly'!R16-'0708 Monthly'!C16 -> 0 | U15: ='0708 Monthly'!S16-'0708 Monthly'!D16 -> 0 | V15: =SUM(S15:U15) -> -3 | W15: ='0607 Monthly'!P16-'0607 Monthly'!B16 -> -1 | X15: ='0607 Monthly'!Q16-'0607 Monthly'!C16 -> -1 | Y15: ='0607 Monthly'!R16-'0607 Monthly'!D16 -> 0 | Z15: =SUM(W15:Y15) -> -2 | AE15: ='0405 Monthly'!P16-'0405 Monthly'!F16 -> 0 | AF15: ='0405 Monthly'!Q16-'0405 Monthly'!C16 -> 1 | AG15: ='0405 Monthly'!R16-'0405 Monthly'!D16 -> -2 | AH15: =SUM(AE15:AG15) -> -1
A16: Facilities Maintenance Tech | B16: 48 | C16: ='1112Monthly '!H17-'1112Monthly '!C17 -> 2 | D16: ='1112Monthly '!I17-'1112Monthly '!D17 -> -1 | E16: ='1112Monthly '!J17-'1112Monthly '!E17 -> -1 | F16: =SUM(C16:E16) -> 0 | G16: ='1011Monthly'!AE17-'1011Monthly'!C17 -> 3 | H16: ='1011Monthly'!AF17-'1011Monthly'!D17 -> -3 | I16: ='1011Monthly'!AG17-'1011Monthly'!E17 -> -1 | J16: =SUM(G16:I16) -> -1 | K16: ='0910 Monthly '!W17-'0910 Monthly '!C17 -> 2 | L16: ='0910 Monthly '!X17-'0910 Monthly '!D17 -> -2 | M16: ='0910 Monthly '!Y17-'0910 Monthly '!E17 -> 0 | N16: =SUM(K16:M16) -> 0 | O16: ='0809 Monthly'!Q17-'0809 Monthly'!B17 -> -1 | P16: ='0809 Monthly'!R17-'0809 Monthly'!C17 -> -1 | Q16: ='0809 Monthly'!S17-'0809 Monthly'!D17 -> -1 | R16: =SUM(O16:Q16) -> -3 | S16: ='0708 Monthly'!Q17-'0708 Monthly'!B17 -> -1 | T16: ='0708 Monthly'!R17-'0708 Monthly'!C17 -> 0 | U16: ='0708 Monthly'!S17-'0708 Monthly'!D17 -> 0 | V16: =SUM(S16:U16) -> -1 | W16: ='0607 Monthly'!P17-'0607 Monthly'!B17 -> 0 | X16: ='0607 Monthly'!Q17-'0607 Monthly'!C17 -> 0 | Y16: ='0607 Monthly'!R17-'0607 Monthly'!D17 -> -1 | Z16: =SUM(W16:Y16) -> -1 | AE16: ='0405 Monthly'!P17-'0405 Monthly'!F17 -> 0 | AF16: ='0405 Monthly'!Q17-'0405 Monthly'!C17 -> -5 | AG16: ='0405 Monthly'!R17-'0405 Monthly'!D17 -> -1 | AH16: =SUM(AE16:AG16) -> -6
A17: Graphic Communications | B17: 48 | C17: ='1112Monthly '!H18-'1112Monthly '!C18 -> 1 | D17: ='1112Monthly '!I18-'1112Monthly '!D18 -> -2 | E17: ='1112Monthly '!J18-'1112Monthly '!E18 -> -1 | F17: =SUM(C17:E17) -> -2 | G17: ='1011Monthly'!AE18-'1011Monthly'!C18 -> -1 | H17: ='1011Monthly'!AF18-'1011Monthly'!D18 -> 0 | I17: ='1011Monthly'!AG18-'1011Monthly'!E18 -> -2 | J17: =SUM(G17:I17) -> -3 | K17: ='0910 Monthly '!W18-'0910 Monthly '!C18 -> 2 | L17: ='0910 Monthly '!X18-'0910 Monthly '!D18 -> -1 | M17: ='0910 Monthly '!Y18-'0910 Monthly '!E18 -> 0 | N17: =SUM(K17:M17) -> 1 | O17: ='0809 Monthly'!Q18-'0809 Monthly'!B18 -> 1 | P17: ='0809 Monthly'!R18-'0809 Monthly'!C18 -> -1 | Q17: ='0809 Monthly'!S18-'0809 Monthly'!D18 -> 1 | R17: =SUM(O17:Q17) -> 1 | S17: ='0708 Monthly'!Q18-'0708 Monthly'!B18 -> 0 | T17: ='0708 Monthly'!R18-'0708 Monthly'!C18 -> -2 | U17: ='0708 Monthly'!S18-'0708 Monthly'!D18 -> -1 | V17: =SUM(S17:U17) -> -3 | W17: ='0607 Monthly'!P18-'0607 Monthly'!B18 -> 2 | X17: ='0607 Monthly'!Q18-'0607 Monthly'!C18 -> -1 | Y17: ='0607 Monthly'!R18-'0607 Monthly'!D18 -> 0 | Z17: =SUM(W17:Y17) -> 1 | AE17: ='0405 Monthly'!P18-'0405 Monthly'!F18 -> 0 | AF17: ='0405 Monthly'!Q18-'0405 Monthly'!C18 -> -1 | AG17: ='0405 Monthly'!R18-'0405 Monthly'!D18 -> -3 | AH17: =SUM(AE17:AG17) -> -4
A18: Health Assistant | B18: 48 | C18: ='1112Monthly '!H19-'1112Monthly '!C19 -> 1 | D18: ='1112Monthly '!I19-'1112Monthly '!D19 -> -1 | E18: ='1112Monthly '!J19-'1112Monthly '!E19 -> 0 | F18: =SUM(C18:E18) -> 0 | G18: ='1011Monthly'!AE19-'1011Monthly'!C19 -> 0 | H18: ='1011Monthly'!AF19-'1011Monthly'!D19 -> 0 | I18: ='1011Monthly'!AG19-'1011Monthly'!E19 -> -1 | J18: =SUM(G18:I18) -> -1 | K18: ='0910 Monthly '!W19-'0910 Monthly '!C19 -> 1 | L18: ='0910 Monthly '!X19-'0910 Monthly '!D19 -> -2 | M18: ='0910 Monthly '!Y19-'0910 Monthly '!E19 -> 0 | N18: =SUM(K18:M18) -> -1 | O18: ='0809 Monthly'!Q19-'0809 Monthly'!B19 -> -2 | P18: ='0809 Monthly'!R19-'0809 Monthly'!C19 -> -1 | Q18: ='0809 Monthly'!S19-'0809 Monthly'!D19 -> 0 | R18: =SUM(O18:Q18) -> -3 | S18: ='0708 Monthly'!Q19-'0708 Monthly'!B19 -> -4 | T18: ='0708 Monthly'!R19-'0708 Monthly'!C19 -> -3 | U18: ='0708 Monthly'!S19-'0708 Monthly'!D19 -> -1 | V18: =SUM(S18:U18) -> -8 | W18: ='0607 Monthly'!P19-'0607 Monthly'!B19 -> 0 | X18: ='0607 Monthly'!Q19-'0607 Monthly'!C19 -> 0 | Y18: ='0607 Monthly'!R19-'0607 Monthly'!D19 -> 0 | Z18: =SUM(W18:Y18) -> 0 | AE18: ='0405 Monthly'!P19-'0405 Monthly'!F19 -> -1 | AF18: ='0405 Monthly'!Q19-'0405 Monthly'!C19 -> -1 | AG18: ='0405 Monthly'!R19-'0405 Monthly'!D19 -> -2 | AH18: =SUM(AE18:AG18) -> -4
A19: Metal Fabrication | B19: 48 | C19: ='1112Monthly '!H20-'1112Monthly '!C20 -> 2 | D19: ='1112Monthly '!I20-'1112Monthly '!D20 -> 1 | E19: ='1112Monthly '!J20-'1112Monthly '!E20 -> 0 | F19: =SUM(C19:E19) -> 3 | G19: ='1011Monthly'!AE20-'1011Monthly'!C20 -> -2 | H19: ='1011Monthly'!AF20-'1011Monthly'!D20 -> 0 | I19: ='1011Monthly'!AG20-'1011Monthly'!E20 -> -1 | J19: =SUM(G19:I19) -> -3 | K19: ='0910 Monthly '!W20-'0910 Monthly '!C20 -> 2 | L19: ='0910 Monthly '!X20-'0910 Monthly '!D20 -> -2 | M19: ='0910 Monthly '!Y20-'0910 Monthly '!E20 -> 0 | N19: =SUM(K19:M19) -> 0 | O19: ='0809 Monthly'!Q20-'0809 Monthly'!B20 -> 2 | P19: ='0809 Monthly'!R20-'0809 Monthly'!C20 -> 0 | Q19: ='0809 Monthly'!S20-'0809 Monthly'!D20 -> 0 | R19: =SUM(O19:Q19) -> 2 | S19: ='0708 Monthly'!Q20-'0708 Monthly'!B20 -> -1 | T19: ='0708 Monthly'!R20-'0708 Monthly'!C20 -> 0 | U19: ='0708 Monthly'!S20-'0708 Monthly'!D20 -> -1 | V19: =SUM(S19:U19) -> -2 | W19: ='0607 Monthly'!P20-'0607 Monthly'!B20 -> -1 | X19: ='0607 Monthly'!Q20-'0607 Monthly'!C20 -> 0 | Y19: ='0607 Monthly'!R20-'0607 Monthly'!D20 -> 1 | Z19: =SUM(W19:Y19) -> 0 | AE19: ='0405 Monthly'!P20-'0405 Monthly'!F20 -> 0 | AF19: ='0405 Monthly'!Q20-'0405 Monthly'!C20 -> 2 | AG19: ='0405 Monthly'!R20-'0405 Monthly'!D20 -> -3 | AH19: =SUM(AE19:AG19) -> -1
A20: Networking Technologies | B20: 48 | C20: ='1112Monthly '!H21-'1112Monthly '!C21 -> 4 | D20: ='1112Monthly '!I21-'1112Monthly '!D21 -> 0 | E20: ='1112Monthly '!J21-'1112Monthly '!E21 -> 0 | F20: =SUM(C20:E20) -> 4 | G20: ='1011Monthly'!AE21-'1011Monthly'!C21 -> 3 | H20: ='1011Monthly'!AF21-'1011Monthly'!D21 -> 0 | I20: ='1011Monthly'!AG21-'1011Monthly'!E21 -> 0 | J20: =SUM(G20:I20) -> 3 | K20: ='0910 Monthly '!W21-'0910 Monthly '!C21 -> 1 | L20: ='0910 Monthly '!X21-'0910 Monthly '!D21 -> 0 | M20: ='0910 Monthly '!Y21-'0910 Monthly '!E21 -> 0 | N20: =SUM(K20:M20) -> 1 | O20: ='0809 Monthly'!Q21-'0809 Monthly'!B21 -> 2 | P20: ='0809 Monthly'!R21-'0809 Monthly'!C21 -> 0 | Q20: ='0809 Monthly'!S21-'0809 Monthly'!D21 -> 0 | R20: =SUM(O20:Q20) -> 2 | S20: ='0708 Monthly'!Q21-'0708 Monthly'!B21 -> -1 | T20: ='0708 Monthly'!R21-'0708 Monthly'!C21 -> 0 | U20: ='0708 Monthly'!S21-'0708 Monthly'!D21 -> 0 | V20: =SUM(S20:U20) -> -1 | W20: ='0607 Monthly'!P21-'0607 Monthly'!B21 -> 0 | X20: ='0607 Monthly'!Q21-'0607 Monthly'!C21 -> 0 | Y20: ='0607 Monthly'!R21-'0607 Monthly'!D21 -> 0 | Z20: =SUM(W20:Y20) -> 0 | AE20: ='0405 Monthly'!P23-'0405 Monthly'!F23 -> 0 | AF20: ='0405 Monthly'!Q23-'0405 Monthly'!C23 -> 0 | AG20: ='0405 Monthly'!R23-'0405 Monthly'!D23 -> 0 | AH20: =SUM(AE20:AG20) -> 0
A21: Precision Machining | B21: 48 | C21: ='1112Monthly '!H22-'1112Monthly '!C22 -> 2 | D21: ='1112Monthly '!I22-'1112Monthly '!D22 -> 0 | E21: ='1112Monthly '!J22-'1112Monthly '!E22 -> 0 | F21: =SUM(C21:E21) -> 2 | G21: ='1011Monthly'!AE22-'1011Monthly'!C22 -> 3 | H21: ='1011Monthly'!AF22-'1011Monthly'!D22 -> 0 | I21: ='1011Monthly'!AG22-'1011Monthly'!E22 -> -1 | J21: =SUM(G21:I21) -> 2 | K21: ='0910 Monthly '!W22-'0910 Monthly '!C22 -> -6 | L21: ='0910 Monthly '!X22-'0910 Monthly '!D22 -> -1 | M21: ='0910 Monthly '!Y22-'0910 Monthly '!E22 -> 0 | N21: =SUM(K21:M21) -> -7 | O21: ='0809 Monthly'!Q22-'0809 Monthly'!B22 -> -4 | P21: ='0809 Monthly'!R22-'0809 Monthly'!C22 -> 0 | Q21: ='0809 Monthly'!S22-'0809 Monthly'!D22 -> 0 | R21: =SUM(O21:Q21) -> -4 | S21: ='0708 Monthly'!Q23-'0708 Monthly'!B23 -> 0 | T21: ='0708 Monthly'!R23-'0708 Monthly'!C23 -> 0 | U21: ='0708 Monthly'!S23-'0708 Monthly'!D23 -> 0 | V21: =SUM(S21:U21) -> 0 | W21: ='0607 Monthly'!P23-'0607 Monthly'!B23 -> 0 | X21: ='0607 Monthly'!Q23-'0607 Monthly'!C23 -> 0 | Y21: ='0607 Monthly'!R23-'0607 Monthly'!D23 -> 0 | Z21: =SUM(W21:Y21) -> 0 | AE21: ='0405 Monthly'!P22-'0405 Monthly'!F22 -> 0 | AF21: ='0405 Monthly'!Q22-'0405 Monthly'!C22 -> 2 | AG21: ='0405 Monthly'!R22-'0405 Monthly'!D22 -> -2 | AH21: =SUM(AE21:AG21) -> 0
A22: Tourism & Hospitality | B22: 48 | C22: ='1112Monthly '!H23-'1112Monthly '!C23 -> 5 | D22: ='1112Monthly '!I23-'1112Monthly '!D23 -> -3 | E22: ='1112Monthly '!J23-'1112Monthly '!E23 -> 0 | F22: =SUM(C22:E22) -> 2 | G22: ='1011Monthly'!AE23-'1011Monthly'!C23 -> 1 | H22: ='1011Monthly'!AF23-'1011Monthly'!D23 -> 0 | I22: ='1011Monthly'!AG23-'1011Monthly'!E23 -> 0 | J22: =SUM(G22:I22) -> 1 | K22: ='0910 Monthly '!W23-'0910 Monthly '!C23 -> -5 | L22: ='0910 Monthly '!X23-'0910 Monthly '!D23 -> 0 | M22: ='0910 Monthly '!Y23-'0910 Monthly '!E23 -> 0 | N22: =SUM(K22:M22) -> -5 | O22: ='0809 Monthly'!Q23-'0809 Monthly'!B23 -> 1 | P22: ='0809 Monthly'!R23-'0809 Monthly'!C23 -> 0 | Q22: ='0809 Monthly'!S23-'0809 Monthly'!D23 -> 0 | R22: =SUM(O22:Q22) -> 1 | S22: ='0708 Monthly'!Q24-'0708 Monthly'!B24 -> -4 | T22: ='0708 Monthly'!R24-'0708 Monthly'!C24 -> 0 | U22: ='0708 Monthly'!S24-'0708 Monthly'!D24 -> 0 | V22: =SUM(S22:U22) -> -4 | W22: ='0607 Monthly'!P24-'0607 Monthly'!B24 -> -2 | X22: ='0607 Monthly'!Q24-'0607 Monthly'!C24 -> 0 | Y22: ='0607 Monthly'!R24-'0607 Monthly'!D24 -> 0 | Z22: =SUM(W22:Y22) -> -2 | AE22: ='0405 Monthly'!P25-'0405 Monthly'!F25 -> 1 | AF22: ='0405 Monthly'!Q25-'0405 Monthly'!C25 -> 0 | AG22: ='0405 Monthly'!R25-'0405 Monthly'!D25 -> 0 | AH22: =SUM(AE22:AG22) -> 1
A23: TOTALS | B23: =SUM(B4:B22) -> 1008 | C23: =SUM(C4:C22) -> 10 | D23: =SUM(D4:D22) -> -18 | E23: =SUM(E4:E22) -> -8 | F23: =SUM(C23:E23) -> -16 | G23: =SUM(G4:G22) -> 4 | H23: =SUM(H4:H22) -> -26 | I23: =SUM(I4:I22) -> -13 | J23: =SUM(J4:J22) -> -35 | K23: =SUM(K4:K22) -> -9 | L23: =SUM(L4:L22) -> -23 | M23: =SUM(M4:M22) -> -7 | N23: =SUM(K23:M23) -> -39 | O23: =SUM(O4:O22) -> -17 | P23: =SUM(P4:P22) -> -21 | Q23: =SUM(Q4:Q22) -> -6 | R23: =SUM(R4:R22) -> -44 | S23: =SUM(S4:S22) -> -17 | T23: =SUM(T4:T22) -> -11 | U23: =SUM(U4:U22) -> -9 | V23: =SUM(V4:V22) -> -37 | ... Z23: =SUM(Z4:Z22) -> -27 | AE23: =SUM(AE4:AE22) -> -6 | AF23: =SUM(AF4:AF22) -> -34 | AG23: =SUM(AG4:AG22) -> -25 | AH23: =SUM(AH4:AH22) -> -65
C24: August to September | G24: September to December | K24: September to December | O24: September to October (no August data) | S24: September to October (no August data) | W24: September to December | AE24: September to December
A26: School District | C26: Program/Year Level | F26: Total | G26: Program/Year Level | J26: Total | K26: Program/Year Level | N26: Total | O26: Program/Year Level | R26: Total | S26: Program/Year Level | V26: Total | W26: Program/Year Level | Z26: Total | AA26: Program/Year Level | AD26: Total | AE26: Program/Year Level | AH26: Total
A27: School District | B27: Quota | C27: 1st | D27: 2nd | E27: 3rd | F27: Total | G27: 1st | H27: 2nd | I27: 3rd | J27: Total | K27: 1st | L27: 2nd | M27: 3rd | N27: Total | O27: 1st | P27: 2nd | Q27: 3rd | R27: Total | S27: 1st | T27: 2nd | U27: 3rd | V27: Total | W27: 1st | X27: 2nd | Y27: 3rd | Z27: Total | AA27: 1st | AB27: 2nd | AC27: 3rd | AD27: Total | AE27: 1st | AF27: 2nd | AG27: 3rd | AH27: Total
A28: Fairview | B28: 73.158321 | C28: ='1112Monthly '!H29-'1112Monthly '!C29 -> 1 | D28: ='1112Monthly '!I29-'1112Monthly '!D29 -> -2 | E28: ='1112Monthly '!J29-'1112Monthly '!E29 -> 0 | F28: =SUM(C28:E28) -> -1 | G28: ='1011Monthly'!AE28-'1011Monthly'!C28 -> 4 | H28: ='1011Monthly'!AF28-'1011Monthly'!D28 -> -2 | I28: ='1011Monthly'!AG28-'1011Monthly'!E28 -> 0 | J28: =SUM(G28:I28) -> 2 | K28: ='0910 Monthly '!W28-'0910 Monthly '!C28 -> -1 | L28: ='0910 Monthly '!X28-'0910 Monthly '!D28 -> 1 | M28: ='0910 Monthly '!Y28-'0910 Monthly '!E28 -> 0 | N28: =SUM(K28:M28) -> 0 | O28: ='0809 Monthly'!Q28-'0809 Monthly'!B28 -> -2 | P28: ='0809 Monthly'!R28-'0809 Monthly'!C28 -> -2 | Q28: ='0809 Monthly'!S28-'0809 Monthly'!D28 -> 0 | R28: =SUM(O28:Q28) -> -4 | S28: ='0708 Monthly'!Q29-'0708 Monthly'!B29 -> -4 | T28: ='0708 Monthly'!R29-'0708 Monthly'!C29 -> -1 | U28: ='0708 Monthly'!S29-'0708 Monthly'!D29 -> 1 | V28: =SUM(S28:U28) -> -4 | W28: ='0607 Monthly'!K30-'0607 Monthly'!B30 -> 1 | X28: ='0607 Monthly'!L30-'0607 Monthly'!C30 -> 1 | Y28: ='0607 Monthly'!M30-'0607 Monthly'!D30 -> -1 | Z28: =SUM(W28:Y28) -> 1
A29: Fort LeBoeuf | B29: 86.062595 | C29: ='1112Monthly '!H30-'1112Monthly '!C30 -> -6 | D29: ='1112Monthly '!I30-'1112Monthly '!D30 -> -2 | E29: ='1112Monthly '!J30-'1112Monthly '!E30 -> 1 | F29: =SUM(C29:E29) -> -7 | G29: ='1011Monthly'!AE29-'1011Monthly'!C29 -> -1 | H29: ='1011Monthly'!AF29-'1011Monthly'!D29 -> -5 | I29: ='1011Monthly'!AG29-'1011Monthly'!E29 -> -2 | J29: =SUM(G29:I29) -> -8 | K29: ='0910 Monthly '!W29-'0910 Monthly '!C29 -> 1 | L29: ='0910 Monthly '!X29-'0910 Monthly '!D29 -> -3 | M29: ='0910 Monthly '!Y29-'0910 Monthly '!E29 -> 0 | N29: =SUM(K29:M29) -> -2 | O29: ='0809 Monthly'!Q29-'0809 Monthly'!B29 -> 0 | P29: ='0809 Monthly'!R29-'0809 Monthly'!C29 -> -3 | Q29: ='0809 Monthly'!S29-'0809 Monthly'!D29 -> 0 | R29: =SUM(O29:Q29) -> -3 | S29: ='0708 Monthly'!Q30-'0708 Monthly'!B30 -> -3 | T29: ='0708 Monthly'!R30-'0708 Monthly'!C30 -> -1 | U29: ='0708 Monthly'!S30-'0708 Monthly'!D30 -> -1 | V29: =SUM(S29:U29) -> -5 | W29: ='0607 Monthly'!K31-'0607 Monthly'!B31 -> -2 | X29: ='0607 Monthly'!L31-'0607 Monthly'!C31 -> 0 | Y29: ='0607 Monthly'!M31-'0607 Monthly'!D31 -> -1 | Z29: =SUM(W29:Y29) -> -3
A30: General McLane | B30: 93.30237 | C30: ='1112Monthly '!H31-'1112Monthly '!C31 -> 3 | D30: ='1112Monthly '!I31-'1112Monthly '!D31 -> -3 | E30: ='1112Monthly '!J31-'1112Monthly '!E31 -> 0 | F30: =SUM(C30:E30) -> 0 | G30: ='1011Monthly'!AE30-'1011Monthly'!C30 -> 0 | H30: ='1011Monthly'!AF30-'1011Monthly'!D30 -> 0 | I30: ='1011Monthly'!AG30-'1011Monthly'!E30 -> -1 | J30: =SUM(G30:I30) -> -1 | K30: ='0910 Monthly '!W30-'0910 Monthly '!C30 -> -1 | L30: ='0910 Monthly '!X30-'0910 Monthly '!D30 -> 0 | M30: ='0910 Monthly '!Y30-'0910 Monthly '!E30 -> 0 | N30: =SUM(K30:M30) -> -1 | O30: ='0809 Monthly'!Q30-'0809 Monthly'!B30 -> -6 | P30: ='0809 Monthly'!R30-'0809 Monthly'!C30 -> -1 | Q30: ='0809 Monthly'!S30-'0809 Monthly'!D30 -> 1 | R30: =SUM(O30:Q30) -> -6 | S30: ='0708 Monthly'!Q31-'0708 Monthly'!B31 -> -4 | T30: ='0708 Monthly'!R31-'0708 Monthly'!C31 -> 0 | U30: ='0708 Monthly'!S31-'0708 Monthly'!D31 -> -1 | V30: =SUM(S30:U30) -> -5 | W30: ='0607 Monthly'!K32-'0607 Monthly'!B32 -> 1 | X30: ='0607 Monthly'!L32-'0607 Monthly'!C32 -> 0 | Y30: ='0607 Monthly'!M32-'0607 Monthly'!D32 -> 0 | Z30: =SUM(W30:Y30) -> 1
A31: Girard | B31: 77.925959 | C31: ='1112Monthly '!H32-'1112Monthly '!C32 -> 0 | D31: ='1112Monthly '!I32-'1112Monthly '!D32 -> -1 | E31: ='1112Monthly '!J32-'1112Monthly '!E32 -> 0 | F31: =SUM(C31:E31) -> -1 | G31: ='1011Monthly'!AE31-'1011Monthly'!C31 -> -1 | H31: ='1011Monthly'!AF31-'1011Monthly'!D31 -> -3 | I31: ='1011Monthly'!AG31-'1011Monthly'!E31 -> -2 | J31: =SUM(G31:I31) -> -6 | K31: ='0910 Monthly '!W31-'0910 Monthly '!C31 -> -2 | L31: ='0910 Monthly '!X31-'0910 Monthly '!D31 -> -3 | M31: ='0910 Monthly '!Y31-'0910 Monthly '!E31 -> 0 | N31: =SUM(K31:M31) -> -5 | O31: ='0809 Monthly'!Q31-'0809 Monthly'!B31 -> -3 | P31: ='0809 Monthly'!R31-'0809 Monthly'!C31 -> -2 | Q31: ='0809 Monthly'!S31-'0809 Monthly'!D31 -> -1 | R31: =SUM(O31:Q31) -> -6 | S31: ='0708 Monthly'!Q32-'0708 Monthly'!B32 -> 0 | T31: ='0708 Monthly'!R32-'0708 Monthly'!C32 -> 0 | U31: ='0708 Monthly'!S32-'0708 Monthly'!D32 -> 1 | V31: =SUM(S31:U31) -> 1 | W31: ='0607 Monthly'!K33-'0607 Monthly'!B33 -> -1 | X31: ='0607 Monthly'!L33-'0607 Monthly'!C33 -> 0 | Y31: ='0607 Monthly'!M33-'0607 Monthly'!D33 -> 0 | Z31: =SUM(W31:Y31) -> -1
A32: Harbor Creek | B32: 79.14312 | C32: ='1112Monthly '!H33-'1112Monthly '!C33 -> 4 | D32: ='1112Monthly '!I33-'1112Monthly '!D33 -> -3 | E32: ='1112Monthly '!J33-'1112Monthly '!E33 -> -1 | F32: =SUM(C32:E32) -> 0 | G32: ='1011Monthly'!AE32-'1011Monthly'!C32 -> 2 | H32: ='1011Monthly'!AF32-'1011Monthly'!D32 -> 1 | I32: ='1011Monthly'!AG32-'1011Monthly'!E32 -> -1 | J32: =SUM(G32:I32) -> 2 | K32: ='0910 Monthly '!W32-'0910 Monthly '!C32 -> -1 | L32: ='0910 Monthly '!X32-'0910 Monthly '!D32 -> -2 | M32: ='0910 Monthly '!Y32-'0910 Monthly '!E32 -> 1 | N32: =SUM(K32:M32) -> -2 | O32: ='0809 Monthly'!Q32-'0809 Monthly'!B32 -> -5 | P32: ='0809 Monthly'!R32-'0809 Monthly'!C32 -> -1 | Q32: ='0809 Monthly'!S32-'0809 Monthly'!D32 -> 0 | R32: =SUM(O32:Q32) -> -6 | S32: ='0708 Monthly'!Q33-'0708 Monthly'!B33 -> -3 | T32: ='0708 Monthly'!R33-'0708 Monthly'!C33 -> 0 | U32: ='0708 Monthly'!S33-'0708 Monthly'!D33 -> -1 | V32: =SUM(S32:U32) -> -4 | W32: ='0607 Monthly'!K34-'0607 Monthly'!B34 -> -2 | X32: ='0607 Monthly'!L34-'0607 Monthly'!C34 -> -1 | Y32: ='0607 Monthly'!M34-'0607 Monthly'!D34 -> 0 | Z32: =SUM(W32:Y32) -> -3
A33: Iroquois | B33: 51.145988 | C33: ='1112Monthly '!H34-'1112Monthly '!C34 -> -1 | D33: ='1112Monthly '!I34-'1112Monthly '!D34 -> 1 | E33: ='1112Monthly '!J34-'1112Monthly '!E34 -> -1 | F33: =SUM(C33:E33) -> -1 | G33: ='1011Monthly'!AE33-'1011Monthly'!C33 -> 1 | H33: ='1011Monthly'!AF33-'1011Monthly'!D33 -> 0 | I33: ='1011Monthly'!AG33-'1011Monthly'!E33 -> -1 | J33: =SUM(G33:I33) -> 0 | K33: ='0910 Monthly '!W33-'0910 Monthly '!C33 -> -5 | L33: ='0910 Monthly '!X33-'0910 Monthly '!D33 -> -2 | M33: ='0910 Monthly '!Y33-'0910 Monthly '!E33 -> 0 | N33: =SUM(K33:M33) -> -7 | O33: ='0809 Monthly'!Q33-'0809 Monthly'!B33 -> -3 | P33: ='0809 Monthly'!R33-'0809 Monthly'!C33 -> -2 | Q33: ='0809 Monthly'!S33-'0809 Monthly'!D33 -> -1 | R33: =SUM(O33:Q33) -> -6 | S33: ='0708 Monthly'!Q34-'0708 Monthly'!B34 -> 0 | T33: ='0708 Monthly'!R34-'0708 Monthly'!C34 -> 0 | U33: ='0708 Monthly'!S34-'0708 Monthly'!D34 -> 0 | V33: =SUM(S33:U33) -> 0 | W33: ='0607 Monthly'!K35-'0607 Monthly'!B35 -> 1 | X33: ='0607 Monthly'!L35-'0607 Monthly'!C35 -> 0 | Y33: ='0607 Monthly'!M35-'0607 Monthly'!D35 -> 0 | Z33: =SUM(W33:Y33) -> 1
A34: Millcreek | B34: 296.31921 | C34: ='1112Monthly '!H35-'1112Monthly '!C35 -> 1 | D34: ='1112Monthly '!I35-'1112Monthly '!D35 -> -1 | E34: ='1112Monthly '!J35-'1112Monthly '!E35 -> -3 | F34: =SUM(C34:E34) -> -3 | G34: ='1011Monthly'!AE34-'1011Monthly'!C34 -> -9 | H34: ='1011Monthly'!AF34-'1011Monthly'!D34 -> -9 | I34: ='1011Monthly'!AG34-'1011Monthly'!E34 -> -4 | J34: =SUM(G34:I34) -> -22 | K34: ='0910 Monthly '!W34-'0910 Monthly '!C34 -> 1 | L34: ='0910 Monthly '!X34-'0910 Monthly '!D34 -> -5 | M34: ='0910 Monthly '!Y34-'0910 Monthly '!E34 -> -3 | N34: =SUM(K34:M34) -> -7 | O34: ='0809 Monthly'!Q34-'0809 Monthly'!B34 -> -8 | P34: ='0809 Monthly'!R34-'0809 Monthly'!C34 -> -6 | Q34: ='0809 Monthly'!S34-'0809 Monthly'!D34 -> 1 | R34: =SUM(O34:Q34) -> -13 | S34: ='0708 Monthly'!Q35-'0708 Monthly'!B35 -> -9 | T34: ='0708 Monthly'!R35-'0708 Monthly'!C35 -> -7 | U34: ='0708 Monthly'!S35-'0708 Monthly'!D35 -> -3 | V34: =SUM(S34:U34) -> -19 | W34: ='0607 Monthly'!K36-'0607 Monthly'!B36 -> -4 | X34: ='0607 Monthly'!L36-'0607 Monthly'!C36 -> -2 | Y34: ='0607 Monthly'!M36-'0607 Monthly'!D36 -> 0 | Z34: =SUM(W34:Y34) -> -6
A35: North East | B35: 75.171167 | C35: ='1112Monthly '!H36-'1112Monthly '!C36 -> 11 | D35: ='1112Monthly '!I36-'1112Monthly '!D36 -> -6 | E35: ='1112Monthly '!J36-'1112Monthly '!E36 -> -1 | F35: =SUM(C35:E35) -> 4 | G35: ='1011Monthly'!AE35-'1011Monthly'!C35 -> 8 | H35: ='1011Monthly'!AF35-'1011Monthly'!D35 -> 0 | I35: ='1011Monthly'!AG35-'1011Monthly'!E35 -> 0 | J35: =SUM(G35:I35) -> 8 | K35: ='0910 Monthly '!W35-'0910 Monthly '!C35 -> 9 | L35: ='0910 Monthly '!X35-'0910 Monthly '!D35 -> -3 | M35: ='0910 Monthly '!Y35-'0910 Monthly '!E35 -> -1 | N35: =SUM(K35:M35) -> 5 | O35: ='0809 Monthly'!Q35-'0809 Monthly'!B35 -> 6 | P35: ='0809 Monthly'!R35-'0809 Monthly'!C35 -> 0 | Q35: ='0809 Monthly'!S35-'0809 Monthly'!D35 -> -3 | R35: =SUM(O35:Q35) -> 3 | S35: ='0708 Monthly'!Q36-'0708 Monthly'!B36 -> 0 | T35: ='0708 Monthly'!R36-'0708 Monthly'!C36 -> -1 | U35: ='0708 Monthly'!S36-'0708 Monthly'!D36 -> -1 | V35: =SUM(S35:U35) -> -2 | W35: ='0607 Monthly'!K37-'0607 Monthly'!B37 -> -1 | X35: ='0607 Monthly'!L37-'0607 Monthly'!C37 -> -1 | Y35: ='0607 Monthly'!M37-'0607 Monthly'!D37 -> 0 | Z35: =SUM(W35:Y35) -> -2
A36: Northwestern | B36: 69.359123 | C36: ='1112Monthly '!H37-'1112Monthly '!C37 -> 2 | D36: ='1112Monthly '!I37-'1112Monthly '!D37 -> -3 | E36: ='1112Monthly '!J37-'1112Monthly '!E37 -> -1 | F36: =SUM(C36:E36) -> -2 | G36: ='1011Monthly'!AE36-'1011Monthly'!C36 -> 5 | H36: ='1011Monthly'!AF36-'1011Monthly'!D36 -> -1 | I36: ='1011Monthly'!AG36-'1011Monthly'!E36 -> 0 | J36: =SUM(G36:I36) -> 4 | K36: ='0910 Monthly '!W36-'0910 Monthly '!C36 -> -4 | L36: ='0910 Monthly '!X36-'0910 Monthly '!D36 -> -2 | M36: ='0910 Monthly '!Y36-'0910 Monthly '!E36 -> -2 | N36: =SUM(K36:M36) -> -8 | O36: ='0809 Monthly'!Q36-'0809 Monthly'!B36 -> -1 | P36: ='0809 Monthly'!R36-'0809 Monthly'!C36 -> -4 | Q36: ='0809 Monthly'!S36-'0809 Monthly'!D36 -> -3 | R36: =SUM(O36:Q36) -> -8 | S36: ='0708 Monthly'!Q37-'0708 Monthly'!B37 -> 0 | T36: ='0708 Monthly'!R37-'0708 Monthly'!C37 -> 1 | U36: ='0708 Monthly'!S37-'0708 Monthly'!D37 -> -3 | V36: =SUM(S36:U36) -> -2 | W36: ='0607 Monthly'!K38-'0607 Monthly'!B38 -> -2 | X36: ='0607 Monthly'!L38-'0607 Monthly'!C38 -> 1 | Y36: ='0607 Monthly'!M38-'0607 Monthly'!D38 -> 0 | Z36: =SUM(W36:Y36) -> -1
A37: Union City | B37: 46.710468 | C37: ='1112Monthly '!H38-'1112Monthly '!C38 -> -2 | D37: ='1112Monthly '!I38-'1112Monthly '!D38 -> 0 | E37: ='1112Monthly '!J38-'1112Monthly '!E38 -> -1 | F37: =SUM(C37:E37) -> -3 | G37: ='1011Monthly'!AE37-'1011Monthly'!C37 -> 3 | H37: ='1011Monthly'!AF37-'1011Monthly'!D37 -> 0 | I37: ='1011Monthly'!AG37-'1011Monthly'!E37 -> -1 | J37: =SUM(G37:I37) -> 2 | K37: ='0910 Monthly '!W37-'0910 Monthly '!C37 -> 1 | L37: ='0910 Monthly '!X37-'0910 Monthly '!D37 -> -2 | M37: ='0910 Monthly '!Y37-'0910 Monthly '!E37 -> -2 | N37: =SUM(K37:M37) -> -3 | O37: ='0809 Monthly'!Q37-'0809 Monthly'!B37 -> -1 | P37: ='0809 Monthly'!R37-'0809 Monthly'!C37 -> 1 | Q37: ='0809 Monthly'!S37-'0809 Monthly'!D37 -> 0 | R37: =SUM(O37:Q37) -> 0 | S37: ='0708 Monthly'!Q38-'0708 Monthly'!B38 -> -4 | T37: ='0708 Monthly'!R38-'0708 Monthly'!C38 -> -1 | U37: ='0708 Monthly'!S38-'0708 Monthly'!D38 -> -1 | V37: =SUM(S37:U37) -> -6 | W37: ='0607 Monthly'!K39-'0607 Monthly'!B39 -> -1 | X37: ='0607 Monthly'!L39-'0607 Monthly'!C39 -> 0 | Y37: ='0607 Monthly'!M39-'0607 Monthly'!D39 -> 0 | Z37: =SUM(W37:Y37) -> -1
A38: Wattsburg | B38: 59.701682 | C38: ='1112Monthly '!H39-'1112Monthly '!C39 -> -3 | D38: ='1112Monthly '!I39-'1112Monthly '!D39 -> 2 | E38: ='1112Monthly '!J39-'1112Monthly '!E39 -> -1 | F38: =SUM(C38:E38) -> -2 | G38: ='1011Monthly'!AE38-'1011Monthly'!C38 -> -8 | H38: ='1011Monthly'!AF38-'1011Monthly'!D38 -> -7 | I38: ='1011Monthly'!AG38-'1011Monthly'!E38 -> -1 | J38: =SUM(G38:I38) -> -16 | K38: ='0910 Monthly '!W38-'0910 Monthly '!C38 -> -7 | L38: ='0910 Monthly '!X38-'0910 Monthly '!D38 -> -2 | M38: ='0910 Monthly '!Y38-'0910 Monthly '!E38 -> 0 | N38: =SUM(K38:M38) -> -9 | O38: ='0809 Monthly'!Q38-'0809 Monthly'!B38 -> 6 | P38: ='0809 Monthly'!R38-'0809 Monthly'!C38 -> -1 | Q38: ='0809 Monthly'!S38-'0809 Monthly'!D38 -> 0 | R38: =SUM(O38:Q38) -> 5 | S38: ='0708 Monthly'!Q39-'0708 Monthly'!B39 -> 10 | T38: ='0708 Monthly'!R39-'0708 Monthly'!C39 -> -1 | U38: ='0708 Monthly'!S39-'0708 Monthly'!D39 -> -2 | V38: =SUM(S38:U38) -> 7 | W38: ='0607 Monthly'!K40-'0607 Monthly'!B40 -> -5 | X38: ='0607 Monthly'!L40-'0607 Monthly'!C40 -> 0 | Y38: ='0607 Monthly'!M40-'0607 Monthly'!D40 -> 0 | Z38: =SUM(W38:Y38) -> -5
A39: Totals | B39: =SUM(B28:B38) -> 1008 | C39: =SUM(C28:C38) -> 10 | D39: =SUM(D28:D38) -> -18 | E39: =SUM(E28:E38) -> -8 | F39: =SUM(C39:E39) -> -16 | G39: =SUM(G28:G38) -> 4 | H39: =SUM(H28:H38) -> -26 | I39: =SUM(I28:I38) -> -13 | J39: =SUM(G39:I39) -> -35 | K39: =SUM(K28:K38) -> -9 | L39: =SUM(L28:L38) -> -23 | M39: =SUM(M28:M38) -> -7 | N39: =SUM(K39:M39) -> -39 | O39: =SUM(O28:O38) -> -17 | P39: =SUM(P28:P38) -> -21 | Q39: =SUM(Q28:Q38) -> -6 | R39: =SUM(O39:Q39) -> -44 | S39: =SUM(S28:S38) -> -17 | T39: =SUM(T28:T38) -> -11 | U39: =SUM(U28:U38) -> -11 | V39: =SUM(S39:U39) -> -39 | W39: =SUM(W28:W38) -> -15 | X39: =SUM(X28:X38) -> -2 | Y39: =SUM(Y28:Y38) -> -2 | Z39: =SUM(W39:Y39) -> -19
C41: 1st Level | D41: 2nd Level | E41: 3rd Level | F41: Total
A42: 2011-2012 | B42: August to September | C42: =C39 -> 10 | D42: =D39 -> -18 | E42: =E39 -> -8 | F42: =F39 -> -16 | G42: =C24 -> August to September
...

Sheet 1112Monthly 
C2: August 2011 | H2: September 2011 | O2: October 2011 | V2: November 2011 | AD2: December 2011 | AL2: January 2012 | AT2: February 2012 | BB2: March 2012 | BJ2: April 2012 | BR2: May 2012 | BZ2: June 2012
A3: Program | C3: Program/Year Level | F3: Total | H3: Program/Year Level | K3: Total | L3: Chg/ Month | M3: Chg/ Prior Yr. | O3: Program/Year Level | R3: Total | S3: Chg/ Month | T3: Chg/ Prior Yr. | V3: Program/Year Level | Y3: Total | Z3: Chg/ Month | AA3: Chg/ Sept | AB3: Chg/ Prior Yr. | AD3: Program/Year Level | AG3: Total | AH3: Chg/ Month | AI3: Chg/ Sept | AJ3: Chg/ Prior Yr. | AL3: Program/Year Level | AO3: Total | AP3: Chg/ Month | AQ3: Chg/ Sept | AR3: Chg/ Prior Yr. | AT3: Program/Year Level | AW3: Total | AX3: Chg/ Month | AY3: Chg/ Sept | AZ3: Chg/ Prior Yr. | BB3: Program/Year Level | BE3: Total | BF3: Chg/ Month | BG3: Chg/ Sept | BH3: Chg/ Prior Yr. | BJ3: Program/Year Level | BM3: Total | BN3: Chg/ Month | BO3: Chg/ Sept | BP3: Chg/ Prior Yr. | BR3: Program/Year Level | BU3: Total | BV3: Chg/ Month | BW3: Chg/ Sept | BX3: Chg/ Prior Yr. | BZ3: Program/Year Level | CC3: Total | CD3: Chg/ Month | CE3: Chg/ Sept | CF3: Chg/ Prior Yr.
B4: Capacity | C4: 1st | D4: 2nd | E4: 3rd | F4: Total | H4: 1st | I4: 2nd | J4: 3rd | K4: Total | O4: 1st | P4: 2nd | Q4: 3rd | R4: Total | V4: 1st | W4: 2nd | X4: 3rd | Y4: Total | AD4: 1st | AE4: 2nd | AF4: 3rd | AG4: Total | AL4: 1st | AM4: 2nd | AN4: 3rd | AO4: Total | AT4: 1st | AU4: 2nd | AV4: 3rd | AW4: Total | BB4: 1st | BC4: 2nd | BD4: 3rd | BE4: Total | BJ4: 1st | BK4: 2nd | BL4: 3rd | BM4: Total | BR4: 1st | BS4: 2nd | BT4: 3rd | BU4: Total | BZ4: 1st | CA4: 2nd | CB4: 3rd | CC4: Total
A5: Art & Design | B5: 48 | C5: 22 | D5: 19 | E5: 6 | F5: =SUM(C5:E5) -> 47 | H5: 22 | I5: 17 | J5: 6 | K5: =SUM(H5:J5) -> 45 | L5: =K5-F5 -> -2 | M5: =K5-'1011Monthly'!K5 -> 0 | O5: 22 | P5: 17 | Q5: 6 | R5: 45 | S5: =R5-K5 -> 0 | T5: =R5-'1011Monthly'!R5 -> 0 | V5: 22 | W5: 17 | X5: 6 | Y5: =SUM(V5:X5) -> 45 | Z5: =Y5-R5 -> 0 | AA5: =Y5-$F5 -> -2 | AB5: =Y5-'1011Monthly'!Z5 -> 0 | AD5: 22 | AE5: 17 | AF5: 6 | AG5: 45 | AH5: =AG5-Y5 -> 0 | AI5: =AG5-$F5 -> -2 | AJ5: =AG5-'1011Monthly'!AH5 -> -1 | AL5: 23 | AM5: 17 | AN5: 6 | AO5: 46 | AP5: =AO5-AG5 -> 1 | AQ5: =AO5-$F5 -> -1 | AR5: =AO5-'1011Monthly'!AP5 -> 0 | AT5: 22 | AU5: 17 | AV5: 6 | AW5: 45 | AX5: =AW5-AO5 -> -1 | AY5: =AW5-$F5 -> -2 | AZ5: =AW5-'1011Monthly'!AX5 -> 1 | BB5: 22 | BC5: 17 | BD5: 6 | BE5: 45 | BF5: =BE5-AW5 -> 0 | BG5: =BE5-$F5 -> -2 | BH5: =BE5-'1011Monthly'!BF5 -> 0 | BN5: =BM5-BE5 -> -45 | BO5: =BM5-$F5 -> -47 | BP5: =BM5-'1011Monthly'!BN5 -> -45 | BV5: =BU5-BM5 -> 0 | BW5: =BU5-$F5 -> -47 | BX5: =BU5-'1011Monthly'!BV5 -> -45 | CD5: =CC5-BU5 -> 0 | CE5: =CC5-$K5 -> -45 | CF5: =CC5-'1011Monthly'!CD5 -> -45
A6: Auto Body | B6: 48 | C6: 23 | D6: 7 | E6: 3 | F6: =SUM(C6:E6) -> 33 | H6: 23 | I6: 5 | J6: 3 | K6: =SUM(H6:J6) -> 31 | L6: =K6-F6 -> -2 | M6: =K6-'1011Monthly'!K6 -> 8 | O6: 23 | P6: 5 | Q6: 3 | R6: 31 | S6: =R6-K6 -> 0 | T6: =R6-'1011Monthly'!R6 -> 10 | V6: 23 | W6: 5 | X6: 3 | Y6: =SUM(V6:X6) -> 31 | Z6: =Y6-R6 -> 0 | AA6: =Y6-$F6 -> -2 | AB6: =Y6-'1011Monthly'!Z6 -> 11 | AD6: 22 | AE6: 5 | AF6: 3 | AG6: 30 | AH6: =AG6-Y6 -> -1 | AI6: =AG6-$F6 -> -3 | AJ6: =AG6-'1011Monthly'!AH6 -> 10 | AL6: 22 | AM6: 4 | AN6: 3 | AO6: 29 | AP6: =AO6-AG6 -> -1 | AQ6: =AO6-$F6 -> -4 | AR6: =AO6-'1011Monthly'!AP6 -> 11 | AT6: 17 | AU6: 4 | AV6: 3 | AW6: 24 | AX6: =AW6-AO6 -> -5 | AY6: =AW6-$F6 -> -9 | AZ6: =AW6-'1011Monthly'!AX6 -> 5 | BB6: 17 | BC6: 4 | BD6: 3 | BE6: 24 | BF6: =BE6-AW6 -> 0 | BG6: =BE6-$F6 -> -9 | BH6: =BE6-'1011Monthly'!BF6 -> 5 | BN6: =BM6-BE6 -> -24 | BO6: =BM6-$F6 -> -33 | BP6: =BM6-'1011Monthly'!BN6 -> -18 | BV6: =BU6-BM6 -> 0 | BW6: =BU6-$F6 -> -33 | BX6: =BU6-'1011Monthly'!BV6 -> -16 | CD6: =CC6-BU6 -> 0 | CE6: =CC6-$K6 -> -31 | CF6: =CC6-'1011Monthly'!CD6 -> -16
A7: Automotive Technologies | B7: 96 | C7: 44 | D7: 27 | E7: 15 | F7: =SUM(C7:E7) -> 86 | H7: 48 | I7: 25 | J7: 15 | K7: =SUM(H7:J7) -> 88 | L7: =K7-F7 -> 2 | M7: =K7-'1011Monthly'!K7 -> 22 | O7: 49 | P7: 25 | Q7: 15 | R7: 89 | S7: =R7-K7 -> 1 | T7: =R7-'1011Monthly'!R7 -> 25 | V7: 49 | W7: 25 | X7: 15 | Y7: =SUM(V7:X7) -> 89 | Z7: =Y7-R7 -> 0 | AA7: =Y7-$F7 -> 3 | AB7: =Y7-'1011Monthly'!Z7 -> 25 | AD7: 49 | AE7: 24 | AF7: 15 | AG7: 88 | AH7: =AG7-Y7 -> -1 | AI7: =AG7-$F7 -> 2 | AJ7: =AG7-'1011Monthly'!AH7 -> 24 | AL7: 48 | AM7: 24 | AN7: 14 | AO7: 86 | AP7: =AO7-AG7 -> -2 | AQ7: =AO7-$F7 -> 0 | AR7: =AO7-'1011Monthly'!AP7 -> 23 | AT7: 47 | AU7: 24 | AV7: 14 | AW7: 85 | AX7: =AW7-AO7 -> -1 | AY7: =AW7-$F7 -> -1 | AZ7: =AW7-'1011Monthly'!AX7 -> 21 | BB7: 47 | BC7: 24 | BD7: 14 | BE7: 85 | BF7: =BE7-AW7 -> 0 | BG7: =BE7-$F7 -> -1 | BH7: =BE7-'1011Monthly'!BF7 -> 21 | BN7: =BM7-BE7 -> -85 | BO7: =BM7-$F7 -> -86 | BP7: =BM7-'1011Monthly'!BN7 -> -64 | BV7: =BU7-BM7 -> 0 | BW7: =BU7-$F7 -> -86 | BX7: =BU7-'1011Monthly'!BV7 -> -64 | CD7: =CC7-BU7 -> 0 | CE7: =CC7-$K7 -> -88 | CF7: =CC7-'1011Monthly'!CD7 -> -64
A8: Computer Info. Systems | B8: 48 | C8: 16 | D8: 9 | E8: 9 | F8: =SUM(C8:E8) -> 34 | H8: 15 | I8: 8 | J8: 9 | K8: =SUM(H8:J8) -> 32 | L8: =K8-F8 -> -2 | M8: =K8-'1011Monthly'!K8 -> -1 | O8: 15 | P8: 8 | Q8: 9 | R8: 32 | S8: =R8-K8 -> 0 | T8: =R8-'1011Monthly'!R8 -> 2 | V8: 16 | W8: 8 | X8: 9 | Y8: =SUM(V8:X8) -> 33 | Z8: =Y8-R8 -> 1 | AA8: =Y8-$F8 -> -1 | AB8: =Y8-'1011Monthly'!Z8 -> 3 | AD8: 15 | AE8: 8 | AF8: 9 | AG8: 32 | AH8: =AG8-Y8 -> -1 | AI8: =AG8-$F8 -> -2 | AJ8: =AG8-'1011Monthly'!AH8 -> 3 | AL8: 15 | AM8: 8 | AN8: 9 | AO8: 32 | AP8: =AO8-AG8 -> 0 | AQ8: =AO8-$F8 -> -2 | AR8: =AO8-'1011Monthly'!AP8 -> 3 | AT8: 15 | AU8: 8 | AV8: 9 | AW8: 32 | AX8: =AW8-AO8 -> 0 | AY8: =AW8-$F8 -> -2 | AZ8: =AW8-'1011Monthly'!AX8 -> 5 | BB8: 15 | BC8: 8 | BD8: 9 | BE8: 32 | BF8: =BE8-AW8 -> 0 | BG8: =BE8-$F8 -> -2 | BH8: =BE8-'1011Monthly'!BF8 -> 5 | BN8: =BM8-BE8 -> -32 | BO8: =BM8-$F8 -> -34 | BP8: =BM8-'1011Monthly'!BN8 -> -26 | BV8: =BU8-BM8 -> 0 | BW8: =BU8-$F8 -> -34 | BX8: =BU8-'1011Monthly'!BV8 -> -26 | CD8: =CC8-BU8 -> 0 | CE8: =CC8-$K8 -> -32 | CF8: =CC8-'1011Monthly'!CD8 -> -26
A9: Construction Trades | B9: 96 | C9: 35 | D9: 18 | E9: 11 | F9: =SUM(C9:E9) -> 64 | H9: 30 | I9: 18 | J9: 10 | K9: =SUM(H9:J9) -> 58 | L9: =K9-F9 -> -6 | M9: =K9-'1011Monthly'!K9 -> -3 | O9: 28 | P9: 18 | Q9: 10 | R9: 56 | S9: =R9-K9 -> -2 | T9: =R9-'1011Monthly'!R9 -> -2 | V9: 27 | W9: 17 | X9: 9 | Y9: =SUM(V9:X9) -> 53 | Z9: =Y9-R9 -> -3 | AA9: =Y9-$F9 -> -11 | AB9: =Y9-'1011Monthly'!Z9 -> -6 | AD9: 27 | AE9: 17 | AF9: 9 | AG9: 53 | AH9: =AG9-Y9 -> 0 | AI9: =AG9-$F9 -> -11 | AJ9: =AG9-'1011Monthly'!AH9 -> -5 | AL9: 27 | AM9: 17 | AN9: 9 | AO9: 53 | AP9: =AO9-AG9 -> 0 | AQ9: =AO9-$F9 -> -11 | AR9: =AO9-'1011Monthly'!AP9 -> -6 | AT9: 26 | AU9: 17 | AV9: 10 | AW9: 53 | AX9: =AW9-AO9 -> 0 | AY9: =AW9-$F9 -> -11 | AZ9: =AW9-'1011Monthly'!AX9 -> 0 | BB9: 26 | BC9: 17 | BD9: 10 | BE9: 53 | BF9: =BE9-AW9 -> 0 | BG9: =BE9-$F9 -> -11 | BH9: =BE9-'1011Monthly'!BF9 -> 0 | BN9: =BM9-BE9 -> -53 | BO9: =BM9-$F9 -> -64 | BP9: =BM9-'1011Monthly'!BN9 -> -53 | BV9: =BU9-BM9 -> 0 | BW9: =BU9-$F9 -> -64 | BX9: =BU9-'1011Monthly'!BV9 -> -54 | CD9: =CC9-BU9 -> 0 | CE9: =CC9-$K9 -> -58 | CF9: =CC9-'1011Monthly'!CD9 -> -54
A10: Cosmetology | B10: 48 | C10: 16 | D10: 22 | E10: 10 | F10: =SUM(C10:E10) -> 48 | H10: 16 | I10: 21 | J10: 9 | K10: =SUM(H10:J10) -> 46 | L10: =K10-F10 -> -2 | M10: =K10-'1011Monthly'!K10 -> 0 | O10: 16 | P10: 21 | Q10: 9 | R10: 46 | S10: =R10-K10 -> 0 | T10: =R10-'1011Monthly'!R10 -> 0 | V10: 16 | W10: 21 | X10: 9 | Y10: =SUM(V10:X10) -> 46 | Z10: =Y10-R10 -> 0 | AA10: =Y10-$F10 -> -2 | AB10: =Y10-'1011Monthly'!Z10 -> 0 | AD10: 15 | AE10: 21 | AF10: 9 | AG10: 45 | AH10: =AG10-Y10 -> -1 | AI10: =AG10-$F10 -> -3 | AJ10: =AG10-'1011Monthly'!AH10 -> -1 | AL10: 15 | AM10: 21 | AN10: 9 | AO10: 45 | AP10: =AO10-AG10 -> 0 | AQ10: =AO10-$F10 -> -3 | AR10: =AO10-'1011Monthly'!AP10 -> -1 | AT10: 14 | AU10: 20 | AV10: 9 | AW10: 43 | AX10: =AW10-AO10 -> -2 | AY10: =AW10-$F10 -> -5 | AZ10: =AW10-'1011Monthly'!AX10 -> -2 | BB10: 14 | BC10: 20 | BD10: 9 | BE10: 43 | BF10: =BE10-AW10 -> 0 | BG10: =BE10-$F10 -> -5 | BH10: =BE10-'1011Monthly'!BF10 -> -2 | BN10: =BM10-BE10 -> -43 | BO10: =BM10-$F10 -> -48 | BP10: =BM10-'1011Monthly'!BN10 -> -45 | BV10: =BU10-BM10 -> 0 | BW10: =BU10-$F10 -> -48 | BX10: =BU10-'1011Monthly'!BV10 -> -44 | CD10: =CC10-BU10 -> 0 | CE10: =CC10-$K10 -> -46 | CF10: =CC10-'1011Monthly'!CD10 -> -44
A11: Culinary Arts | B11: 96 | C11: 32 | D11: 35 | E11: 19 | F11: =SUM(C11:E11) -> 86 | H11: 30 | I11: 33 | J11: 17 | K11: =SUM(H11:J11) -> 80 | L11: =K11-F11 -> -6 | M11: =K11-'1011Monthly'!K11 -> -2 | O11: 29 | P11: 32 | Q11: 17 | R11: 78 | S11: =R11-K11 -> -2 | T11: =R11-'1011Monthly'!R11 -> -2 | V11: 29 | W11: 32 | X11: 16 | Y11: =SUM(V11:X11) -> 77 | Z11: =Y11-R11 -> -1 | AA11: =Y11-$F11 -> -9 | AB11: =Y11-'1011Monthly'!Z11 -> 0 | AD11: 29 | AE11: 32 | AF11: 16 | AG11: 77 | AH11: =AG11-Y11 -> 0 | AI11: =AG11-$F11 -> -9 | AJ11: =AG11-'1011Monthly'!AH11 -> 0 | AL11: 30 | AM11: 32 | AN11: 16 | AO11: 78 | AP11: =AO11-AG11 -> 1 | AQ11: =AO11-$F11 -> -8 | AR11: =AO11-'1011Monthly'!AP11 -> 1 | AT11: 31 | AU11: 30 | AV11: 16 | AW11: 77 | AX11: =AW11-AO11 -> -1 | AY11: =AW11-$F11 -> -9 | AZ11: =AW11-'1011Monthly'!AX11 -> 1 | BB11: 31 | BC11: 30 | BD11: 16 | BE11: 77 | BF11: =BE11-AW11 -> 0 | BG11: =BE11-$F11 -> -9 | BH11: =BE11-'1011Monthly'!BF11 -> 1 | BN11: =BM11-BE11 -> -77 | BO11: =BM11-$F11 -> -86 | BP11: =BM11-'1011Monthly'!BN11 -> -76 | BV11: =BU11-BM11 -> 0 | BW11: =BU11-$F11 -> -86 | BX11: =BU11-'1011Monthly'!BV11 -> -76 | CD11: =CC11-BU11 -> 0 | CE11: =CC11-$K11 -> -80 | CF11: =CC11-'1011Monthly'!CD11 -> -76
A12: Diversified Ocupations | C12: 1 | D12: 0 | E12: 0 | F12: =SUM(C12:E12) -> 1 | H12: 0 | I12: 1 | J12: 0 | K12: =SUM(H12:J12) -> 1 | L12: =K12-F12 -> 0 | M12: =K12-'1011Monthly'!K12 -> -3 | O12: 0 | P12: 1 | Q12: 0 | R12: 1 | S12: =R12-K12 -> 0 | T12: =R12-'1011Monthly'!R12 -> -4 | V12: 0 | W12: 1 | X12: 0 | Y12: =SUM(V12:X12) -> 1 | Z12: =Y12-R12 -> 0 | AA12: =Y12-$F12 -> 0 | AB12: =Y12-'1011Monthly'!Z12 -> -4 | AD12: 0 | AE12: 1 | AF12: 0 | AG12: 1 | AH12: =AG12-Y12 -> 0 | AI12: =AG12-$F12 -> 0 | AJ12: =AG12-'1011Monthly'!AH12 -> -4 | AL12: 0 | AM12: 1 | AN12: 0 | AO12: 1 | AP12: =AO12-AG12 -> 0 | AQ12: =AO12-$F12 -> 0 | AR12: =AO12-'1011Monthly'!AP12 -> -3 | AT12: 9 | AU12: 1 | AV12: 0 | AW12: 10 | AX12: =AW12-AO12 -> 9 | AY12: =AW12-$F12 -> 9 | AZ12: =AW12-'1011Monthly'!AX12 -> 3 | BB12: 10 | BC12: 1 | BD12: 0 | BE12: 11 | BF12: =BE12-AW12 -> 1 | BG12: =BE12-$F12 -> 10 | BH12: =BE12-'1011Monthly'!BF12 -> 4 | BN12: =BM12-BE12 -> -11 | BO12: =BM12-$F12 -> -1 | BP12: =BM12-'1011Monthly'!BN12 -> -7 | BV12: =BU12-BM12 -> 0 | BW12: =BU12-$F12 -> -1 | BX12: =BU12-'1011Monthly'!BV12 -> -7 | CD12: =CC12-BU12 -> 0 | CE12: =CC12-$K12 -> -1 | CF12: =CC12-'1011Monthly'!CD12 -> -7
A13: Drafting & Design | B13: 48 | C13: 11 | D13: 10 | E13: 8 | F13: =SUM(C13:E13) -> 29 | H13: 12 | I13: 9 | J13: 8 | K13: =SUM(H13:J13) -> 29 | L13: =K13-F13 -> 0 | M13: =K13-'1011Monthly'!K13 -> 1 | O13: 13 | P13: 9 | Q13: 8 | R13: 30 | S13: =R13-K13 -> 1 | T13: =R13-'1011Monthly'!R13 -> 2 | V13: 13 | W13: 9 | X13: 8 | Y13: =SUM(V13:X13) -> 30 | Z13: =Y13-R13 -> 0 | AA13: =Y13-$F13 -> 1 | AB13: =Y13-'1011Monthly'!Z13 -> 2 | AD13: 13 | AE13: 9 | AF13: 8 | AG13: 30 | AH13: =AG13-Y13 -> 0 | AI13: =AG13-$F13 -> 1 | AJ13: =AG13-'1011Monthly'!AH13 -> 1 | AL13: 14 | AM13: 9 | AN13: 8 | AO13: 31 | AP13: =AO13-AG13 -> 1 | AQ13: =AO13-$F13 -> 2 | AR13: =AO13-'1011Monthly'!AP13 -> 2 | AT13: 13 | AU13: 10 | AV13: 8 | AW13: 31 | AX13: =AW13-AO13 -> 0 | AY13: =AW13-$F13 -> 2 | AZ13: =AW13-'1011Monthly'!AX13 -> 5 | BB13: 13 | BC13: 10 | BD13: 8 | BE13: 31 | BF13: =BE13-AW13 -> 0 | BG13: =BE13-$F13 -> 2 | BH13: =BE13-'1011Monthly'!BF13 -> 5 | BN13: =BM13-BE13 -> -31 | BO13: =BM13-$F13 -> -29 | BP13: =BM13-'1011Monthly'!BN13 -> -25 | BV13: =BU13-BM13 -> 0 | BW13: =BU13-$F13 -> -29 | BX13: =BU13-'1011Monthly'!BV13 -> -25 | CD13: =CC13-BU13 -> 0 | CE13: =CC13-$K13 -> -29 | CF13: =CC13-'1011Monthly'!CD13 -> -25
A14: Early Childhood Education | B14: 48 | C14: 18 | D14: 17 | E14: 12 | F14: =SUM(C14:E14) -> 47 | H14: 15 | I14: 15 | J14: 11 | K14: =SUM(H14:J14) -> 41 | L14: =K14-F14 -> -6 | M14: =K14-'1011Monthly'!K14 -> -4 | O14: 15 | P14: 13 | Q14: 11 | R14: 39 | S14: =R14-K14 -> -2 | T14: =R14-'1011Monthly'!R14 -> -7 | V14: 14 | W14: 13 | X14: 11 | Y14: =SUM(V14:X14) -> 38 | Z14: =Y14-R14 -> -1 | AA14: =Y14-$F14 -> -9 | AB14: =Y14-'1011Monthly'!Z14 -> -8 | AD14: 16 | AE14: 13 | AF14: 11 | AG14: 40 | AH14: =AG14-Y14 -> 2 | AI14: =AG14-$F14 -> -7 | AJ14: =AG14-'1011Monthly'!AH14 -> -6 | AL14: 16 | AM14: 13 | AN14: 11 | AO14: 40 | AP14: =AO14-AG14 -> 0 | AQ14: =AO14-$F14 -> -7 | AR14: =AO14-'1011Monthly'!AP14 -> -4 | AT14: 15 | AU14: 13 | AV14: 11 | AW14: 39 | AX14: =AW14-AO14 -> -1 | AY14: =AW14-$F14 -> -8 | AZ14: =AW14-'1011Monthly'!AX14 -> -4 | BB14: 15 | BC14: 13 | BD14: 11 | BE14: 39 | BF14: =BE14-AW14 -> 0 | BG14: =BE14-$F14 -> -8 | BH14: =BE14-'1011Monthly'!BF14 -> -4 | BN14: =BM14-BE14 -> -39 | BO14: =BM14-$F14 -> -47 | BP14: =BM14-'1011Monthly'!BN14 -> -43 | BV14: =BU14-BM14 -> 0 | BW14: =BU14-$F14 -> -47 | BX14: =BU14-'1011Monthly'!BV14 -> -43 | CD14: =CC14-BU14 -> 0 | CE14: =CC14-$K14 -> -41 | CF14: =CC14-'1011Monthly'!CD14 -> -43
A15: Electrical Engineering | B15: 48 | C15: 12 | D15: 13 | E15: 9 | F15: =SUM(C15:E15) -> 34 | H15: 12 | I15: 13 | J15: 8 | K15: =SUM(H15:J15) -> 33 | L15: =K15-F15 -> -1 | M15: =K15-'1011Monthly'!K15 -> -6 | O15: 12 | P15: 13 | Q15: 8 | R15: 33 | S15: =R15-K15 -> 0 | T15: =R15-'1011Monthly'!R15 -> -6 | V15: 12 | W15: 13 | X15: 8 | Y15: =SUM(V15:X15) -> 33 | Z15: =Y15-R15 -> 0 | AA15: =Y15-$F15 -> -1 | AB15: =Y15-'1011Monthly'!Z15 -> -6 | AD15: 12 | AE15: 13 | AF15: 8 | AG15: 33 | AH15: =AG15-Y15 -> 0 | AI15: =AG15-$F15 -> -1 | AJ15: =AG15-'1011Monthly'!AH15 -> -6 | AL15: 15 | AM15: 13 | AN15: 8 | AO15: 36 | AP15: =AO15-AG15 -> 3 | AQ15: =AO15-$F15 -> 2 | AR15: =AO15-'1011Monthly'!AP15 -> -5 | AT15: 15 | AU15: 13 | AV15: 8 | AW15: 36 | AX15: =AW15-AO15 -> 0 | AY15: =AW15-$F15 -> 2 | AZ15: =AW15-'1011Monthly'!AX15 -> -3 | BB15: 15 | BC15: 13 | BD15: 8 | BE15: 36 | BF15: =BE15-AW15 -> 0 | BG15: =BE15-$F15 -> 2 | BH15: =BE15-'1011Monthly'!BF15 -> -3 | BN15: =BM15-BE15 -> -36 | BO15: =BM15-$F15 -> -34 | BP15: =BM15-'1011Monthly'!BN15 -> -39 | BV15: =BU15-BM15 -> 0 | BW15: =BU15-$F15 -> -34 | BX15: =BU15-'1011Monthly'!BV15 -> -39 | CD15: =CC15-BU15 -> 0 | CE15: =CC15-$K15 -> -33 | CF15: =CC15-'1011Monthly'!CD15 -> -39
A16: Electronics | B16: 48 | C16: 16 | D16: 6 | E16: 7 | F16: =SUM(C16:E16) -> 29 | H16: 16 | I16: 6 | J16: 7 | K16: =SUM(H16:J16) -> 29 | L16: =K16-F16 -> 0 | M16: =K16-'1011Monthly'!K16 -> 7 | O16: 16 | P16: 6 | Q16: 7 | R16: 29 | S16: =R16-K16 -> 0 | T16: =R16-'1011Monthly'!R16 -> 7 | V16: 14 | W16: 6 | X16: 7 | Y16: =SUM(V16:X16) -> 27 | Z16: =Y16-R16 -> -2 | AA16: =Y16-$F16 -> -2 | AB16: =Y16-'1011Monthly'!Z16 -> 5 | AD16: 14 | AE16: 6 | AF16: 7 | AG16: 27 | AH16: =AG16-Y16 -> 0 | AI16: =AG16-$F16 -> -2 | AJ16: =AG16-'1011Monthly'!AH16 -> 5 | AL16: 14 | AM16: 6 | AN16: 7 | AO16: 27 | AP16: =AO16-AG16 -> 0 | AQ16: =AO16-$F16 -> -2 | AR16: =AO16-'1011Monthly'!AP16 -> 4 | AT16: 14 | AU16: 6 | AV16: 7 | AW16: 27 | AX16: =AW16-AO16 -> 0 | AY16: =AW16-$F16 -> -2 | AZ16: =AW16-'1011Monthly'!AX16 -> 4 | BB16: 15 | BC16: 6 | BD16: 7 | BE16: 28 | BF16: =BE16-AW16 -> 1 | BG16: =BE16-$F16 -> -1 | BH16: =BE16-'1011Monthly'!BF16 -> 5 | BN16: =BM16-BE16 -> -28 | BO16: =BM16-$F16 -> -29 | BP16: =BM16-'1011Monthly'!BN16 -> -23 | BV16: =BU16-BM16 -> 0 | BW16: =BU16-$F16 -> -29 | BX16: =BU16-'1011Monthly'!BV16 -> -23 | CD16: =CC16-BU16 -> 0 | CE16: =CC16-$K16 -> -29 | CF16: =CC16-'1011Monthly'!CD16 -> -23
A17: Facilities Maintenance Tech | B17: 48 | C17: 7 | D17: 14 | E17: 18 | F17: =SUM(C17:E17) -> 39 | H17: 9 | I17: 13 | J17: 17 | K17: =SUM(H17:J17) -> 39 | L17: =K17-F17 -> 0 | M17: =K17-'1011Monthly'!K17 -> -2 | O17: 9 | P17: 13 | Q17: 17 | R17: 39 | S17: =R17-K17 -> 0 | T17: =R17-'1011Monthly'!R17 -> -1 | V17: 9 | W17: 13 | X17: 17 | Y17: =SUM(V17:X17) -> 39 | Z17: =Y17-R17 -> 0 | AA17: =Y17-$F17 -> 0 | AB17: =Y17-'1011Monthly'!Z17 -> 0 | AD17: 8 | AE17: 13 | AF17: 17 | AG17: 38 | AH17: =AG17-Y17 -> -1 | AI17: =AG17-$F17 -> -1 | AJ17: =AG17-'1011Monthly'!AH17 -> -2 | AL17: 8 | AM17: 12 | AN17: 17 | AO17: 37 | AP17: =AO17-AG17 -> -1 | AQ17: =AO17-$F17 -> -2 | AR17: =AO17-'1011Monthly'!AP17 -> -3 | AT17: 10 | AU17: 11 | AV17: 17 | AW17: 38 | AX17: =AW17-AO17 -> 1 | AY17: =AW17-$F17 -> -1 | AZ17: =AW17-'1011Monthly'!AX17 -> -2 | BB17: 10 | BC17: 11 | BD17: 17 | BE17: 38 | BF17: =BE17-AW17 -> 0 | BG17: =BE17-$F17 -> -1 | BH17: =BE17-'1011Monthly'!BF17 -> -2 | BN17: =BM17-BE17 -> -38 | BO17: =BM17-$F17 -> -39 | BP17: =BM17-'1011Monthly'!BN17 -> -40 | BV17: =BU17-BM17 -> 0 | BW17: =BU17-$F17 -> -39 | BX17: =BU17-'1011Monthly'!BV17 -> -40 | CD17: =CC17-BU17 -> 0 | CE17: =CC17-$K17 -> -39 | CF17: =CC17-'1011Monthly'!CD17 -> -40
A18: Graphic Communications | B18: 48 | C18: 19 | D18: 17 | E18: 4 | F18: =SUM(C18:E18) -> 40 | H18: 20 | I18: 15 | J18: 3 | K18: =SUM(H18:J18) -> 38 | L18: =K18-F18 -> -2 | M18: =K18-'1011Monthly'!K18 -> 3 | O18: 18 | P18: 15 | Q18: 3 | R18: 36 | S18: =R18-K18 -> -2 | T18: =R18-'1011Monthly'!R18 -> 0 | V18: 18 | W18: 15 | X18: 4 | Y18: =SUM(V18:X18) -> 37 | Z18: =Y18-R18 -> 1 | AA18: =Y18-$F18 -> -3 | AB18: =Y18-'1011Monthly'!Z18 -> 1 | AD18: 18 | AE18: 15 | AF18: 4 | AG18: 37 | AH18: =AG18-Y18 -> 0 | AI18: =AG18-$F18 -> -3 | AJ18: =AG18-'1011Monthly'!AH18 -> 1 | AL18: 18 | AM18: 14 | AN18: 4 | AO18: 36 | AP18: =AO18-AG18 -> -1 | AQ18: =AO18-$F18 -> -4 | AR18: =AO18-'1011Monthly'!AP18 -> 0 | AT18: 19 | AU18: 14 | AV18: 4 | AW18: 37 | AX18: =AW18-AO18 -> 1 | AY18: =AW18-$F18 -> -3 | AZ18: =AW18-'1011Monthly'!AX18 -> 3 | BB18: 19 | BC18: 14 | BD18: 4 | BE18: 37 | BF18: =BE18-AW18 -> 0 | BG18: =BE18-$F18 -> -3 | BH18: =BE18-'1011Monthly'!BF18 -> 3 | BN18: =BM18-BE18 -> -37 | BO18: =BM18-$F18 -> -40 | BP18: =BM18-'1011Monthly'!BN18 -> -34 | BV18: =BU18-BM18 -> 0 | BW18: =BU18-$F18 -> -40 | BX18: =BU18-'1011Monthly'!BV18 -> -34 | CD18: =CC18-BU18 -> 0 | CE18: =CC18-$K18 -> -38 | CF18: =CC18-'1011Monthly'!CD18 -> -34
A19: Health Assistant | B19: 48 | C19: 15 | D19: 17 | E19: 14 | F19: =SUM(C19:E19) -> 46 | H19: 16 | I19: 16 | J19: 14 | K19: =SUM(H19:J19) -> 46 | L19: =K19-F19 -> 0 | M19: =K19-'1011Monthly'!K19 -> 4 | O19: 16 | P19: 15 | Q19: 14 | R19: 45 | S19: =R19-K19 -> -1 | T19: =R19-'1011Monthly'!R19 -> 3 | V19: 16 | W19: 15 | X19: 14 | Y19: =SUM(V19:X19) -> 45 | Z19: =Y19-R19 -> 0 | AA19: =Y19-$F19 -> -1 | AB19: =Y19-'1011Monthly'!Z19 -> 3 | AD19: 15 | AE19: 15 | AF19: 14 | AG19: 44 | AH19: =AG19-Y19 -> -1 | AI19: =AG19-$F19 -> -2 | AJ19: =AG19-'1011Monthly'!AH19 -> 2 | AL19: 15 | AM19: 15 | AN19: 14 | AO19: 44 | AP19: =AO19-AG19 -> 0 | AQ19: =AO19-$F19 -> -2 | AR19: =AO19-'1011Monthly'!AP19 -> 2 | AT19: 13 | AU19: 13 | AV19: 14 | AW19: 40 | AX19: =AW19-AO19 -> -4 | AY19: =AW19-$F19 -> -6 | AZ19: =AW19-'1011Monthly'!AX19 -> -2 | BB19: 13 | BC19: 12 | BD19: 14 | BE19: 39 | BF19: =BE19-AW19 -> -1 | BG19: =BE19-$F19 -> -7 | BH19: =BE19-'1011Monthly'!BF19 -> -3 | BN19: =BM19-BE19 -> -39 | BO19: =BM19-$F19 -> -46 | BP19: =BM19-'1011Monthly'!BN19 -> -41 | BV19: =BU19-BM19 -> 0 | BW19: =BU19-$F19 -> -46 | BX19: =BU19-'1011Monthly'!BV19 -> -41 | CD19: =CC19-BU19 -> 0 | CE19: =CC19-$K19 -> -46 | CF19: =CC19-'1011Monthly'!CD19 -> -41
