Workbook
Name QUOAVE: Combo!$AZ$15

Sheet Enrollment Changes Aug-Sept
C1: 2011-2012 | G1: 2010-2011 | K1: 2009-2010 | O1: 2008-2009 | S1: 2007-2008 | W1: 2006-2007 | AA1: 2005-2006 | AE1: 2004-2005
A2: Program | C2: Program/Year Level | F2: Total | G2: Program/Year Level | J2: Total | K2: Program/Year Level | N2: Total | O2: Program/Year Level | R2: Total | S2: Program/Year Level | V2: Total | W2: Program/Year Level | Z2: Total | AA2: Program/Year Level | AD2: Total | AE2: Program/Year Level | AH2: Total
B3: Capacity | C3: 1st | D3: 2nd | E3: 3rd | F3: Total | G3: 1st | H3: 2nd | I3: 3rd | J3: Total | K3: 1st | L3: 2nd | M3: 3rd | N3: Total | O3: 1st | P3: 2nd | Q3: 3rd | R3: Total | S3: 1st | T3: 2nd | U3: 3rd | V3: Total | W3: 1st | X3: 2nd | Y3: 3rd | Z3: Total | AA3: 1st | AB3: 2nd | AC3: 3rd | AD3: Total | AE3: 1st | AF3: 2nd | AG3: 3rd | AH3: Total
A4: Art & Design | B4: 48 | C4: ='1112Monthly '!H5-'1112Monthly '!C5 -> 0 | D4: ='1112Monthly '!I5-'1112Monthly '!D5 -> -2 | E4: ='1112Monthly '!J5-'1112Monthly '!E5 -> 0 | F4: =SUM(C4:E4) -> -2 | G4: ='1011Monthly'!AE5-'1011Monthly'!C5 -> 4 | H4: ='1011Monthly'!AF5-'1011Monthly'!D5 -> -2 | I4: ='1011Monthly'!AG5-'1011Monthly'!E5 -> -1 | J4: =SUM(G4:I4) -> 1 | K4: ='0910 Monthly '!W5-'0910 Monthly '!C5 -> 2 | L4: ='0910 Monthly '!X5-'0910 Monthly '!D5 -> 0 | M4: ='0910 Monthly '!Y5-'0910 Monthly '!E5 -> 0 | N4: =SUM(K4:M4) -> 2 | O4: ='0809 Monthly'!Q5-'0809 Monthly'!B5 -> -3 | P4: ='0809 Monthly'!R5-'0809 Monthly'!C5 -> -2 | Q4: ='0809 Monthly'!S5-'0809 Monthly'!D5 -> 0 | R4: =SUM(O4:Q4) -> -5 | S4: ='0708 Monthly'!Q5-'0708 Monthly'!B5 -> -3 | T4: ='0708 Monthly'!R5-'0708 Monthly'!C5 -> 0 | U4: ='0708 Monthly'!S5-'0708 Monthly'!D5 -> -1 | V4: =SUM(S4:U4) -> -4 | W4: ='0607 Monthly'!P5-'0607 Monthly'!B5 -> 1 | X4: ='0607 Monthly'!Q5-'0607 Monthly'!C5 -> 0 | Y4: ='0607 Monthly'!R5-'0607 Monthly'!D5 -> 0 | Z4: =SUM(W4:Y4) -> 1 | AE4: ='0405 Monthly'!P9-'0405 Monthly'!F9 -> 0 | AF4: ='0405 Monthly'!Q9-'0405 Monthly'!C9 -> -5 | AG4: ='0405 Monthly'!R9-'0405 Monthly'!D9 -> 0 | AH4: =SUM(AE4:AG4) -> -5
A5: Auto Body | B5: 48 | C5: ='1112Monthly '!H6-'1112Monthly '!C6 -> 0 | D5: ='1112Monthly '!I6-'1112Monthly '!D6 -> -2 | E5: ='1112Monthly '!J6-'1112Monthly '!E6 -> 0 | F5: =SUM(C5:E5) -> -2 | G5: ='1011Monthly'!AE6-'1011Monthly'!C6 -> -1 | H5: ='1011Monthly'!AF6-'1011Monthly'!D6 -> 0 | I5: ='1011Monthly'!AG6-'1011Monthly'!E6 -> 0 | J5: =SUM(G5:I5) -> -1 | K5: ='0910 Monthly '!W6-'0910 Monthly '!C6 -> -3 | L5: ='0910 Monthly '!X6-'0910 Monthly '!D6 -> -3 | M5: ='0910 Monthly '!Y6-'0910 Monthly '!E6 -> -1 | N5: =SUM(K5:M5) -> -7 | O5: ='0809 Monthly'!Q6-'0809 Monthly'!B6 -> -6 | P5: ='0809 Monthly'!R6-'0809 Monthly'!C6 -> 0 | Q5: ='0809 Monthly'!S6-'0809 Monthly'!D6 -> 0 | R5: =SUM(O5:Q5) -> -6 | S5: ='0708 Monthly'!Q6-'0708 Monthly'!B6 -> 0 | T5: ='0708 Monthly'!R6-'0708 Monthly'!C6 -> -1 | U5: ='0708 Monthly'!S6-'0708 Monthly'!D6 -> -1 | V5: =SUM(S5:U5) -> -2 | W5: ='0607 Monthly'!P6-'0607 Monthly'!B6 -> -1 | X5: ='0607 Monthly'!Q6-'0607 Monthly'!C6 -> -1 | Y5: ='0607 Monthly'!R6-'0607 Monthly'!D6 -> -2 | Z5: =SUM(W5:Y5) -> -4 | AE5: ='0405 Monthly'!P6-'0405 Monthly'!F6 -> 0 | AF5: ='0405 Monthly'!Q6-'0405 Monthly'!C6 -> -3 | AG5: ='0405 Monthly'!R6-'0405 Monthly'!D6 -> -1 | AH5: =SUM(AE5:AG5) -> -4
A6: Automotive Technologies | B6: 96 | C6: ='1112Monthly '!H7-'1112Monthly '!C7 -> 4 | D6: ='1112Monthly '!I7-'1112Monthly '!D7 -> -2 | E6: ='1112Monthly '!J7-'1112Monthly '!E7 -> 0 | F6: =SUM(C6:E6) -> 2 | G6: ='1011Monthly'!AE7-'1011Monthly'!C7 -> 2 | H6: ='1011Monthly'!AF7-'1011Monthly'!D7 -> -4 | I6: ='1011Monthly'!AG7-'1011Monthly'!E7 -> -1 | J6: =SUM(G6:I6) -> -3 | K6: ='0910 Monthly '!W7-'0910 Monthly '!C7 -> 8 | L6: ='0910 Monthly '!X7-'0910 Monthly '!D7 -> -2 | M6: ='0910 Monthly '!Y7-'0910 Monthly '!E7 -> -1 | N6: =SUM(K6:M6) -> 5 | O6: ='0809 Monthly'!Q7-'0809 Monthly'!B7 -> 5 | P6: ='0809 Monthly'!R7-'0809 Monthly'!C7 -> -1 | Q6: ='0809 Monthly'!S7-'0809 Monthly'!D7 -> -1 | R6: =SUM(O6:Q6) -> 3 | S6: ='0708 Monthly'!Q7-'0708 Monthly'!B7 -> -3 | T6: ='0708 Monthly'!R7-'0708 Monthly'!C7 -> 0 | U6: ='0708 Monthly'!S7-'0708 Monthly'!D7 -> -1 | V6: =SUM(S6:U6) -> -4 | W6: ='0607 Monthly'!P7-'0607 Monthly'!B7 -> -3 | X6: ='0607 Monthly'!Q7-'0607 Monthly'!C7 -> 0 | Y6: ='0607 Monthly'!R7-'0607 Monthly'!D7 -> 0 | Z6: =SUM(W6:Y6) -> -3 | AE6: ='0405 Monthly'!P7-'0405 Monthly'!F7 -> -1 | AF6: ='0405 Monthly'!Q7-'0405 Monthly'!C7 -> -6 | AG6: ='0405 Monthly'!R7-'0405 Monthly'!D7 -> -1 | AH6: =SUM(AE6:AG6) -> -8
A7: Computer Info. Systems | B7: 48 | C7: ='1112Monthly '!H8-'1112Monthly '!C8 -> -1 | D7: ='1112Monthly '!I8-'1112Monthly '!D8 -> -1 | E7: ='1112Monthly '!J8-'1112Monthly '!E8 -> 0 | F7: =SUM(C7:E7) -> -2 | G7: ='1011Monthly'!AE8-'1011Monthly'!C8 -> -2 | H7: ='1011Monthly'!AF8-'1011Monthly'!D8 -> -3 | I7: ='1011Monthly'!AG8-'1011Monthly'!E8 -> 0 | J7: =SUM(G7:I7) -> -5 | K7: ='0910 Monthly '!W8-'0910 Monthly '!C8 -> -3 | L7: ='0910 Monthly '!X8-'0910 Monthly '!D8 -> 0 | M7: ='0910 Monthly '!Y8-'0910 Monthly '!E8 -> 0 | N7: =SUM(K7:M7) -> -3 | O7: ='0809 Monthly'!Q8-'0809 Monthly'!B8 -> -4 | P7: ='0809 Monthly'!R8-'0809 Monthly'!C8 -> -2 | Q7: ='0809 Monthly'!S8-'0809 Monthly'!D8 -> -1 | R7: =SUM(O7:Q7) -> -7 | S7: ='0708 Monthly'!Q8-'0708 Monthly'!B8 -> 1 | T7: ='0708 Monthly'!R8-'0708 Monthly'!C8 -> 0 | U7: ='0708 Monthly'!S8-'0708 Monthly'!D8 -> 0 | V7: =SUM(S7:U7) -> 1 | W7: ='0607 Monthly'!P8-'0607 Monthly'!B8 -> -3 | X7: ='0607 Monthly'!Q8-'0607 Monthly'!C8 -> -1 | Y7: ='0607 Monthly'!R8-'0607 Monthly'!D8 -> 0 | Z7: =SUM(W7:Y7) -> -4 | AE7: ='0405 Monthly'!P10-'0405 Monthly'!F10 -> 1 | AF7: ='0405 Monthly'!Q10-'0405 Monthly'!C10 -> -4 | AG7: ='0405 Monthly'!R10-'0405 Monthly'!D10 -> -2 | AH7: =SUM(AE7:AG7) -> -5
A8: Construction Trades | B8: 96 | C8: ='1112Monthly '!H9-'1112Monthly '!C9 -> -5 | D8: ='1112Monthly '!I9-'1112Monthly '!D9 -> 0 | E8: ='1112Monthly '!J9-'1112Monthly '!E9 -> -1 | F8: =SUM(C8:E8) -> -6 | G8: ='1011Monthly'!AE9-'1011Monthly'!C9 -> -12 | H8: ='1011Monthly'!AF9-'1011Monthly'!D9 -> -1 | I8: ='1011Monthly'!AG9-'1011Monthly'!E9 -> -3 | J8: =SUM(G8:I8) -> -16 | K8: ='0910 Monthly '!W9-'0910 Monthly '!C9 -> -8 | L8: ='0910 Monthly '!X9-'0910 Monthly '!D9 -> -2 | M8: ='0910 Monthly '!Y9-'0910 Monthly '!E9 -> -2 | N8: =SUM(K8:M8) -> -12 | O8: ='0809 Monthly'!Q9-'0809 Monthly'!B9 -> -9 | P8: ='0809 Monthly'!R9-'0809 Monthly'!C9 -> -2 | Q8: ='0809 Monthly'!S9-'0809 Monthly'!D9 -> 0 | R8: =SUM(O8:Q8) -> -11 | S8: ='0708 Monthly'!Q9-'0708 Monthly'!B9 -> -6 | T8: ='0708 Monthly'!R9-'0708 Monthly'!C9 -> -1 | U8: ='0708 Monthly'!S9-'0708 Monthly'!D9 -> -1 | V8: =SUM(S8:U8) -> -8 | W8: ='0607 Monthly'!P9-'0607 Monthly'!B9 -> -7 | X8: ='0607 Monthly'!Q9-'0607 Monthly'!C9 -> 0 | Y8: ='0607 Monthly'!R9-'0607 Monthly'!D9 -> 0 | Z8: =SUM(W8:Y8) -> -7 | AE8: ='0405 Monthly'!P11-'0405 Monthly'!F11 -> -2 | AF8: ='0405 Monthly'!Q11-'0405 Monthly'!C11 -> -1 | AG8: ='0405 Monthly'!R11-'0405 Monthly'!D11 -> -2 | AH8: =SUM(AE8:AG8) -> -5
A9: Cosmetology | B9: 48 | C9: ='1112Monthly '!H10-'1112Monthly '!C10 -> 0 | D9: ='1112Monthly '!I10-'1112Monthly '!D10 -> -1 | E9: ='1112Monthly '!J10-'1112Monthly '!E10 -> -1 | F9: =SUM(C9:E9) -> -2 | G9: ='1011Monthly'!AE10-'1011Monthly'!C10 -> 2 | H9: ='1011Monthly'!AF10-'1011Monthly'!D10 -> -2 | I9: ='1011Monthly'!AG10-'1011Monthly'!E10 -> -2 | J9: =SUM(G9:I9) -> -2 | K9: ='0910 Monthly '!W10-'0910 Monthly '!C10 -> 1 | L9: ='0910 Monthly '!X10-'0910 Monthly '!D10 -> 1 | M9: ='0910 Monthly '!Y10-'0910 Monthly '!E10 -> 0 | N9: =SUM(K9:M9) -> 2 | O9: ='0809 Monthly'!Q10-'0809 Monthly'!B10 -> 0 | P9: ='0809 Monthly'!R10-'0809 Monthly'!C10 -> -2 | Q9: ='0809 Monthly'!S10-'0809 Monthly'!D10 -> -1 | R9: =SUM(O9:Q9) -> -3 | S9: ='0708 Monthly'!Q10-'0708 Monthly'!B10 -> 0 | T9: ='0708 Monthly'!R10-'0708 Monthly'!C10 -> -1 | U9: ='0708 Monthly'!S10-'0708 Monthly'!D10 -> 1 | V9: =SUM(S9:U9) -> 0 | W9: ='0607 Monthly'!P10-'0607 Monthly'!B10 -> 0 | X9: ='0607 Monthly'!Q10-'0607 Monthly'!C10 -> 0 | Y9: ='0607 Monthly'!R10-'0607 Monthly'!D10 -> 0 | Z9: =SUM(W9:Y9) -> 0 | AE9: ='0405 Monthly'!P12-'0405 Monthly'!F12 -> 0 | AF9: ='0405 Monthly'!Q12-'0405 Monthly'!C12 -> -1 | AG9: ='0405 Monthly'!R12-'0405 Monthly'!D12 -> -2 | AH9: =SUM(AE9:AG9) -> -3
A10: Culinary Arts | B10: 96 | C10: ='1112Monthly '!H11-'1112Monthly '!C11 -> -2 | D10: ='1112Monthly '!I11-'1112Monthly '!D11 -> -2 | E10: ='1112Monthly '!J11-'1112Monthly '!E11 -> -2 | F10: =SUM(C10:E10) -> -6 | G10: ='1011Monthly'!AE11-'1011Monthly'!C11 -> -3 | H10: ='1011Monthly'!AF11-'1011Monthly'!D11 -> -5 | I10: ='1011Monthly'!AG11-'1011Monthly'!E11 -> 0 | J10: =SUM(G10:I10) -> -8 | K10: ='0910 Monthly '!W11-'0910 Monthly '!C11 -> -7 | L10: ='0910 Monthly '!X11-'0910 Monthly '!D11 -> -4 | M10: ='0910 Monthly '!Y11-'0910 Monthly '!E11 -> -1 | N10: =SUM(K10:M10) -> -12 | O10: ='0809 Monthly'!Q11-'0809 Monthly'!B11 -> -1 | P10: ='0809 Monthly'!R11-'0809 Monthly'!C11 -> -2 | Q10: ='0809 Monthly'!S11-'0809 Monthly'!D11 -> -2 | R10: =SUM(O10:Q10) -> -5 | S10: ='0708 Monthly'!Q11-'0708 Monthly'!B11 -> -4 | T10: ='0708 Monthly'!R11-'0708 Monthly'!C11 -> -2 | U10: ='0708 Monthly'!S11-'0708 Monthly'!D11 -> 0 | V10: =SUM(S10:U10) -> -6 | W10: ='0607 Monthly'!P11-'0607 Monthly'!B11 -> -1 | X10: ='0607 Monthly'!Q11-'0607 Monthly'!C11 -> 1 | Y10: ='0607 Monthly'!R11-'0607 Monthly'!D11 -> 0 | Z10: =SUM(W10:Y10) -> 0 | AE10: ='0405 Monthly'!P13-'0405 Monthly'!F13 -> -2 | AF10: ='0405 Monthly'!Q13-'0405 Monthly'!C13 -> -7 | AG10: ='0405 Monthly'!R13-'0405 Monthly'!D13 -> -2 | AH10: =SUM(AE10:AG10) -> -11
A11: Diversified Ocupations | C11: ='1112Monthly '!H12-'1112Monthly '!C12 -> -1 | D11: ='1112Monthly '!I12-'1112Monthly '!D12 -> 1 | E11: ='1112Monthly '!J12-'1112Monthly '!E12 -> 0 | F11: =SUM(C11:E11) -> 0 | G11: ='1011Monthly'!AE12-'1011Monthly'!C12 -> -1 | H11: ='1011Monthly'!AF12-'1011Monthly'!D12 -> -2 | I11: ='1011Monthly'!AG12-'1011Monthly'!E12 -> 0 | J11: =SUM(G11:I11) -> -3 | K11: ='0910 Monthly '!W12-'0910 Monthly '!C12 -> 4 | L11: ='0910 Monthly '!X12-'0910 Monthly '!D12 -> 0 | M11: ='0910 Monthly '!Y12-'0910 Monthly '!E12 -> 0 | N11: =SUM(K11:M11) -> 4 | O11: ='0809 Monthly'!Q12-'0809 Monthly'!B12 -> 7 | P11: ='0809 Monthly'!R12-'0809 Monthly'!C12 -> 0 | Q11: ='0809 Monthly'!S12-'0809 Monthly'!D12 -> 0 | R11: =SUM(O11:Q11) -> 7 | S11: ='0708 Monthly'!Q12-'0708 Monthly'!B12 -> 10 | T11: ='0708 Monthly'!R12-'0708 Monthly'!C12 -> 0 | U11: ='0708 Monthly'!S12-'0708 Monthly'!D12 -> 0 | V11: =SUM(S11:U11) -> 10 | W11: ='0607 Monthly'!P12-'0607 Monthly'!B12 -> -4 | X11: ='0607 Monthly'!Q12-'0607 Monthly'!C12 -> 0 | Y11: ='0607 Monthly'!R12-'0607 Monthly'!D12 -> 0 | Z11: =SUM(W11:Y11) -> -4
A12: Drafting & Design | B12: 48 | C12: ='1112Monthly '!H13-'1112Monthly '!C13 -> 1 | D12: ='1112Monthly '!I13-'1112Monthly '!D13 -> -1 | E12: ='1112Monthly '!J13-'1112Monthly '!E13 -> 0 | F12: =SUM(C12:E12) -> 0 | G12: ='1011Monthly'!AE13-'1011Monthly'!C13 -> 4 | H12: ='1011Monthly'!AF13-'1011Monthly'!D13 -> -2 | I12: ='1011Monthly'!AG13-'1011Monthly'!E13 -> 0 | J12: =SUM(G12:I12) -> 2 | K12: ='0910 Monthly '!W13-'0910 Monthly '!C13 -> 4 | L12: ='0910 Monthly '!X13-'0910 Monthly '!D13 -> -1 | M12: ='0910 Monthly '!Y13-'0910 Monthly '!E13 -> 0 | N12: =SUM(K12:M12) -> 3 | O12: ='0809 Monthly'!Q13-'0809 Monthly'!B13 -> 0 | P12: ='0809 Monthly'!R13-'0809 Monthly'!C13 -> -1 | Q12: ='0809 Monthly'!S13-'0809 Monthly'!D13 -> 0 | R12: =SUM(O12:Q12) -> -1 | S12: ='0708 Monthly'!Q13-'0708 Monthly'!B13 -> 0 | T12: ='0708 Monthly'!R13-'0708 Monthly'!C13 -> 0 | U12: ='0708 Monthly'!S13-'0708 Monthly'!D13 -> 0 | V12: =SUM(S12:U12) -> 0 | W12: ='0607 Monthly'!P13-'0607 Monthly'!B13 -> 0 | X12: ='0607 Monthly'!Q13-'0607 Monthly'!C13 -> 0 | Y12: ='0607 Monthly'!R13-'0607 Monthly'!D13 -> 0 | Z12: =SUM(W12:Y12) -> 0 | AE12: ='0405 Monthly'!P14-'0405 Monthly'!F14 -> 0 | AF12: ='0405 Monthly'!Q14-'0405 Monthly'!C14 -> 0 | AG12: ='0405 Monthly'!R14-'0405 Monthly'!D14 -> -1 | AH12: =SUM(AE12:AG12) -> -1
A13: Early Childhood Education | B13: 48 | C13: ='1112Monthly '!H14-'1112Monthly '!C14 -> -3 | D13: ='1112Monthly '!I14-'1112Monthly '!D14 -> -2 | E13: ='1112Monthly '!J14-'1112Monthly '!E14 -> -1 | F13: =SUM(C13:E13) -> -6 | G13: ='1011Monthly'!AE14-'1011Monthly'!C14 -> 4 | H13: ='1011Monthly'!AF14-'1011Monthly'!D14 -> 0 | I13: ='1011Monthly'!AG14-'1011Monthly'!E14 -> 0 | J13: =SUM(G13:I13) -> 4 | K13: ='0910 Monthly '!W14-'0910 Monthly '!C14 -> -2 | L13: ='0910 Monthly '!X14-'0910 Monthly '!D14 -> -1 | M13: ='0910 Monthly '!Y14-'0910 Monthly '!E14 -> -1 | N13: =SUM(K13:M13) -> -4 | O13: ='0809 Monthly'!Q14-'0809 Monthly'!B14 -> -3 | P13: ='0809 Monthly'!R14-'0809 Monthly'!C14 -> -4 | Q13: ='0809 Monthly'!S14-'0809 Monthly'!D14 -> -1 | R13: =SUM(O13:Q13) -> -8 | S13: ='0708 Monthly'!Q14-'0708 Monthly'!B14 -> 1 | T13: ='0708 Monthly'!R14-'0708 Monthly'!C14 -> 0 | U13: ='0708 Monthly'!S14-'0708 Monthly'!D14 -> 0 | V13: =SUM(S13:U13) -> 1 | W13: ='0607 Monthly'!P14-'0607 Monthly'!B14 -> 0 | X13: ='0607 Monthly'!Q14-'0607 Monthly'!C14 -> -1 | Y13: ='0607 Monthly'!R14-'0607 Monthly'!D14 -> 0 | Z13: =SUM(W13:Y13) -> -1 | AE13: ='0405 Monthly'!P8-'0405 Monthly'!F8 -> -2 | AF13: ='0405 Monthly'!Q8-'0405 Monthly'!C8 -> -3 | AG13: ='0405 Monthly'!R8-'0405 Monthly'!D8 -> -1 | AH13: =SUM(AE13:AG13) -> -6
A14: Electrical Engineering | B14: 48 | C14: ='1112Monthly '!H15-'1112Monthly '!C15 -> 0 | D14: ='1112Monthly '!I15-'1112Monthly '!D15 -> 0 | E14: ='1112Monthly '!J15-'1112Monthly '!E15 -> -1 | F14: =SUM(C14:E14) -> -1 | G14: ='1011Monthly'!AE15-'1011Monthly'!C15 -> 1 | H14: ='1011Monthly'!AF15-'1011Monthly'!D15 -> -2 | I14: ='1011Monthly'!AG15-'1011Monthly'!E15 -> 0 | J14: =SUM(G14:I14) -> -1 | K14: ='0910 Monthly '!W15-'0910 Monthly '!C15 -> 0 | L14: ='0910 Monthly '!X15-'0910 Monthly '!D15 -> -1 | M14: ='0910 Monthly '!Y15-'0910 Monthly '!E15 -> -1 | N14: =SUM(K14:M14) -> -2 | O14: ='0809 Monthly'!Q15-'0809 Monthly'!B15 -> -2 | P14: ='0809 Monthly'!R15-'0809 Monthly'!C15 -> -1 | Q14: ='0809 Monthly'!S15-'0809 Monthly'!D15 -> 0 | R14: =SUM(O14:Q14) -> -3 | S14: ='0708 Monthly'!Q15-'0708 Monthly'!B15 -> 1 | T14: ='0708 Monthly'!R15-'0708 Monthly'!C15 -> -1 | U14: ='0708 Monthly'!S15-'0708 Monthly'!D15 -> -3 | V14: =SUM(S14:U14) -> -3 | W14: ='0607 Monthly'!P15-'0607 Monthly'!B15 -> 1 | X14: ='0607 Monthly'!Q15-'0607 Monthly'!C15 -> -1 | Y14: ='0607 Monthly'!R15-'0607 Monthly'!D15 -> -1 | Z14: =SUM(W14:Y14) -> -1 | AE14: ='0405 Monthly'!P15-'0405 Monthly'!F15 -> 0 | AF14: ='0405 Monthly'!Q15-'0405 Monthly'!C15 -> -2 | AG14: ='0405 Monthly'!R15-'0405 Monthly'!D15 -> 0 | AH14: =SUM(AE14:AG14) -> -2
A15: Electronics | B15: 48 | C15: ='1112Monthly '!H16-'1112Monthly '!C16 -> 0 | D15: ='1112Monthly '!I16-'1112Monthly '!D16 -> 0 | E15: ='1112Monthly '!J16-'1112Monthly '!E16 -> 0 | F15: =SUM(C15:E15) -> 0 | G15: ='1011Monthly'!AE16-'1011Monthly'!C16 -> -1 | H15: ='1011Monthly'!AF16-'1011Monthly'!D16 -> 0 | I15: ='1011Monthly'!AG16-'1011Monthly'!E16 -> 0 | J15: =SUM(G15:I15) -> -1 | K15: ='0910 Monthly '!W16-'0910 Monthly '!C16 -> -2 | L15: ='0910 Monthly '!X16-'0910 Monthly '!D16 -> -2 | M15: ='0910 Monthly '!Y16-'0910 Monthly '!E16 -> 0 | N15: =SUM(K15:M15) -> -4 | O15: ='0809 Monthly'!Q16-'0809 Monthly'!B16 -> 0 | P15: ='0809 Monthly'!R16-'0809 Monthly'!C16 -> -1 | Q15: ='0809 Monthly'!S16-'0809 Monthly'!D16 -> 0 | R15: =SUM(O15:Q15) -> -1 | S15: ='0708 Monthly'!Q16-'0708 Monthly'!B16 -> -3 | T15: ='0708 Monthly'!R16-'0708 Monthly'!C16 -> 0 | U15: ='0708 Monthly'!S16-'0708 Monthly'!D16 -> 0 | V15: =SUM(S15:U15) -> -3 | W15: ='0607 Monthly'!P16-'0607 Monthly'!B16 -> -1 | X15: ='0607 Monthly'!Q16-'0607 Monthly'!C16 -> -1 | Y15: ='0607 Monthly'!R16-'0607 Monthly'!D16 -> 0 | Z15: =SUM(W15:Y15) -> -2 | AE15: ='0405 Monthly'!P16-'0405 Monthly'!F16 -> 0 | AF15: ='0405 Monthly'!Q16-'0405 Monthly'!C16 -> 1 | AG15: ='0405 Monthly'!R16-'0405 Monthly'!D16 -> -2 | AH15: =SUM(AE15:AG15) -> -1
A16: Facilities Maintenance Tech | B16: 48 | C16: ='1112Monthly '!H17-'1112Monthly '!C17 -> 2 | D16: ='1112Monthly '!I17-'1112Monthly '!D17 -> -1 | E16: ='1112Monthly '!J17-'1112Monthly '!E17 -> -1 | F16: =SUM(C16:E16) -> 0 | G16: ='1011Monthly'!AE17-'1011Monthly'!C17 -> 3 | H16: ='1011Monthly'!AF17-'1011Monthly'!D17 -> -3 | I16: ='1011Monthly'!AG17-'1011Monthly'!E17 -> -1 | J16: =SUM(G16:I16) -> -1 | K16: ='0910 Monthly '!W17-'0910 Monthly '!C17 -> 2 | L16: ='0910 Monthly '!X17-'0910 Monthly '!D17 -> -2 | M16: ='0910 Monthly '!Y17-'0910 Monthly '!E17 -> 0 | N16: =SUM(K16:M16) -> 0 | O16: ='0809 Monthly'!Q17-'0809 Monthly'!B17 -> -1 | P16: ='0809 Monthly'!R17-'0809 Monthly'!C17 -> -1 | Q16: ='0809 Monthly'!S17-'0809 Monthly'!D17 -> -1 | R16: =SUM(O16:Q16) -> -3 | S16: ='0708 Monthly'!Q17-'0708 Monthly'!B17 -> -1 | T16: ='0708 Monthly'!R17-'0708 Monthly'!C17 -> 0 | U16: ='0708 Monthly'!S17-'0708 Monthly'!D17 -> 0 | V16: =SUM(S16:U16) -> -1 | W16: ='0607 Monthly'!P17-'0607 Monthly'!B17 -> 0 | X16: ='0607 Monthly'!Q17-'0607 Monthly'!C17 -> 0 | Y16: ='0607 Monthly'!R17-'0607 Monthly'!D17 -> -1 | Z16: =SUM(W16:Y16) -> -1 | AE16: ='0405 Monthly'!P17-'0405 Monthly'!F17 -> 0 | AF16: ='0405 Monthly'!Q17-'0405 Monthly'!C17 -> -5 | AG16: ='0405 Monthly'!R17-'0405 Monthly'!D17 -> -1 | AH16: =SUM(AE16:AG16) -> -6
A17: Graphic Communications | B17: 48 | C17: ='1112Monthly '!H18-'1112Monthly '!C18 -> 1 | D17: ='1112Monthly '!I18-'1112Monthly '!D18 -> -2 | E17: ='1112Monthly '!J18-'1112Monthly '!E18 -> -1 | F17: =SUM(C17:E17) -> -2 | G17: ='1011Monthly'!AE18-'1011Monthly'!C18 -> -1 | H17: ='1011Monthly'!AF18-'1011Monthly'!D18 -> 0 | I17: ='1011Monthly'!AG18-'1011Monthly'!E18 -> -2 | J17: =SUM(G17:I17) -> -3 | K17: ='0910 Monthly '!W18-'0910 Monthly '!C18 -> 2 | L17: ='0910 Monthly '!X18-'0910 Monthly '!D18 -> -1 | M17: ='0910 Monthly '!Y18-'0910 Monthly '!E18 -> 0 | N17: =SUM(K17:M17) -> 1 | O17: ='0809 Monthly'!Q18-'0809 Monthly'!B18 -> 1 | P17: ='0809 Monthly'!R18-'0809 Monthly'!C18 -> -1 | Q17: ='0809 Monthly'!S18-'0809 Monthly'!D18 -> 1 | R17: =SUM(O17:Q17) -> 1 | S17: ='0708 Monthly'!Q18-'0708 Monthly'!B18 -> 0 | T17: ='0708 Monthly'!R18-'0708 Monthly'!C18 -> -2 | U17: ='0708 Monthly'!S18-'0708 Monthly'!D18 -> -1 | V17: =SUM(S17:U17) -> -3 | W17: ='0607 Monthly'!P18-'0607 Monthly'!B18 -> 2 | X17: ='0607 Monthly'!Q18-'0607 Monthly'!C18 -> -1 | Y17: ='0607 Monthly'!R18-'0607 Monthly'!D18 -> 0 | Z17: =SUM(W17:Y17) -> 1 | AE17: ='0405 Monthly'!P18-'0405 Monthly'!F18 -> 0 | AF17: ='0405 Monthly'!Q18-'0405 Monthly'!C18 -> -1 | AG17: ='0405 Monthly'!R18-'0405 Monthly'!D18 -> -3 | AH17: =SUM(AE17:AG17) -> -4
A18: Health Assistant | B18: 48 | C18: ='1112Monthly '!H19-'1112Monthly '!C19 -> 1 | D18: ='1112Monthly '!I19-'1112Monthly '!D19 -> -1 | E18: ='1112Monthly '!J19-'1112Monthly '!E19 -> 0 | F18: =SUM(C18:E18) -> 0 | G18: ='1011Monthly'!AE19-'1011Monthly'!C19 -> 0 | H18: ='1011Monthly'!AF19-'1011Monthly'!D19 -> 0 | I18: ='1011Monthly'!AG19-'1011Monthly'!E19 -> -1 | J18: =SUM(G18:I18) -> -1 | K18: ='0910 Monthly '!W19-'0910 Monthly '!C19 -> 1 | L18: ='0910 Monthly '!X19-'0910 Monthly '!D19 -> -2 | M18: ='0910 Monthly '!Y19-'0910 Monthly '!E19 -> 0 | N18: =SUM(K18:M18) -> -1 | O18: ='0809 Monthly'!Q19-'0809 Monthly'!B19 -> -2 | P18: ='0809 Monthly'!R19-'0809 Monthly'!C19 -> -1 | Q18: ='0809 Monthly'!S19-'0809 Monthly'!D19 -> 0 | R18: =SUM(O18:Q18) -> -3 | S18: ='0708 Monthly'!Q19-'0708 Monthly'!B19 -> -4 | T18: ='0708 Monthly'!R19-'0708 Monthly'!C19 -> -3 | U18: ='0708 Monthly'!S19-'0708 Monthly'!D19 -> -1 | V18: =SUM(S18:U18) -> -8 | W18: ='0607 Monthly'!P19-'0607 Monthly'!B19 -> 0 | X18: ='0607 Monthly'!Q19-'0607 Monthly'!C19 -> 0 | Y18: ='0607 Monthly'!R19-'0607 Monthly'!D19 -> 0 | Z18: =SUM(W18:Y18) -> 0 | AE18: ='0405 Monthly'!P19-'0405 Monthly'!F19 -> -1 | AF18: ='0405 Monthly'!Q19-'0405 Monthly'!C19 -> -1 | AG18: ='0405 Monthly'!R19-'0405 Monthly'!D19 -> -2 | AH18: =SUM(AE18:AG18) -> -4
A19: Metal Fabrication | B19: 48 | C19: ='1112Monthly '!H20-'1112Monthly '!C20 -> 2 | D19: ='1112Monthly '!I20-'1112Monthly '!D20 -> 1 | E19: ='1112Monthly '!J20-'1112Monthly '!E20 -> 0 | F19: =SUM(C19:E19) -> 3 | G19: ='1011Monthly'!AE20-'1011Monthly'!C20 -> -2 | H19: ='1011Monthly'!AF20-'1011Monthly'!D20 -> 0 | I19: ='1011Monthly'!AG20-'1011Monthly'!E20 -> -1 | J19: =SUM(G19:I19) -> -3 | K19: ='0910 Monthly '!W20-'0910 Monthly '!C20 -> 2 | L19: ='0910 Monthly '!X20-'0910 Monthly '!D20 -> -2 | M19: ='0910 Monthly '!Y20-'0910 Monthly '!E20 -> 0 | N19: =SUM(K19:M19) -> 0 | O19: ='0809 Monthly'!Q20-'0809 Monthly'!B20 -> 2 | P19: ='0809 Monthly'!R20-'0809 Monthly'!C20 -> 0 | Q19: ='0809 Monthly'!S20-'0809 Monthly'!D20 -> 0 | R19: =SUM(O19:Q19) -> 2 | S19: ='0708 Monthly'!Q20-'0708 Monthly'!B20 -> -1 | T19: ='0708 Monthly'!R20-'0708 Monthly'!C20 -> 0 | U19: ='0708 Monthly'!S20-'0708 Monthly'!D20 -> -1 | V19: =SUM(S19:U19) -> -2 | W19: ='0607 Monthly'!P20-'0607 Monthly'!B20 -> -1 | X19: ='0607 Monthly'!Q20-'0607 Monthly'!C20 -> 0 | Y19: ='0607 Monthly'!R20-'0607 Monthly'!D20 -> 1 | Z19: =SUM(W19:Y19) -> 0 | AE19: ='0405 Monthly'!P20-'0405 Monthly'!F20 -> 0 | AF19: ='0405 Monthly'!Q20-'0405 Monthly'!C20 -> 2 | AG19: ='0405 Monthly'!R20-'0405 Monthly'!D20 -> -3 | AH19: =SUM(AE19:AG19) -> -1
A20: Networking Technologies | B20: 48 | C20: ='1112Monthly '!H21-'1112Monthly '!C21 -> 4 | D20: ='1112Monthly '!I21-'1112Monthly '!D21 -> 0 | E20: ='1112Monthly '!J21-'1112Monthly '!E21 -> 0 | F20: =SUM(C20:E20) -> 4 | G20: ='1011Monthly'!AE21-'1011Monthly'!C21 -> 3 | H20: ='1011Monthly'!AF21-'1011Monthly'!D21 -> 0 | I20: ='1011Monthly'!AG21-'1011Monthly'!E21 -> 0 | J20: =SUM(G20:I20) -> 3 | K20: ='0910 Monthly '!W21-'0910 Monthly '!C21 -> 1 | L20: ='0910 Monthly '!X21-'0910 Monthly '!D21 -> 0 | M20: ='0910 Monthly '!Y21-'0910 Monthly '!E21 -> 0 | N20: =SUM(K20:M20) -> 1 | O20: ='0809 Monthly'!Q21-'0809 Monthly'!B21 -> 2 | P20: ='0809 Monthly'!R21-'0809 Monthly'!C21 -> 0 | Q20: ='0809 Monthly'!S21-'0809 Monthly'!D21 -> 0 | R20: =SUM(O20:Q20) -> 2 | S20: ='0708 Monthly'!Q21-'0708 Monthly'!B21 -> -1 | T20: ='0708 Monthly'!R21-'0708 Monthly'!C21 -> 0 | U20: ='0708 Monthly'!S21-'0708 Monthly'!D21 -> 0 | V20: =SUM(S20:U20) -> -1 | W20: ='0607 Monthly'!P21-'0607 Monthly'!B21 -> 0 | X20: ='0607 Monthly'!Q21-'0607 Monthly'!C21 -> 0 | Y20: ='0607 Monthly'!R21-'0607 Monthly'!D21 -> 0 | Z20: =SUM(W20:Y20) -> 0 | AE20: ='0405 Monthly'!P23-'0405 Monthly'!F23 -> 0 | AF20: ='0405 Monthly'!Q23-'0405 Monthly'!C23 -> 0 | AG20: ='0405 Monthly'!R23-'0405 Monthly'!D23 -> 0 | AH20: =SUM(AE20:AG20) -> 0
A21: Precision Machining | B21: 48 | C21: ='1112Monthly '!H22-'1112Monthly '!C22 -> 2 | D21: ='1112Monthly '!I22-'1112Monthly '!D22 -> 0 | E21: ='1112Monthly '!J22-'1112Monthly '!E22 -> 0 | F21: =SUM(C21:E21) -> 2 | G21: ='1011Monthly'!AE22-'1011Monthly'!C22 -> 3 | H21: ='1011Monthly'!AF22-'1011Monthly'!D22 -> 0 | I21: ='1011Monthly'!AG22-'1011Monthly'!E22 -> -1 | J21: =SUM(G21:I21) -> 2 | K21: ='0910 Monthly '!W22-'0910 Monthly '!C22 -> -6 | L21: ='0910 Monthly '!X22-'0910 Monthly '!D22 -> -1 | M21: ='0910 Monthly '!Y22-'0910 Monthly '!E22 -> 0 | N21: =SUM(K21:M21) -> -7 | O21: ='0809 Monthly'!Q22-'0809 Monthly'!B22 -> -4 | P21: ='0809 Monthly'!R22-'0809 Monthly'!C22 -> 0 | Q21: ='0809 Monthly'!S22-'0809 Monthly'!D22 -> 0 | R21: =SUM(O21:Q21) -> -4 | S21: ='0708 Monthly'!Q23-'0708 Monthly'!B23 -> 0 | T21: ='0708 Monthly'!R23-'0708 Monthly'!C23 -> 0 | U21: ='0708 Monthly'!S23-'0708 Monthly'!D23 -> 0 | V21: =SUM(S21:U21) -> 0 | W21: ='0607 Monthly'!P23-'0607 Monthly'!B23 -> 0 | X21: ='0607 Monthly'!Q23-'0607 Monthly'!C23 -> 0 | Y21: ='0607 Monthly'!R23-'0607 Monthly'!D23 -> 0 | Z21: =SUM(W21:Y21) -> 0 | AE21: ='0405 Monthly'!P22-'0405 Monthly'!F22 -> 0 | AF21: ='0405 Monthly'!Q22-'0405 Monthly'!C22 -> 2 | AG21: ='0405 Monthly'!R22-'0405 Monthly'!D22 -> -2 | AH21: =SUM(AE21:AG21) -> 0
A22: Tourism & Hospitality | B22: 48 | C22: ='1112Monthly '!H23-'1112Monthly '!C23 -> 5 | D22: ='1112Monthly '!I23-'1112Monthly '!D23 -> -3 | E22: ='1112Monthly '!J23-'1112Monthly '!E23 -> 0 | F22: =SUM(C22:E22) -> 2 | G22: ='1011Monthly'!AE23-'1011Monthly'!C23 -> 1 | H22: ='1011Monthly'!AF23-'1011Monthly'!D23 -> 0 | I22: ='1011Monthly'!AG23-'1011Monthly'!E23 -> 0 | J22: =SUM(G22:I22) -> 1 | K22: ='0910 Monthly '!W23-'0910 Monthly '!C23 -> -5 | L22: ='0910 Monthly '!X23-'0910 Monthly '!D23 -> 0 | M22: ='0910 Monthly '!Y23-'0910 Monthly '!E23 -> 0 | N22: =SUM(K22:M22) -> -5 | O22: ='0809 Monthly'!Q23-'0809 Monthly'!B23 -> 1 | P22: ='0809 Monthly'!R23-'0809 Monthly'!C23 -> 0 | Q22: ='0809 Monthly'!S23-'0809 Monthly'!D23 -> 0 | R22: =SUM(O22:Q22) -> 1 | S22: ='0708 Monthly'!Q24-'0708 Monthly'!B24 -> -4 | T22: ='0708 Monthly'!R24-'0708 Monthly'!C24 -> 0 | U22: ='0708 Monthly'!S24-'0708 Monthly'!D24 -> 0 | V22: =SUM(S22:U22) -> -4 | W22: ='0607 Monthly'!P24-'0607 Monthly'!B24 -> -2 | X22: ='0607 Monthly'!Q24-'0607 Monthly'!C24 -> 0 | Y22: ='0607 Monthly'!R24-'0607 Monthly'!D24 -> 0 | Z22: =SUM(W22:Y22) -> -2 | AE22: ='0405 Monthly'!P25-'0405 Monthly'!F25 -> 1 | AF22: ='0405 Monthly'!Q25-'0405 Monthly'!C25 -> 0 | AG22: ='0405 Monthly'!R25-'0405 Monthly'!D25 -> 0 | AH22: =SUM(AE22:AG22) -> 1
A23: TOTALS | B23: =SUM(B4:B22) -> 1008 | C23: =SUM(C4:C22) -> 10 | D23: =SUM(D4:D22) -> -18 | E23: =SUM(E4:E22) -> -8 | F23: =SUM(C23:E23) -> -16 | G23: =SUM(G4:G22) -> 4 | H23: =SUM(H4:H22) -> -26 | I23: =SUM(I4:I22) -> -13 | J23: =SUM(J4:J22) -> -35 | K23: =SUM(K4:K22) -> -9 | L23: =SUM(L4:L22) -> -23 | M23: =SUM(M4:M22) -> -7 | N23: =SUM(K23:M23) -> -39 | O23: =SUM(O4:O22) -> -17 | P23: =SUM(P4:P22) -> -21 | Q23: =SUM(Q4:Q22) -> -6 | R23: =SUM(R4:R22) -> -44 | S23: =SUM(S4:S22) -> -17 | T23: =SUM(T4:T22) -> -11 | U23: =SUM(U4:U22) -> -9 | V23: =SUM(V4:V22) -> -37 | ... Z23: =SUM(Z4:Z22) -> -27 | AE23: =SUM(AE4:AE22) -> -6 | AF23: =SUM(AF4:AF22) -> -34 | AG23: =SUM(AG4:AG22) -> -25 | AH23: =SUM(AH4:AH22) -> -65
C24: August to September | G24: September to December | K24: September to December | O24: September to October (no August data) | S24: September to October (no August data) | W24: September to December | AE24: September to December
A26: School District | C26: Program/Year Level | F26: Total | G26: Program/Year Level | J26: Total | K26: Program/Year Level | N26: Total | O26: Program/Year Level | R26: Total | S26: Program/Year Level | V26: Total | W26: Program/Year Level | Z26: Total | AA26: Program/Year Level | AD26: Total | AE26: Program/Year Level | AH26: Total
A27: School District | B27: Quota | C27: 1st | D27: 2nd | E27: 3rd | F27: Total | G27: 1st | H27: 2nd | I27: 3rd | J27: Total | K27: 1st | L27: 2nd | M27: 3rd | N27: Total | O27: 1st | P27: 2nd | Q27: 3rd | R27: Total | S27: 1st | T27: 2nd | U27: 3rd | V27: Total | W27: 1st | X27: 2nd | Y27: 3rd | Z27: Total | AA27: 1st | AB27: 2nd | AC27: 3rd | AD27: Total | AE27: 1st | AF27: 2nd | AG27: 3rd | AH27: Total
A28: Fairview | B28: 73.158321 | C28: ='1112Monthly '!H29-'1112Monthly '!C29 -> 1 | D28: ='1112Monthly '!I29-'1112Monthly '!D29 -> -2 | E28: ='1112Monthly '!J29-'1112Monthly '!E29 -> 0 | F28: =SUM(C28:E28) -> -1 | G28: ='1011Monthly'!AE28-'1011Monthly'!C28 -> 4 | H28: ='1011Monthly'!AF28-'1011Monthly'!D28 -> -2 | I28: ='1011Monthly'!AG28-'1011Monthly'!E28 -> 0 | J28: =SUM(G28:I28) -> 2 | K28: ='0910 Monthly '!W28-'0910 Monthly '!C28 -> -1 | L28: ='0910 Monthly '!X28-'0910 Monthly '!D28 -> 1 | M28: ='0910 Monthly '!Y28-'0910 Monthly '!E28 -> 0 | N28: =SUM(K28:M28) -> 0 | O28: ='0809 Monthly'!Q28-'0809 Monthly'!B28 -> -2 | P28: ='0809 Monthly'!R28-'0809 Monthly'!C28 -> -2 | Q28: ='0809 Monthly'!S28-'0809 Monthly'!D28 -> 0 | R28: =SUM(O28:Q28) -> -4 | S28: ='0708 Monthly'!Q29-'0708 Monthly'!B29 -> -4 | T28: ='0708 Monthly'!R29-'0708 Monthly'!C29 -> -1 | U28: ='0708 Monthly'!S29-'0708 Monthly'!D29 -> 1 | V28: =SUM(S28:U28) -> -4 | W28: ='0607 Monthly'!K30-'0607 Monthly'!B30 -> 1 | X28: ='0607 Monthly'!L30-'0607 Monthly'!C30 -> 1 | Y28: ='0607 Monthly'!M30-'0607 Monthly'!D30 -> -1 | Z28: =SUM(W28:Y28) -> 1
A29: Fort LeBoeuf | B29: 86.062595 | C29: ='1112Monthly '!H30-'1112Monthly '!C30 -> -6 | D29: ='1112Monthly '!I30-'1112Monthly '!D30 -> -2 | E29: ='1112Monthly '!J30-'1112Monthly '!E30 -> 1 | F29: =SUM(C29:E29) -> -7 | G29: ='1011Monthly'!AE29-'1011Monthly'!C29 -> -1 | H29: ='1011Monthly'!AF29-'1011Monthly'!D29 -> -5 | I29: ='1011Monthly'!AG29-'1011Monthly'!E29 -> -2 | J29: =SUM(G29:I29) -> -8 | K29: ='0910 Monthly '!W29-'0910 Monthly '!C29 -> 1 | L29: ='0910 Monthly '!X29-'0910 Monthly '!D29 -> -3 | M29: ='0910 Monthly '!Y29-'0910 Monthly '!E29 -> 0 | N29: =SUM(K29:M29) -> -2 | O29: ='0809 Monthly'!Q29-'0809 Monthly'!B29 -> 0 | P29: ='0809 Monthly'!R29-'0809 Monthly'!C29 -> -3 | Q29: ='0809 Monthly'!S29-'0809 Monthly'!D29 -> 0 | R29: =SUM(O29:Q29) -> -3 | S29: ='0708 Monthly'!Q30-'0708 Monthly'!B30 -> -3 | T29: ='0708 Monthly'!R30-'0708 Monthly'!C30 -> -1 | U29: ='0708 Monthly'!S30-'0708 Monthly'!D30 -> -1 | V29: =SUM(S29:U29) -> -5 | W29: ='0607 Monthly'!K31-'0607 Monthly'!B31 -> -2 | X29: ='0607 Monthly'!L31-'0607 Monthly'!C31 -> 0 | Y29: ='0607 Monthly'!M31-'0607 Monthly'!D31 -> -1 | Z29: =SUM(W29:Y29) -> -3
A30: General McLane | B30: 93.30237 | C30: ='1112Monthly '!H31-'1112Monthly '!C31 -> 3 | D30: ='1112Monthly '!I31-'1112Monthly '!D31 -> -3 | E30: ='1112Monthly '!J31-'1112Monthly '!E31 -> 0 | F30: =SUM(C30:E30) -> 0 | G30: ='1011Monthly'!AE30-'1011Monthly'!C30 -> 0 | H30: ='1011Monthly'!AF30-'1011Monthly'!D30 -> 0 | I30: ='1011Monthly'!AG30-'1011Monthly'!E30 -> -1 | J30: =SUM(G30:I30) -> -1 | K30: ='0910 Monthly '!W30-'0910 Monthly '!C30 -> -1 | L30: ='0910 Monthly '!X30-'0910 Monthly '!D30 -> 0 | M30: ='0910 Monthly '!Y30-'0910 Monthly '!E30 -> 0 | N30: =SUM(K30:M30) -> -1 | O30: ='0809 Monthly'!Q30-'0809 Monthly'!B30 -> -6 | P30: ='0809 Monthly'!R30-'0809 Monthly'!C30 -> -1 | Q30: ='0809 Monthly'!S30-'0809 Monthly'!D30 -> 1 | R30: =SUM(O30:Q30) -> -6 | S30: ='0708 Monthly'!Q31-'0708 Monthly'!B31 -> -4 | T30: ='0708 Monthly'!R31-'0708 Monthly'!C31 -> 0 | U30: ='0708 Monthly'!S31-'0708 Monthly'!D31 -> -1 | V30: =SUM(S30:U30) -> -5 | W30: ='0607 Monthly'!K32-'0607 Monthly'!B32 -> 1 | X30: ='0607 Monthly'!L32-'0607 Monthly'!C32 -> 0 | Y30: ='0607 Monthly'!M32-'0607 Monthly'!D32 -> 0 | Z30: =SUM(W30:Y30) -> 1
A31: Girard | B31: 77.925959 | C31: ='1112Monthly '!H32-'1112Monthly '!C32 -> 0 | D31: ='1112Monthly '!I32-'1112Monthly '!D32 -> -1 | E31: ='1112Monthly '!J32-'1112Monthly '!E32 -> 0 | F31: =SUM(C31:E31) -> -1 | G31: ='1011Monthly'!AE31-'1011Monthly'!C31 -> -1 | H31: ='1011Monthly'!AF31-'1011Monthly'!D31 -> -3 | I31: ='1011Monthly'!AG31-'1011Monthly'!E31 -> -2 | J31: =SUM(G31:I31) -> -6 | K31: ='0910 Monthly '!W31-'0910 Monthly '!C31 -> -2 | L31: ='0910 Monthly '!X31-'0910 Monthly '!D31 -> -3 | M31: ='0910 Monthly '!Y31-'0910 Monthly '!E31 -> 0 | N31: =SUM(K31:M31) -> -5 | O31: ='0809 Monthly'!Q31-'0809 Monthly'!B31 -> -3 | P31: ='0809 Monthly'!R31-'0809 Monthly'!C31 -> -2 | Q31: ='0809 Monthly'!S31-'0809 Monthly'!D31 -> -1 | R31: =SUM(O31:Q31) -> -6 | S31: ='0708 Monthly'!Q32-'0708 Monthly'!B32 -> 0 | T31: ='0708 Monthly'!R32-'0708 Monthly'!C32 -> 0 | U31: ='0708 Monthly'!S32-'0708 Monthly'!D32 -> 1 | V31: =SUM(S31:U31) -> 1 | W31: ='0607 Monthly'!K33-'0607 Monthly'!B33 -> -1 | X31: ='0607 Monthly'!L33-'0607 Monthly'!C33 -> 0 | Y31: ='0607 Monthly'!M33-'0607 Monthly'!D33 -> 0 | Z31: =SUM(W31:Y31) -> -1
A32: Harbor Creek | B32: 79.14312 | C32: ='1112Monthly '!H33-'1112Monthly '!C33 -> 4 | D32: ='1112Monthly '!I33-'1112Monthly '!D33 -> -3 | E32: ='1112Monthly '!J33-'1112Monthly '!E33 -> -1 | F32: =SUM(C32:E32) -> 0 | G32: ='1011Monthly'!AE32-'1011Monthly'!C32 -> 2 | H32: ='1011Monthly'!AF32-'1011Monthly'!D32 -> 1 | I32: ='1011Monthly'!AG32-'1011Monthly'!E32 -> -1 | J32: =SUM(G32:I32) -> 2 | K32: ='0910 Monthly '!W32-'0910 Monthly '!C32 -> -1 | L32: ='0910 Monthly '!X32-'0910 Monthly '!D32 -> -2 | M32: ='0910 Monthly '!Y32-'0910 Monthly '!E32 -> 1 | N32: =SUM(K32:M32) -> -2 | O32: ='0809 Monthly'!Q32-'0809 Monthly'!B32 -> -5 | P32: ='0809 Monthly'!R32-'0809 Monthly'!C32 -> -1 | Q32: ='0809 Monthly'!S32-'0809 Monthly'!D32 -> 0 | R32: =SUM(O32:Q32) -> -6 | S32: ='0708 Monthly'!Q33-'0708 Monthly'!B33 -> -3 | T32: ='0708 Monthly'!R33-'0708 Monthly'!C33 -> 0 | U32: ='0708 Monthly'!S33-'0708 Monthly'!D33 -> -1 | V32: =SUM(S32:U32) -> -4 | W32: ='0607 Monthly'!K34-'0607 Monthly'!B34 -> -2 | X32: ='0607 Monthly'!L34-'0607 Monthly'!C34 -> -1 | Y32: ='0607 Monthly'!M34-'0607 Monthly'!D34 -> 0 | Z32: =SUM(W32:Y32) -> -3
A33: Iroquois | B33: 51.145988 | C33: ='1112Monthly '!H34-'1112Monthly '!C34 -> -1 | D33: ='1112Monthly '!I34-'1112Monthly '!D34 -> 1 | E33: ='1112Monthly '!J34-'1112Monthly '!E34 -> -1 | F33: =SUM(C33:E33) -> -1 | G33: ='1011Monthly'!AE33-'1011Monthly'!C33 -> 1 | H33: ='1011Monthly'!AF33-'1011Monthly'!D33 -> 0 | I33: ='1011Monthly'!AG33-'1011Monthly'!E33 -> -1 | J33: =SUM(G33:I33) -> 0 | K33: ='0910 Monthly '!W33-'0910 Monthly '!C33 -> -5 | L33: ='0910 Monthly '!X33-'0910 Monthly '!D33 -> -2 | M33: ='0910 Monthly '!Y33-'0910 Monthly '!E33 -> 0 | N33: =SUM(K33:M33) -> -7 | O33: ='0809 Monthly'!Q33-'0809 Monthly'!B33 -> -3 | P33: ='0809 Monthly'!R33-'0809 Monthly'!C33 -> -2 | Q33: ='0809 Monthly'!S33-'0809 Monthly'!D33 -> -1 | R33: =SUM(O33:Q33) -> -6 | S33: ='0708 Monthly'!Q34-'0708 Monthly'!B34 -> 0 | T33: ='0708 Monthly'!R34-'0708 Monthly'!C34 -> 0 | U33: ='0708 Monthly'!S34-'0708 Monthly'!D34 -> 0 | V33: =SUM(S33:U33) -> 0 | W33: ='0607 Monthly'!K35-'0607 Monthly'!B35 -> 1 | X33: ='0607 Monthly'!L35-'0607 Monthly'!C35 -> 0 | Y33: ='0607 Monthly'!M35-'0607 Monthly'!D35 -> 0 | Z33: =SUM(W33:Y33) -> 1
A34: Millcreek | B34: 296.31921 | C34: ='1112Monthly '!H35-'1112Monthly '!C35 -> 1 | D34: ='1112Monthly '!I35-'1112Monthly '!D35 -> -1 | E34: ='1112Monthly '!J35-'1112Monthly '!E35 -> -3 | F34: =SUM(C34:E34) -> -3 | G34: ='1011Monthly'!AE34-'1011Monthly'!C34 -> -9 | H34: ='1011Monthly'!AF34-'1011Monthly'!D34 -> -9 | I34: ='1011Monthly'!AG34-'1011Monthly'!E34 -> -4 | J34: =SUM(G34:I34) -> -22 | K34: ='0910 Monthly '!W34-'0910 Monthly '!C34 -> 1 | L34: ='0910 Monthly '!X34-'0910 Monthly '!D34 -> -5 | M34: ='0910 Monthly '!Y34-'0910 Monthly '!E34 -> -3 | N34: =SUM(K34:M34) -> -7 | O34: ='0809 Monthly'!Q34-'0809 Monthly'!B34 -> -8 | P34: ='0809 Monthly'!R34-'0809 Monthly'!C34 -> -6 | Q34: ='0809 Monthly'!S34-'0809 Monthly'!D34 -> 1 | R34: =SUM(O34:Q34) -> -13 | S34: ='0708 Monthly'!Q35-'0708 Monthly'!B35 -> -9 | T34: ='0708 Monthly'!R35-'0708 Monthly'!C35 -> -7 | U34: ='0708 Monthly'!S35-'0708 Monthly'!D35 -> -3 | V34: =SUM(S34:U34) -> -19 | W34: ='0607 Monthly'!K36-'0607 Monthly'!B36 -> -4 | X34: ='0607 Monthly'!L36-'0607 Monthly'!C36 -> -2 | Y34: ='0607 Monthly'!M36-'0607 Monthly'!D36 -> 0 | Z34: =SUM(W34:Y34) -> -6
A35: North East | B35: 75.171167 | C35: ='1112Monthly '!H36-'1112Monthly '!C36 -> 11 | D35: ='1112Monthly '!I36-'1112Monthly '!D36 -> -6 | E35: ='1112Monthly '!J36-'1112Monthly '!E36 -> -1 | F35: =SUM(C35:E35) -> 4 | G35: ='1011Monthly'!AE35-'1011Monthly'!C35 -> 8 | H35: ='1011Monthly'!AF35-'1011Monthly'!D35 -> 0 | I35: ='1011Monthly'!AG35-'1011Monthly'!E35 -> 0 | J35: =SUM(G35:I35) -> 8 | K35: ='0910 Monthly '!W35-'0910 Monthly '!C35 -> 9 | L35: ='0910 Monthly '!X35-'0910 Monthly '!D35 -> -3 | M35: ='0910 Monthly '!Y35-'0910 Monthly '!E35 -> -1 | N35: =SUM(K35:M35) -> 5 | O35: ='0809 Monthly'!Q35-'0809 Monthly'!B35 -> 6 | P35: ='0809 Monthly'!R35-'0809 Monthly'!C35 -> 0 | Q35: ='0809 Monthly'!S35-'0809 Monthly'!D35 -> -3 | R35: =SUM(O35:Q35) -> 3 | S35: ='0708 Monthly'!Q36-'0708 Monthly'!B36 -> 0 | T35: ='0708 Monthly'!R36-'0708 Monthly'!C36 -> -1 | U35: ='0708 Monthly'!S36-'0708 Monthly'!D36 -> -1 | V35: =SUM(S35:U35) -> -2 | W35: ='0607 Monthly'!K37-'0607 Monthly'!B37 -> -1 | X35: ='0607 Monthly'!L37-'0607 Monthly'!C37 -> -1 | Y35: ='0607 Monthly'!M37-'0607 Monthly'!D37 -> 0 | Z35: =SUM(W35:Y35) -> -2
A36: Northwestern | B36: 69.359123 | C36: ='1112Monthly '!H37-'1112Monthly '!C37 -> 2 | D36: ='1112Monthly '!I37-'1112Monthly '!D37 -> -3 | E36: ='1112Monthly '!J37-'1112Monthly '!E37 -> -1 | F36: =SUM(C36:E36) -> -2 | G36: ='1011Monthly'!AE36-'1011Monthly'!C36 -> 5 | H36: ='1011Monthly'!AF36-'1011Monthly'!D36 -> -1 | I36: ='1011Monthly'!AG36-'1011Monthly'!E36 -> 0 | J36: =SUM(G36:I36) -> 4 | K36: ='0910 Monthly '!W36-'0910 Monthly '!C36 -> -4 | L36: ='0910 Monthly '!X36-'0910 Monthly '!D36 -> -2 | M36: ='0910 Monthly '!Y36-'0910 Monthly '!E36 -> -2 | N36: =SUM(K36:M36) -> -8 | O36: ='0809 Monthly'!Q36-'0809 Monthly'!B36 -> -1 | P36: ='0809 Monthly'!R36-'0809 Monthly'!C36 -> -4 | Q36: ='0809 Monthly'!S36-'0809 Monthly'!D36 -> -3 | R36: =SUM(O36:Q36) -> -8 | S36: ='0708 Monthly'!Q37-'0708 Monthly'!B37 -> 0 | T36: ='0708 Monthly'!R37-'0708 Monthly'!C37 -> 1 | U36: ='0708 Monthly'!S37-'0708 Monthly'!D37 -> -3 | V36: =SUM(S36:U36) -> -2 | W36: ='0607 Monthly'!K38-'0607 Monthly'!B38 -> -2 | X36: ='0607 Monthly'!L38-'0607 Monthly'!C38 -> 1 | Y36: ='0607 Monthly'!M38-'0607 Monthly'!D38 -> 0 | Z36: =SUM(W36:Y36) -> -1
A37: Union City | B37: 46.710468 | C37: ='1112Monthly '!H38-'1112Monthly '!C38 -> -2 | D37: ='1112Monthly '!I38-'1112Monthly '!D38 -> 0 | E37: ='1112Monthly '!J38-'1112Monthly '!E38 -> -1 | F37: =SUM(C37:E37) -> -3 | G37: ='1011Monthly'!AE37-'1011Monthly'!C37 -> 3 | H37: ='1011Monthly'!AF37-'1011Monthly'!D37 -> 0 | I37: ='1011Monthly'!AG37-'1011Monthly'!E37 -> -1 | J37: =SUM(G37:I37) -> 2 | K37: ='0910 Monthly '!W37-'0910 Monthly '!C37 -> 1 | L37: ='0910 Monthly '!X37-'0910 Monthly '!D37 -> -2 | M37: ='0910 Monthly '!Y37-'0910 Monthly '!E37 -> -2 | N37: =SUM(K37:M37) -> -3 | O37: ='0809 Monthly'!Q37-'0809 Monthly'!B37 -> -1 | P37: ='0809 Monthly'!R37-'0809 Monthly'!C37 -> 1 | Q37: ='0809 Monthly'!S37-'0809 Monthly'!D37 -> 0 | R37: =SUM(O37:Q37) -> 0 | S37: ='0708 Monthly'!Q38-'0708 Monthly'!B38 -> -4 | T37: ='0708 Monthly'!R38-'0708 Monthly'!C38 -> -1 | U37: ='0708 Monthly'!S38-'0708 Monthly'!D38 -> -1 | V37: =SUM(S37:U37) -> -6 | W37: ='0607 Monthly'!K39-'0607 Monthly'!B39 -> -1 | X37: ='0607 Monthly'!L39-'0607 Monthly'!C39 -> 0 | Y37: ='0607 Monthly'!M39-'0607 Monthly'!D39 -> 0 | Z37: =SUM(W37:Y37) -> -1
A38: Wattsburg | B38: 59.701682 | C38: ='1112Monthly '!H39-'1112Monthly '!C39 -> -3 | D38: ='1112Monthly '!I39-'1112Monthly '!D39 -> 2 | E38: ='1112Monthly '!J39-'1112Monthly '!E39 -> -1 | F38: =SUM(C38:E38) -> -2 | G38: ='1011Monthly'!AE38-'1011Monthly'!C38 -> -8 | H38: ='1011Monthly'!AF38-'1011Monthly'!D38 -> -7 | I38: ='1011Monthly'!AG38-'1011Monthly'!E38 -> -1 | J38: =SUM(G38:I38) -> -16 | K38: ='0910 Monthly '!W38-'0910 Monthly '!C38 -> -7 | L38: ='0910 Monthly '!X38-'0910 Monthly '!D38 -> -2 | M38: ='0910 Monthly '!Y38-'0910 Monthly '!E38 -> 0 | N38: =SUM(K38:M38) -> -9 | O38: ='0809 Monthly'!Q38-'0809 Monthly'!B38 -> 6 | P38: ='0809 Monthly'!R38-'0809 Monthly'!C38 -> -1 | Q38: ='0809 Monthly'!S38-'0809 Monthly'!D38 -> 0 | R38: =SUM(O38:Q38) -> 5 | S38: ='0708 Monthly'!Q39-'0708 Monthly'!B39 -> 10 | T38: ='0708 Monthly'!R39-'0708 Monthly'!C39 -> -1 | U38: ='0708 Monthly'!S39-'0708 Monthly'!D39 -> -2 | V38: =SUM(S38:U38) -> 7 | W38: ='0607 Monthly'!K40-'0607 Monthly'!B40 -> -5 | X38: ='0607 Monthly'!L40-'0607 Monthly'!C40 -> 0 | Y38: ='0607 Monthly'!M40-'0607 Monthly'!D40 -> 0 | Z38: =SUM(W38:Y38) -> -5
A39: Totals | B39: =SUM(B28:B38) -> 1008 | C39: =SUM(C28:C38) -> 10 | D39: =SUM(D28:D38) -> -18 | E39: =SUM(E28:E38) -> -8 | F39: =SUM(C39:E39) -> -16 | G39: =SUM(G28:G38) -> 4 | H39: =SUM(H28:H38) -> -26 | I39: =SUM(I28:I38) -> -13 | J39: =SUM(G39:I39) -> -35 | K39: =SUM(K28:K38) -> -9 | L39: =SUM(L28:L38) -> -23 | M39: =SUM(M28:M38) -> -7 | N39: =SUM(K39:M39) -> -39 | O39: =SUM(O28:O38) -> -17 | P39: =SUM(P28:P38) -> -21 | Q39: =SUM(Q28:Q38) -> -6 | R39: =SUM(O39:Q39) -> -44 | S39: =SUM(S28:S38) -> -17 | T39: =SUM(T28:T38) -> -11 | U39: =SUM(U28:U38) -> -11 | V39: =SUM(S39:U39) -> -39 | W39: =SUM(W28:W38) -> -15 | X39: =SUM(X28:X38) -> -2 | Y39: =SUM(Y28:Y38) -> -2 | Z39: =SUM(W39:Y39) -> -19
C41: 1st Level | D41: 2nd Level | E41: 3rd Level | F41: Total
A42: 2011-2012 | B42: August to September | C42: =C39 -> 10 | D42: =D39 -> -18 | E42: =E39 -> -8 | F42: =F39 -> -16 | G42: =C24 -> August to September
A43: 2010-2011 | B43: August to December | C43: =G23 -> 4 | D43: =H23 -> -26 | E43: =I23 -> -13 | F43: =J23 -> -35 | G43: =G24 -> September to December
A44: 2009-2010 | B44: August to December | C44: =K23 -> -9 | D44: =L23 -> -23 | E44: =M23 -> -7 | F44: =N23 -> -39 | G44: =K24 -> September to December
A45: 2008-2009 | B45: September to December | C45: =O23 -> -17 | D45: =P23 -> -21 | E45: =Q23 -> -6 | F45: =R23 -> -44 | G45: =O24 -> September to October (no August data)
A46: 2007-2008 | B46: September to December | C46: =S23 -> -17 | D46: =T23 -> -11 | E46: =U23 -> -9 | F46: =V23 -> -37 | G46: =S24 -> September to October (no August data)
A47: 2006-2007 | B47: September to December | C47: =W23 -> -19 | D47: =X23 -> -5 | E47: =Y23 -> -3 | F47: =Z23 -> -27 | G47: =W24 -> September to December
A48: 2005-2006
A49: 2004-2005 | B49: October to December | C49: =AE23 -> -6 | D49: =AF23 -> -34 | E49: =AG23 -> -25 | F49: =AH23 -> -65 | G49: =AE24 -> September to December

Sheet 1112Monthly 
C2: August 2011 | H2: September 2011 | O2: October 2011 | V2: November 2011 | AD2: December 2011 | AL2: January 2012 | AT2: February 2012 | BB2: March 2012 | BJ2: April 2012 | BR2: May 2012 | BZ2: June 2012
A3: Program | C3: Program/Year Level | F3: Total | H3: Program/Year Level | K3: Total | L3: Chg/ Month | M3: Chg/ Prior Yr. | O3: Program/Year Level | R3: Total | S3: Chg/ Month | T3: Chg/ Prior Yr. | V3: Program/Year Level | Y3: Total | Z3: Chg/ Month | AA3: Chg/ Sept | AB3: Chg/ Prior Yr. | AD3: Program/Year Level | AG3: Total | AH3: Chg/ Month | AI3: Chg/ Sept | AJ3: Chg/ Prior Yr. | AL3: Program/Year Level | AO3: Total | AP3: Chg/ Month | AQ3: Chg/ Sept | AR3: Chg/ Prior Yr. | AT3: Program/Year Level | AW3: Total | AX3: Chg/ Month | AY3: Chg/ Sept | AZ3: Chg/ Prior Yr. | BB3: Program/Year Level | BE3: Total | BF3: Chg/ Month | BG3: Chg/ Sept | BH3: Chg/ Prior Yr. | BJ3: Program/Year Level | BM3: Total | BN3: Chg/ Month | BO3: Chg/ Sept | BP3: Chg/ Prior Yr. | BR3: Program/Year Level | BU3: Total | BV3: Chg/ Month | BW3: Chg/ Sept | BX3: Chg/ Prior Yr. | BZ3: Program/Year Level | CC3: Total | CD3: Chg/ Month | CE3: Chg/ Sept | CF3: Chg/ Prior Yr.
B4: Capacity | C4: 1st | D4: 2nd | E4: 3rd | F4: Total | H4: 1st | I4: 2nd | J4: 3rd | K4: Total | O4: 1st | P4: 2nd | Q4: 3rd | R4: Total | V4: 1st | W4: 2nd | X4: 3rd | Y4: Total | AD4: 1st | AE4: 2nd | AF4: 3rd | AG4: Total | AL4: 1st | AM4: 2nd | AN4: 3rd | AO4: Total | AT4: 1st | AU4: 2nd | AV4: 3rd | AW4: Total | BB4: 1st | BC4: 2nd | BD4: 3rd | BE4: Total | BJ4: 1st | BK4: 2nd | BL4: 3rd | BM4: Total | BR4: 1st | BS4: 2nd | BT4: 3rd | BU4: Total | BZ4: 1st | CA4: 2nd | CB4: 3rd | CC4: Total
A5: Art & Design | B5: 48 | C5: 22 | D5: 19 | E5: 6 | F5: =SUM(C5:E5) -> 47 | H5: 22 | I5: 17 | J5: 6 | K5: =SUM(H5:J5) -> 45 | L5: =K5-F5 -> -2 | M5: =K5-'1011Monthly'!K5 -> 0 | O5: 22 | P5: 17 | Q5: 6 | R5: 45 | S5: =R5-K5 -> 0 | T5: =R5-'1011Monthly'!R5 -> 0 | V5: 22 | W5: 17 | X5: 6 | Y5: =SUM(V5:X5) -> 45 | Z5: =Y5-R5 -> 0 | AA5: =Y5-$F5 -> -2 | AB5: =Y5-'1011Monthly'!Z5 -> 0 | AD5: 22 | AE5: 17 | AF5: 6 | AG5: 45 | AH5: =AG5-Y5 -> 0 | AI5: =AG5-$F5 -> -2 | AJ5: =AG5-'1011Monthly'!AH5 -> -1 | AL5: 23 | AM5: 17 | AN5: 6 | AO5: 46 | AP5: =AO5-AG5 -> 1 | AQ5: =AO5-$F5 -> -1 | AR5: =AO5-'1011Monthly'!AP5 -> 0 | AT5: 22 | AU5: 17 | AV5: 6 | AW5: 45 | AX5: =AW5-AO5 -> -1 | AY5: =AW5-$F5 -> -2 | AZ5: =AW5-'1011Monthly'!AX5 -> 1 | BB5: 22 | BC5: 17 | BD5: 6 | BE5: 45 | BF5: =BE5-AW5 -> 0 | BG5: =BE5-$F5 -> -2 | BH5: =BE5-'1011Monthly'!BF5 -> 0 | BN5: =BM5-BE5 -> -45 | BO5: =BM5-$F5 -> -47 | BP5: =BM5-'1011Monthly'!BN5 -> -45 | BV5: =BU5-BM5 -> 0 | BW5: =BU5-$F5 -> -47 | BX5: =BU5-'1011Monthly'!BV5 -> -45 | CD5: =CC5-BU5 -> 0 | CE5: =CC5-$K5 -> -45 | CF5: =CC5-'1011Monthly'!CD5 -> -45
A6: Auto Body | B6: 48 | C6: 23 | D6: 7 | E6: 3 | F6: =SUM(C6:E6) -> 33 | H6: 23 | I6: 5 | J6: 3 | K6: =SUM(H6:J6) -> 31 | L6: =K6-F6 -> -2 | M6: =K6-'1011Monthly'!K6 -> 8 | O6: 23 | P6: 5 | Q6: 3 | R6: 31 | S6: =R6-K6 -> 0 | T6: =R6-'1011Monthly'!R6 -> 10 | V6: 23 | W6: 5 | X6: 3 | Y6: =SUM(V6:X6) -> 31 | Z6: =Y6-R6 -> 0 | AA6: =Y6-$F6 -> -2 | AB6: =Y6-'1011Monthly'!Z6 -> 11 | AD6: 22 | AE6: 5 | AF6: 3 | AG6: 30 | AH6: =AG6-Y6 -> -1 | AI6: =AG6-$F6 -> -3 | AJ6: =AG6-'1011Monthly'!AH6 -> 10 | AL6: 22 | AM6: 4 | AN6: 3 | AO6: 29 | AP6: =AO6-AG6 -> -1 | AQ6: =AO6-$F6 -> -4 | AR6: =AO6-'1011Monthly'!AP6 -> 11 | AT6: 17 | AU6: 4 | AV6: 3 | AW6: 24 | AX6: =AW6-AO6 -> -5 | AY6: =AW6-$F6 -> -9 | AZ6: =AW6-'1011Monthly'!AX6 -> 5 | BB6: 17 | BC6: 4 | BD6: 3 | BE6: 24 | BF6: =BE6-AW6 -> 0 | BG6: =BE6-$F6 -> -9 | BH6: =BE6-'1011Monthly'!BF6 -> 5 | BN6: =BM6-BE6 -> -24 | BO6: =BM6-$F6 -> -33 | BP6: =BM6-'1011Monthly'!BN6 -> -18 | BV6: =BU6-BM6 -> 0 | BW6: =BU6-$F6 -> -33 | BX6: =BU6-'1011Monthly'!BV6 -> -16 | CD6: =CC6-BU6 -> 0 | CE6: =CC6-$K6 -> -31 | CF6: =CC6-'1011Monthly'!CD6 -> -16
A7: Automotive Technologies | B7: 96 | C7: 44 | D7: 27 | E7: 15 | F7: =SUM(C7:E7) -> 86 | H7: 48 | I7: 25 | J7: 15 | K7: =SUM(H7:J7) -> 88 | L7: =K7-F7 -> 2 | M7: =K7-'1011Monthly'!K7 -> 22 | O7: 49 | P7: 25 | Q7: 15 | R7: 89 | S7: =R7-K7 -> 1 | T7: =R7-'1011Monthly'!R7 -> 25 | V7: 49 | W7: 25 | X7: 15 | Y7: =SUM(V7:X7) -> 89 | Z7: =Y7-R7 -> 0 | AA7: =Y7-$F7 -> 3 | AB7: =Y7-'1011Monthly'!Z7 -> 25 | AD7: 49 | AE7: 24 | AF7: 15 | AG7: 88 | AH7: =AG7-Y7 -> -1 | AI7: =AG7-$F7 -> 2 | AJ7: =AG7-'1011Monthly'!AH7 -> 24 | AL7: 48 | AM7: 24 | AN7: 14 | AO7: 86 | AP7: =AO7-AG7 -> -2 | AQ7: =AO7-$F7 -> 0 | AR7: =AO7-'1011Monthly'!AP7 -> 23 | AT7: 47 | AU7: 24 | AV7: 14 | AW7: 85 | AX7: =AW7-AO7 -> -1 | AY7: =AW7-$F7 -> -1 | AZ7: =AW7-'1011Monthly'!AX7 -> 21 | BB7: 47 | BC7: 24 | BD7: 14 | BE7: 85 | BF7: =BE7-AW7 -> 0 | BG7: =BE7-$F7 -> -1 | BH7: =BE7-'1011Monthly'!BF7 -> 21 | BN7: =BM7-BE7 -> -85 | BO7: =BM7-$F7 -> -86 | BP7: =BM7-'1011Monthly'!BN7 -> -64 | BV7: =BU7-BM7 -> 0 | BW7: =BU7-$F7 -> -86 | BX7: =BU7-'1011Monthly'!BV7 -> -64 | CD7: =CC7-BU7 -> 0 | CE7: =CC7-$K7 -> -88 | CF7: =CC7-'1011Monthly'!CD7 -> -64
A8: Computer Info. Systems | B8: 48 | C8: 16 | D8: 9 | E8: 9 | F8: =SUM(C8:E8) -> 34 | H8: 15 | I8: 8 | J8: 9 | K8: =SUM(H8:J8) -> 32 | L8: =K8-F8 -> -2 | M8: =K8-'1011Monthly'!K8 -> -1 | O8: 15 | P8: 8 | Q8: 9 | R8: 32 | S8: =R8-K8 -> 0 | T8: =R8-'1011Monthly'!R8 -> 2 | V8: 16 | W8: 8 | X8: 9 | Y8: =SUM(V8:X8) -> 33 | Z8: =Y8-R8 -> 1 | AA8: =Y8-$F8 -> -1 | AB8: =Y8-'1011Monthly'!Z8 -> 3 | AD8: 15 | AE8: 8 | AF8: 9 | AG8: 32 | AH8: =AG8-Y8 -> -1 | AI8: =AG8-$F8 -> -2 | AJ8: =AG8-'1011Monthly'!AH8 -> 3 | AL8: 15 | AM8: 8 | AN8: 9 | AO8: 32 | AP8: =AO8-AG8 -> 0 | AQ8: =AO8-$F8 -> -2 | AR8: =AO8-'1011Monthly'!AP8 -> 3 | AT8: 15 | AU8: 8 | AV8: 9 | AW8: 32 | AX8: =AW8-AO8 -> 0 | AY8: =AW8-$F8 -> -2 | AZ8: =AW8-'1011Monthly'!AX8 -> 5 | BB8: 15 | BC8: 8 | BD8: 9 | BE8: 32 | BF8: =BE8-AW8 -> 0 | BG8: =BE8-$F8 -> -2 | BH8: =BE8-'1011Monthly'!BF8 -> 5 | BN8: =BM8-BE8 -> -32 | BO8: =BM8-$F8 -> -34 | BP8: =BM8-'1011Monthly'!BN8 -> -26 | BV8: =BU8-BM8 -> 0 | BW8: =BU8-$F8 -> -34 | BX8: =BU8-'1011Monthly'!BV8 -> -26 | CD8: =CC8-BU8 -> 0 | CE8: =CC8-$K8 -> -32 | CF8: =CC8-'1011Monthly'!CD8 -> -26
A9: Construction Trades | B9: 96 | C9: 35 | D9: 18 | E9: 11 | F9: =SUM(C9:E9) -> 64 | H9: 30 | I9: 18 | J9: 10 | K9: =SUM(H9:J9) -> 58 | L9: =K9-F9 -> -6 | M9: =K9-'1011Monthly'!K9 -> -3 | O9: 28 | P9: 18 | Q9: 10 | R9: 56 | S9: =R9-K9 -> -2 | T9: =R9-'1011Monthly'!R9 -> -2 | V9: 27 | W9: 17 | X9: 9 | Y9: =SUM(V9:X9) -> 53 | Z9: =Y9-R9 -> -3 | AA9: =Y9-$F9 -> -11 | AB9: =Y9-'1011Monthly'!Z9 -> -6 | AD9: 27 | AE9: 17 | AF9: 9 | AG9: 53 | AH9: =AG9-Y9 -> 0 | AI9: =AG9-$F9 -> -11 | AJ9: =AG9-'1011Monthly'!AH9 -> -5 | AL9: 27 | AM9: 17 | AN9: 9 | AO9: 53 | AP9: =AO9-AG9 -> 0 | AQ9: =AO9-$F9 -> -11 | AR9: =AO9-'1011Monthly'!AP9 -> -6 | AT9: 26 | AU9: 17 | AV9: 10 | AW9: 53 | AX9: =AW9-AO9 -> 0 | AY9: =AW9-$F9 -> -11 | AZ9: =AW9-'1011Monthly'!AX9 -> 0 | BB9: 26 | BC9: 17 | BD9: 10 | BE9: 53 | BF9: =BE9-AW9 -> 0 | BG9: =BE9-$F9 -> -11 | BH9: =BE9-'1011Monthly'!BF9 -> 0 | BN9: =BM9-BE9 -> -53 | BO9: =BM9-$F9 -> -64 | BP9: =BM9-'1011Monthly'!BN9 -> -53 | BV9: =BU9-BM9 -> 0 | BW9: =BU9-$F9 -> -64 | BX9: =BU9-'1011Monthly'!BV9 -> -54 | CD9: =CC9-BU9 -> 0 | CE9: =CC9-$K9 -> -58 | CF9: =CC9-'1011Monthly'!CD9 -> -54
A10: Cosmetology | B10: 48 | C10: 16 | D10: 22 | E10: 10 | F10: =SUM(C10:E10) -> 48 | H10: 16 | I10: 21 | J10: 9 | K10: =SUM(H10:J10) -> 46 | L10: =K10-F10 -> -2 | M10: =K10-'1011Monthly'!K10 -> 0 | O10: 16 | P10: 21 | Q10: 9 | R10: 46 | S10: =R10-K10 -> 0 | T10: =R10-'1011Monthly'!R10 -> 0 | V10: 16 | W10: 21 | X10: 9 | Y10: =SUM(V10:X10) -> 46 | Z10: =Y10-R10 -> 0 | AA10: =Y10-$F10 -> -2 | AB10: =Y10-'1011Monthly'!Z10 -> 0 | AD10: 15 | AE10: 21 | AF10: 9 | AG10: 45 | AH10: =AG10-Y10 -> -1 | AI10: =AG10-$F10 -> -3 | AJ10: =AG10-'1011Monthly'!AH10 -> -1 | AL10: 15 | AM10: 21 | AN10: 9 | AO10: 45 | AP10: =AO10-AG10 -> 0 | AQ10: =AO10-$F10 -> -3 | AR10: =AO10-'1011Monthly'!AP10 -> -1 | AT10: 14 | AU10: 20 | AV10: 9 | AW10: 43 | AX10: =AW10-AO10 -> -2 | AY10: =AW10-$F10 -> -5 | AZ10: =AW10-'1011Monthly'!AX10 -> -2 | BB10: 14 | BC10: 20 | BD10: 9 | BE10: 43 | BF10: =BE10-AW10 -> 0 | BG10: =BE10-$F10 -> -5 | BH10: =BE10-'1011Monthly'!BF10 -> -2 | BN10: =BM10-BE10 -> -43 | BO10: =BM10-$F10 -> -48 | BP10: =BM10-'1011Monthly'!BN10 -> -45 | BV10: =BU10-BM10 -> 0 | BW10: =BU10-$F10 -> -48 | BX10: =BU10-'1011Monthly'!BV10 -> -44 | CD10: =CC10-BU10 -> 0 | CE10: =CC10-$K10 -> -46 | CF10: =CC10-'1011Monthly'!CD10 -> -44
A11: Culinary Arts | B11: 96 | C11: 32 | D11: 35 | E11: 19 | F11: =SUM(C11:E11) -> 86 | H11: 30 | I11: 33 | J11: 17 | K11: =SUM(H11:J11) -> 80 | L11: =K11-F11 -> -6 | M11: =K11-'1011Monthly'!K11 -> -2 | O11: 29 | P11: 32 | Q11: 17 | R11: 78 | S11: =R11-K11 -> -2 | T11: =R11-'1011Monthly'!R11 -> -2 | V11: 29 | W11: 32 | X11: 16 | Y11: =SUM(V11:X11) -> 77 | Z11: =Y11-R11 -> -1 | AA11: =Y11-$F11 -> -9 | AB11: =Y11-'1011Monthly'!Z11 -> 0 | AD11: 29 | AE11: 32 | AF11: 16 | AG11: 77 | AH11: =AG11-Y11 -> 0 | AI11: =AG11-$F11 -> -9 | AJ11: =AG11-'1011Monthly'!AH11 -> 0 | AL11: 30 | AM11: 32 | AN11: 16 | AO11: 78 | AP11: =AO11-AG11 -> 1 | AQ11: =AO11-$F11 -> -8 | AR11: =AO11-'1011Monthly'!AP11 -> 1 | AT11: 31 | AU11: 30 | AV11: 16 | AW11: 77 | AX11: =AW11-AO11 -> -1 | AY11: =AW11-$F11 -> -9 | AZ11: =AW11-'1011Monthly'!AX11 -> 1 | BB11: 31 | BC11: 30 | BD11: 16 | BE11: 77 | BF11: =BE11-AW11 -> 0 | BG11: =BE11-$F11 -> -9 | BH11: =BE11-'1011Monthly'!BF11 -> 1 | BN11: =BM11-BE11 -> -77 | BO11: =BM11-$F11 -> -86 | BP11: =BM11-'1011Monthly'!BN11 -> -76 | BV11: =BU11-BM11 -> 0 | BW11: =BU11-$F11 -> -86 | BX11: =BU11-'1011Monthly'!BV11 -> -76 | CD11: =CC11-BU11 -> 0 | CE11: =CC11-$K11 -> -80 | CF11: =CC11-'1011Monthly'!CD11 -> -76
A12: Diversified Ocupations | C12: 1 | D12: 0 | E12: 0 | F12: =SUM(C12:E12) -> 1 | H12: 0 | I12: 1 | J12: 0 | K12: =SUM(H12:J12) -> 1 | L12: =K12-F12 -> 0 | M12: =K12-'1011Monthly'!K12 -> -3 | O12: 0 | P12: 1 | Q12: 0 | R12: 1 | S12: =R12-K12 -> 0 | T12: =R12-'1011Monthly'!R12 -> -4 | V12: 0 | W12: 1 | X12: 0 | Y12: =SUM(V12:X12) -> 1 | Z12: =Y12-R12 -> 0 | AA12: =Y12-$F12 -> 0 | AB12: =Y12-'1011Monthly'!Z12 -> -4 | AD12: 0 | AE12: 1 | AF12: 0 | AG12: 1 | AH12: =AG12-Y12 -> 0 | AI12: =AG12-$F12 -> 0 | AJ12: =AG12-'1011Monthly'!AH12 -> -4 | AL12: 0 | AM12: 1 | AN12: 0 | AO12: 1 | AP12: =AO12-AG12 -> 0 | AQ12: =AO12-$F12 -> 0 | AR12: =AO12-'1011Monthly'!AP12 -> -3 | AT12: 9 | AU12: 1 | AV12: 0 | AW12: 10 | AX12: =AW12-AO12 -> 9 | AY12: =AW12-$F12 -> 9 | AZ12: =AW12-'1011Monthly'!AX12 -> 3 | BB12: 10 | BC12: 1 | BD12: 0 | BE12: 11 | BF12: =BE12-AW12 -> 1 | BG12: =BE12-$F12 -> 10 | BH12: =BE12-'1011Monthly'!BF12 -> 4 | BN12: =BM12-BE12 -> -11 | BO12: =BM12-$F12 -> -1 | BP12: =BM12-'1011Monthly'!BN12 -> -7 | BV12: =BU12-BM12 -> 0 | BW12: =BU12-$F12 -> -1 | BX12: =BU12-'1011Monthly'!BV12 -> -7 | CD12: =CC12-BU12 -> 0 | CE12: =CC12-$K12 -> -1 | CF12: =CC12-'1011Monthly'!CD12 -> -7
A13: Drafting & Design | B13: 48 | C13: 11 | D13: 10 | E13: 8 | F13: =SUM(C13:E13) -> 29 | H13: 12 | I13: 9 | J13: 8 | K13: =SUM(H13:J13) -> 29 | L13: =K13-F13 -> 0 | M13: =K13-'1011Monthly'!K13 -> 1 | O13: 13 | P13: 9 | Q13: 8 | R13: 30 | S13: =R13-K13 -> 1 | T13: =R13-'1011Monthly'!R13 -> 2 | V13: 13 | W13: 9 | X13: 8 | Y13: =SUM(V13:X13) -> 30 | Z13: =Y13-R13 -> 0 | AA13: =Y13-$F13 -> 1 | AB13: =Y13-'1011Monthly'!Z13 -> 2 | AD13: 13 | AE13: 9 | AF13: 8 | AG13: 30 | AH13: =AG13-Y13 -> 0 | AI13: =AG13-$F13 -> 1 | AJ13: =AG13-'1011Monthly'!AH13 -> 1 | AL13: 14 | AM13: 9 | AN13: 8 | AO13: 31 | AP13: =AO13-AG13 -> 1 | AQ13: =AO13-$F13 -> 2 | AR13: =AO13-'1011Monthly'!AP13 -> 2 | AT13: 13 | AU13: 10 | AV13: 8 | AW13: 31 | AX13: =AW13-AO13 -> 0 | AY13: =AW13-$F13 -> 2 | AZ13: =AW13-'1011Monthly'!AX13 -> 5 | BB13: 13 | BC13: 10 | BD13: 8 | BE13: 31 | BF13: =BE13-AW13 -> 0 | BG13: =BE13-$F13 -> 2 | BH13: =BE13-'1011Monthly'!BF13 -> 5 | BN13: =BM13-BE13 -> -31 | BO13: =BM13-$F13 -> -29 | BP13: =BM13-'1011Monthly'!BN13 -> -25 | BV13: =BU13-BM13 -> 0 | BW13: =BU13-$F13 -> -29 | BX13: =BU13-'1011Monthly'!BV13 -> -25 | CD13: =CC13-BU13 -> 0 | CE13: =CC13-$K13 -> -29 | CF13: =CC13-'1011Monthly'!CD13 -> -25
A14: Early Childhood Education | B14: 48 | C14: 18 | D14: 17 | E14: 12 | F14: =SUM(C14:E14) -> 47 | H14: 15 | I14: 15 | J14: 11 | K14: =SUM(H14:J14) -> 41 | L14: =K14-F14 -> -6 | M14: =K14-'1011Monthly'!K14 -> -4 | O14: 15 | P14: 13 | Q14: 11 | R14: 39 | S14: =R14-K14 -> -2 | T14: =R14-'1011Monthly'!R14 -> -7 | V14: 14 | W14: 13 | X14: 11 | Y14: =SUM(V14:X14) -> 38 | Z14: =Y14-R14 -> -1 | AA14: =Y14-$F14 -> -9 | AB14: =Y14-'1011Monthly'!Z14 -> -8 | AD14: 16 | AE14: 13 | AF14: 11 | AG14: 40 | AH14: =AG14-Y14 -> 2 | AI14: =AG14-$F14 -> -7 | AJ14: =AG14-'1011Monthly'!AH14 -> -6 | AL14: 16 | AM14: 13 | AN14: 11 | AO14: 40 | AP14: =AO14-AG14 -> 0 | AQ14: =AO14-$F14 -> -7 | AR14: =AO14-'1011Monthly'!AP14 -> -4 | AT14: 15 | AU14: 13 | AV14: 11 | AW14: 39 | AX14: =AW14-AO14 -> -1 | AY14: =AW14-$F14 -> -8 | AZ14: =AW14-'1011Monthly'!AX14 -> -4 | BB14: 15 | BC14: 13 | BD14: 11 | BE14: 39 | BF14: =BE14-AW14 -> 0 | BG14: =BE14-$F14 -> -8 | BH14: =BE14-'1011Monthly'!BF14 -> -4 | BN14: =BM14-BE14 -> -39 | BO14: =BM14-$F14 -> -47 | BP14: =BM14-'1011Monthly'!BN14 -> -43 | BV14: =BU14-BM14 -> 0 | BW14: =BU14-$F14 -> -47 | BX14: =BU14-'1011Monthly'!BV14 -> -43 | CD14: =CC14-BU14 -> 0 | CE14: =CC14-$K14 -> -41 | CF14: =CC14-'1011Monthly'!CD14 -> -43
A15: Electrical Engineering | B15: 48 | C15: 12 | D15: 13 | E15: 9 | F15: =SUM(C15:E15) -> 34 | H15: 12 | I15: 13 | J15: 8 | K15: =SUM(H15:J15) -> 33 | L15: =K15-F15 -> -1 | M15: =K15-'1011Monthly'!K15 -> -6 | O15: 12 | P15: 13 | Q15: 8 | R15: 33 | S15: =R15-K15 -> 0 | T15: =R15-'1011Monthly'!R15 -> -6 | V15: 12 | W15: 13 | X15: 8 | Y15: =SUM(V15:X15) -> 33 | Z15: =Y15-R15 -> 0 | AA15: =Y15-$F15 -> -1 | AB15: =Y15-'1011Monthly'!Z15 -> -6 | AD15: 12 | AE15: 13 | AF15: 8 | AG15: 33 | AH15: =AG15-Y15 -> 0 | AI15: =AG15-$F15 -> -1 | AJ15: =AG15-'1011Monthly'!AH15 -> -6 | AL15: 15 | AM15: 13 | AN15: 8 | AO15: 36 | AP15: =AO15-AG15 -> 3 | AQ15: =AO15-$F15 -> 2 | AR15: =AO15-'1011Monthly'!AP15 -> -5 | AT15: 15 | AU15: 13 | AV15: 8 | AW15: 36 | AX15: =AW15-AO15 -> 0 | AY15: =AW15-$F15 -> 2 | AZ15: =AW15-'1011Monthly'!AX15 -> -3 | BB15: 15 | BC15: 13 | BD15: 8 | BE15: 36 | BF15: =BE15-AW15 -> 0 | BG15: =BE15-$F15 -> 2 | BH15: =BE15-'1011Monthly'!BF15 -> -3 | BN15: =BM15-BE15 -> -36 | BO15: =BM15-$F15 -> -34 | BP15: =BM15-'1011Monthly'!BN15 -> -39 | BV15: =BU15-BM15 -> 0 | BW15: =BU15-$F15 -> -34 | BX15: =BU15-'1011Monthly'!BV15 -> -39 | CD15: =CC15-BU15 -> 0 | CE15: =CC15-$K15 -> -33 | CF15: =CC15-'1011Monthly'!CD15 -> -39
A16: Electronics | B16: 48 | C16: 16 | D16: 6 | E16: 7 | F16: =SUM(C16:E16) -> 29 | H16: 16 | I16: 6 | J16: 7 | K16: =SUM(H16:J16) -> 29 | L16: =K16-F16 -> 0 | M16: =K16-'1011Monthly'!K16 -> 7 | O16: 16 | P16: 6 | Q16: 7 | R16: 29 | S16: =R16-K16 -> 0 | T16: =R16-'1011Monthly'!R16 -> 7 | V16: 14 | W16: 6 | X16: 7 | Y16: =SUM(V16:X16) -> 27 | Z16: =Y16-R16 -> -2 | AA16: =Y16-$F16 -> -2 | AB16: =Y16-'1011Monthly'!Z16 -> 5 | AD16: 14 | AE16: 6 | AF16: 7 | AG16: 27 | AH16: =AG16-Y16 -> 0 | AI16: =AG16-$F16 -> -2 | AJ16: =AG16-'1011Monthly'!AH16 -> 5 | AL16: 14 | AM16: 6 | AN16: 7 | AO16: 27 | AP16: =AO16-AG16 -> 0 | AQ16: =AO16-$F16 -> -2 | AR16: =AO16-'1011Monthly'!AP16 -> 4 | AT16: 14 | AU16: 6 | AV16: 7 | AW16: 27 | AX16: =AW16-AO16 -> 0 | AY16: =AW16-$F16 -> -2 | AZ16: =AW16-'1011Monthly'!AX16 -> 4 | BB16: 15 | BC16: 6 | BD16: 7 | BE16: 28 | BF16: =BE16-AW16 -> 1 | BG16: =BE16-$F16 -> -1 | BH16: =BE16-'1011Monthly'!BF16 -> 5 | BN16: =BM16-BE16 -> -28 | BO16: =BM16-$F16 -> -29 | BP16: =BM16-'1011Monthly'!BN16 -> -23 | BV16: =BU16-BM16 -> 0 | BW16: =BU16-$F16 -> -29 | BX16: =BU16-'1011Monthly'!BV16 -> -23 | CD16: =CC16-BU16 -> 0 | CE16: =CC16-$K16 -> -29 | CF16: =CC16-'1011Monthly'!CD16 -> -23
A17: Facilities Maintenance Tech | B17: 48 | C17: 7 | D17: 14 | E17: 18 | F17: =SUM(C17:E17) -> 39 | H17: 9 | I17: 13 | J17: 17 | K17: =SUM(H17:J17) -> 39 | L17: =K17-F17 -> 0 | M17: =K17-'1011Monthly'!K17 -> -2 | O17: 9 | P17: 13 | Q17: 17 | R17: 39 | S17: =R17-K17 -> 0 | T17: =R17-'1011Monthly'!R17 -> -1 | V17: 9 | W17: 13 | X17: 17 | Y17: =SUM(V17:X17) -> 39 | Z17: =Y17-R17 -> 0 | AA17: =Y17-$F17 -> 0 | AB17: =Y17-'1011Monthly'!Z17 -> 0 | AD17: 8 | AE17: 13 | AF17: 17 | AG17: 38 | AH17: =AG17-Y17 -> -1 | AI17: =AG17-$F17 -> -1 | AJ17: =AG17-'1011Monthly'!AH17 -> -2 | AL17: 8 | AM17: 12 | AN17: 17 | AO17: 37 | AP17: =AO17-AG17 -> -1 | AQ17: =AO17-$F17 -> -2 | AR17: =AO17-'1011Monthly'!AP17 -> -3 | AT17: 10 | AU17: 11 | AV17: 17 | AW17: 38 | AX17: =AW17-AO17 -> 1 | AY17: =AW17-$F17 -> -1 | AZ17: =AW17-'1011Monthly'!AX17 -> -2 | BB17: 10 | BC17: 11 | BD17: 17 | BE17: 38 | BF17: =BE17-AW17 -> 0 | BG17: =BE17-$F17 -> -1 | BH17: =BE17-'1011Monthly'!BF17 -> -2 | BN17: =BM17-BE17 -> -38 | BO17: =BM17-$F17 -> -39 | BP17: =BM17-'1011Monthly'!BN17 -> -40 | BV17: =BU17-BM17 -> 0 | BW17: =BU17-$F17 -> -39 | BX17: =BU17-'1011Monthly'!BV17 -> -40 | CD17: =CC17-BU17 -> 0 | CE17: =CC17-$K17 -> -39 | CF17: =CC17-'1011Monthly'!CD17 -> -40
A18: Graphic Communications | B18: 48 | C18: 19 | D18: 17 | E18: 4 | F18: =SUM(C18:E18) -> 40 | H18: 20 | I18: 15 | J18: 3 | K18: =SUM(H18:J18) -> 38 | L18: =K18-F18 -> -2 | M18: =K18-'1011Monthly'!K18 -> 3 | O18: 18 | P18: 15 | Q18: 3 | R18: 36 | S18: =R18-K18 -> -2 | T18: =R18-'1011Monthly'!R18 -> 0 | V18: 18 | W18: 15 | X18: 4 | Y18: =SUM(V18:X18) -> 37 | Z18: =Y18-R18 -> 1 | AA18: =Y18-$F18 -> -3 | AB18: =Y18-'1011Monthly'!Z18 -> 1 | AD18: 18 | AE18: 15 | AF18: 4 | AG18: 37 | AH18: =AG18-Y18 -> 0 | AI18: =AG18-$F18 -> -3 | AJ18: =AG18-'1011Monthly'!AH18 -> 1 | AL18: 18 | AM18: 14 | AN18: 4 | AO18: 36 | AP18: =AO18-AG18 -> -1 | AQ18: =AO18-$F18 -> -4 | AR18: =AO18-'1011Monthly'!AP18 -> 0 | AT18: 19 | AU18: 14 | AV18: 4 | AW18: 37 | AX18: =AW18-AO18 -> 1 | AY18: =AW18-$F18 -> -3 | AZ18: =AW18-'1011Monthly'!AX18 -> 3 | BB18: 19 | BC18: 14 | BD18: 4 | BE18: 37 | BF18: =BE18-AW18 -> 0 | BG18: =BE18-$F18 -> -3 | BH18: =BE18-'1011Monthly'!BF18 -> 3 | BN18: =BM18-BE18 -> -37 | BO18: =BM18-$F18 -> -40 | BP18: =BM18-'1011Monthly'!BN18 -> -34 | BV18: =BU18-BM18 -> 0 | BW18: =BU18-$F18 -> -40 | BX18: =BU18-'1011Monthly'!BV18 -> -34 | CD18: =CC18-BU18 -> 0 | CE18: =CC18-$K18 -> -38 | CF18: =CC18-'1011Monthly'!CD18 -> -34
A19: Health Assistant | B19: 48 | C19: 15 | D19: 17 | E19: 14 | F19: =SUM(C19:E19) -> 46 | H19: 16 | I19: 16 | J19: 14 | K19: =SUM(H19:J19) -> 46 | L19: =K19-F19 -> 0 | M19: =K19-'1011Monthly'!K19 -> 4 | O19: 16 | P19: 15 | Q19: 14 | R19: 45 | S19: =R19-K19 -> -1 | T19: =R19-'1011Monthly'!R19 -> 3 | V19: 16 | W19: 15 | X19: 14 | Y19: =SUM(V19:X19) -> 45 | Z19: =Y19-R19 -> 0 | AA19: =Y19-$F19 -> -1 | AB19: =Y19-'1011Monthly'!Z19 -> 3 | AD19: 15 | AE19: 15 | AF19: 14 | AG19: 44 | AH19: =AG19-Y19 -> -1 | AI19: =AG19-$F19 -> -2 | AJ19: =AG19-'1011Monthly'!AH19 -> 2 | AL19: 15 | AM19: 15 | AN19: 14 | AO19: 44 | AP19: =AO19-AG19 -> 0 | AQ19: =AO19-$F19 -> -2 | AR19: =AO19-'1011Monthly'!AP19 -> 2 | AT19: 13 | AU19: 13 | AV19: 14 | AW19: 40 | AX19: =AW19-AO19 -> -4 | AY19: =AW19-$F19 -> -6 | AZ19: =AW19-'1011Monthly'!AX19 -> -2 | BB19: 13 | BC19: 12 | BD19: 14 | BE19: 39 | BF19: =BE19-AW19 -> -1 | BG19: =BE19-$F19 -> -7 | BH19: =BE19-'1011Monthly'!BF19 -> -3 | BN19: =BM19-BE19 -> -39 | BO19: =BM19-$F19 -> -46 | BP19: =BM19-'1011Monthly'!BN19 -> -41 | BV19: =BU19-BM19 -> 0 | BW19: =BU19-$F19 -> -46 | BX19: =BU19-'1011Monthly'!BV19 -> -41 | CD19: =CC19-BU19 -> 0 | CE19: =CC19-$K19 -> -46 | CF19: =CC19-'1011Monthly'!CD19 -> -41
A20: Metal Fabrication | B20: 48 | C20: 16 | D20: 13 | E20: 13 | F20: =SUM(C20:E20) -> 42 | H20: 18 | I20: 14 | J20: 13 | K20: =SUM(H20:J20) -> 45 | L20: =K20-F20 -> 3 | M20: =K20-'1011Monthly'!K20 -> 0 | O20: 17 | P20: 14 | Q20: 13 | R20: 44 | S20: =R20-K20 -> -1 | T20: =R20-'1011Monthly'!R20 -> 0 | V20: 17 | W20: 14 | X20: 13 | Y20: =SUM(V20:X20) -> 44 | Z20: =Y20-R20 -> 0 | AA20: =Y20-$F20 -> 2 | AB20: =Y20-'1011Monthly'!Z20 -> 0 | AD20: 17 | AE20: 14 | AF20: 13 | AG20: 44 | AH20: =AG20-Y20 -> 0 | AI20: =AG20-$F20 -> 2 | AJ20: =AG20-'1011Monthly'!AH20 -> 1 | AL20: 17 | AM20: 14 | AN20: 13 | AO20: 44 | AP20: =AO20-AG20 -> 0 | AQ20: =AO20-$F20 -> 2 | AR20: =AO20-'1011Monthly'!AP20 -> 2 | AT20: 16 | AU20: 14 | AV20: 13 | AW20: 43 | AX20: =AW20-AO20 -> -1 | AY20: =AW20-$F20 -> 1 | AZ20: =AW20-'1011Monthly'!AX20 -> 1 | BB20: 16 | BC20: 13 | BD20: 13 | BE20: 42 | BF20: =BE20-AW20 -> -1 | BG20: =BE20-$F20 -> 0 | BH20: =BE20-'1011Monthly'!BF20 -> 0 | BN20: =BM20-BE20 -> -42 | BO20: =BM20-$F20 -> -42 | BP20: =BM20-'1011Monthly'!BN20 -> -42 | BV20: =BU20-BM20 -> 0 | BW20: =BU20-$F20 -> -42 | BX20: =BU20-'1011Monthly'!BV20 -> -42 | CD20: =CC20-BU20 -> 0 | CE20: =CC20-$K20 -> -45 | CF20: =CC20-'1011Monthly'!CD20 -> -42
A21: Networking Technologies | B21: 48 | C21: 13 | D21: 11 | E21: 0 | F21: =SUM(C21:E21) -> 24 | H21: 17 | I21: 11 | K21: =SUM(H21:J21) -> 28 | L21: =K21-F21 -> 4 | M21: =K21-'1011Monthly'!K21 -> 12 | O21: 17 | P21: 11 | Q21: 0 | R21: 28 | S21: =R21-K21 -> 0 | T21: =R21-'1011Monthly'!R21 -> 10 | V21: 17 | W21: 11 | X21: 0 | Y21: =SUM(V21:X21) -> 28 | Z21: =Y21-R21 -> 0 | AA21: =Y21-$F21 -> 4 | AB21: =Y21-'1011Monthly'!Z21 -> 10 | AD21: 17 | AE21: 11 | AF21: 0 | AG21: 28 | AH21: =AG21-Y21 -> 0 | AI21: =AG21-$F21 -> 4 | AJ21: =AG21-'1011Monthly'!AH21 -> 10 | AL21: 17 | AM21: 11 | AN21: 0 | AO21: 28 | AP21: =AO21-AG21 -> 0 | AQ21: =AO21-$F21 -> 4 | AR21: =AO21-'1011Monthly'!AP21 -> 10 | AT21: 17 | AU21: 11 | AV21: 0 | AW21: 28 | AX21: =AW21-AO21 -> 0 | AY21: =AW21-$F21 -> 4 | AZ21: =AW21-'1011Monthly'!AX21 -> 10 | BB21: 16 | BC21: 11 | BD21: 0 | BE21: 27 | BF21: =BE21-AW21 -> -1 | BG21: =BE21-$F21 -> 3 | BH21: =BE21-'1011Monthly'!BF21 -> 10 | BN21: =BM21-BE21 -> -27 | BO21: =BM21-$F21 -> -24 | BP21: =BM21-'1011Monthly'!BN21 -> -16 | BV21: =BU21-BM21 -> 0 | BW21: =BU21-$F21 -> -24 | BX21: =BU21-'1011Monthly'!BV21 -> -16 | CD21: =CC21-BU21 -> 0 | CE21: =CC21-$K21 -> -28 | CF21: =CC21-'1011Monthly'!CD21 -> -16
A22: Precision Machining | B22: 48 | C22: 9 | D22: 8 | E22: 9 | F22: =SUM(C22:E22) -> 26 | H22: 11 | I22: 8 | J22: 9 | K22: =SUM(H22:J22) -> 28 | L22: =K22-F22 -> 2 | M22: =K22-'1011Monthly'!K22 -> 0 | O22: 11 | P22: 8 | Q22: 9 | R22: 28 | S22: =R22-K22 -> 0 | T22: =R22-'1011Monthly'!R22 -> -1 | V22: 11 | W22: 8 | X22: 9 | Y22: =SUM(V22:X22) -> 28 | Z22: =Y22-R22 -> 0 | AA22: =Y22-$F22 -> 2 | AB22: =Y22-'1011Monthly'!Z22 -> -2 | AD22: 12 | AE22: 8 | AF22: 9 | AG22: 29 | AH22: =AG22-Y22 -> 1 | AI22: =AG22-$F22 -> 3 | AJ22: =AG22-'1011Monthly'!AH22 -> 0 | AL22: 13 | AM22: 8 | AN22: 9 | AO22: 30 | AP22: =AO22-AG22 -> 1 | AQ22: =AO22-$F22 -> 4 | AR22: =AO22-'1011Monthly'!AP22 -> 1 | AT22: 13 | AU22: 7 | AV22: 8 | AW22: 28 | AX22: =AW22-AO22 -> -2 | AY22: =AW22-$F22 -> 2 | AZ22: =AW22-'1011Monthly'!AX22 -> -1 | BB22: 13 | BC22: 7 | BD22: 8 | BE22: 28 | BF22: =BE22-AW22 -> 0 | BG22: =BE22-$F22 -> 2 | BH22: =BE22-'1011Monthly'!BF22 -> 0 | BN22: =BM22-BE22 -> -28 | BO22: =BM22-$F22 -> -26 | BP22: =BM22-'1011Monthly'!BN22 -> -27 | BV22: =BU22-BM22 -> 0 | BW22: =BU22-$F22 -> -26 | BX22: =BU22-'1011Monthly'!BV22 -> -27 | CD22: =CC22-BU22 -> 0 | CE22: =CC22-$K22 -> -28 | CF22: =CC22-'1011Monthly'!CD22 -> -27
A23: Tourism & Hospitality | B23: 48 | C23: 18 | D23: 23 | E23: 0 | F23: =SUM(C23:E23) -> 41 | H23: 23 | I23: 20 | K23: =SUM(H23:J23) -> 43 | L23: =K23-F23 -> 2 | M23: =K23-'1011Monthly'!K23 -> 3 | O23: 23 | P23: 20 | Q23: 0 | R23: 43 | S23: =R23-K23 -> 0 | T23: =R23-'1011Monthly'!R23 -> 5 | V23: 23 | W23: 20 | X23: 0 | Y23: =SUM(V23:X23) -> 43 | Z23: =Y23-R23 -> 0 | AA23: =Y23-$F23 -> 2 | AB23: =Y23-'1011Monthly'!Z23 -> 5 | AD23: 22 | AE23: 20 | AF23: 0 | AG23: 42 | AH23: =AG23-Y23 -> -1 | AI23: =AG23-$F23 -> 1 | AJ23: =AG23-'1011Monthly'!AH23 -> 5 | AL23: 22 | AM23: 19 | AN23: 0 | AO23: 41 | AP23: =AO23-AG23 -> -1 | AQ23: =AO23-$F23 -> 0 | AR23: =AO23-'1011Monthly'!AP23 -> 4 | AT23: 21 | AU23: 19 | AV23: 0 | AW23: 40 | AX23: =AW23-AO23 -> -1 | AY23: =AW23-$F23 -> -1 | AZ23: =AW23-'1011Monthly'!AX23 -> 6 | BB23: 21 | BC23: 19 | BD23: 0 | BE23: 40 | BF23: =BE23-AW23 -> 0 | BG23: =BE23-$F23 -> -1 | BH23: =BE23-'1011Monthly'!BF23 -> 6 | BN23: =BM23-BE23 -> -40 | BO23: =BM23-$F23 -> -41 | BP23: =BM23-'1011Monthly'!BN23 -> -33 | BV23: =BU23-BM23 -> 0 | BW23: =BU23-$F23 -> -41 | BX23: =BU23-'1011Monthly'!BV23 -> -32 | CD23: =CC23-BU23 -> 0 | CE23: =CC23-$K23 -> -43 | CF23: =CC23-'1011Monthly'!CD23 -> -32
A24: TOTALS | B24: =SUM(B5:B23) -> 1008 | C24: =SUM(C5:C23) -> 343 | D24: =SUM(D5:D23) -> 286 | E24: =SUM(E5:E23) -> 167 | F24: =SUM(F5:F23) -> 796 | H24: =SUM(H5:H23) -> 353 | I24: =SUM(I5:I23) -> 268 | J24: =SUM(J5:J23) -> 159 | K24: =SUM(H24:J24) -> 780 | L24: =K24-F24 -> -16 | M24: =K24-'1011Monthly'!K24 -> 39 | O24: =SUM(O5:O23) -> 349 | P24: =SUM(P5:P23) -> 264 | Q24: =SUM(Q5:Q23) -> 159 | R24: =SUM(R5:R23) -> 772 | S24: =R24-K24 -> -8 | T24: =R24-'1011Monthly'!R24 -> 41 | V24: =SUM(V5:V23) -> 346 | W24: =SUM(W5:W23) -> 263 | X24: =SUM(X5:X23) -> 158 | Y24: =SUM(Y5:Y23) -> 767 | Z24: =Y24-R24 -> -5 | AA24: =Y24-$F24 -> -29 | AB24: =Y24-'1011Monthly'!Z24 -> 39 | AD24: =SUM(AD5:AD23) -> 343 | AE24: =SUM(AE5:AE23) -> 262 | AF24: =SUM(AF5:AF23) -> 158 | AG24: =SUM(AG5:AG23) -> 763 | AH24: =AG24-Y24 -> -4 | AI24: =AG24-$F24 -> -33 | AJ24: =AG24-'1011Monthly'!AH24 -> 37 | AL24: =SUM(AL5:AL23) -> 349 | AM24: =SUM(AM5:AM23) -> 258 | AN24: =SUM(AN5:AN23) -> 157 | AO24: =SUM(AO5:AO23) -> 764 | AP24: =AO24-AG24 -> 1 | AQ24: =AO24-$F24 -> -32 | AR24: =AO24-'1011Monthly'!AP24 -> 41 | AT24: =SUM(AT5:AT23) -> 347 | AU24: =SUM(AU5:AU23) -> 252 | AV24: =SUM(AV5:AV23) -> 157 | AW24: =SUM(AW5:AW23) -> 756 | AX24: =AW24-AO24 -> -8 | AY24: =AW24-$F24 -> -40 | AZ24: =AW24-'1011Monthly'!AX24 -> 51 | BB24: =SUM(BB5:BB23) -> 348 | BC24: =SUM(BC5:BC23) -> 250 | BD24: =SUM(BD5:BD23) -> 157 | BE24: 755 | BF24: =BE24-AW24 -> -1 | BG24: =BE24-$F24 -> -41 | BH24: =BE24-'1011Monthly'!BF24 -> 51 | BJ24: =SUM(BJ5:BJ23) -> 0 | BK24: =SUM(BK5:BK23) -> 0 | BL24: =SUM(BL5:BL23) -> 0 | BM24: =SUM(BM5:BM23) -> 0 | BN24: =BM24-BE24 -> -755 | BO24: =BM24-$F24 -> -796 | BP24: =BM24-'1011Monthly'!BN24 -> -697 | BR24: =SUM(BR5:BR23) -> 0 | BS24: =SUM(BS5:BS23) -> 0 | BT24: =SUM(BT5:BT23) -> 0 | BU24: =SUM(BU5:BU23) -> 0 | BV24: =BU24-BM24 -> 0 | BW24: =BU24-$F24 -> -796 | BX24: =BU24-'1011Monthly'!BV24 -> -694 | CD24: =CC24-BU24 -> 0 | CE24: =CC24-$K24 -> -780 | CF24: =CC24-'1011Monthly'!CD24 -> -694
A26: Date of Report | H26: 40808 | O26: Thursday, October 20, 2011 | V26: Thursday, November 17, 2011 | AD26: Thursday, December 15, 2011 | AL26: Monday, January 23, 2012 | AT26: Thursday, February 16, 2012 | BB26: Thursday, March 15, 2012
A27: School District | C27: Program/Year Level | H27: Program/Year Level | K27: Total | L27: Chg/ Month | M27: Chg/ Year | O27: Program/Year Level | R27: Total | S27: Chg/ Month | T27: Chg/ Year | V27: Program/Year Level | Y27: Total | Z27: Chg/ Month | AA27: Chg/ Sept | AB27: Chg/ Year | AD27: Program/Year Level | AG27: Total | AH27: Chg/ Month | AI27: Chg/ Sept | AJ27: Chg/ Year | AL27: Program/Year Level | AO27: Total | AP27: Chg/ Month | AQ27: Chg/ Sept | AR27: Chg/ Year | AT27: Program/Year Level | AW27: Total | AX27: Chg/ Month | AY27: Chg/ Sept | AZ27: Chg/ Year | BB27: Program/Year Level | BE27: Total | BF27: Chg/ Month | BG27: Chg/ Sept | BH27: Chg/ Year | BJ27: Program/Year Level | BM27: Total | BN27: Chg/ Month | BO27: Chg/ Sept | BP27: Chg/ Year | BR27: Program/Year Level | BU27: Total | BV27: Chg/ Month | BW27: Chg/ Sept | BX27: Chg/ Year | BZ27: Program/Year Level | CC27: Total | CD27: Chg/ Month | CE27: Chg/ Sept | CF27: Chg/ Year
A28: School District | B28: Quota | C28: 1st | D28: 2nd | E28: 3rd | F28: Total | H28: 1st | I28: 2nd | J28: 3rd | K28: Total | O28: 1st | P28: 2nd | Q28: 3rd | R28: Total | V28: 1st | W28: 2nd | X28: 3rd | Y28: Total | AD28: 1st | AE28: 2nd | AF28: 3rd | AG28: Total | AL28: 1st | AM28: 2nd | AN28: 3rd | AO28: Total | AT28: 1st | AU28: 2nd | AV28: 3rd | AW28: Total | BB28: 1st | BC28: 2nd | BD28: 3rd | BE28: Total | BJ28: 1st | BK28: 2nd | BL28: 3rd | BM28: Total | BR28: 1st | BS28: 2nd | BT28: 3rd | BU28: Total | BZ28: 1st | CA28: 2nd | CB28: 3rd | CC28: Total
A29: Fairview | B29: =$B$24*B44 -> 73.158321 | C29: 12 | D29: 12 | E29: 6 | F29: =SUM(C29:E29) -> 30 | H29: 13 | I29: 10 | J29: 6 | K29: =SUM(H29:J29) -> 29 | L29: =K29-F29 -> -1 | M29: =K29-'1011Monthly'!K28 -> 1 | O29: 12 | P29: 10 | Q29: 6 | R29: 28 | S29: =R29-K29 -> -1 | T29: =R29-'1011Monthly'!R28 -> 0 | V29: 12 | W29: 10 | X29: 6 | Y29: 28 | Z29: =Y29-R29 -> 0 | AA29: =Y29-$F29 -> -2 | AB29: =Y29-'1011Monthly'!Z28 -> 1 | AD29: 15 | AE29: 10 | AF29: 6 | AG29: 31 | AH29: =AG29-Y29 -> 3 | AI29: =AG29-$F29 -> 1 | AJ29: =AG29-'1011Monthly'!AH28 -> 4 | AL29: 16 | AM29: 10 | AN29: 6 | AO29: 32 | AP29: =AO29-AG29 -> 1 | AQ29: =AO29-$F29 -> 2 | AR29: =AO29-'1011Monthly'!AP28 -> 6 | AT29: 16 | AU29: 10 | AV29: 6 | AW29: 32 | AX29: =AW29-AO29 -> 0 | AY29: =AW29-$F29 -> 2 | AZ29: =AW29-'1011Monthly'!AX28 -> 5 | BB29: 16 | BC29: 10 | BD29: 6 | BE29: 32 | BF29: =BE29-AW29 -> 0 | BG29: =BE29-$F29 -> 2 | BH29: =BE29-'1011Monthly'!BF28 -> 5 | BN29: =BM29-BE29 -> -32 | BO29: =BM29-$F29 -> -30 | BP29: =BM29-'1011Monthly'!BN28 -> -27 | BV29: =BU29-BM29 -> 0 | BW29: =BU29-$F29 -> -30 | BX29: =BU29-'1011Monthly'!BV28 -> -27 | CD29: =CC29-BU29 -> 0 | CE29: =CC29-$K29 -> -29 | CF29: =CC29-'1011Monthly'!CD28 -> -27
A30: Fort LeBoeuf | B30: =$B$24*B45 -> 86.062595 | C30: 46 | D30: 37 | E30: 22 | F30: =SUM(C30:E30) -> 105 | H30: 40 | I30: 35 | J30: 23 | K30: =SUM(H30:J30) -> 98 | L30: =K30-F30 -> -7 | M30: =K30-'1011Monthly'!K29 -> 7 | O30: 39 | P30: 35 | Q30: 23 | R30: 97 | S30: =R30-K30 -> -1 | T30: =R30-'1011Monthly'!R29 -> 9 | V30: 38 | W30: 35 | X30: 22 | Y30: 95 | Z30: 1 | AA30: =Y30-$F30 -> -10 | AB30: =Y30-'1011Monthly'!Z29 -> 6 | AD30: 37 | AE30: 35 | AF30: 22 | AG30: 94 | AH30: =AG30-Y30 -> -1 | AI30: =AG30-$F30 -> -11 | AJ30: =AG30-'1011Monthly'!AH29 -> 4 | AL30: 37 | AM30: 35 | AN30: 22 | AO30: 94 | AP30: =AO30-AG30 -> 0 | AQ30: =AO30-$F30 -> -11 | AR30: =AO30-'1011Monthly'!AP29 -> 4 | AT30: 37 | AU30: 35 | AV30: 21 | AW30: 93 | AX30: =AW30-AO30 -> -1 | AY30: =AW30-$F30 -> -12 | AZ30: =AW30-'1011Monthly'!AX29 -> 6 | BB30: 37 | BC30: 35 | BD30: 21 | BE30: 93 | BF30: =BE30-AW30 -> 0 | BG30: =BE30-$F30 -> -12 | BH30: =BE30-'1011Monthly'!BF29 -> 6 | BN30: =BM30-BE30 -> -93 | BO30: =BM30-$F30 -> -105 | BP30: =BM30-'1011Monthly'!BN29 -> -87 | BV30: =BU30-BM30 -> 0 | BW30: =BU30-$F30 -> -105 | BX30: =BU30-'1011Monthly'!BV29 -> -87 | CD30: =CC30-BU30 -> 0 | CE30: =CC30-$K30 -> -98 | CF30: =CC30-'1011Monthly'!CD29 -> -87
A31: General McLane | B31: =$B$24*B46 -> 93.30237 | C31: 27 | D31: 29 | E31: 11 | F31: =SUM(C31:E31) -> 67 | H31: 30 | I31: 26 | J31: 11 | K31: =SUM(H31:J31) -> 67 | L31: =K31-F31 -> 0 | M31: =K31-'1011Monthly'!K30 -> 10 | O31: 32 | P31: 26 | Q31: 11 | R31: 69 | S31: =R31-K31 -> 2 | T31: =R31-'1011Monthly'!R30 -> 11 | V31: 32 | W31: 27 | X31: 11 | Y31: 70 | Z31: =Y31-R31 -> 1 | AA31: =Y31-$F31 -> 3 | AB31: =Y31-'1011Monthly'!Z30 -> 13 | AD31: 32 | AE31: 27 | AF31: 11 | AG31: 70 | AH31: =AG31-Y31 -> 0 | AI31: =AG31-$F31 -> 3 | AJ31: =AG31-'1011Monthly'!AH30 -> 15 | AL31: 32 | AM31: 27 | AN31: 11 | AO31: 70 | AP31: =AO31-AG31 -> 0 | AQ31: =AO31-$F31 -> 3 | AR31: =AO31-'1011Monthly'!AP30 -> 14 | AT31: 33 | AU31: 27 | AV31: 11 | AW31: 71 | AX31: =AW31-AO31 -> 1 | AY31: =AW31-$F31 -> 4 | AZ31: =AW31-'1011Monthly'!AX30 -> 17 | BB31: 33 | BC31: 26 | BD31: 11 | BE31: 70 | BF31: =BE31-AW31 -> -1 | BG31: =BE31-$F31 -> 3 | BH31: =BE31-'1011Monthly'!BF30 -> 16 | BN31: =BM31-BE31 -> -70 | BO31: =BM31-$F31 -> -67 | BP31: =BM31-'1011Monthly'!BN30 -> -52 | BV31: =BU31-BM31 -> 0 | BW31: =BU31-$F31 -> -67 | BX31: =BU31-'1011Monthly'!BV30 -> -52 | CD31: =CC31-BU31 -> 0 | CE31: =CC31-$K31 -> -67 | CF31: =CC31-'1011Monthly'!CD30 -> -52
A32: Girard | B32: =$B$24*B47 -> 77.925959 | C32: 33 | D32: 23 | E32: 10 | F32: =SUM(C32:E32) -> 66 | H32: 33 | I32: 22 | J32: 10 | K32: =SUM(H32:J32) -> 65 | L32: =K32-F32 -> -1 | M32: =K32-'1011Monthly'!K31 -> -3 | O32: 33 | P32: 22 | Q32: 10 | R32: 65 | S32: =R32-K32 -> 0 | T32: =R32-'1011Monthly'!R31 -> -1 | V32: 33 | W32: 20 | X32: 10 | Y32: 63 | Z32: =Y32-R32 -> -2 | AA32: =Y32-$F32 -> -3 | AB32: =Y32-'1011Monthly'!Z31 -> -3 | AD32: 33 | AE32: 20 | AF32: 10 | AG32: 63 | AH32: =AG32-Y32 -> 0 | AI32: =AG32-$F32 -> -3 | AJ32: =AG32-'1011Monthly'!AH31 -> -3 | AL32: 32 | AM32: 20 | AN32: 8 | AO32: 60 | AP32: =AO32-AG32 -> -3 | AQ32: =AO32-$F32 -> -6 | AR32: =AO32-'1011Monthly'!AP31 -> -6 | AT32: 32 | AU32: 19 | AV32: 8 | AW32: 59 | AX32: =AW32-AO32 -> -1 | AY32: =AW32-$F32 -> -7 | AZ32: =AW32-'1011Monthly'!AX31 -> 0 | BB32: 32 | BC32: 19 | BD32: 8 | BE32: 59 | BF32: =BE32-AW32 -> 0 | BG32: =BE32-$F32 -> -7 | BH32: =BE32-'1011Monthly'!BF31 -> 0 | BN32: =BM32-BE32 -> -59 | BO32: =BM32-$F32 -> -66 | BP32: =BM32-'1011Monthly'!BN31 -> -59 | BV32: =BU32-BM32 -> 0 | BW32: =BU32-$F32 -> -66 | BX32: =BU32-'1011Monthly'!BV31 -> -58 | CD32: =CC32-BU32 -> 0 | CE32: =CC32-$K32 -> -65 | CF32: =CC32-'1011Monthly'!CD31 -> -58
A33: Harbor Creek | B33: =$B$24*B48 -> 79.14312 | C33: 16 | D33: 31 | E33: 10 | F33: =SUM(C33:E33) -> 57 | H33: 20 | I33: 28 | J33: 9 | K33: =SUM(H33:J33) -> 57 | L33: =K33-F33 -> 0 | M33: =K33-'1011Monthly'!K32 -> -5 | O33: 20 | P33: 28 | Q33: 9 | R33: 57 | S33: =R33-K33 -> 0 | T33: =R33-'1011Monthly'!R32 -> -3 | V33: 19 | W33: 28 | X33: 9 | Y33: 56 | Z33: =Y33-R33 -> -1 | AA33: =Y33-$F33 -> -1 | AB33: =Y33-'1011Monthly'!Z32 -> -4 | AD33: 19 | AE33: 27 | AF33: 9 | AG33: 55 | AH33: =AG33-Y33 -> -1 | AI33: =AG33-$F33 -> -2 | AJ33: =AG33-'1011Monthly'!AH32 -> -6 | AL33: 19 | AM33: 26 | AN33: 9 | AO33: 54 | AP33: =AO33-AG33 -> -1 | AQ33: =AO33-$F33 -> -3 | AR33: =AO33-'1011Monthly'!AP32 -> -6 | AT33: 17 | AU33: 26 | AV33: 9 | AW33: 52 | AX33: =AW33-AO33 -> -2 | AY33: =AW33-$F33 -> -5 | AZ33: =AW33-'1011Monthly'!AX32 -> -8 | BB33: 17 | BC33: 26 | BD33: 9 | BE33: 52 | BF33: =BE33-AW33 -> 0 | BG33: =BE33-$F33 -> -5 | BH33: =BE33-'1011Monthly'!BF32 -> -7 | BN33: =BM33-BE33 -> -52 | BO33: =BM33-$F33 -> -57 | BP33: =BM33-'1011Monthly'!BN32 -> -59 | BV33: =BU33-BM33 -> 0 | BW33: =BU33-$F33 -> -57 | BX33: =BU33-'1011Monthly'!BV32 -> -59 | CD33: =CC33-BU33 -> 0 | CE33: =CC33-$K33 -> -57 | CF33: =CC33-'1011Monthly'!CD32 -> -59
A34: Iroquois | B34: =$B$24*B49 -> 51.145988 | C34: 19 | D34: 11 | E34: 5 | F34: =SUM(C34:E34) -> 35 | H34: 18 | I34: 12 | J34: 4 | K34: =SUM(H34:J34) -> 34 | L34: =K34-F34 -> -1 | M34: =K34-'1011Monthly'!K33 -> 9 | O34: 18 | P34: 13 | Q34: 4 | R34: 35 | S34: =R34-K34 -> 1 | T34: =R34-'1011Monthly'!R33 -> 11 | V34: 18 | W34: 14 | X34: 4 | Y34: 36 | Z34: =Y34-R34 -> 1 | AA34: =Y34-$F34 -> 1 | AB34: =Y34-'1011Monthly'!Z33 -> 12 | AD34: 15 | AE34: 13 | AF34: 4 | AG34: 32 | AH34: =AG34-Y34 -> -4 | AI34: =AG34-$F34 -> -3 | AJ34: =AG34-'1011Monthly'!AH33 -> 8 | AL34: 15 | AM34: 13 | AN34: 4 | AO34: 32 | AP34: =AO34-AG34 -> 0 | AQ34: =AO34-$F34 -> -3 | AR34: =AO34-'1011Monthly'!AP33 -> 8 | AT34: 15 | AU34: 12 | AV34: 4 | AW34: 31 | AX34: =AW34-AO34 -> -1 | AY34: =AW34-$F34 -> -4 | AZ34: =AW34-'1011Monthly'!AX33 -> 7 | BB34: 14 | BC34: 12 | BD34: 4 | BE34: 30 | BF34: =BE34-AW34 -> -1 | BG34: =BE34-$F34 -> -5 | BH34: =BE34-'1011Monthly'!BF33 -> 6 | BN34: =BM34-BE34 -> -30 | BO34: =BM34-$F34 -> -35 | BP34: =BM34-'1011Monthly'!BN33 -> -24 | BV34: =BU34-BM34 -> 0 | BW34: =BU34-$F34 -> -35 | BX34: =BU34-'1011Monthly'!BV33 -> -24 | CD34: =CC34-BU34 -> 0 | CE34: =CC34-$K34 -> -34 | CF34: =CC34-'1011Monthly'!CD33 -> -24
A35: Millcreek | B35: =$B$24*B50 -> 296.31921 | C35: 70 | D35: 43 | E35: 44 | F35: =SUM(C35:E35) -> 157 | H35: =12+57+2 -> 71 | I35: 42 | J35: 41 | K35: =SUM(H35:J35) -> 154 | L35: =K35-F35 -> -3 | M35: =K35-'1011Monthly'!K34 -> 3 | O35: 70 | P35: 42 | Q35: 41 | R35: 153 | S35: =R35-K35 -> -1 | T35: =R35-'1011Monthly'!R34 -> 3 | V35: 70 | W35: 42 | X35: 42 | Y35: 154 | Z35: =Y35-R35 -> 1 | AA35: =Y35-$F35 -> -3 | AB35: =Y35-'1011Monthly'!Z34 -> 9 | AD35: 69 | AE35: 42 | AF35: 42 | AG35: 153 | AH35: =AG35-Y35 -> -1 | AI35: =AG35-$F35 -> -4 | AJ35: =AG35-'1011Monthly'!AH34 -> 10 | AL35: 77 | AM35: 41 | AN35: 42 | AO35: 160 | AP35: =AO35-AG35 -> 7 | AQ35: =AO35-$F35 -> 3 | AR35: =AO35-'1011Monthly'!AP34 -> 17 | AT35: 72 | AU35: 37 | AV35: 42 | AW35: 151 | AX35: =AW35-AO35 -> -9 | AY35: =AW35-$F35 -> -6 | AZ35: =AW35-'1011Monthly'!AX34 -> 9 | BB35: 72 | BC35: 37 | BD35: 42 | BE35: 151 | BF35: =BE35-AW35 -> 0 | BG35: =BE35-$F35 -> -6 | BH35: =BE35-'1011Monthly'!BF34 -> 10 | BN35: =BM35-BE35 -> -151 | BO35: =BM35-$F35 -> -157 | BP35: =BM35-'1011Monthly'!BN34 -> -141 | BV35: =BU35-BM35 -> 0 | BW35: =BU35-$F35 -> -157 | BX35: =BU35-'1011Monthly'!BV34 -> -141 | CD35: =CC35-BU35 -> 0 | CE35: =CC35-$K35 -> -154 | CF35: =CC35-'1011Monthly'!CD34 -> -141
A36: North East | B36: =$B$24*B51 -> 75.171167 | C36: 31 | D36: 26 | E36: 20 | F36: =SUM(C36:E36) -> 77 | H36: 42 | I36: 20 | J36: 19 | K36: =SUM(H36:J36) -> 81 | L36: =K36-F36 -> 4 | M36: =K36-'1011Monthly'!K35 -> 7 | O36: 43 | P36: 20 | Q36: 19 | R36: 82 | S36: =R36-K36 -> 1 | T36: =R36-'1011Monthly'!R35 -> 6 | V36: 42 | W36: 20 | X36: 18 | Y36: 80 | Z36: =Y36-R36 -> -2 | AA36: =Y36-$F36 -> 3 | AB36: =Y36-'1011Monthly'!Z35 -> 2 | AD36: 42 | AE36: 20 | AF36: 18 | AG36: 80 | AH36: =AG36-Y36 -> 0 | AI36: =AG36-$F36 -> 3 | AJ36: =AG36-'1011Monthly'!AH35 -> 1 | AL36: 42 | AM36: 20 | AN36: 18 | AO36: 80 | AP36: =AO36-AG36 -> 0 | AQ36: =AO36-$F36 -> 3 | AR36: =AO36-'1011Monthly'!AP35 -> 1 | AT36: 38 | AU36: 21 | AV36: 19 | AW36: 78 | AX36: =AW36-AO36 -> -2 | AY36: =AW36-$F36 -> 1 | AZ36: =AW36-'1011Monthly'!AX35 -> 3 | BB36: 37 | BC36: 21 | BD36: 19 | BE36: 77 | BF36: =BE36-AW36 -> -1 | BG36: =BE36-$F36 -> 0 | BH36: =BE36-'1011Monthly'!BF35 -> 3 | BN36: =BM36-BE36 -> -77 | BO36: =BM36-$F36 -> -77 | BP36: =BM36-'1011Monthly'!BN35 -> -70 | BV36: =BU36-BM36 -> 0 | BW36: =BU36-$F36 -> -77 | BX36: =BU36-'1011Monthly'!BV35 -> -68 | CD36: =CC36-BU36 -> 0 | CE36: =CC36-$K36 -> -81 | CF36: =CC36-'1011Monthly'!CD35 -> -68
A37: Northwestern | B37: =$B$24*B52 -> 69.359123 | C37: 42 | D37: 38 | E37: 14 | F37: =SUM(C37:E37) -> 94 | H37: 44 | I37: 35 | J37: 13 | K37: =SUM(H37:J37) -> 92 | L37: =K37-F37 -> -2 | M37: =K37-'1011Monthly'!K36 -> 24 | O37: 42 | P37: 34 | Q37: 13 | R37: 89 | S37: =R37-K37 -> -3 | T37: =R37-'1011Monthly'!R36 -> 22 | V37: 41 | W37: 34 | X37: 13 | Y37: 88 | Z37: =Y37-R37 -> -1 | AA37: =Y37-$F37 -> -6 | AB37: =Y37-'1011Monthly'!Z36 -> 19 | AD37: 40 | AE37: 34 | AF37: 13 | AG37: 87 | AH37: =AG37-Y37 -> -1 | AI37: =AG37-$F37 -> -7 | AJ37: =AG37-'1011Monthly'!AH36 -> 17 | AL37: 38 | AM37: 34 | AN37: 14 | AO37: 86 | AP37: =AO37-AG37 -> -1 | AQ37: =AO37-$F37 -> -8 | AR37: =AO37-'1011Monthly'!AP36 -> 16 | AT37: 38 | AU37: 34 | AV37: 14 | AW37: 86 | AX37: =AW37-AO37 -> 0 | AY37: =AW37-$F37 -> -8 | AZ37: =AW37-'1011Monthly'!AX36 -> 17 | BB37: 39 | BC37: 34 | BD37: 14 | BE37: 87 | BF37: =BE37-AW37 -> 1 | BG37: =BE37-$F37 -> -7 | BH37: =BE37-'1011Monthly'!BF36 -> 16 | BN37: =BM37-BE37 -> -87 | BO37: =BM37-$F37 -> -94 | BP37: =BM37-'1011Monthly'!BN36 -> -71 | BV37: =BU37-BM37 -> 0 | BW37: =BU37-$F37 -> -94 | BX37: =BU37-'1011Monthly'!BV36 -> -71 | CD37: =CC37-BU37 -> 0 | CE37: =CC37-$K37 -> -92 | CF37: =CC37-'1011Monthly'!CD36 -> -71
A38: Union City | B38: =$B$24*B53 -> 46.710468 | C38: 16 | D38: 17 | E38: 10 | F38: =SUM(C38:E38) -> 43 | H38: 14 | I38: 17 | J38: 9 | K38: =SUM(H38:J38) -> 40 | L38: =K38-F38 -> -3 | M38: =K38-'1011Monthly'!K37 -> -9 | O38: 14 | P38: 16 | Q38: 9 | R38: 39 | S38: =R38-K38 -> -1 | T38: =R38-'1011Monthly'!R37 -> -10 | V38: 15 | W38: 15 | X38: 9 | Y38: 39 | Z38: =Y38-R38 -> 0 | AA38: =Y38-$F38 -> -4 | AB38: =Y38-'1011Monthly'!Z37 -> -10 | AD38: 15 | AE38: 15 | AF38: 9 | AG38: 39 | AH38: =AG38-Y38 -> 0 | AI38: =AG38-$F38 -> -4 | AJ38: =AG38-'1011Monthly'!AH37 -> -9 | AL38: 15 | AM38: 13 | AN38: 9 | AO38: 37 | AP38: =AO38-AG38 -> -2 | AQ38: =AO38-$F38 -> -6 | AR38: =AO38-'1011Monthly'!AP37 -> -11 | AT38: 14 | AU38: 12 | AV38: 9 | AW38: 35 | AX38: =AW38-AO38 -> -2 | AY38: =AW38-$F38 -> -8 | AZ38: =AW38-'1011Monthly'!AX37 -> -10 | BB38: 15 | BC38: 12 | BD38: 9 | BE38: 36 | BF38: =BE38-AW38 -> 1 | BG38: =BE38-$F38 -> -7 | BH38: =BE38-'1011Monthly'!BF37 -> -9 | BN38: =BM38-BE38 -> -36 | BO38: =BM38-$F38 -> -43 | BP38: =BM38-'1011Monthly'!BN37 -> -44 | BV38: =BU38-BM38 -> 0 | BW38: =BU38-$F38 -> -43 | BX38: =BU38-'1011Monthly'!BV37 -> -43 | CD38: =CC38-BU38 -> 0 | CE38: =CC38-$K38 -> -40 | CF38: =CC38-'1011Monthly'!CD37 -> -43
A39: Wattsburg | B39: =$B$24*B54 -> 59.701682 | C39: 31 | D39: 19 | E39: 15 | F39: =SUM(C39:E39) -> 65 | H39: 28 | I39: 21 | J39: 14 | K39: =SUM(H39:J39) -> 63 | L39: =K39-F39 -> -2 | M39: =K39-'1011Monthly'!K38 -> -5 | O39: 26 | P39: 18 | Q39: 14 | R39: 58 | S39: =R39-K39 -> -5 | T39: =R39-'1011Monthly'!R38 -> -7 | V39: 26 | W39: 18 | X39: 14 | Y39: 58 | Z39: =Y39-R39 -> 0 | AA39: =Y39-$F39 -> -7 | AB39: =Y39-'1011Monthly'!Z38 -> -6 | AD39: 26 | AE39: 19 | AF39: 14 | AG39: 59 | AH39: =AG39-Y39 -> 1 | AI39: =AG39-$F39 -> -6 | AJ39: =AG39-'1011Monthly'!AH38 -> -4 | AL39: 26 | AM39: 19 | AN39: 14 | AO39: 59 | AP39: =AO39-AG39 -> 0 | AQ39: =AO39-$F39 -> -6 | AR39: =AO39-'1011Monthly'!AP38 -> -2 | AT39: 35 | AU39: 19 | AV39: 14 | AW39: 68 | AX39: =AW39-AO39 -> 9 | AY39: =AW39-$F39 -> 3 | AZ39: =AW39-'1011Monthly'!AX38 -> 5 | BB39: 36 | BC39: 18 | BD39: 14 | BE39: 68 | BF39: =BE39-AW39 -> 0 | BG39: =BE39-$F39 -> 3 | BH39: =BE39-'1011Monthly'!BF38 -> 5 | BN39: =BM39-BE39 -> -68 | BO39: =BM39-$F39 -> -65 | BP39: =BM39-'1011Monthly'!BN38 -> -63 | BV39: =BU39-BM39 -> 0 | BW39: =BU39-$F39 -> -65 | BX39: =BU39-'1011Monthly'!BV38 -> -64 | CD39: =CC39-BU39 -> 0 | CE39: =CC39-$K39 -> -63 | CF39: =CC39-'1011Monthly'!CD38 -> -64
A40: Totals | B40: =SUM(B29:B39) -> 1008 | C40: =SUM(C29:C39) -> 343 | D40: =SUM(D29:D39) -> 286 | E40: =SUM(E29:E39) -> 167 | F40: =SUM(F29:F39) -> 796 | H40: =SUM(H29:H39) -> 353 | I40: =SUM(I29:I39) -> 268 | J40: =SUM(J29:J39) -> 159 | K40: =SUM(K29:K39) -> 780 | L40: =K40-F40 -> -16 | M40: =K40-'1011Monthly'!K39 -> 39 | O40: 349 | P40: 264 | Q40: 159 | R40: 772 | S40: =R40-K40 -> -8 | T40: =R40-'1011Monthly'!R39 -> 41 | V40: =SUM(V29:V39) -> 346 | W40: =SUM(W29:W39) -> 263 | X40: =SUM(X29:X39) -> 158 | Y40: =SUM(Y29:Y39) -> 767 | Z40: =Y40-R40 -> -5 | AA40: =Y40-$F40 -> -29 | AB40: =Y40-'1011Monthly'!Z39 -> 39 | AD40: =SUM(AD29:AD39) -> 343 | AE40: =SUM(AE29:AE39) -> 262 | AF40: =SUM(AF29:AF39) -> 158 | AG40: =SUM(AG29:AG39) -> 763 | AH40: =AG40-Y40 -> -4 | AI40: =AG40-$F40 -> -33 | AJ40: =AG40-'1011Monthly'!AH39 -> 37 | AL40: =SUM(AL29:AL39) -> 349 | AM40: =SUM(AM29:AM39) -> 258 | AN40: =SUM(AN29:AN39) -> 157 | AO40: =SUM(AO29:AO39) -> 764 | AP40: =AO40-AG40 -> 1 | AQ40: =AO40-$F40 -> -32 | AR40: =AO40-'1011Monthly'!AP39 -> 41 | AT40: =SUM(AT29:AT39) -> 347 | AU40: =SUM(AU29:AU39) -> 252 | AV40: =SUM(AV29:AV39) -> 157 | AW40: =SUM(AW29:AW39) -> 756 | AX40: =AW40-AO40 -> -8 | AY40: =AW40-$F40 -> -40 | AZ40: =AW40-'1011Monthly'!AX39 -> 51 | BB40: =SUM(BB29:BB39) -> 348 | BC40: =SUM(BC29:BC39) -> 250 | BD40: =SUM(BD29:BD39) -> 157 | BE40: =SUM(BE29:BE39) -> 755 | BF40: =BE40-AW40 -> -1 | BG40: =BE40-$F40 -> -41 | BH40: =BE40-'1011Monthly'!BF39 -> 51 | BJ40: =SUM(BJ29:BJ39) -> 0 | BK40: =SUM(BK29:BK39) -> 0 | BL40: =SUM(BL29:BL39) -> 0 | BM40: =SUM(BM29:BM39) -> 0 | BN40: =BM40-BE40 -> -755 | BO40: =BM40-$F40 -> -796 | BP40: =BM40-'1011Monthly'!BN39 -> -697 | BR40: =SUM(BR29:BR39) -> 0 | BS40: =SUM(BS29:BS39) -> 0 | BT40: =SUM(BT29:BT39) -> 0 | BU40: =SUM(BU29:BU39) -> 0 | BV40: =BU40-BM40 -> 0 | BW40: =BU40-$F40 -> -796 | BX40: =BU40-'1011Monthly'!BV39 -> -694 | BZ40: =SUM(BZ29:BZ39) -> 0 | CA40: =SUM(CA29:CA39) -> 0 | CB40: =SUM(CB29:CB39) -> 0 | CC40: =SUM(CC29:CC39) -> 0 | CD40: =CC40-BU40 -> 0 | CE40: =CC40-$K40 -> -780 | CF40: =CC40-'1011Monthly'!CD39 -> -694
A43: Quota Percentage
A44: Fairview | B44: 0.072577699
A45: Fort LeBoeuf | B45: 0.085379559
A46: General McLane | B46: 0.092561875
A47: Girard | B47: 0.077307499
A48: Harbor Creek | B48: 0.078515
A49: Iroquois | B49: 0.050740068
A50: Millcreek | B50: 0.29396747
A51: North East | B51: 0.074574571
A52: Northwestern | B52: 0.068808654
A53: Union City | B53: 0.04633975
A54: Wattsburg | B54: 0.059227859
B55: =SUM(B44:B54) -> 1

Sheet 1011Monthly
C2: August 2010 | H2: September 2010 | O2: October 2010 | W2: November 2010 | AE2: December 2010 | AM2: January 2011 | AU2: February 2011 | BC2: March 2011 | BK2: April 2011 | BS2: May 2011 | CA2: June 2011
A3: Program | C3: Program/Year Level | F3: Total | H3: Program/Year Level | K3: Total | L3: Chg/ Month | M3: Chg/ Prior Yr. | O3: Program/Year Level | R3: Total | S3: Chg/ Month | T3: Chg/ | U3: Chg/ Prior Yr. | W3: Program/Year Level | Z3: Total | AA3: Chg/ Month | AB3: Chg/ Sept | AC3: Chg/ Prior Yr. | AE3: Program/Year Level | AH3: Total | AI3: Chg/ Month | AJ3: Chg/ Sept | AK3: Chg/ Prior Yr. | AM3: Program/Year Level | AP3: Total | AQ3: Chg/ Month | AR3: Chg/ Sept | AS3: Chg/ Prior Yr. | AU3: Program/Year Level | AX3: Total | AY3: Chg/ Month | AZ3: Chg/ Sept | BA3: Chg/ Prior Yr. | BC3: Program/Year Level | BF3: Total | BG3: Chg/ Month | BH3: Chg/ Sept | BI3: Chg/ Prior Yr. | BK3: Program/Year Level | BN3: Total | BO3: Chg/ Month | BP3: Chg/ Sept | BQ3: Chg/ Prior Yr. | BS3: Program/Year Level | BV3: Total | BW3: Chg/ Month | BX3: Chg/ Sept | BY3: Chg/ Prior Yr. | CA3: Program/Year Level | CD3: Total | CE3: Chg/ Month | CF3: Chg/ Sept | CG3: Chg/ Prior Yr.
B4: Capacity | C4: 1st | D4: 2nd | E4: 3rd | F4: Total | H4: 1st | I4: 2nd | J4: 3rd | K4: Total | O4: 1st | P4: 2nd | Q4: 3rd | R4: Total | T4: Sept | W4: 1st | X4: 2nd | Y4: 3rd | Z4: Total | AE4: 1st | AF4: 2nd | AG4: 3rd | AH4: Total | AM4: 1st | AN4: 2nd | AO4: 3rd | AP4: Total | AU4: 1st | AV4: 2nd | AW4: 3rd | AX4: Total | BC4: 1st | BD4: 2nd | BE4: 3rd | BF4: Total | BK4: 1st | BL4: 2nd | BM4: 3rd | BN4: Total | BS4: 1st | BT4: 2nd | BU4: 3rd | BV4: Total | CA4: 1st | CB4: 2nd | CC4: 3rd | CD4: Total
A5: Art & Design | B5: 48 | C5: 16 | D5: 12 | E5: 17 | F5: =SUM(C5:E5) -> 45 | H5: 19 | I5: 10 | J5: 16 | K5: =SUM(H5:J5) -> 45 | L5: =K5-F5 -> 0 | M5: =K5-'0910 Monthly '!J5 -> -1 | O5: 19 | P5: 10 | Q5: 16 | R5: 45 | S5: =R5-K5 -> 0 | T5: =R5-F5 -> 0 | U5: =R5-'0910 Monthly '!O5 -> -1 | W5: 19 | X5: 10 | Y5: 16 | Z5: =SUM(W5:Y5) -> 45 | AA5: =Z5-R5 -> 0 | AB5: =Z5-$F5 -> 0 | AC5: =AA5-'0910 Monthly '!T5 -> -46 | AE5: 20 | AF5: 10 | AG5: 16 | AH5: 46 | AI5: =AH5-Z5 -> 1 | AJ5: =AH5-$F5 -> 1 | AK5: =AI5-'0910 Monthly '!Z5 -> -45 | AM5: 20 | AN5: 9 | AO5: 17 | AP5: 46 | AQ5: =AP5-AH5 -> 0 | AR5: =AP5-$F5 -> 1 | AS5: =AQ5-'0910 Monthly '!AF5 -> -42 | AU5: 20 | AV5: 7 | AW5: 17 | AX5: 44 | AY5: =AX5-AP5 -> -2 | AZ5: =AX5-$F5 -> -1 | BA5: =AX5-'0910 Monthly '!AL5 -> 3 | BC5: 21 | BD5: 7 | BE5: 17 | BF5: 45 | BG5: =BF5-AX5 -> 1 | BH5: =BF5-$F5 -> 0 | BI5: =BF5-'0910 Monthly '!AR5 -> 5 | BK5: 21 | BL5: 7 | BM5: 17 | BN5: 45 | BO5: =BN5-BF5 -> 0 | BP5: =BN5-$F5 -> 0 | BQ5: =BN5-'0910 Monthly '!AX5 -> 5 | BS5: 21 | BT5: 7 | BU5: 17 | BV5: 45 | BW5: =BV5-BN5 -> 0 | BX5: =BV5-$F5 -> 0 | BY5: =BV5-'0910 Monthly '!BD5 -> 5 | CA5: 21 | CB5: 7 | CC5: 17 | CD5: 45 | CE5: =CD5-BV5 -> 0 | CF5: =CD5-$K5 -> 0 | CG5: =BV5-'0910 Monthly '!BJ5 -> 6
A6: Auto Body | B6: 48 | C6: 12 | D6: 6 | E6: 3 | F6: =SUM(C6:E6) -> 21 | H6: 14 | I6: 6 | J6: 3 | K6: =SUM(H6:J6) -> 23 | L6: =K6-F6 -> 2 | M6: =K6-'0910 Monthly '!J6 -> -4 | O6: 12 | P6: 6 | Q6: 3 | R6: 21 | S6: =R6-K6 -> -2 | T6: =R6-F6 -> 0 | U6: =R6-'0910 Monthly '!O6 -> -4 | W6: 11 | X6: 6 | Y6: 3 | Z6: =SUM(W6:Y6) -> 20 | AA6: =Z6-R6 -> -1 | AB6: =Z6-$F6 -> -1 | AC6: =AA6-'0910 Monthly '!T6 -> -26 | AE6: 11 | AF6: 6 | AG6: 3 | AH6: 20 | AI6: =AH6-Z6 -> 0 | AJ6: =AH6-$F6 -> -1 | AK6: =AI6-'0910 Monthly '!Z6 -> -24 | AM6: 10 | AN6: 5 | AO6: 3 | AP6: 18 | AQ6: =AP6-AH6 -> -2 | AR6: =AP6-$F6 -> -3 | AS6: =AQ6-'0910 Monthly '!AF6 -> -22 | AU6: 11 | AV6: 5 | AW6: 3 | AX6: 19 | AY6: =AX6-AP6 -> 1 | AZ6: =AX6-$F6 -> -2 | BA6: =AX6-'0910 Monthly '!AL6 -> -1 | BC6: 11 | BD6: 5 | BE6: 3 | BF6: 19 | BG6: =BF6-AX6 -> 0 | BH6: =BF6-$F6 -> -2 | BI6: =BF6-'0910 Monthly '!AR6 -> -1 | BK6: 10 | BL6: 5 | BM6: 3 | BN6: 18 | BO6: =BN6-BF6 -> -1 | BP6: =BN6-$F6 -> -3 | BQ6: =BN6-'0910 Monthly '!AX6 -> -2 | BS6: 8 | BT6: 5 | BU6: 3 | BV6: 16 | BW6: =BV6-BN6 -> -2 | BX6: =BV6-$F6 -> -5 | BY6: =BV6-'0910 Monthly '!BD6 -> -4 | CA6: 8 | CB6: 5 | CC6: 3 | CD6: 16 | CE6: =CD6-BV6 -> 0 | CF6: =CD6-$K6 -> -7 | CG6: =BV6-'0910 Monthly '!BJ6 -> -4
A7: Automotive Technologies | B7: 96 | C7: 25 | D7: 24 | E7: 18 | F7: =SUM(C7:E7) -> 67 | H7: 26 | I7: 22 | J7: 18 | K7: =SUM(H7:J7) -> 66 | L7: =K7-F7 -> -1 | M7: =K7-'0910 Monthly '!J7 -> 8 | O7: 27 | P7: 20 | Q7: 17 | R7: 64 | S7: =R7-K7 -> -2 | T7: =R7-F7 -> -3 | U7: =R7-'0910 Monthly '!O7 -> -4 | W7: 27 | X7: 20 | Y7: 17 | Z7: =SUM(W7:Y7) -> 64 | AA7: =Z7-R7 -> 0 | AB7: =Z7-$F7 -> -3 | AC7: =AA7-'0910 Monthly '!T7 -> -67 | AE7: 27 | AF7: 20 | AG7: 17 | AH7: 64 | AI7: =AH7-Z7 -> 0 | AJ7: =AH7-$F7 -> -3 | AK7: =AI7-'0910 Monthly '!Z7 -> -65 | AM7: 27 | AN7: 19 | AO7: 17 | AP7: 63 | AQ7: =AP7-AH7 -> -1 | AR7: =AP7-$F7 -> -4 | AS7: =AQ7-'0910 Monthly '!AF7 -> -64 | AU7: 30 | AV7: 17 | AW7: 17 | AX7: 64 | AY7: =AX7-AP7 -> 1 | AZ7: =AX7-$F7 -> -3 | BA7: =AX7-'0910 Monthly '!AL7 -> 2 | BC7: 30 | BD7: 17 | BE7: 17 | BF7: 64 | BG7: =BF7-AX7 -> 0 | BH7: =BF7-$F7 -> -3 | BI7: =BF7-'0910 Monthly '!AR7 -> 2 | BK7: 30 | BL7: 17 | BM7: 17 | BN7: 64 | BO7: =BN7-BF7 -> 0 | BP7: =BN7-$F7 -> -3 | BQ7: =BN7-'0910 Monthly '!AX7 -> 1 | BS7: 30 | BT7: 17 | BU7: 17 | BV7: 64 | BW7: =BV7-BN7 -> 0 | BX7: =BV7-$F7 -> -3 | BY7: =BV7-'0910 Monthly '!BD7 -> 2 | CA7: 30 | CB7: 17 | CC7: 17 | CD7: 64 | CE7: =CD7-BV7 -> 0 | CF7: =CD7-$K7 -> -2 | CG7: =BV7-'0910 Monthly '!BJ7 -> 2
A8: Computer Info. Systems | B8: 48 | C8: 14 | D8: 12 | E8: 8 | F8: =SUM(C8:E8) -> 34 | H8: 12 | I8: 12 | J8: 9 | K8: =SUM(H8:J8) -> 33 | L8: =K8-F8 -> -1 | M8: =K8-'0910 Monthly '!J8 -> -4 | O8: 12 | P8: 10 | Q8: 8 | R8: 30 | S8: =R8-K8 -> -3 | T8: =R8-F8 -> -4 | U8: =R8-'0910 Monthly '!O8 -> -7 | W8: 12 | X8: 10 | Y8: 8 | Z8: =SUM(W8:Y8) -> 30 | AA8: =Z8-R8 -> 0 | AB8: =Z8-$F8 -> -4 | AC8: =AA8-'0910 Monthly '!T8 -> -37 | AE8: 12 | AF8: 9 | AG8: 8 | AH8: 29 | AI8: =AH8-Z8 -> -1 | AJ8: =AH8-$F8 -> -5 | AK8: =AI8-'0910 Monthly '!Z8 -> -38 | AM8: 12 | AN8: 9 | AO8: 8 | AP8: 29 | AQ8: =AP8-AH8 -> 0 | AR8: =AP8-$F8 -> -5 | AS8: =AQ8-'0910 Monthly '!AF8 -> -37 | AU8: 10 | AV8: 9 | AW8: 8 | AX8: 27 | AY8: =AX8-AP8 -> -2 | AZ8: =AX8-$F8 -> -7 | BA8: =AX8-'0910 Monthly '!AL8 -> -10 | BC8: 10 | BD8: 9 | BE8: 8 | BF8: 27 | BG8: =BF8-AX8 -> 0 | BH8: =BF8-$F8 -> -7 | BI8: =BF8-'0910 Monthly '!AR8 -> -9 | BK8: 9 | BL8: 9 | BM8: 8 | BN8: 26 | BO8: =BN8-BF8 -> -1 | BP8: =BN8-$F8 -> -8 | BQ8: =BN8-'0910 Monthly '!AX8 -> -10 | BS8: 9 | BT8: 9 | BU8: 8 | BV8: 26 | BW8: =BV8-BN8 -> 0 | BX8: =BV8-$F8 -> -8 | BY8: =BV8-'0910 Monthly '!BD8 -> -9 | CA8: 9 | CB8: 9 | CC8: 8 | CD8: 26 | CE8: =CD8-BV8 -> 0 | CF8: =CD8-$K8 -> -7 | CG8: =BV8-'0910 Monthly '!BJ8 -> -9
A9: Construction Trades | B9: 96 | C9: 39 | D9: 14 | E9: 21 | F9: =SUM(C9:E9) -> 74 | H9: 29 | I9: 14 | J9: 18 | K9: =SUM(H9:J9) -> 61 | L9: =K9-F9 -> -13 | M9: =K9-'0910 Monthly '!J9 -> -2 | O9: 27 | P9: 13 | Q9: 18 | R9: 58 | S9: =R9-K9 -> -3 | T9: =R9-F9 -> -16 | U9: =R9-'0910 Monthly '!O9 -> -1 | W9: 28 | X9: 13 | Y9: 18 | Z9: =SUM(W9:Y9) -> 59 | AA9: =Z9-R9 -> 1 | AB9: =Z9-$F9 -> -15 | AC9: =AA9-'0910 Monthly '!T9 -> -58 | AE9: 27 | AF9: 13 | AG9: 18 | AH9: 58 | AI9: =AH9-Z9 -> -1 | AJ9: =AH9-$F9 -> -16 | AK9: =AI9-'0910 Monthly '!Z9 -> -59 | AM9: 25 | AN9: 14 | AO9: 20 | AP9: 59 | AQ9: =AP9-AH9 -> 1 | AR9: =AP9-$F9 -> -15 | AS9: =AQ9-'0910 Monthly '!AF9 -> -54 | AU9: 21 | AV9: 13 | AW9: 19 | AX9: 53 | AY9: =AX9-AP9 -> -6 | AZ9: =AX9-$F9 -> -21 | BA9: =AX9-'0910 Monthly '!AL9 -> -2 | BC9: 21 | BD9: 13 | BE9: 19 | BF9: 53 | BG9: =BF9-AX9 -> 0 | BH9: =BF9-$F9 -> -21 | BI9: =BF9-'0910 Monthly '!AR9 -> -1 | BK9: 20 | BL9: 13 | BM9: 20 | BN9: 53 | BO9: =BN9-BF9 -> 0 | BP9: =BN9-$F9 -> -21 | BQ9: =BN9-'0910 Monthly '!AX9 -> -2 | BS9: 20 | BT9: 14 | BU9: 20 | BV9: 54 | BW9: =BV9-BN9 -> 1 | BX9: =BV9-$F9 -> -20 | BY9: =BV9-'0910 Monthly '!BD9 -> 0 | CA9: 20 | CB9: 14 | CC9: 20 | CD9: 54 | CE9: =CD9-BV9 -> 0 | CF9: =CD9-$K9 -> -7 | CG9: =BV9-'0910 Monthly '!BJ9 -> 0
A10: Cosmetology | B10: 48 | C10: 21 | D10: 14 | E10: 13 | F10: =SUM(C10:E10) -> 48 | H10: 23 | I10: 12 | J10: 11 | K10: =SUM(H10:J10) -> 46 | L10: =K10-F10 -> -2 | M10: =K10-'0910 Monthly '!J10 -> -2 | O10: 23 | P10: 12 | Q10: 11 | R10: 46 | S10: =R10-K10 -> 0 | T10: =R10-F10 -> -2 | U10: =R10-'0910 Monthly '!O10 -> -2 | W10: 23 | X10: 12 | Y10: 11 | Z10: =SUM(W10:Y10) -> 46 | AA10: =Z10-R10 -> 0 | AB10: =Z10-$F10 -> -2 | AC10: =AA10-'0910 Monthly '!T10 -> -48 | AE10: 23 | AF10: 12 | AG10: 11 | AH10: 46 | AI10: =AH10-Z10 -> 0 | AJ10: =AH10-$F10 -> -2 | AK10: =AI10-'0910 Monthly '!Z10 -> -48 | AM10: 23 | AN10: 12 | AO10: 11 | AP10: 46 | AQ10: =AP10-AH10 -> 0 | AR10: =AP10-$F10 -> -2 | AS10: =AQ10-'0910 Monthly '!AF10 -> -47 | AU10: 23 | AV10: 11 | AW10: 11 | AX10: 45 | AY10: =AX10-AP10 -> -1 | AZ10: =AX10-$F10 -> -3 | BA10: =AX10-'0910 Monthly '!AL10 -> -2 | BC10: 23 | BD10: 11 | BE10: 11 | BF10: 45 | BG10: =BF10-AX10 -> 0 | BH10: =BF10-$F10 -> -3 | BI10: =BF10-'0910 Monthly '!AR10 -> -2 | BK10: 23 | BL10: 11 | BM10: 11 | BN10: 45 | BO10: =BN10-BF10 -> 0 | BP10: =BN10-$F10 -> -3 | BQ10: =BN10-'0910 Monthly '!AX10 -> 1 | BS10: 23 | BT10: 11 | BU10: 10 | BV10: 44 | BW10: =BV10-BN10 -> -1 | BX10: =BV10-$F10 -> -4 | BY10: =BV10-'0910 Monthly '!BD10 -> 0 | CA10: 23 | CB10: 11 | CC10: 10 | CD10: 44 | CE10: =CD10-BV10 -> 0 | CF10: =CD10-$K10 -> -2 | CG10: =BV10-'0910 Monthly '!BJ10 -> 0
A11: Culinary Arts | B11: 96 | C11: 48 | D11: 24 | E11: 13 | F11: =SUM(C11:E11) -> 85 | H11: 47 | I11: 22 | J11: 13 | K11: =SUM(H11:J11) -> 82 | L11: =K11-F11 -> -3 | M11: =K11-'0910 Monthly '!J11 -> 9 | O11: 45 | P11: 22 | Q11: 13 | R11: 80 | S11: =R11-K11 -> -2 | T11: =R11-F11 -> -5 | U11: =R11-'0910 Monthly '!O11 -> 6 | W11: 45 | X11: 19 | Y11: 13 | Z11: =SUM(W11:Y11) -> 77 | AA11: =Z11-R11 -> -3 | AB11: =Z11-$F11 -> -8 | AC11: =AA11-'0910 Monthly '!T11 -> -74 | AE11: 45 | AF11: 19 | AG11: 13 | AH11: 77 | AI11: =AH11-Z11 -> 0 | AJ11: =AH11-$F11 -> -8 | AK11: =AI11-'0910 Monthly '!Z11 -> -69 | AM11: 40 | AN11: 23 | AO11: 14 | AP11: 77 | AQ11: =AP11-AH11 -> 0 | AR11: =AP11-$F11 -> -8 | AS11: =AQ11-'0910 Monthly '!AF11 -> -71 | AU11: 41 | AV11: 22 | AW11: 13 | AX11: 76 | AY11: =AX11-AP11 -> -1 | AZ11: =AX11-$F11 -> -9 | BA11: =AX11-'0910 Monthly '!AL11 -> 5 | BC11: 41 | BD11: 22 | BE11: 13 | BF11: 76 | BG11: =BF11-AX11 -> 0 | BH11: =BF11-$F11 -> -9 | BI11: =BF11-'0910 Monthly '!AR11 -> 5 | BK11: 41 | BL11: 22 | BM11: 13 | BN11: 76 | BO11: =BN11-BF11 -> 0 | BP11: =BN11-$F11 -> -9 | BQ11: =BN11-'0910 Monthly '!AX11 -> 6 | BS11: 41 | BT11: 22 | BU11: 13 | BV11: 76 | BW11: =BV11-BN11 -> 0 | BX11: =BV11-$F11 -> -9 | BY11: =BV11-'0910 Monthly '!BD11 -> 7 | CA11: 41 | CB11: 22 | CC11: 13 | CD11: 76 | CE11: =CD11-BV11 -> 0 | CF11: =CD11-$K11 -> -6 | CG11: =BV11-'0910 Monthly '!BJ11 -> 7
A12: Diversified Ocupations | C12: 6 | D12: 2 | E12: 0 | F12: =SUM(C12:E12) -> 8 | H12: 4 | I12: 0 | J12: 0 | K12: =SUM(H12:J12) -> 4 | L12: =K12-F12 -> -4 | M12: =K12-'0910 Monthly '!J12 -> 2 | O12: 5 | P12: 0 | Q12: 0 | R12: 5 | S12: =R12-K12 -> 1 | T12: =R12-F12 -> -3 | U12: =R12-'0910 Monthly '!O12 -> 2 | W12: 5 | X12: 0 | Y12: 0 | Z12: =SUM(W12:Y12) -> 5 | AA12: =Z12-R12 -> 0 | AB12: =Z12-$F12 -> -3 | AC12: =AA12-'0910 Monthly '!T12 -> -4 | AE12: 5 | AF12: 0 | AG12: 0 | AH12: 5 | AI12: =AH12-Z12 -> 0 | AJ12: =AH12-$F12 -> -3 | AK12: =AI12-'0910 Monthly '!Z12 -> -4 | AM12: 4 | AN12: 0 | AO12: 0 | AP12: 4 | AQ12: =AP12-AH12 -> -1 | AR12: =AP12-$F12 -> -4 | AS12: =AQ12-'0910 Monthly '!AF12 -> -5 | AU12: 7 | AV12: 0 | AW12: 0 | AX12: 7 | AY12: =AX12-AP12 -> 3 | AZ12: =AX12-$F12 -> -1 | BA12: =AX12-'0910 Monthly '!AL12 -> -2 | BC12: 7 | BD12: 0 | BE12: 0 | BF12: 7 | BG12: =BF12-AX12 -> 0 | BH12: =BF12-$F12 -> -1 | BI12: =BF12-'0910 Monthly '!AR12 -> -2 | BK12: 7 | BL12: 0 | BM12: 0 | BN12: 7 | BO12: =BN12-BF12 -> 0 | BP12: =BN12-$F12 -> -1 | BQ12: =BN12-'0910 Monthly '!AX12 -> -1 | BS12: 7 | BT12: 0 | BU12: 0 | BV12: 7 | BW12: =BV12-BN12 -> 0 | BX12: =BV12-$F12 -> -1 | BY12: =BV12-'0910 Monthly '!BD12 -> -1 | CA12: 7 | CB12: 0 | CC12: 0 | CD12: 7 | CE12: =CD12-BV12 -> 0 | CF12: =CD12-$K12 -> 3 | CG12: =BV12-'0910 Monthly '!BJ12 -> -1
A13: Drafting & Design | B13: 48 | C13: 10 | D13: 10 | E13: 7 | F13: =SUM(C13:E13) -> 27 | H13: 13 | I13: 8 | J13: 7 | K13: =SUM(H13:J13) -> 28 | L13: =K13-F13 -> 1 | M13: =K13-'0910 Monthly '!J13 -> -2 | O13: 13 | P13: 8 | Q13: 7 | R13: 28 | S13: =R13-K13 -> 0 | T13: =R13-F13 -> 1 | U13: =R13-'0910 Monthly '!O13 -> -3 | W13: 13 | X13: 8 | Y13: 7 | Z13: =SUM(W13:Y13) -> 28 | AA13: =Z13-R13 -> 0 | AB13: =Z13-$F13 -> 1 | AC13: =AA13-'0910 Monthly '!T13 -> -30 | AE13: 14 | AF13: 8 | AG13: 7 | AH13: 29 | AI13: =AH13-Z13 -> 1 | AJ13: =AH13-$F13 -> 2 | AK13: =AI13-'0910 Monthly '!Z13 -> -29 | AM13: 13 | AN13: 9 | AO13: 7 | AP13: 29 | AQ13: =AP13-AH13 -> 0 | AR13: =AP13-$F13 -> 2 | AS13: =AQ13-'0910 Monthly '!AF13 -> -30 | AU13: 12 | AV13: 8 | AW13: 6 | AX13: 26 | AY13: =AX13-AP13 -> -3 | AZ13: =AX13-$F13 -> -1 | BA13: =AX13-'0910 Monthly '!AL13 -> -2 | BC13: 12 | BD13: 8 | BE13: 6 | BF13: 26 | BG13: =BF13-AX13 -> 0 | BH13: =BF13-$F13 -> -1 | BI13: =BF13-'0910 Monthly '!AR13 -> -2 | BK13: 11 | BL13: 8 | BM13: 6 | BN13: 25 | BO13: =BN13-BF13 -> -1 | BP13: =BN13-$F13 -> -2 | BQ13: =BN13-'0910 Monthly '!AX13 -> -3 | BS13: 11 | BT13: 8 | BU13: 6 | BV13: 25 | BW13: =BV13-BN13 -> 0 | BX13: =BV13-$F13 -> -2 | BY13: =BV13-'0910 Monthly '!BD13 -> -3 | CA13: 11 | CB13: 8 | CC13: 6 | CD13: 25 | CE13: =CD13-BV13 -> 0 | CF13: =CD13-$K13 -> -3 | CG13: =BV13-'0910 Monthly '!BJ13 -> -3
A14: Early Childhood Education | B14: 48 | C14: 15 | D14: 15 | E14: 12 | F14: =SUM(C14:E14) -> 42 | H14: 18 | I14: 15 | J14: 12 | K14: =SUM(H14:J14) -> 45 | L14: =K14-F14 -> 3 | M14: =K14-'0910 Monthly '!J14 -> 1 | O14: 19 | P14: 15 | Q14: 12 | R14: 46 | S14: =R14-K14 -> 1 | T14: =R14-F14 -> 4 | U14: =R14-'0910 Monthly '!O14 -> 4 | W14: 19 | X14: 15 | Y14: 12 | Z14: =SUM(W14:Y14) -> 46 | AA14: =Z14-R14 -> 0 | AB14: =Z14-$F14 -> 4 | AC14: =AA14-'0910 Monthly '!T14 -> -42 | AE14: 19 | AF14: 15 | AG14: 12 | AH14: 46 | AI14: =AH14-Z14 -> 0 | AJ14: =AH14-$F14 -> 4 | AK14: =AI14-'0910 Monthly '!Z14 -> -42 | AM14: 19 | AN14: 13 | AO14: 12 | AP14: 44 | AQ14: =AP14-AH14 -> -2 | AR14: =AP14-$F14 -> 2 | AS14: =AQ14-'0910 Monthly '!AF14 -> -44 | AU14: 18 | AV14: 13 | AW14: 12 | AX14: 43 | AY14: =AX14-AP14 -> -1 | AZ14: =AX14-$F14 -> 1 | BA14: =AX14-'0910 Monthly '!AL14 -> 1 | BC14: 18 | BD14: 13 | BE14: 12 | BF14: 43 | BG14: =BF14-AX14 -> 0 | BH14: =BF14-$F14 -> 1 | BI14: =BF14-'0910 Monthly '!AR14 -> 1 | BK14: 18 | BL14: 13 | BM14: 12 | BN14: 43 | BO14: =BN14-BF14 -> 0 | BP14: =BN14-$F14 -> 1 | BQ14: =BN14-'0910 Monthly '!AX14 -> 1 | BS14: 18 | BT14: 13 | BU14: 12 | BV14: 43 | BW14: =BV14-BN14 -> 0 | BX14: =BV14-$F14 -> 1 | BY14: =BV14-'0910 Monthly '!BD14 -> 1 | CA14: 18 | CB14: 13 | CC14: 12 | CD14: 43 | CE14: =CD14-BV14 -> 0 | CF14: =CD14-$K14 -> -2 | CG14: =BV14-'0910 Monthly '!BJ14 -> 1
A15: Electrical Engineering | B15: 48 | C15: 12 | D15: 16 | E15: 12 | F15: =SUM(C15:E15) -> 40 | H15: 12 | I15: 15 | J15: 12 | K15: =SUM(H15:J15) -> 39 | L15: =K15-F15 -> -1 | M15: =K15-'0910 Monthly '!J15 -> -5 | O15: 13 | P15: 14 | Q15: 12 | R15: 39 | S15: =R15-K15 -> 0 | T15: =R15-F15 -> -1 | U15: =R15-'0910 Monthly '!O15 -> -5 | W15: 13 | X15: 14 | Y15: 12 | Z15: =SUM(W15:Y15) -> 39 | AA15: =Z15-R15 -> 0 | AB15: =Z15-$F15 -> -1 | AC15: =AA15-'0910 Monthly '!T15 -> -43 | AE15: 13 | AF15: 14 | AG15: 12 | AH15: 39 | AI15: =AH15-Z15 -> 0 | AJ15: =AH15-$F15 -> -1 | AK15: =AI15-'0910 Monthly '!Z15 -> -44 | AM15: 15 | AN15: 14 | AO15: 12 | AP15: 41 | AQ15: =AP15-AH15 -> 2 | AR15: =AP15-$F15 -> 1 | AS15: =AQ15-'0910 Monthly '!AF15 -> -41 | AU15: 14 | AV15: 13 | AW15: 12 | AX15: 39 | AY15: =AX15-AP15 -> -2 | AZ15: =AX15-$F15 -> -1 | BA15: =AX15-'0910 Monthly '!AL15 -> -3 | BC15: 14 | BD15: 13 | BE15: 12 | BF15: 39 | BG15: =BF15-AX15 -> 0 | BH15: =BF15-$F15 -> -1 | BI15: =BF15-'0910 Monthly '!AR15 -> -3 | BK15: 14 | BL15: 13 | BM15: 12 | BN15: 39 | BO15: =BN15-BF15 -> 0 | BP15: =BN15-$F15 -> -1 | BQ15: =BN15-'0910 Monthly '!AX15 -> -3 | BS15: 14 | BT15: 13 | BU15: 12 | BV15: 39 | BW15: =BV15-BN15 -> 0 | BX15: =BV15-$F15 -> -1 | BY15: =BV15-'0910 Monthly '!BD15 -> -3 | CA15: 14 | CB15: 13 | CC15: 12 | CD15: 39 | CE15: =CD15-BV15 -> 0 | CF15: =CD15-$K15 -> 0 | CG15: =BV15-'0910 Monthly '!BJ15 -> -3
A16: Electronics | B16: 48 | C16: 11 | D16: 7 | E16: 5 | F16: =SUM(C16:E16) -> 23 | H16: 10 | I16: 7 | J16: 5 | K16: =SUM(H16:J16) -> 22 | L16: =K16-F16 -> -1 | M16: =K16-'0910 Monthly '!J16 -> 0 | O16: 10 | P16: 7 | Q16: 5 | R16: 22 | S16: =R16-K16 -> 0 | T16: =R16-F16 -> -1 | U16: =R16-'0910 Monthly '!O16 -> 1 | W16: 10 | X16: 7 | Y16: 5 | Z16: =SUM(W16:Y16) -> 22 | AA16: =Z16-R16 -> 0 | AB16: =Z16-$F16 -> -1 | AC16: =AA16-'0910 Monthly '!T16 -> -21 | AE16: 10 | AF16: 7 | AG16: 5 | AH16: 22 | AI16: =AH16-Z16 -> 0 | AJ16: =AH16-$F16 -> -1 | AK16: =AI16-'0910 Monthly '!Z16 -> -20 | AM16: 10 | AN16: 8 | AO16: 5 | AP16: 23 | AQ16: =AP16-AH16 -> 1 | AR16: =AP16-$F16 -> 0 | AS16: =AQ16-'0910 Monthly '!AF16 -> -15 | AU16: 10 | AV16: 8 | AW16: 5 | AX16: 23 | AY16: =AX16-AP16 -> 0 | AZ16: =AX16-$F16 -> 0 | BA16: =AX16-'0910 Monthly '!AL16 -> 6 | BC16: 10 | BD16: 8 | BE16: 5 | BF16: 23 | BG16: =BF16-AX16 -> 0 | BH16: =BF16-$F16 -> 0 | BI16: =BF16-'0910 Monthly '!AR16 -> 5 | BK16: 10 | BL16: 8 | BM16: 5 | BN16: 23 | BO16: =BN16-BF16 -> 0 | BP16: =BN16-$F16 -> 0 | BQ16: =BN16-'0910 Monthly '!AX16 -> 5 | BS16: 10 | BT16: 8 | BU16: 5 | BV16: 23 | BW16: =BV16-BN16 -> 0 | BX16: =BV16-$F16 -> 0 | BY16: =BV16-'0910 Monthly '!BD16 -> 5 | CA16: 10 | CB16: 8 | CC16: 5 | CD16: 23 | CE16: =CD16-BV16 -> 0 | CF16: =CD16-$K16 -> 1 | CG16: =BV16-'0910 Monthly '!BJ16 -> 5
A17: Facilities Maintenance Tech | B17: 48 | C17: 12 | D17: 22 | E17: 7 | F17: =SUM(C17:E17) -> 41 | H17: 14 | I17: 21 | J17: 6 | K17: =SUM(H17:J17) -> 41 | L17: =K17-F17 -> 0 | M17: =K17-'0910 Monthly '!J17 -> 6 | O17: 14 | P17: 20 | Q17: 6 | R17: 40 | S17: =R17-K17 -> -1 | T17: =R17-F17 -> -1 | U17: =R17-'0910 Monthly '!O17 -> 6 | W17: 14 | X17: 19 | Y17: 6 | Z17: =SUM(W17:Y17) -> 39 | AA17: =Z17-R17 -> -1 | AB17: =Z17-$F17 -> -2 | AC17: =AA17-'0910 Monthly '!T17 -> -35 | AE17: 15 | AF17: 19 | AG17: 6 | AH17: 40 | AI17: =AH17-Z17 -> 1 | AJ17: =AH17-$F17 -> -1 | AK17: =AI17-'0910 Monthly '!Z17 -> -32 | AM17: 15 | AN17: 19 | AO17: 6 | AP17: 40 | AQ17: =AP17-AH17 -> 0 | AR17: =AP17-$F17 -> -1 | AS17: =AQ17-'0910 Monthly '!AF17 -> -34 | AU17: 15 | AV17: 19 | AW17: 6 | AX17: 40 | AY17: =AX17-AP17 -> 0 | AZ17: =AX17-$F17 -> -1 | BA17: =AX17-'0910 Monthly '!AL17 -> 7 | BC17: 15 | BD17: 19 | BE17: 6 | BF17: 40 | BG17: =BF17-AX17 -> 0 | BH17: =BF17-$F17 -> -1 | BI17: =BF17-'0910 Monthly '!AR17 -> 7 | BK17: 15 | BL17: 19 | BM17: 6 | BN17: 40 | BO17: =BN17-BF17 -> 0 | BP17: =BN17-$F17 -> -1 | BQ17: =BN17-'0910 Monthly '!AX17 -> 7 | BS17: 15 | BT17: 19 | BU17: 6 | BV17: 40 | BW17: =BV17-BN17 -> 0 | BX17: =BV17-$F17 -> -1 | BY17: =BV17-'0910 Monthly '!BD17 -> 7 | CA17: 15 | CB17: 19 | CC17: 6 | CD17: 40 | CE17: =CD17-BV17 -> 0 | CF17: =CD17-$K17 -> -1 | CG17: =BV17-'0910 Monthly '!BJ17 -> 7
A18: Graphic Communications | B18: 48 | C18: 21 | D18: 9 | E18: 9 | F18: =SUM(C18:E18) -> 39 | H18: 19 | I18: 8 | J18: 8 | K18: =SUM(H18:J18) -> 35 | L18: =K18-F18 -> -4 | M18: =K18-'0910 Monthly '!J18 -> 5 | O18: 19 | P18: 9 | Q18: 8 | R18: 36 | S18: =R18-K18 -> 1 | T18: =R18-F18 -> -3 | U18: =R18-'0910 Monthly '!O18 -> 5 | W18: 20 | X18: 9 | Y18: 7 | Z18: =SUM(W18:Y18) -> 36 | AA18: =Z18-R18 -> 0 | AB18: =Z18-$F18 -> -3 | AC18: =AA18-'0910 Monthly '!T18 -> -31 | AE18: 20 | AF18: 9 | AG18: 7 | AH18: 36 | AI18: =AH18-Z18 -> 0 | AJ18: =AH18-$F18 -> -3 | AK18: =AI18-'0910 Monthly '!Z18 -> -31 | AM18: 19 | AN18: 10 | AO18: 7 | AP18: 36 | AQ18: =AP18-AH18 -> 0 | AR18: =AP18-$F18 -> -3 | AS18: =AQ18-'0910 Monthly '!AF18 -> -33 | AU18: 18 | AV18: 9 | AW18: 7 | AX18: 34 | AY18: =AX18-AP18 -> -2 | AZ18: =AX18-$F18 -> -5 | BA18: =AX18-'0910 Monthly '!AL18 -> 0 | BC18: 18 | BD18: 9 | BE18: 7 | BF18: 34 | BG18: =BF18-AX18 -> 0 | BH18: =BF18-$F18 -> -5 | BI18: =BF18-'0910 Monthly '!AR18 -> 1 | BK18: 18 | BL18: 9 | BM18: 7 | BN18: 34 | BO18: =BN18-BF18 -> 0 | BP18: =BN18-$F18 -> -5 | BQ18: =BN18-'0910 Monthly '!AX18 -> 1 | BS18: 18 | BT18: 9 | BU18: 7 | BV18: 34 | BW18: =BV18-BN18 -> 0 | BX18: =BV18-$F18 -> -5 | BY18: =BV18-'0910 Monthly '!BD18 -> 1 | CA18: 18 | CB18: 9 | CC18: 7 | CD18: 34 | CE18: =CD18-BV18 -> 0 | CF18: =CD18-$K18 -> -1 | CG18: =BV18-'0910 Monthly '!BJ18 -> 3
A19: Health Assistant | B19: 48 | C19: 17 | D19: 15 | E19: 11 | F19: =SUM(C19:E19) -> 43 | H19: 17 | I19: 15 | J19: 10 | K19: =SUM(H19:J19) -> 42 | L19: =K19-F19 -> -1 | M19: =K19-'0910 Monthly '!J19 -> -6 | O19: 17 | P19: 15 | Q19: 10 | R19: 42 | S19: =R19-K19 -> 0 | T19: =R19-F19 -> -1 | U19: =R19-'0910 Monthly '!O19 -> -5 | W19: 17 | X19: 15 | Y19: 10 | Z19: =SUM(W19:Y19) -> 42 | AA19: =Z19-R19 -> 0 | AB19: =Z19-$F19 -> -1 | AC19: =AA19-'0910 Monthly '!T19 -> -47 | AE19: 17 | AF19: 15 | AG19: 10 | AH19: 42 | AI19: =AH19-Z19 -> 0 | AJ19: =AH19-$F19 -> -1 | AK19: =AI19-'0910 Monthly '!Z19 -> -47 | AM19: 17 | AN19: 15 | AO19: 10 | AP19: 42 | AQ19: =AP19-AH19 -> 0 | AR19: =AP19-$F19 -> -1 | AS19: =AQ19-'0910 Monthly '!AF19 -> -46 | AU19: 17 | AV19: 15 | AW19: 10 | AX19: 42 | AY19: =AX19-AP19 -> 0 | AZ19: =AX19-$F19 -> -1 | BA19: =AX19-'0910 Monthly '!AL19 -> -3 | BC19: 17 | BD19: 15 | BE19: 10 | BF19: 42 | BG19: =BF19-AX19 -> 0 | BH19: =BF19-$F19 -> -1 | BI19: =BF19-'0910 Monthly '!AR19 -> -3 | BK19: 17 | BL19: 15 | BM19: 9 | BN19: 41 | BO19: =BN19-BF19 -> -1 | BP19: =BN19-$F19 -> -2 | BQ19: =BN19-'0910 Monthly '!AX19 -> -4 | BS19: 17 | BT19: 15 | BU19: 9 | BV19: 41 | BW19: =BV19-BN19 -> 0 | BX19: =BV19-$F19 -> -2 | BY19: =BV19-'0910 Monthly '!BD19 -> -4 | CA19: 17 | CB19: 15 | CC19: 9 | CD19: 41 | CE19: =CD19-BV19 -> 0 | CF19: =CD19-$K19 -> -1 | CG19: =BV19-'0910 Monthly '!BJ19 -> -4
A20: Metal Fabrication | B20: 48 | C20: 16 | D20: 17 | E20: 13 | F20: =SUM(C20:E20) -> 46 | H20: 15 | I20: 17 | J20: 13 | K20: =SUM(H20:J20) -> 45 | L20: =K20-F20 -> -1 | M20: =K20-'0910 Monthly '!J20 -> -4 | O20: 14 | P20: 17 | Q20: 13 | R20: 44 | S20: =R20-K20 -> -1 | T20: =R20-F20 -> -2 | U20: =R20-'0910 Monthly '!O20 -> -4 | W20: 14 | X20: 17 | Y20: 13 | Z20: =SUM(W20:Y20) -> 44 | AA20: =Z20-R20 -> 0 | AB20: =Z20-$F20 -> -2 | AC20: =AA20-'0910 Monthly '!T20 -> -47 | AE20: 14 | AF20: 17 | AG20: 12 | AH20: 43 | AI20: =AH20-Z20 -> -1 | AJ20: =AH20-$F20 -> -3 | AK20: =AI20-'0910 Monthly '!Z20 -> -47 | AM20: 14 | AN20: 16 | AO20: 12 | AP20: 42 | AQ20: =AP20-AH20 -> -1 | AR20: =AP20-$F20 -> -4 | AS20: =AQ20-'0910 Monthly '!AF20 -> -47 | AU20: 14 | AV20: 16 | AW20: 12 | AX20: 42 | AY20: =AX20-AP20 -> 0 | AZ20: =AX20-$F20 -> -4 | BA20: =AX20-'0910 Monthly '!AL20 -> -3 | BC20: 14 | BD20: 16 | BE20: 12 | BF20: 42 | BG20: =BF20-AX20 -> 0 | BH20: =BF20-$F20 -> -4 | BI20: =BF20-'0910 Monthly '!AR20 -> -3 | BK20: 14 | BL20: 16 | BM20: 12 | BN20: 42 | BO20: =BN20-BF20 -> 0 | BP20: =BN20-$F20 -> -4 | BQ20: =BN20-'0910 Monthly '!AX20 -> -1 | BS20: 14 | BT20: 16 | BU20: 12 | BV20: 42 | BW20: =BV20-BN20 -> 0 | BX20: =BV20-$F20 -> -4 | BY20: =BV20-'0910 Monthly '!BD20 -> -1 | CA20: 14 | CB20: 16 | CC20: 12 | CD20: 42 | CE20: =CD20-BV20 -> 0 | CF20: =CD20-$K20 -> -3 | CG20: =BV20-'0910 Monthly '!BJ20 -> -1
A21: Networking Technologies | B21: 48 | C21: 15 | D21: 0 | E21: 0 | F21: =SUM(C21:E21) -> 15 | H21: 16 | I21: 0 | J21: 0 | K21: =SUM(H21:J21) -> 16 | L21: =K21-F21 -> 1 | M21: =K21-'0910 Monthly '!J21 -> -16 | O21: 18 | P21: 0 | Q21: 0 | R21: 18 | S21: =R21-K21 -> 2 | T21: =R21-F21 -> 3 | U21: =R21-'0910 Monthly '!O21 -> -14 | W21: 18 | X21: 0 | Y21: 0 | Z21: =SUM(W21:Y21) -> 18 | AA21: =Z21-R21 -> 0 | AB21: =Z21-$F21 -> 3 | AC21: =AA21-'0910 Monthly '!T21 -> -32 | AE21: 18 | AF21: 0 | AG21: 0 | AH21: 18 | AI21: =AH21-Z21 -> 0 | AJ21: =AH21-$F21 -> 3 | AK21: =AI21-'0910 Monthly '!Z21 -> -32 | AM21: 18 | AN21: 0 | AO21: 0 | AP21: 18 | AQ21: =AP21-AH21 -> 0 | AR21: =AP21-$F21 -> 3 | AS21: =AQ21-'0910 Monthly '!AF21 -> -32 | AU21: 18 | AV21: 0 | AW21: 0 | AX21: 18 | AY21: =AX21-AP21 -> 0 | AZ21: =AX21-$F21 -> 3 | BA21: =AX21-'0910 Monthly '!AL21 -> -11 | BC21: 17 | BD21: 0 | BE21: 0 | BF21: 17 | BG21: =BF21-AX21 -> -1 | BH21: =BF21-$F21 -> 2 | BI21: =BF21-'0910 Monthly '!AR21 -> -12 | BK21: 16 | BL21: 0 | BM21: 0 | BN21: 16 | BO21: =BN21-BF21 -> -1 | BP21: =BN21-$F21 -> 1 | BQ21: =BN21-'0910 Monthly '!AX21 -> -13 | BS21: 16 | BT21: 0 | BU21: 0 | BV21: 16 | BW21: =BV21-BN21 -> 0 | BX21: =BV21-$F21 -> 1 | BY21: =BV21-'0910 Monthly '!BD21 -> -13 | CA21: 16 | CB21: 0 | CC21: 0 | CD21: 16 | CE21: =CD21-BV21 -> 0 | CF21: =CD21-$K21 -> 0 | CG21: =BV21-'0910 Monthly '!BJ21 -> -13
A22: Tool & Die | B22: 48 | C22: 6 | D22: 10 | E22: 11 | F22: =SUM(C22:E22) -> 27 | H22: 7 | I22: 10 | J22: 11 | K22: =SUM(H22:J22) -> 28 | L22: =K22-F22 -> 1 | M22: =K22-'0910 Monthly '!J22 -> 1 | O22: 8 | P22: 10 | Q22: 11 | R22: 29 | S22: =R22-K22 -> 1 | T22: =R22-F22 -> 2 | U22: =R22-'0910 Monthly '!O22 -> 3 | W22: 9 | X22: 10 | Y22: 11 | Z22: =SUM(W22:Y22) -> 30 | AA22: =Z22-R22 -> 1 | AB22: =Z22-$F22 -> 3 | AC22: =AA22-'0910 Monthly '!T22 -> -24 | AE22: 9 | AF22: 10 | AG22: 10 | AH22: 29 | AI22: =AH22-Z22 -> -1 | AJ22: =AH22-$F22 -> 2 | AK22: =AI22-'0910 Monthly '!Z22 -> -26 | AM22: 9 | AN22: 10 | AO22: 10 | AP22: 29 | AQ22: =AP22-AH22 -> 0 | AR22: =AP22-$F22 -> 2 | AS22: =AQ22-'0910 Monthly '!AF22 -> -25 | AU22: 9 | AV22: 10 | AW22: 10 | AX22: 29 | AY22: =AX22-AP22 -> 0 | AZ22: =AX22-$F22 -> 2 | BA22: =AX22-'0910 Monthly '!AL22 -> 4 | BC22: 9 | BD22: 9 | BE22: 10 | BF22: 28 | BG22: =BF22-AX22 -> -1 | BH22: =BF22-$F22 -> 1 | BI22: =BF22-'0910 Monthly '!AR22 -> 3 | BK22: 8 | BL22: 9 | BM22: 10 | BN22: 27 | BO22: =BN22-BF22 -> -1 | BP22: =BN22-$F22 -> 0 | BQ22: =BN22-'0910 Monthly '!AX22 -> 2 | BS22: 8 | BT22: 9 | BU22: 10 | BV22: 27 | BW22: =BV22-BN22 -> 0 | BX22: =BV22-$F22 -> 0 | BY22: =BV22-'0910 Monthly '!BD22 -> 2 | CA22: 8 | CB22: 9 | CC22: 10 | CD22: 27 | CE22: =CD22-BV22 -> 0 | CF22: =CD22-$K22 -> -1 | CG22: =BV22-'0910 Monthly '!BJ22 -> 2
A23: Tourism & Hospitality | B23: 48 | C23: 36 | D23: 0 | E23: 0 | F23: =SUM(C23:E23) -> 36 | H23: 40 | I23: 0 | J23: 0 | K23: =SUM(H23:J23) -> 40 | L23: =K23-F23 -> 4 | M23: =K23-'0910 Monthly '!J23 -> 4 | O23: 38 | P23: 0 | Q23: 0 | R23: 38 | S23: =R23-K23 -> -2 | T23: =R23-F23 -> 2 | U23: =R23-'0910 Monthly '!O23 -> 2 | W23: 38 | X23: 0 | Y23: 0 | Z23: =SUM(W23:Y23) -> 38 | AA23: =Z23-R23 -> 0 | AB23: =Z23-$F23 -> 2 | AC23: =AA23-'0910 Monthly '!T23 -> -35 | AE23: 37 | AF23: 0 | AG23: 0 | AH23: 37 | AI23: =AH23-Z23 -> -1 | AJ23: =AH23-$F23 -> 1 | AK23: =AI23-'0910 Monthly '!Z23 -> -34 | AM23: 37 | AN23: 0 | AO23: 0 | AP23: 37 | AQ23: =AP23-AH23 -> 0 | AR23: =AP23-$F23 -> 1 | AS23: =AQ23-'0910 Monthly '!AF23 -> -33 | AU23: 34 | AV23: 0 | AW23: 0 | AX23: 34 | AY23: =AX23-AP23 -> -3 | AZ23: =AX23-$F23 -> -2 | BA23: =AX23-'0910 Monthly '!AL23 -> 2 | BC23: 34 | BD23: 0 | BE23: 0 | BF23: 34 | BG23: =BF23-AX23 -> 0 | BH23: =BF23-$F23 -> -2 | BI23: =BF23-'0910 Monthly '!AR23 -> 3 | BK23: 33 | BL23: 0 | BM23: 0 | BN23: 33 | BO23: =BN23-BF23 -> -1 | BP23: =BN23-$F23 -> -3 | BQ23: =BN23-'0910 Monthly '!AX23 -> 2 | BS23: 32 | BT23: 0 | BU23: 0 | BV23: 32 | BW23: =BV23-BN23 -> -1 | BX23: =BV23-$F23 -> -4 | BY23: =BV23-'0910 Monthly '!BD23 -> 1 | CA23: 32 | CB23: 0 | CC23: 0 | CD23: 32 | CE23: =CD23-BV23 -> 0 | CF23: =CD23-$K23 -> -8 | CG23: =BV23-'0910 Monthly '!BJ23 -> 1
A24: TOTALS | B24: =SUM(B5:B23) -> 1008 | C24: =SUM(C5:C23) -> 352 | D24: =SUM(D5:D23) -> 229 | E24: =SUM(E5:E23) -> 180 | F24: =SUM(F5:F23) -> 761 | H24: =SUM(H5:H23) -> 355 | I24: =SUM(I5:I23) -> 214 | J24: =SUM(J5:J23) -> 172 | K24: =SUM(H24:J24) -> 741 | L24: =K24-F24 -> -20 | M24: =K24-'0910 Monthly '!J24 -> -10 | O24: =SUM(O5:O23) -> 353 | P24: =SUM(P5:P23) -> 208 | Q24: =SUM(Q5:Q23) -> 170 | R24: =SUM(R5:R23) -> 731 | S24: =R24-K24 -> -10 | T24: =SUM(T5:T23) -> -30 | U24: =R24-'0910 Monthly '!O24 -> -21 | W24: =SUM(W5:W23) -> 355 | X24: =SUM(X5:X23) -> 204 | Y24: =SUM(Y5:Y23) -> 169 | Z24: =SUM(Z5:Z23) -> 728 | AA24: =Z24-R24 -> -3 | AB24: =Z24-$F24 -> -33 | AC24: =AA24-'0910 Monthly '!T24 -> -747 | AE24: =SUM(AE5:AE23) -> 356 | AF24: =SUM(AF5:AF23) -> 203 | AG24: =SUM(AG5:AG23) -> 167 | AH24: =SUM(AH5:AH23) -> 726 | AI24: =AH24-Z24 -> -2 | AJ24: =AH24-$F24 -> -35 | AK24: =AI24-'0910 Monthly '!Z24 -> -736 | AM24: =SUM(AM5:AM23) -> 347 | AN24: =SUM(AN5:AN23) -> 205 | AO24: =SUM(AO5:AO23) -> 171 | AP24: =SUM(AP5:AP23) -> 723 | AQ24: =AP24-AH24 -> -3 | AR24: =AP24-$F24 -> -38 | AS24: =AQ24-'0910 Monthly '!AF24 -> -722 | AU24: =SUM(AU5:AU23) -> 342 | AV24: =SUM(AV5:AV23) -> 195 | AW24: =SUM(AW5:AW23) -> 168 | AX24: =SUM(AX5:AX23) -> 705 | AY24: =AX24-AP24 -> -18 | AZ24: =AX24-$F24 -> -56 | BA24: =AX24-'0910 Monthly '!AL24 -> -9 | BC24: =SUM(BC5:BC23) -> 342 | BD24: =SUM(BD5:BD23) -> 194 | BE24: =SUM(BE5:BE23) -> 168 | BF24: =SUM(BF5:BF23) -> 704 | BG24: =BF24-AX24 -> -1 | BH24: =BF24-$F24 -> -57 | BI24: =BF24-'0910 Monthly '!AR24 -> -6 | BK24: =SUM(BK5:BK23) -> 335 | BL24: =SUM(BL5:BL23) -> 194 | BM24: =SUM(BM5:BM23) -> 168 | BN24: =SUM(BN5:BN23) -> 697 | BO24: =BN24-BF24 -> -7 | BP24: =BN24-$F24 -> -64 | BQ24: =BN24-'0910 Monthly '!AX24 -> -8 | BS24: =SUM(BS5:BS23) -> 332 | BT24: =SUM(BT5:BT23) -> 195 | BU24: =SUM(BU5:BU23) -> 167 | BV24: =SUM(BV5:BV23) -> 694 | BW24: =BV24-BN24 -> -3 | BX24: =BV24-$F24 -> -67 | BY24: =BV24-'0910 Monthly '!BD24 -> -7 | CA24: 332 | CB24: 195 | CC24: 167 | CD24: 694 | CE24: =CD24-BV24 -> 0 | CF24: =CD24-$K24 -> -47 | CG24: =BV24-'0910 Monthly '!BJ24 -> -4
A25: Date of Report | C25: 40414 | H25: 40436 | O25: Thursday, October 21, 2010 | W25: 40500 | AE25: 40528 | AM25: Friday, January 21, 2011 | AU25: Tuesday, February 15, 2011 | BC25: Tuesday, March 15, 2011 | BK25: Tuesday, April 19, 2011 | BS25: Wednesday, May 18, 2011
A26: School District | C26: Program/Year Level | H26: Program/Year Level | K26: Total | L26: Chg/ Month | M26: Chg/ Year | O26: Program/Year Level | R26: Total | S26: Chg/ Month | T26: Chg/ | U26: Chg/ Year | W26: Program/Year Level | Z26: Total | AA26: Chg/ Month | AB26: Chg/ Sept | AC26: Chg/ Year | AE26: Program/Year Level | AH26: Total | AI26: Chg/ Month | AJ26: Chg/ Sept | AK26: Chg/ Year | AM26: Program/Year Level | AP26: Total | AQ26: Chg/ Month | AR26: Chg/ Sept | AS26: Chg/ Year | AU26: Program/Year Level | AX26: Total | AY26: Chg/ Month | AZ26: Chg/ Sept | BA26: Chg/ Year | BC26: Program/Year Level | BF26: Total | BG26: Chg/ Month | BH26: Chg/ Sept | BI26: Chg/ Year | BK26: Program/Year Level | BN26: Total | BO26: Chg/ Month | BP26: Chg/ Sept | BQ26: Chg/ Year | BS26: Program/Year Level | BV26: Total | BW26: Chg/ Month | BX26: Chg/ Sept | BY26: Chg/ Year | CA26: Program/Year Level | CD26: Total | CE26: Chg/ Month | CF26: Chg/ Sept | CG26: Chg/ Year
A27: School District | B27: Quota | C27: 1st | D27: 2nd | E27: 3rd | F27: Total | H27: 1st | I27: 2nd | J27: 3rd | K27: Total | O27: 1st | P27: 2nd | Q27: 3rd | R27: Total | T27: Sept | W27: 1st | X27: 2nd | Y27: 3rd | Z27: Total | AE27: 1st | AF27: 2nd | AG27: 3rd | AH27: Total | AM27: 1st | AN27: 2nd | AO27: 3rd | AP27: Total | AU27: 1st | AV27: 2nd | AW27: 3rd | AX27: Total | BC27: 1st | BD27: 2nd | BE27: 3rd | BF27: Total | BK27: 1st | BL27: 2nd | BM27: 3rd | BN27: Total | BS27: 1st | BT27: 2nd | BU27: 3rd | BV27: Total | CA27: 1st | CB27: 2nd | CC27: 3rd | CD27: Total
A28: Fairview | B28: =$B$24*B43 -> 73.158321 | C28: 9 | D28: 11 | E28: 5 | F28: 25 | H28: 13 | I28: 10 | J28: 5 | K28: 28 | L28: =K28-F28 -> 3 | M28: =K28-'0910 Monthly '!J28 -> -1 | O28: 13 | P28: 10 | Q28: 5 | R28: 28 | S28: =R28-K28 -> 0 | T28: =R28-F28 -> 3 | U28: =R28-'0910 Monthly '!O28 -> -2 | W28: 13 | X28: 9 | Y28: 5 | Z28: 27 | AA28: =Z28-R28 -> -1 | AB28: =Z28-$F28 -> 2 | AC28: =AA28-'0910 Monthly '!T28 -> -31 | AE28: 13 | AF28: 9 | AG28: 5 | AH28: 27 | AI28: =AH28-Z28 -> 0 | AJ28: =AH28-$F28 -> 2 | AK28: =AI28-'0910 Monthly '!Z28 -> -29 | AM28: 13 | AN28: 8 | AO28: 5 | AP28: 26 | AQ28: =AP28-AH28 -> -1 | AR28: =AP28-$F28 -> 1 | AS28: =AQ28-'0910 Monthly '!AF28 -> -29 | AU28: 14 | AV28: 8 | AW28: 5 | AX28: 27 | AY28: =AX28-AP28 -> 1 | AZ28: =AX28-$F28 -> 2 | BA28: =AX28-'0910 Monthly '!AL28 -> 0 | BC28: 14 | BD28: 8 | BE28: 5 | BF28: 27 | BG28: =BF28-AX28 -> 0 | BH28: =BF28-$F28 -> 2 | BI28: =BF28-'0910 Monthly '!AR28 -> 0 | BK28: 14 | BL28: 8 | BM28: 5 | BN28: 27 | BO28: =BN28-BF28 -> 0 | BP28: =BN28-$F28 -> 2 | BQ28: =BN28-'0910 Monthly '!AX28 -> 0 | BS28: 14 | BT28: 8 | BU28: 5 | BV28: 27 | BW28: =BV28-BN28 -> 0 | BX28: =BV28-$F28 -> 2 | BY28: =BV28-'0910 Monthly '!BD28 -> 0 | CA28: 14 | CB28: 8 | CC28: 5 | CD28: 27 | CE28: =CD28-BV28 -> 0 | CF28: =CD28-$K28 -> -1 | CG28: =BV28-'0910 Monthly '!BJ28 -> 1
A29: Fort LeBoeuf | B29: =$B$24*B44 -> 86.062595 | C29: 42 | D29: 32 | E29: 24 | F29: 98 | H29: 40 | I29: 29 | J29: 22 | K29: 91 | L29: =K29-F29 -> -7 | M29: =K29-'0910 Monthly '!J29 -> 5 | O29: 38 | P29: 28 | Q29: 22 | R29: 88 | S29: =R29-K29 -> -3 | T29: =R29-F29 -> -10 | U29: =R29-'0910 Monthly '!O29 -> 1 | W29: 40 | X29: 27 | Y29: 22 | Z29: 89 | AA29: 1 | AB29: =Z29-$F29 -> -9 | AC29: =AA29-'0910 Monthly '!T29 -> -85 | AE29: 41 | AF29: 27 | AG29: 22 | AH29: 90 | AI29: =AH29-Z29 -> 1 | AJ29: =AH29-$F29 -> -8 | AK29: =AI29-'0910 Monthly '!Z29 -> -83 | AM29: 42 | AN29: 26 | AO29: 22 | AP29: 90 | AQ29: =AP29-AH29 -> 0 | AR29: =AP29-$F29 -> -8 | AS29: =AQ29-'0910 Monthly '!AF29 -> -81 | AU29: 42 | AV29: 23 | AW29: 22 | AX29: 87 | AY29: =AX29-AP29 -> -3 | AZ29: =AX29-$F29 -> -11 | BA29: =AX29-'0910 Monthly '!AL29 -> 7 | BC29: 42 | BD29: 23 | BE29: 22 | BF29: 87 | BG29: =BF29-AX29 -> 0 | BH29: =BF29-$F29 -> -11 | BI29: =BF29-'0910 Monthly '!AR29 -> 8 | BK29: 42 | BL29: 23 | BM29: 22 | BN29: 87 | BO29: =BN29-BF29 -> 0 | BP29: =BN29-$F29 -> -11 | BQ29: =BN29-'0910 Monthly '!AX29 -> 9 | BS29: 42 | BT29: 23 | BU29: 22 | BV29: 87 | BW29: =BV29-BN29 -> 0 | BX29: =BV29-$F29 -> -11 | BY29: =BV29-'0910 Monthly '!BD29 -> 9 | CA29: 42 | CB29: 23 | CC29: 22 | CD29: 87 | CE29: =CD29-BV29 -> 0 | CF29: =CD29-$K29 -> -4 | CG29: =BV29-'0910 Monthly '!BJ29 -> 9
A30: General McLane | B30: =$B$24*B45 -> 93.30237 | C30: 33 | D30: 13 | E30: 10 | F30: 56 | H30: 33 | I30: 13 | J30: 11 | K30: 57 | L30: =K30-F30 -> 1 | M30: =K30-'0910 Monthly '!J30 -> 1 | O30: 35 | P30: 13 | Q30: 10 | R30: 58 | S30: =R30-K30 -> 1 | T30: =R30-F30 -> 2 | U30: =R30-'0910 Monthly '!O30 -> 3 | W30: 34 | X30: 13 | Y30: 10 | Z30: 57 | AA30: =Z30-R30 -> -1 | AB30: =Z30-$F30 -> 1 | AC30: =AA30-'0910 Monthly '!T30 -> -56 | AE30: 33 | AF30: 13 | AG30: 9 | AH30: 55 | AI30: =AH30-Z30 -> -2 | AJ30: =AH30-$F30 -> -1 | AK30: =AI30-'0910 Monthly '!Z30 -> -57 | AM30: 33 | AN30: 14 | AO30: 9 | AP30: 56 | AQ30: =AP30-AH30 -> 1 | AR30: =AP30-$F30 -> 0 | AS30: =AQ30-'0910 Monthly '!AF30 -> -55 | AU30: 32 | AV30: 14 | AW30: 8 | AX30: 54 | AY30: =AX30-AP30 -> -2 | AZ30: =AX30-$F30 -> -2 | BA30: =AX30-'0910 Monthly '!AL30 -> 0 | BC30: 32 | BD30: 14 | BE30: 8 | BF30: 54 | BG30: =BF30-AX30 -> 0 | BH30: =BF30-$F30 -> -2 | BI30: =BF30-'0910 Monthly '!AR30 -> 0 | BK30: 31 | BL30: 14 | BM30: 7 | BN30: 52 | BO30: =BN30-BF30 -> -2 | BP30: =BN30-$F30 -> -4 | BQ30: =BN30-'0910 Monthly '!AX30 -> 2 | BS30: 31 | BT30: 14 | BU30: 7 | BV30: 52 | BW30: =BV30-BN30 -> 0 | BX30: =BV30-$F30 -> -4 | BY30: =BV30-'0910 Monthly '!BD30 -> 2 | CA30: 31 | CB30: 14 | CC30: 7 | CD30: 52 | CE30: =CD30-BV30 -> 0 | CF30: =CD30-$K30 -> -5 | CG30: =BV30-'0910 Monthly '!BJ30 -> 2
A31: Girard | B31: =$B$24*B46 -> 77.925959 | C31: 30 | D31: 21 | E31: 21 | F31: 72 | H31: 29 | I31: 20 | J31: 19 | K31: 68 | L31: =K31-F31 -> -4 | M31: =K31-'0910 Monthly '!J31 -> -4 | O31: 28 | P31: 19 | Q31: 19 | R31: 66 | S31: =R31-K31 -> -2 | T31: =R31-F31 -> -6 | U31: =R31-'0910 Monthly '!O31 -> -3 | W31: 29 | X31: 18 | Y31: 19 | Z31: 66 | AA31: =Z31-R31 -> 0 | AB31: =Z31-$F31 -> -6 | AC31: =AA31-'0910 Monthly '!T31 -> -67 | AE31: 29 | AF31: 18 | AG31: 19 | AH31: 66 | AI31: =AH31-Z31 -> 0 | AJ31: =AH31-$F31 -> -6 | AK31: =AI31-'0910 Monthly '!Z31 -> -67 | AM31: 26 | AN31: 18 | AO31: 22 | AP31: 66 | AQ31: =AP31-AH31 -> 0 | AR31: =AP31-$F31 -> -6 | AS31: =AQ31-'0910 Monthly '!AF31 -> -68 | AU31: 24 | AV31: 15 | AW31: 20 | AX31: 59 | AY31: =AX31-AP31 -> -7 | AZ31: =AX31-$F31 -> -13 | BA31: =AX31-'0910 Monthly '!AL31 -> -10 | BC31: 24 | BD31: 15 | BE31: 20 | BF31: 59 | BG31: =BF31-AX31 -> 0 | BH31: =BF31-$F31 -> -13 | BI31: =BF31-'0910 Monthly '!AR31 -> -10 | BK31: 23 | BL31: 15 | BM31: 21 | BN31: 59 | BO31: =BN31-BF31 -> 0 | BP31: =BN31-$F31 -> -13 | BQ31: =BN31-'0910 Monthly '!AX31 -> -10 | BS31: 23 | BT31: 15 | BU31: 20 | BV31: 58 | BW31: =BV31-BN31 -> -1 | BX31: =BV31-$F31 -> -14 | BY31: =BV31-'0910 Monthly '!BD31 -> -11 | CA31: 23 | CB31: 15 | CC31: 20 | CD31: 58 | CE31: =CD31-BV31 -> 0 | CF31: =CD31-$K31 -> -10 | CG31: =BV31-'0910 Monthly '!BJ31 -> -11
A32: Harbor Creek | B32: =$B$24*B47 -> 79.14312 | C32: 34 | D32: 9 | E32: 16 | F32: 59 | H32: 36 | I32: 10 | J32: 16 | K32: 62 | L32: =K32-F32 -> 3 | M32: =K32-'0910 Monthly '!J32 -> 4 | O32: 35 | P32: 10 | Q32: 15 | R32: 60 | S32: =R32-K32 -> -2 | T32: =R32-F32 -> 1 | U32: =R32-'0910 Monthly '!O32 -> 3 | W32: 35 | X32: 10 | Y32: 15 | Z32: 60 | AA32: =Z32-R32 -> 0 | AB32: =Z32-$F32 -> 1 | AC32: =AA32-'0910 Monthly '!T32 -> -57 | AE32: 36 | AF32: 10 | AG32: 15 | AH32: 61 | AI32: =AH32-Z32 -> 1 | AJ32: =AH32-$F32 -> 2 | AK32: =AI32-'0910 Monthly '!Z32 -> -56 | AM32: 35 | AN32: 10 | AO32: 15 | AP32: 60 | AQ32: =AP32-AH32 -> -1 | AR32: =AP32-$F32 -> 1 | AS32: =AQ32-'0910 Monthly '!AF32 -> -56 | AU32: 35 | AV32: 10 | AW32: 15 | AX32: 60 | AY32: =AX32-AP32 -> 0 | AZ32: =AX32-$F32 -> 1 | BA32: =AX32-'0910 Monthly '!AL32 -> 3 | BC32: 34 | BD32: 10 | BE32: 15 | BF32: 59 | BG32: =BF32-AX32 -> -1 | BH32: =BF32-$F32 -> 0 | BI32: =BF32-'0910 Monthly '!AR32 -> 4 | BK32: 34 | BL32: 10 | BM32: 15 | BN32: 59 | BO32: =BN32-BF32 -> 0 | BP32: =BN32-$F32 -> 0 | BQ32: =BN32-'0910 Monthly '!AX32 -> 3 | BS32: 34 | BT32: 10 | BU32: 15 | BV32: 59 | BW32: =BV32-BN32 -> 0 | BX32: =BV32-$F32 -> 0 | BY32: =BV32-'0910 Monthly '!BD32 -> 5 | CA32: 34 | CB32: 10 | CC32: 15 | CD32: 59 | CE32: =CD32-BV32 -> 0 | CF32: =CD32-$K32 -> -3 | CG32: =BV32-'0910 Monthly '!BJ32 -> 5
A33: Iroquois | B33: =$B$24*B48 -> 51.145988 | C33: 13 | D33: 6 | E33: 5 | F33: 24 | H33: 15 | I33: 6 | J33: 4 | K33: 25 | L33: =K33-F33 -> 1 | M33: =K33-'0910 Monthly '!J33 -> 0 | O33: 14 | P33: 6 | Q33: 4 | R33: 24 | S33: =R33-K33 -> -1 | T33: =R33-F33 -> 0 | U33: =R33-'0910 Monthly '!O33 -> 1 | W33: 14 | X33: 6 | Y33: 4 | Z33: 24 | AA33: =Z33-R33 -> 0 | AB33: =Z33-$F33 -> 0 | AC33: =AA33-'0910 Monthly '!T33 -> -21 | AE33: 14 | AF33: 6 | AG33: 4 | AH33: 24 | AI33: =AH33-Z33 -> 0 | AJ33: =AH33-$F33 -> 0 | AK33: =AI33-'0910 Monthly '!Z33 -> -21 | AM33: 14 | AN33: 6 | AO33: 4 | AP33: 24 | AQ33: =AP33-AH33 -> 0 | AR33: =AP33-$F33 -> 0 | AS33: =AQ33-'0910 Monthly '!AF33 -> -21 | AU33: 14 | AV33: 6 | AW33: 4 | AX33: 24 | AY33: =AX33-AP33 -> 0 | AZ33: =AX33-$F33 -> 0 | BA33: =AX33-'0910 Monthly '!AL33 -> 3 | BC33: 14 | BD33: 6 | BE33: 4 | BF33: 24 | BG33: =BF33-AX33 -> 0 | BH33: =BF33-$F33 -> 0 | BI33: =BF33-'0910 Monthly '!AR33 -> 3 | BK33: 14 | BL33: 6 | BM33: 4 | BN33: 24 | BO33: =BN33-BF33 -> 0 | BP33: =BN33-$F33 -> 0 | BQ33: =BN33-'0910 Monthly '!AX33 -> 3 | BS33: 14 | BT33: 6 | BU33: 4 | BV33: 24 | BW33: =BV33-BN33 -> 0 | BX33: =BV33-$F33 -> 0 | BY33: =BV33-'0910 Monthly '!BD33 -> 4 | CA33: 14 | CB33: 6 | CC33: 4 | CD33: 24 | CE33: =CD33-BV33 -> 0 | CF33: =CD33-$K33 -> -1 | CG33: =BV33-'0910 Monthly '!BJ33 -> 4
A34: Millcreek | B34: =$B$24*B49 -> 296.31921 | C34: 60 | D34: 62 | E34: 43 | F34: 165 | H34: 52 | I34: 58 | J34: 41 | K34: 151 | L34: =K34-F34 -> -14 | M34: =K34-'0910 Monthly '!J34 -> -40 | O34: 53 | P34: 56 | Q34: 41 | R34: 150 | S34: =R34-K34 -> -1 | T34: =R34-F34 -> -15 | U34: =R34-'0910 Monthly '!O34 -> -41 | W34: 51 | X34: 54 | Y34: 40 | Z34: 145 | AA34: =Z34-R34 -> -5 | AB34: =Z34-$F34 -> -20 | AC34: =AA34-'0910 Monthly '!T34 -> -195 | AE34: 51 | AF34: 53 | AG34: 39 | AH34: 143 | AI34: =AH34-Z34 -> -2 | AJ34: =AH34-$F34 -> -22 | AK34: =AI34-'0910 Monthly '!Z34 -> -187 | AM34: 50 | AN34: 53 | AO34: 40 | AP34: 143 | AQ34: =AP34-AH34 -> 0 | AR34: =AP34-$F34 -> -22 | AS34: =AQ34-'0910 Monthly '!AF34 -> -176 | AU34: 51 | AV34: 51 | AW34: 40 | AX34: 142 | AY34: =AX34-AP34 -> -1 | AZ34: =AX34-$F34 -> -23 | BA34: =AX34-'0910 Monthly '!AL34 -> -34 | BC34: 51 | BD34: 50 | BE34: 40 | BF34: 141 | BG34: =BF34-AX34 -> -1 | BH34: =BF34-$F34 -> -24 | BI34: =BF34-'0910 Monthly '!AR34 -> -35 | BK34: 51 | BL34: 50 | BM34: 40 | BN34: 141 | BO34: =BN34-BF34 -> 0 | BP34: =BN34-$F34 -> -24 | BQ34: =BN34-'0910 Monthly '!AX34 -> -34 | BS34: 51 | BT34: 50 | BU34: 40 | BV34: 141 | BW34: =BV34-BN34 -> 0 | BX34: =BV34-$F34 -> -24 | BY34: =BV34-'0910 Monthly '!BD34 -> -33 | CA34: 51 | CB34: 50 | CC34: 40 | CD34: 141 | CE34: =CD34-BV34 -> 0 | CF34: =CD34-$K34 -> -10 | CG34: =BV34-'0910 Monthly '!BJ34 -> -32
A35: North East | B35: =$B$24*B50 -> 75.171167 | C35: 38 | D35: 21 | E35: 12 | F35: 71 | H35: 41 | I35: 21 | J35: 12 | K35: 74 | L35: =K35-F35 -> 3 | M35: =K35-'0910 Monthly '!J35 -> 4 | O35: 43 | P35: 21 | Q35: 12 | R35: 76 | S35: =R35-K35 -> 2 | T35: =R35-F35 -> 5 | U35: =R35-'0910 Monthly '!O35 -> 2 | W35: 45 | X35: 21 | Y35: 12 | Z35: 78 | AA35: =Z35-R35 -> 2 | AB35: =Z35-$F35 -> 7 | AC35: =AA35-'0910 Monthly '!T35 -> -71 | AE35: 46 | AF35: 21 | AG35: 12 | AH35: 79 | AI35: =AH35-Z35 -> 1 | AJ35: =AH35-$F35 -> 8 | AK35: =AI35-'0910 Monthly '!Z35 -> -72 | AM35: 43 | AN35: 24 | AO35: 12 | AP35: 79 | AQ35: =AP35-AH35 -> 0 | AR35: =AP35-$F35 -> 8 | AS35: =AQ35-'0910 Monthly '!AF35 -> -73 | AU35: 39 | AV35: 24 | AW35: 12 | AX35: 75 | AY35: =AX35-AP35 -> -4 | AZ35: =AX35-$F35 -> 4 | BA35: =AX35-'0910 Monthly '!AL35 -> 9 | BC35: 38 | BD35: 24 | BE35: 12 | BF35: 74 | BG35: =BF35-AX35 -> -1 | BH35: =BF35-$F35 -> 3 | BI35: =BF35-'0910 Monthly '!AR35 -> 9 | BK35: 34 | BL35: 24 | BM35: 12 | BN35: 70 | BO35: =BN35-BF35 -> -4 | BP35: =BN35-$F35 -> -1 | BQ35: =BN35-'0910 Monthly '!AX35 -> 3 | BS35: 32 | BT35: 24 | BU35: 12 | BV35: 68 | BW35: =BV35-BN35 -> -2 | BX35: =BV35-$F35 -> -3 | BY35: =BV35-'0910 Monthly '!BD35 -> 1 | CA35: 32 | CB35: 24 | CC35: 12 | CD35: 68 | CE35: =CD35-BV35 -> 0 | CF35: =CD35-$K35 -> -6 | CG35: =BV35-'0910 Monthly '!BJ35 -> 2
A36: Northwestern | B36: =$B$24*B51 -> 69.359123 | C36: 37 | D36: 18 | E36: 11 | F36: 66 | H36: 40 | I36: 17 | J36: 11 | K36: 68 | L36: =K36-F36 -> 2 | M36: =K36-'0910 Monthly '!J36 -> 8 | O36: 41 | P36: 15 | Q36: 11 | R36: 67 | S36: =R36-K36 -> -1 | T36: =R36-F36 -> 1 | U36: =R36-'0910 Monthly '!O36 -> 6 | W36: 41 | X36: 17 | Y36: 11 | Z36: 69 | AA36: =Z36-R36 -> 2 | AB36: =Z36-$F36 -> 3 | AC36: =AA36-'0910 Monthly '!T36 -> -58 | AE36: 42 | AF36: 17 | AG36: 11 | AH36: 70 | AI36: =AH36-Z36 -> 1 | AJ36: =AH36-$F36 -> 4 | AK36: =AI36-'0910 Monthly '!Z36 -> -58 | AM36: 41 | AN36: 18 | AO36: 11 | AP36: 70 | AQ36: =AP36-AH36 -> 0 | AR36: =AP36-$F36 -> 4 | AS36: =AQ36-'0910 Monthly '!AF36 -> -61 | AU36: 41 | AV36: 17 | AW36: 11 | AX36: 69 | AY36: =AX36-AP36 -> -1 | AZ36: =AX36-$F36 -> 3 | BA36: =AX36-'0910 Monthly '!AL36 -> 10 | BC36: 43 | BD36: 17 | BE36: 11 | BF36: 71 | BG36: =BF36-AX36 -> 2 | BH36: =BF36-$F36 -> 5 | BI36: =BF36-'0910 Monthly '!AR36 -> 11 | BK36: 43 | BL36: 17 | BM36: 11 | BN36: 71 | BO36: =BN36-BF36 -> 0 | BP36: =BN36-$F36 -> 5 | BQ36: =BN36-'0910 Monthly '!AX36 -> 11 | BS36: 43 | BT36: 17 | BU36: 11 | BV36: 71 | BW36: =BV36-BN36 -> 0 | BX36: =BV36-$F36 -> 5 | BY36: =BV36-'0910 Monthly '!BD36 -> 11 | CA36: 43 | CB36: 17 | CC36: 11 | CD36: 71 | CE36: =CD36-BV36 -> 0 | CF36: =CD36-$K36 -> 3 | CG36: =BV36-'0910 Monthly '!BJ36 -> 11
A37: Union City | B37: =$B$24*B52 -> 46.710468 | C37: 22 | D37: 12 | E37: 12 | F37: 46 | H37: 27 | I37: 11 | J37: 11 | K37: 49 | L37: =K37-F37 -> 3 | M37: =K37-'0910 Monthly '!J37 -> 12 | O37: 26 | P37: 12 | Q37: 11 | R37: 49 | S37: =R37-K37 -> 0 | T37: =R37-F37 -> 3 | U37: =R37-'0910 Monthly '!O37 -> 12 | W37: 26 | X37: 12 | Y37: 11 | Z37: 49 | AA37: =Z37-R37 -> 0 | AB37: =Z37-$F37 -> 3 | AC37: =AA37-'0910 Monthly '!T37 -> -37 | AE37: 25 | AF37: 12 | AG37: 11 | AH37: 48 | AI37: =AH37-Z37 -> -1 | AJ37: =AH37-$F37 -> 2 | AK37: =AI37-'0910 Monthly '!Z37 -> -38 | AM37: 25 | AN37: 12 | AO37: 11 | AP37: 48 | AQ37: =AP37-AH37 -> 0 | AR37: =AP37-$F37 -> 2 | AS37: =AQ37-'0910 Monthly '!AF37 -> -33 | AU37: 23 | AV37: 11 | AW37: 11 | AX37: 45 | AY37: =AX37-AP37 -> -3 | AZ37: =AX37-$F37 -> -1 | BA37: =AX37-'0910 Monthly '!AL37 -> 12 | BC37: 23 | BD37: 11 | BE37: 11 | BF37: 45 | BG37: =BF37-AX37 -> 0 | BH37: =BF37-$F37 -> -1 | BI37: =BF37-'0910 Monthly '!AR37 -> 13 | BK37: 22 | BL37: 11 | BM37: 11 | BN37: 44 | BO37: =BN37-BF37 -> -1 | BP37: =BN37-$F37 -> -2 | BQ37: =BN37-'0910 Monthly '!AX37 -> 12 | BS37: 21 | BT37: 11 | BU37: 11 | BV37: 43 | BW37: =BV37-BN37 -> -1 | BX37: =BV37-$F37 -> -3 | BY37: =BV37-'0910 Monthly '!BD37 -> 11 | CA37: 21 | CB37: 11 | CC37: 11 | CD37: 43 | CE37: =CD37-BV37 -> 0 | CF37: =CD37-$K37 -> -6 | CG37: =BV37-'0910 Monthly '!BJ37 -> 11
A38: Wattsburg | B38: =$B$24*B53 -> 59.701682 | C38: 34 | D38: 24 | E38: 21 | F38: 79 | H38: 29 | I38: 19 | J38: 20 | K38: 68 | L38: =K38-F38 -> -11 | M38: =K38-'0910 Monthly '!J38 -> 1 | O38: 27 | P38: 18 | Q38: 20 | R38: 65 | S38: =R38-K38 -> -3 | T38: =R38-F38 -> -14 | U38: =R38-'0910 Monthly '!O38 -> -3 | W38: 27 | X38: 17 | Y38: 20 | Z38: 64 | AA38: =Z38-R38 -> -1 | AB38: =Z38-$F38 -> -15 | AC38: =AA38-'0910 Monthly '!T38 -> -69 | AE38: 26 | AF38: 17 | AG38: 20 | AH38: 63 | AI38: =AH38-Z38 -> -1 | AJ38: =AH38-$F38 -> -16 | AK38: =AI38-'0910 Monthly '!Z38 -> -68 | AM38: 25 | AN38: 16 | AO38: 20 | AP38: 61 | AQ38: =AP38-AH38 -> -2 | AR38: =AP38-$F38 -> -18 | AS38: =AQ38-'0910 Monthly '!AF38 -> -69 | AU38: 27 | AV38: 16 | AW38: 20 | AX38: 63 | AY38: =AX38-AP38 -> 2 | AZ38: =AX38-$F38 -> -16 | BA38: =AX38-'0910 Monthly '!AL38 -> -9 | BC38: 27 | BD38: 16 | BE38: 20 | BF38: 63 | BG38: =BF38-AX38 -> 0 | BH38: =BF38-$F38 -> -16 | BI38: =BF38-'0910 Monthly '!AR38 -> -9 | BK38: 27 | BL38: 16 | BM38: 20 | BN38: 63 | BO38: =BN38-BF38 -> 0 | BP38: =BN38-$F38 -> -16 | BQ38: =BN38-'0910 Monthly '!AX38 -> -7 | BS38: 27 | BT38: 17 | BU38: 20 | BV38: 64 | BW38: =BV38-BN38 -> 1 | BX38: =BV38-$F38 -> -15 | BY38: =BV38-'0910 Monthly '!BD38 -> -6 | CA38: 27 | CB38: 17 | CC38: 20 | CD38: 64 | CE38: =CD38-BV38 -> 0 | CF38: =CD38-$K38 -> -4 | CG38: =BV38-'0910 Monthly '!BJ38 -> -6
A39: Totals | B39: =SUM(B28:B38) -> 1008 | C39: 352 | D39: 229 | E39: 180 | F39: 761 | H39: =SUM(H28:H38) -> 355 | I39: =SUM(I28:I38) -> 214 | J39: =SUM(J28:J38) -> 172 | K39: =SUM(K28:K38) -> 741 | L39: =K39-F39 -> -20 | M39: =K39-'0910 Monthly '!J39 -> -10 | O39: 353 | P39: 208 | Q39: 170 | R39: 731 | S39: 0 | T39: =SUM(T28:T38) -> -30 | U39: =R39-'0910 Monthly '!O39 -> -21 | W39: =SUM(W28:W38) -> 355 | X39: =SUM(X28:X38) -> 204 | Y39: =SUM(Y28:Y38) -> 169 | Z39: =SUM(Z28:Z38) -> 728 | AA39: =Z39-R39 -> -3 | AB39: =Z39-$F39 -> -33 | AC39: =AA39-'0910 Monthly '!T39 -> -747 | AE39: =SUM(AE28:AE38) -> 356 | AF39: =SUM(AF28:AF38) -> 203 | AG39: =SUM(AG28:AG38) -> 167 | AH39: =SUM(AH28:AH38) -> 726 | AI39: =AH39-Z39 -> -2 | AJ39: =AH39-$F39 -> -35 | AK39: =AI39-'0910 Monthly '!Z39 -> -736 | AM39: =SUM(AM28:AM38) -> 347 | AN39: =SUM(AN28:AN38) -> 205 | AO39: =SUM(AO28:AO38) -> 171 | AP39: =SUM(AP28:AP38) -> 723 | AQ39: =AP39-AH39 -> -3 | AR39: =AP39-$F39 -> -38 | AS39: =AQ39-'0910 Monthly '!AF39 -> -722 | AU39: =SUM(AU28:AU38) -> 342 | AV39: =SUM(AV28:AV38) -> 195 | AW39: =SUM(AW28:AW38) -> 168 | AX39: =SUM(AX28:AX38) -> 705 | AY39: =AX39-AP39 -> -18 | AZ39: =AX39-$F39 -> -56 | BA39: =AX39-'0910 Monthly '!AL39 -> -9 | BC39: =SUM(BC28:BC38) -> 342 | BD39: =SUM(BD28:BD38) -> 194 | BE39: =SUM(BE28:BE38) -> 168 | BF39: =SUM(BF28:BF38) -> 704 | BG39: =BF39-AX39 -> -1 | BH39: =BF39-$F39 -> -57 | BI39: =BF39-'0910 Monthly '!AR39 -> -6 | BK39: =SUM(BK28:BK38) -> 335 | BL39: =SUM(BL28:BL38) -> 194 | BM39: =SUM(BM28:BM38) -> 168 | BN39: =SUM(BN28:BN38) -> 697 | BO39: =BN39-BF39 -> -7 | BP39: =BN39-$F39 -> -64 | BQ39: =BN39-'0910 Monthly '!AX39 -> -8 | BS39: =SUM(BS28:BS38) -> 332 | BT39: =SUM(BT28:BT38) -> 195 | BU39: =SUM(BU28:BU38) -> 167 | BV39: =SUM(BV28:BV38) -> 694 | BW39: =BV39-BN39 -> -3 | BX39: =BV39-$F39 -> -67 | BY39: =BV39-'0910 Monthly '!BD39 -> -7 | CA39: =SUM(CA28:CA38) -> 332 | CB39: =SUM(CB28:CB38) -> 195 | CC39: =SUM(CC28:CC38) -> 167 | CD39: =SUM(CD28:CD38) -> 694 | CE39: =CD39-BV39 -> 0 | CF39: =CD39-$K39 -> -47 | CG39: =BV39-'0910 Monthly '!BJ39 -> -4
A42: Quota Percentage
A43: Fairview | B43: 0.072577699
A44: Fort LeBoeuf | B44: 0.085379559
A45: General McLane | B45: 0.092561875
A46: Girard | B46: 0.077307499
A47: Harbor Creek | B47: 0.078515
A48: Iroquois | B48: 0.050740068
A49: Millcreek | B49: 0.29396747
A50: North East | B50: 0.074574571
A51: Northwestern | B51: 0.068808654
A52: Union City | B52: 0.04633975
A53: Wattsburg | B53: 0.059227859
B54: =SUM(B43:B53) -> 1

Sheet 0910 Monthly 
C2: August 2009 | G2: September 2009 | L2: October 2009 | Q2: November 2009 | W2: December 2009 | AC2: January 2010 | AI2: February 2010 | AO2: March 2010 | AU2: April 2010 | BA2: May 2010 | BG2: June 2010
A3: Program | C3: Program/Year Level | F3: Total | G3: Program/Year Level | J3: Total | K3: Chg/ Month | L3: Program/Year Level | O3: Total | P3: Chg/ Month | Q3: Program/Year Level | T3: Total | U3: Chg/ Month | V3: Chg/ Sept | W3: Program/Year Level | Z3: Total | AA3: Chg/ Month | AB3: Chg/ Sept | AC3: Program/Year Level | AF3: Total | AG3: Chg/ Month | AH3: Chg/ Sept | AI3: Program/Year Level | AL3: Total | AM3: Chg/ Month | AN3: Chg/ Sept | AO3: Program/Year Level | AR3: Total | AS3: Chg/ Month | AT3: Chg/ Sept | AU3: Program/Year Level | AX3: Total | AY3: Chg/ Month | AZ3: Chg/ Sept | BA3: Program/Year Level | BD3: Total | BE3: Chg/ Month | BF3: Chg/ Sept | BG3: Program/Year Level | BJ3: Total | BK3: Chg/ Month | BL3: Chg/ Sept
B4: Capacity | C4: 1st | D4: 2nd | E4: 3rd | F4: Total | G4: 1st | H4: 2nd | I4: 3rd | J4: Total | L4: 1st | M4: 2nd | N4: 3rd | O4: Total | Q4: 1st | R4: 2nd | S4: 3rd | T4: Total | W4: 1st | X4: 2nd | Y4: 3rd | Z4: Total | AC4: 1st | AD4: 2nd | AE4: 3rd | AF4: Total | AI4: 1st | AJ4: 2nd | AK4: 3rd | AL4: Total | AO4: 1st | AP4: 2nd | AQ4: 3rd | AR4: Total | AU4: 1st | AV4: 2nd | AW4: 3rd | AX4: Total | BA4: 1st | BB4: 2nd | BC4: 3rd | BD4: Total | BG4: 1st | BH4: 2nd | BI4: 3rd | BJ4: Total
A5: Art & Design | B5: 48 | C5: 17 | D5: 19 | E5: 8 | F5: 44 | G5: 19 | H5: 19 | I5: 8 | J5: 46 | K5: =J5-F5 -> 2 | L5: 19 | M5: 19 | N5: 8 | O5: 46 | P5: =O5-J5 -> 0 | Q5: 19 | R5: 19 | S5: 8 | T5: =SUM(Q5:S5) -> 46 | U5: =T5-O5 -> 0 | V5: =T5-$F5 -> 2 | W5: 19 | X5: 19 | Y5: 8 | Z5: =SUM(W5:Y5) -> 46 | AA5: =Z5-T5 -> 0 | AB5: =Z5-$F5 -> 2 | AC5: 13 | AD5: 21 | AE5: 8 | AF5: =SUM(AC5:AE5) -> 42 | AG5: =AF5-Z5 -> -4 | AH5: =AF5-$F5 -> -2 | AI5: 13 | AJ5: 20 | AK5: 8 | AL5: =SUM(AI5:AK5) -> 41 | AM5: =AL5-AF5 -> -1 | AN5: =AL5-$F5 -> -3 | AO5: 13 | AP5: 19 | AQ5: 8 | AR5: =SUM(AO5:AQ5) -> 40 | AS5: =AR5-AL5 -> -1 | AT5: =AR5-$F5 -> -4 | AU5: 13 | AV5: 19 | AW5: 8 | AX5: =SUM(AU5:AW5) -> 40 | AY5: =AX5-AR5 -> 0 | AZ5: =AX5-$F5 -> -4 | BA5: 13 | BB5: 19 | BC5: 8 | BD5: =SUM(BA5:BC5) -> 40 | BE5: =BD5-AX5 -> 0 | BF5: =BD5-$F5 -> -4 | BG5: 13 | BH5: 18 | BI5: 8 | BJ5: =SUM(BG5:BI5) -> 39 | BK5: =BJ5-BD5 -> -1 | BL5: =BJ5-$F5 -> -5
A6: Auto Body | B6: 48 | C6: 13 | D6: 8 | E6: 10 | F6: 31 | G6: 12 | H6: 5 | I6: 10 | J6: 27 | K6: =J6-F6 -> -4 | L6: 10 | M6: 5 | N6: 10 | O6: 25 | P6: =O6-J6 -> -2 | Q6: 10 | R6: 5 | S6: 10 | T6: =SUM(Q6:S6) -> 25 | U6: =T6-O6 -> 0 | V6: =T6-$F6 -> -6 | W6: 10 | X6: 5 | Y6: 9 | Z6: =SUM(W6:Y6) -> 24 | AA6: =Z6-T6 -> -1 | AB6: =Z6-$F6 -> -7 | AC6: 7 | AD6: 5 | AE6: 8 | AF6: =SUM(AC6:AE6) -> 20 | AG6: =AF6-Z6 -> -4 | AH6: =AF6-$F6 -> -11 | AI6: 7 | AJ6: 5 | AK6: 8 | AL6: =SUM(AI6:AK6) -> 20 | AM6: =AL6-AF6 -> 0 | AN6: =AL6-$F6 -> -11 | AO6: 7 | AP6: 5 | AQ6: 8 | AR6: =SUM(AO6:AQ6) -> 20 | AS6: =AR6-AL6 -> 0 | AT6: =AR6-$F6 -> -11 | AU6: 7 | AV6: 5 | AW6: 8 | AX6: =SUM(AU6:AW6) -> 20 | AY6: =AX6-AR6 -> 0 | AZ6: =AX6-$F6 -> -11 | BA6: 7 | BB6: 5 | BC6: 8 | BD6: =SUM(BA6:BC6) -> 20 | BE6: =BD6-AX6 -> 0 | BF6: =BD6-$F6 -> -11 | BG6: 7 | BH6: 5 | BI6: 8 | BJ6: =SUM(BG6:BI6) -> 20 | BK6: =BJ6-BD6 -> 0 | BL6: =BJ6-$F6 -> -11
A7: Automotive Technologies | B7: 96 | C7: 23 | D7: 22 | E7: 15 | F7: 60 | G7: 23 | H7: 21 | I7: 14 | J7: 58 | K7: =J7-F7 -> -2 | L7: 34 | M7: 20 | N7: 14 | O7: 68 | P7: =O7-J7 -> 10 | Q7: 33 | R7: 20 | S7: 14 | T7: =SUM(Q7:S7) -> 67 | U7: =T7-O7 -> -1 | V7: =T7-$F7 -> 7 | W7: 31 | X7: 20 | Y7: 14 | Z7: =SUM(W7:Y7) -> 65 | AA7: =Z7-T7 -> -2 | AB7: =Z7-$F7 -> 5 | AC7: 29 | AD7: 21 | AE7: 13 | AF7: =SUM(AC7:AE7) -> 63 | AG7: =AF7-Z7 -> -2 | AH7: =AF7-$F7 -> 3 | AI7: 29 | AJ7: 21 | AK7: 12 | AL7: =SUM(AI7:AK7) -> 62 | AM7: =AL7-AF7 -> -1 | AN7: =AL7-$F7 -> 2 | AO7: 29 | AP7: 21 | AQ7: 12 | AR7: =SUM(AO7:AQ7) -> 62 | AS7: =AR7-AL7 -> 0 | AT7: =AR7-$F7 -> 2 | AU7: 30 | AV7: 21 | AW7: 12 | AX7: =SUM(AU7:AW7) -> 63 | AY7: =AX7-AR7 -> 1 | AZ7: =AX7-$F7 -> 3 | BA7: 29 | BB7: 21 | BC7: 12 | BD7: =SUM(BA7:BC7) -> 62 | BE7: =BD7-AX7 -> -1 | BF7: =BD7-$F7 -> 2 | BG7: 29 | BH7: 21 | BI7: 12 | BJ7: =SUM(BG7:BI7) -> 62 | BK7: =BJ7-BD7 -> 0 | BL7: =BJ7-$F7 -> 2
A8: Computer Info. Systems | B8: 48 | C8: 21 | D8: 10 | E8: 9 | F8: 40 | G8: 18 | H8: 10 | I8: 9 | J8: 37 | K8: =J8-F8 -> -3 | L8: 18 | M8: 10 | N8: 9 | O8: 37 | P8: =O8-J8 -> 0 | Q8: 18 | R8: 10 | S8: 9 | T8: =SUM(Q8:S8) -> 37 | U8: =T8-O8 -> 0 | V8: =T8-$F8 -> -3 | W8: 18 | X8: 10 | Y8: 9 | Z8: =SUM(W8:Y8) -> 37 | AA8: =Z8-T8 -> 0 | AB8: =Z8-$F8 -> -3 | AC8: 17 | AD8: 11 | AE8: 9 | AF8: =SUM(AC8:AE8) -> 37 | AG8: =AF8-Z8 -> 0 | AH8: =AF8-$F8 -> -3 | AI8: 17 | AJ8: 11 | AK8: 9 | AL8: =SUM(AI8:AK8) -> 37 | AM8: =AL8-AF8 -> 0 | AN8: =AL8-$F8 -> -3 | AO8: 17 | AP8: 10 | AQ8: 9 | AR8: =SUM(AO8:AQ8) -> 36 | AS8: =AR8-AL8 -> -1 | AT8: =AR8-$F8 -> -4 | AU8: 17 | AV8: 10 | AW8: 9 | AX8: =SUM(AU8:AW8) -> 36 | AY8: =AX8-AR8 -> 0 | AZ8: =AX8-$F8 -> -4 | BA8: 17 | BB8: 9 | BC8: 9 | BD8: =SUM(BA8:BC8) -> 35 | BE8: =BD8-AX8 -> -1 | BF8: =BD8-$F8 -> -5 | BG8: 17 | BH8: 9 | BI8: 9 | BJ8: =SUM(BG8:BI8) -> 35 | BK8: =BJ8-BD8 -> 0 | BL8: =BJ8-$F8 -> -5
A9: Construction Trades | B9: 96 | C9: 30 | D9: 27 | E9: 13 | F9: 70 | G9: 25 | H9: 27 | I9: 11 | J9: 63 | K9: =J9-F9 -> -7 | L9: 22 | M9: 26 | N9: 11 | O9: 59 | P9: =O9-J9 -> -4 | Q9: 22 | R9: 26 | S9: 11 | T9: =SUM(Q9:S9) -> 59 | U9: =T9-O9 -> 0 | V9: =T9-$F9 -> -11 | W9: 22 | X9: 25 | Y9: 11 | Z9: =SUM(W9:Y9) -> 58 | AA9: =Z9-T9 -> -1 | AB9: =Z9-$F9 -> -12 | AC9: 18 | AD9: 28 | AE9: 9 | AF9: =SUM(AC9:AE9) -> 55 | AG9: =AF9-Z9 -> -3 | AH9: =AF9-$F9 -> -15 | AI9: 18 | AJ9: 28 | AK9: 9 | AL9: =SUM(AI9:AK9) -> 55 | AM9: =AL9-AF9 -> 0 | AN9: =AL9-$F9 -> -15 | AO9: 17 | AP9: 28 | AQ9: 9 | AR9: =SUM(AO9:AQ9) -> 54 | AS9: =AR9-AL9 -> -1 | AT9: =AR9-$F9 -> -16 | AU9: 18 | AV9: 28 | AW9: 9 | AX9: =SUM(AU9:AW9) -> 55 | AY9: =AX9-AR9 -> 1 | AZ9: =AX9-$F9 -> -15 | BA9: 18 | BB9: 27 | BC9: 9 | BD9: =SUM(BA9:BC9) -> 54 | BE9: =BD9-AX9 -> -1 | BF9: =BD9-$F9 -> -16 | BG9: 18 | BH9: 27 | BI9: 9 | BJ9: =SUM(BG9:BI9) -> 54 | BK9: =BJ9-BD9 -> 0 | BL9: =BJ9-$F9 -> -16
A10: Cosmetology | B10: 48 | C10: 14 | D10: 14 | E10: 18 | F10: 46 | G10: 15 | H10: 15 | I10: 18 | J10: 48 | K10: =J10-F10 -> 2 | L10: 15 | M10: 15 | N10: 18 | O10: 48 | P10: =O10-J10 -> 0 | Q10: 15 | R10: 15 | S10: 18 | T10: =SUM(Q10:S10) -> 48 | U10: =T10-O10 -> 0 | V10: =T10-$F10 -> 2 | W10: 15 | X10: 15 | Y10: 18 | Z10: =SUM(W10:Y10) -> 48 | AA10: =Z10-T10 -> 0 | AB10: =Z10-$F10 -> 2 | AC10: 15 | AD10: 15 | AE10: 17 | AF10: =SUM(AC10:AE10) -> 47 | AG10: =AF10-Z10 -> -1 | AH10: =AF10-$F10 -> 1 | AI10: 15 | AJ10: 15 | AK10: 17 | AL10: =SUM(AI10:AK10) -> 47 | AM10: =AL10-AF10 -> 0 | AN10: =AL10-$F10 -> 1 | AO10: 15 | AP10: 15 | AQ10: 17 | AR10: =SUM(AO10:AQ10) -> 47 | AS10: =AR10-AL10 -> 0 | AT10: =AR10-$F10 -> 1 | AU10: 15 | AV10: 13 | AW10: 16 | AX10: =SUM(AU10:AW10) -> 44 | AY10: =AX10-AR10 -> -3 | AZ10: =AX10-$F10 -> -2 | BA10: 15 | BB10: 13 | BC10: 16 | BD10: =SUM(BA10:BC10) -> 44 | BE10: =BD10-AX10 -> 0 | BF10: =BD10-$F10 -> -2 | BG10: 15 | BH10: 13 | BI10: 16 | BJ10: =SUM(BG10:BI10) -> 44 | BK10: =BJ10-BD10 -> 0 | BL10: =BJ10-$F10 -> -2
A11: Culinary Arts | B11: 96 | C11: 38 | D11: 21 | E11: 22 | F11: 81 | G11: 34 | H11: 18 | I11: 21 | J11: 73 | K11: =J11-F11 -> -8 | L11: 36 | M11: 17 | N11: 21 | O11: 74 | P11: =O11-J11 -> 1 | Q11: 33 | R11: 17 | S11: 21 | T11: =SUM(Q11:S11) -> 71 | U11: =T11-O11 -> -3 | V11: =T11-$F11 -> -10 | W11: 31 | X11: 17 | Y11: 21 | Z11: =SUM(W11:Y11) -> 69 | AA11: =Z11-T11 -> -2 | AB11: =Z11-$F11 -> -12 | AC11: 33 | AD11: 17 | AE11: 21 | AF11: =SUM(AC11:AE11) -> 71 | AG11: =AF11-Z11 -> 2 | AH11: =AF11-$F11 -> -10 | AI11: 33 | AJ11: 17 | AK11: 21 | AL11: =SUM(AI11:AK11) -> 71 | AM11: =AL11-AF11 -> 0 | AN11: =AL11-$F11 -> -10 | AO11: 34 | AP11: 17 | AQ11: 20 | AR11: =SUM(AO11:AQ11) -> 71 | AS11: =AR11-AL11 -> 0 | AT11: =AR11-$F11 -> -10 | AU11: 33 | AV11: 17 | AW11: 20 | AX11: =SUM(AU11:AW11) -> 70 | AY11: =AX11-AR11 -> -1 | AZ11: =AX11-$F11 -> -11 | BA11: 33 | BB11: 17 | BC11: 19 | BD11: =SUM(BA11:BC11) -> 69 | BE11: =BD11-AX11 -> -1 | BF11: =BD11-$F11 -> -12 | BG11: 33 | BH11: 17 | BI11: 19 | BJ11: =SUM(BG11:BI11) -> 69 | BK11: =BJ11-BD11 -> 0 | BL11: =BJ11-$F11 -> -12
A12: Diversified Ocupations | C12: 0 | D12: 0 | E12: 0 | F12: 0 | G12: 2 | H12: 0 | I12: 0 | J12: 2 | K12: =J12-F12 -> 2 | L12: 3 | M12: 0 | N12: 0 | O12: 3 | P12: =O12-J12 -> 1 | Q12: 4 | R12: 0 | S12: 0 | T12: =SUM(Q12:S12) -> 4 | U12: =T12-O12 -> 1 | V12: =T12-$F12 -> 4 | W12: 4 | X12: 0 | Y12: 0 | Z12: =SUM(W12:Y12) -> 4 | AA12: =Z12-T12 -> 0 | AB12: =Z12-$F12 -> 4 | AC12: 3 | AD12: 1 | AE12: 0 | AF12: =SUM(AC12:AE12) -> 4 | AG12: =AF12-Z12 -> 0 | AH12: =AF12-$F12 -> 4 | AI12: 8 | AJ12: 1 | AK12: 0 | AL12: =SUM(AI12:AK12) -> 9 | AM12: =AL12-AF12 -> 5 | AN12: =AL12-$F12 -> 9 | AO12: 8 | AP12: 1 | AQ12: 0 | AR12: =SUM(AO12:AQ12) -> 9 | AS12: =AR12-AL12 -> 0 | AT12: =AR12-$F12 -> 9 | AU12: 7 | AV12: 1 | AW12: 0 | AX12: =SUM(AU12:AW12) -> 8 | AY12: =AX12-AR12 -> -1 | AZ12: =AX12-$F12 -> 8 | BA12: 7 | BB12: 1 | BC12: 0 | BD12: =SUM(BA12:BC12) -> 8 | BE12: =BD12-AX12 -> 0 | BF12: =BD12-$F12 -> 8 | BG12: 7 | BH12: 1 | BI12: 0 | BJ12: =SUM(BG12:BI12) -> 8 | BK12: =BJ12-BD12 -> 0 | BL12: =BJ12-$F12 -> 8
A13: Drafting & Design | B13: 48 | C13: 8 | D13: 10 | E13: 9 | F13: 27 | G13: 11 | H13: 10 | I13: 9 | J13: 30 | K13: =J13-F13 -> 3 | L13: 12 | M13: 10 | N13: 9 | O13: 31 | P13: =O13-J13 -> 1 | Q13: 12 | R13: 9 | S13: 9 | T13: =SUM(Q13:S13) -> 30 | U13: =T13-O13 -> -1 | V13: =T13-$F13 -> 3 | W13: 12 | X13: 9 | Y13: 9 | Z13: =SUM(W13:Y13) -> 30 | AA13: =Z13-T13 -> 0 | AB13: =Z13-$F13 -> 3 | AC13: 11 | AD13: 8 | AE13: 11 | AF13: =SUM(AC13:AE13) -> 30 | AG13: =AF13-Z13 -> 0 | AH13: =AF13-$F13 -> 3 | AI13: 11 | AJ13: 7 | AK13: 10 | AL13: =SUM(AI13:AK13) -> 28 | AM13: =AL13-AF13 -> -2 | AN13: =AL13-$F13 -> 1 | AO13: 11 | AP13: 7 | AQ13: 10 | AR13: =SUM(AO13:AQ13) -> 28 | AS13: =AR13-AL13 -> 0 | AT13: =AR13-$F13 -> 1 | AU13: 11 | AV13: 7 | AW13: 10 | AX13: =SUM(AU13:AW13) -> 28 | AY13: =AX13-AR13 -> 0 | AZ13: =AX13-$F13 -> 1 | BA13: 11 | BB13: 7 | BC13: 10 | BD13: =SUM(BA13:BC13) -> 28 | BE13: =BD13-AX13 -> 0 | BF13: =BD13-$F13 -> 1 | BG13: 11 | BH13: 7 | BI13: 10 | BJ13: =SUM(BG13:BI13) -> 28 | BK13: =BJ13-BD13 -> 0 | BL13: =BJ13-$F13 -> 1
A14: Early Childhood Education | B14: 48 | C14: 20 | D14: 15 | E14: 11 | F14: 46 | G14: 20 | H14: 14 | I14: 10 | J14: 44 | K14: =J14-F14 -> -2 | L14: 18 | M14: 14 | N14: 10 | O14: 42 | P14: =O14-J14 -> -2 | Q14: 18 | R14: 14 | S14: 10 | T14: =SUM(Q14:S14) -> 42 | U14: =T14-O14 -> 0 | V14: =T14-$F14 -> -4 | W14: 18 | X14: 14 | Y14: 10 | Z14: =SUM(W14:Y14) -> 42 | AA14: =Z14-T14 -> 0 | AB14: =Z14-$F14 -> -4 | AC14: 17 | AD14: 15 | AE14: 10 | AF14: =SUM(AC14:AE14) -> 42 | AG14: =AF14-Z14 -> 0 | AH14: =AF14-$F14 -> -4 | AI14: 17 | AJ14: 15 | AK14: 10 | AL14: =SUM(AI14:AK14) -> 42 | AM14: =AL14-AF14 -> 0 | AN14: =AL14-$F14 -> -4 | AO14: 17 | AP14: 15 | AQ14: 10 | AR14: =SUM(AO14:AQ14) -> 42 | AS14: =AR14-AL14 -> 0 | AT14: =AR14-$F14 -> -4 | AU14: 17 | AV14: 15 | AW14: 10 | AX14: =SUM(AU14:AW14) -> 42 | AY14: =AX14-AR14 -> 0 | AZ14: =AX14-$F14 -> -4 | BA14: 17 | BB14: 15 | BC14: 10 | BD14: =SUM(BA14:BC14) -> 42 | BE14: =BD14-AX14 -> 0 | BF14: =BD14-$F14 -> -4 | BG14: 17 | BH14: 15 | BI14: 10 | BJ14: =SUM(BG14:BI14) -> 42 | BK14: =BJ14-BD14 -> 0 | BL14: =BJ14-$F14 -> -4
A15: Electrical Engineering | B15: 48 | C15: 16 | D15: 16 | E15: 14 | F15: 46 | G15: 16 | H15: 15 | I15: 13 | J15: 44 | K15: =J15-F15 -> -2 | L15: 16 | M15: 15 | N15: 13 | O15: 44 | P15: =O15-J15 -> 0 | Q15: 15 | R15: 15 | S15: 13 | T15: =SUM(Q15:S15) -> 43 | U15: =T15-O15 -> -1 | V15: =T15-$F15 -> -3 | W15: 16 | X15: 15 | Y15: 13 | Z15: =SUM(W15:Y15) -> 44 | AA15: =Z15-T15 -> 1 | AB15: =Z15-$F15 -> -2 | AC15: 15 | AD15: 14 | AE15: 14 | AF15: =SUM(AC15:AE15) -> 43 | AG15: =AF15-Z15 -> -1 | AH15: =AF15-$F15 -> -3 | AI15: 15 | AJ15: 14 | AK15: 13 | AL15: =SUM(AI15:AK15) -> 42 | AM15: =AL15-AF15 -> -1 | AN15: =AL15-$F15 -> -4 | AO15: 15 | AP15: 14 | AQ15: 13 | AR15: =SUM(AO15:AQ15) -> 42 | AS15: =AR15-AL15 -> 0 | AT15: =AR15-$F15 -> -4 | AU15: 16 | AV15: 13 | AW15: 13 | AX15: =SUM(AU15:AW15) -> 42 | AY15: =AX15-AR15 -> 0 | AZ15: =AX15-$F15 -> -4 | BA15: 16 | BB15: 13 | BC15: 13 | BD15: =SUM(BA15:BC15) -> 42 | BE15: =BD15-AX15 -> 0 | BF15: =BD15-$F15 -> -4 | BG15: 16 | BH15: 13 | BI15: 13 | BJ15: =SUM(BG15:BI15) -> 42 | BK15: =BJ15-BD15 -> 0 | BL15: =BJ15-$F15 -> -4
A16: Electronics | B16: 48 | C16: 10 | D16: 10 | E16: 4 | F16: 24 | G16: 9 | H16: 9 | I16: 4 | J16: 22 | K16: =J16-F16 -> -2 | L16: 8 | M16: 9 | N16: 4 | O16: 21 | P16: =O16-J16 -> -1 | Q16: 8 | R16: 9 | S16: 4 | T16: =SUM(Q16:S16) -> 21 | U16: =T16-O16 -> 0 | V16: =T16-$F16 -> -3 | W16: 8 | X16: 8 | Y16: 4 | Z16: =SUM(W16:Y16) -> 20 | AA16: =Z16-T16 -> -1 | AB16: =Z16-$F16 -> -4 | AC16: 7 | AD16: 5 | AE16: 4 | AF16: =SUM(AC16:AE16) -> 16 | AG16: =AF16-Z16 -> -4 | AH16: =AF16-$F16 -> -8 | AI16: 8 | AJ16: 5 | AK16: 4 | AL16: =SUM(AI16:AK16) -> 17 | AM16: =AL16-AF16 -> 1 | AN16: =AL16-$F16 -> -7 | AO16: 9 | AP16: 5 | AQ16: 4 | AR16: =SUM(AO16:AQ16) -> 18 | AS16: =AR16-AL16 -> 1 | AT16: =AR16-$F16 -> -6 | AU16: 9 | AV16: 5 | AW16: 4 | AX16: =SUM(AU16:AW16) -> 18 | AY16: =AX16-AR16 -> 0 | AZ16: =AX16-$F16 -> -6 | BA16: 9 | BB16: 5 | BC16: 4 | BD16: =SUM(BA16:BC16) -> 18 | BE16: =BD16-AX16 -> 0 | BF16: =BD16-$F16 -> -6 | BG16: 9 | BH16: 5 | BI16: 4 | BJ16: =SUM(BG16:BI16) -> 18 | BK16: =BJ16-BD16 -> 0 | BL16: =BJ16-$F16 -> -6
A17: Facilities Maintenance Tech | B17: 48 | C17: 22 | D17: 10 | E17: 1 | F17: 33 | G17: 25 | H17: 9 | I17: 1 | J17: 35 | K17: =J17-F17 -> 2 | L17: 25 | M17: 8 | N17: 1 | O17: 34 | P17: =O17-J17 -> -1 | Q17: 25 | R17: 8 | S17: 1 | T17: =SUM(Q17:S17) -> 34 | U17: =T17-O17 -> 0 | V17: =T17-$F17 -> 1 | W17: 24 | X17: 8 | Y17: 1 | Z17: =SUM(W17:Y17) -> 33 | AA17: =Z17-T17 -> -1 | AB17: =Z17-$F17 -> 0 | AC17: 24 | AD17: 9 | AE17: 1 | AF17: =SUM(AC17:AE17) -> 34 | AG17: =AF17-Z17 -> 1 | AH17: =AF17-$F17 -> 1 | AI17: 23 | AJ17: 9 | AK17: 1 | AL17: =SUM(AI17:AK17) -> 33 | AM17: =AL17-AF17 -> -1 | AN17: =AL17-$F17 -> 0 | AO17: 23 | AP17: 9 | AQ17: 1 | AR17: =SUM(AO17:AQ17) -> 33 | AS17: =AR17-AL17 -> 0 | AT17: =AR17-$F17 -> 0 | AU17: 24 | AV17: 8 | AW17: 1 | AX17: =SUM(AU17:AW17) -> 33 | AY17: =AX17-AR17 -> 0 | AZ17: =AX17-$F17 -> 0 | BA17: 24 | BB17: 8 | BC17: 1 | BD17: =SUM(BA17:BC17) -> 33 | BE17: =BD17-AX17 -> 0 | BF17: =BD17-$F17 -> 0 | BG17: 24 | BH17: 8 | BI17: 1 | BJ17: =SUM(BG17:BI17) -> 33 | BK17: =BJ17-BD17 -> 0 | BL17: =BJ17-$F17 -> 0
A18: Graphic Communications | B18: 48 | C18: 8 | D18: 13 | E18: 9 | F18: 30 | G18: 9 | H18: 12 | I18: 9 | J18: 30 | K18: =J18-F18 -> 0 | L18: 10 | M18: 12 | N18: 9 | O18: 31 | P18: =O18-J18 -> 1 | Q18: 10 | R18: 12 | S18: 9 | T18: =SUM(Q18:S18) -> 31 | U18: =T18-O18 -> 0 | V18: =T18-$F18 -> 1 | W18: 10 | X18: 12 | Y18: 9 | Z18: =SUM(W18:Y18) -> 31 | AA18: =Z18-T18 -> 0 | AB18: =Z18-$F18 -> 1 | AC18: 12 | AD18: 12 | AE18: 9 | AF18: =SUM(AC18:AE18) -> 33 | AG18: =AF18-Z18 -> 2 | AH18: =AF18-$F18 -> 3 | AI18: 13 | AJ18: 12 | AK18: 9 | AL18: =SUM(AI18:AK18) -> 34 | AM18: =AL18-AF18 -> 1 | AN18: =AL18-$F18 -> 4 | AO18: 12 | AP18: 12 | AQ18: 9 | AR18: =SUM(AO18:AQ18) -> 33 | AS18: =AR18-AL18 -> -1 | AT18: =AR18-$F18 -> 3 | AU18: 12 | AV18: 12 | AW18: 9 | AX18: =SUM(AU18:AW18) -> 33 | AY18: =AX18-AR18 -> 0 | AZ18: =AX18-$F18 -> 3 | BA18: 12 | BB18: 12 | BC18: 9 | BD18: =SUM(BA18:BC18) -> 33 | BE18: =BD18-AX18 -> 0 | BF18: =BD18-$F18 -> 3 | BG18: 12 | BH18: 11 | BI18: 8 | BJ18: =SUM(BG18:BI18) -> 31 | BK18: =BJ18-BD18 -> -2 | BL18: =BJ18-$F18 -> 1
A19: Health Assistant | B19: 48 | C19: 18 | D19: 15 | E19: 15 | F19: 48 | G19: 19 | H19: 14 | I19: 15 | J19: 48 | K19: =J19-F19 -> 0 | L19: 19 | M19: 13 | N19: 15 | O19: 47 | P19: =O19-J19 -> -1 | Q19: 19 | R19: 13 | S19: 15 | T19: =SUM(Q19:S19) -> 47 | U19: =T19-O19 -> 0 | V19: =T19-$F19 -> -1 | W19: 19 | X19: 13 | Y19: 15 | Z19: =SUM(W19:Y19) -> 47 | AA19: =Z19-T19 -> 0 | AB19: =Z19-$F19 -> -1 | AC19: 16 | AD19: 15 | AE19: 15 | AF19: =SUM(AC19:AE19) -> 46 | AG19: =AF19-Z19 -> -1 | AH19: =AF19-$F19 -> -2 | AI19: 16 | AJ19: 14 | AK19: 15 | AL19: =SUM(AI19:AK19) -> 45 | AM19: =AL19-AF19 -> -1 | AN19: =AL19-$F19 -> -3 | AO19: 16 | AP19: 14 | AQ19: 15 | AR19: =SUM(AO19:AQ19) -> 45 | AS19: =AR19-AL19 -> 0 | AT19: =AR19-$F19 -> -3 | AU19: 16 | AV19: 14 | AW19: 15 | AX19: =SUM(AU19:AW19) -> 45 | AY19: =AX19-AR19 -> 0 | AZ19: =AX19-$F19 -> -3 | BA19: 17 | BB19: 13 | BC19: 15 | BD19: =SUM(BA19:BC19) -> 45 | BE19: =BD19-AX19 -> 0 | BF19: =BD19-$F19 -> -3 | BG19: 17 | BH19: 13 | BI19: 15 | BJ19: =SUM(BG19:BI19) -> 45 | BK19: =BJ19-BD19 -> 0 | BL19: =BJ19-$F19 -> -3
A20: Metal Fabrication | B20: 48 | C20: 17 | D20: 17 | E20: 12 | F20: 46 | G20: 20 | H20: 17 | I20: 12 | J20: 49 | K20: =J20-F20 -> 3 | L20: 20 | M20: 16 | N20: 12 | O20: 48 | P20: =O20-J20 -> -1 | Q20: 20 | R20: 15 | S20: 12 | T20: =SUM(Q20:S20) -> 47 | U20: =T20-O20 -> -1 | V20: =T20-$F20 -> 1 | W20: 19 | X20: 15 | Y20: 12 | Z20: =SUM(W20:Y20) -> 46 | AA20: =Z20-T20 -> -1 | AB20: =Z20-$F20 -> 0 | AC20: 19 | AD20: 15 | AE20: 12 | AF20: =SUM(AC20:AE20) -> 46 | AG20: =AF20-Z20 -> 0 | AH20: =AF20-$F20 -> 0 | AI20: 18 | AJ20: 15 | AK20: 12 | AL20: =SUM(AI20:AK20) -> 45 | AM20: =AL20-AF20 -> -1 | AN20: =AL20-$F20 -> -1 | AO20: 18 | AP20: 15 | AQ20: 12 | AR20: =SUM(AO20:AQ20) -> 45 | AS20: =AR20-AL20 -> 0 | AT20: =AR20-$F20 -> -1 | AU20: 18 | AV20: 14 | AW20: 11 | AX20: =SUM(AU20:AW20) -> 43 | AY20: =AX20-AR20 -> -2 | AZ20: =AX20-$F20 -> -3 | BA20: 18 | BB20: 14 | BC20: 11 | BD20: =SUM(BA20:BC20) -> 43 | BE20: =BD20-AX20 -> 0 | BF20: =BD20-$F20 -> -3 | BG20: 18 | BH20: 14 | BI20: 11 | BJ20: =SUM(BG20:BI20) -> 43 | BK20: =BJ20-BD20 -> 0 | BL20: =BJ20-$F20 -> -3
A21: Networking Technologies | B21: 48 | C21: 31 | D21: 0 | E21: 0 | F21: 31 | G21: 32 | H21: 0 | I21: 0 | J21: 32 | K21: =J21-F21 -> 1 | L21: 32 | M21: 0 | N21: 0 | O21: 32 | P21: =O21-J21 -> 0 | Q21: 32 | R21: 0 | S21: 0 | T21: =SUM(Q21:S21) -> 32 | U21: =T21-O21 -> 0 | V21: =T21-$F21 -> 1 | W21: 32 | X21: 0 | Y21: 0 | Z21: =SUM(W21:Y21) -> 32 | AA21: =Z21-T21 -> 0 | AB21: =Z21-$F21 -> 1 | AC21: 32 | AD21: 0 | AE21: 0 | AF21: =SUM(AC21:AE21) -> 32 | AG21: =AF21-Z21 -> 0 | AH21: =AF21-$F21 -> 1 | AI21: 29 | AJ21: 0 | AK21: 0 | AL21: =SUM(AI21:AK21) -> 29 | AM21: =AL21-AF21 -> -3 | AN21: =AL21-$F21 -> -2 | AO21: 29 | AP21: 0 | AQ21: 0 | AR21: =SUM(AO21:AQ21) -> 29 | AS21: =AR21-AL21 -> 0 | AT21: =AR21-$F21 -> -2 | AU21: 29 | AV21: 0 | AW21: 0 | AX21: =SUM(AU21:AW21) -> 29 | AY21: =AX21-AR21 -> 0 | AZ21: =AX21-$F21 -> -2 | BA21: 29 | BB21: 0 | BC21: 0 | BD21: =SUM(BA21:BC21) -> 29 | BE21: =BD21-AX21 -> 0 | BF21: =BD21-$F21 -> -2 | BG21: 29 | BH21: 0 | BI21: 0 | BJ21: =SUM(BG21:BI21) -> 29 | BK21: =BJ21-BD21 -> 0 | BL21: =BJ21-$F21 -> -2
A22: Tool & Die | B22: 48 | C22: 17 | D22: 14 | E22: 1 | F22: 32 | G22: 12 | H22: 14 | I22: 1 | J22: 27 | K22: =J22-F22 -> -5 | L22: 11 | M22: 14 | N22: 1 | O22: 26 | P22: =O22-J22 -> -1 | Q22: 11 | R22: 13 | S22: 1 | T22: =SUM(Q22:S22) -> 25 | U22: =T22-O22 -> -1 | V22: =T22-$F22 -> -7 | W22: 11 | X22: 13 | Y22: 1 | Z22: =SUM(W22:Y22) -> 25 | AA22: =Z22-T22 -> 0 | AB22: =Z22-$F22 -> -7 | AC22: 11 | AD22: 13 | AE22: 1 | AF22: =SUM(AC22:AE22) -> 25 | AG22: =AF22-Z22 -> 0 | AH22: =AF22-$F22 -> -7 | AI22: 11 | AJ22: 13 | AK22: 1 | AL22: =SUM(AI22:AK22) -> 25 | AM22: =AL22-AF22 -> 0 | AN22: =AL22-$F22 -> -7 | AO22: 11 | AP22: 13 | AQ22: 1 | AR22: =SUM(AO22:AQ22) -> 25 | AS22: =AR22-AL22 -> 0 | AT22: =AR22-$F22 -> -7 | AU22: 11 | AV22: 13 | AW22: 1 | AX22: =SUM(AU22:AW22) -> 25 | AY22: =AX22-AR22 -> 0 | AZ22: =AX22-$F22 -> -7 | BA22: 11 | BB22: 13 | BC22: 1 | BD22: =SUM(BA22:BC22) -> 25 | BE22: =BD22-AX22 -> 0 | BF22: =BD22-$F22 -> -7 | BG22: 11 | BH22: 13 | BI22: 1 | BJ22: =SUM(BG22:BI22) -> 25 | BK22: =BJ22-BD22 -> 0 | BL22: =BJ22-$F22 -> -7
A23: Tourism & Hospitality | B23: 48 | C23: 38 | D23: 0 | E23: 0 | F23: 38 | G23: 36 | H23: 0 | I23: 0 | J23: 36 | K23: =J23-F23 -> -2 | L23: 36 | M23: 0 | N23: 0 | O23: 36 | P23: =O23-J23 -> 0 | Q23: 35 | R23: 0 | S23: 0 | T23: =SUM(Q23:S23) -> 35 | U23: =T23-O23 -> -1 | V23: =T23-$F23 -> -3 | W23: 33 | X23: 0 | Y23: 0 | Z23: =SUM(W23:Y23) -> 33 | AA23: =Z23-T23 -> -2 | AB23: =Z23-$F23 -> -5 | AC23: 33 | AD23: 0 | AE23: 0 | AF23: =SUM(AC23:AE23) -> 33 | AG23: =AF23-Z23 -> 0 | AH23: =AF23-$F23 -> -5 | AI23: 32 | AJ23: 0 | AK23: 0 | AL23: =SUM(AI23:AK23) -> 32 | AM23: =AL23-AF23 -> -1 | AN23: =AL23-$F23 -> -6 | AO23: 31 | AP23: 0 | AQ23: 0 | AR23: =SUM(AO23:AQ23) -> 31 | AS23: =AR23-AL23 -> -1 | AT23: =AR23-$F23 -> -7 | AU23: 31 | AV23: 0 | AW23: 0 | AX23: =SUM(AU23:AW23) -> 31 | AY23: =AX23-AR23 -> 0 | AZ23: =AX23-$F23 -> -7 | BA23: 31 | BB23: 0 | BC23: 0 | BD23: =SUM(BA23:BC23) -> 31 | BE23: =BD23-AX23 -> 0 | BF23: =BD23-$F23 -> -7 | BG23: 31 | BH23: 0 | BI23: 0 | BJ23: =SUM(BG23:BI23) -> 31 | BK23: =BJ23-BD23 -> 0 | BL23: =BJ23-$F23 -> -7
A24: TOTALS | B24: =SUM(B5:B23) -> 1008 | C24: 361 | D24: 241 | E24: 171 | F24: 773 | G24: =SUM(G5:G23) -> 357 | H24: =SUM(H5:H23) -> 229 | I24: =SUM(I5:I23) -> 165 | J24: =SUM(G24:I24) -> 751 | K24: =SUM(K5:K23) -> -22 | L24: =SUM(L5:L23) -> 364 | M24: =SUM(M5:M23) -> 223 | N24: =SUM(N5:N23) -> 165 | O24: =SUM(O5:O23) -> 752 | P24: =O24-J24 -> 1 | Q24: =SUM(Q5:Q23) -> 359 | R24: =SUM(R5:R23) -> 220 | S24: =SUM(S5:S23) -> 165 | T24: =SUM(T5:T23) -> 744 | U24: =T24-O24 -> -8 | V24: =T24-$F24 -> -29 | W24: =SUM(W5:W23) -> 352 | X24: =SUM(X5:X23) -> 218 | Y24: =SUM(Y5:Y23) -> 164 | Z24: =SUM(Z5:Z23) -> 734 | AA24: =Z24-T24 -> -10 | AB24: =Z24-$F24 -> -39 | AC24: =SUM(AC5:AC23) -> 332 | AD24: =SUM(AD5:AD23) -> 225 | AE24: =SUM(AE5:AE23) -> 162 | AF24: =SUM(AF5:AF23) -> 719 | AG24: =AF24-Z24 -> -15 | AH24: =AF24-$F24 -> -54 | AI24: =SUM(AI5:AI23) -> 333 | AJ24: =SUM(AJ5:AJ23) -> 222 | AK24: =SUM(AK5:AK23) -> 159 | AL24: =SUM(AL5:AL23) -> 714 | AM24: =AL24-AF24 -> -5 | AN24: =AL24-$F24 -> -59 | AO24: =SUM(AO5:AO23) -> 332 | AP24: =SUM(AP5:AP23) -> 220 | AQ24: =SUM(AQ5:AQ23) -> 158 | AR24: =SUM(AR5:AR23) -> 710 | AS24: =AR24-AL24 -> -4 | AT24: =AR24-$F24 -> -63 | AU24: =SUM(AU5:AU23) -> 334 | AV24: =SUM(AV5:AV23) -> 215 | AW24: =SUM(AW5:AW23) -> 156 | AX24: =SUM(AX5:AX23) -> 705 | AY24: =AX24-AR24 -> -5 | AZ24: =AX24-$F24 -> -68 | BA24: =SUM(BA5:BA23) -> 334 | BB24: =SUM(BB5:BB23) -> 212 | BC24: =SUM(BC5:BC23) -> 155 | BD24: =SUM(BD5:BD23) -> 701 | BE24: =BD24-AX24 -> -4 | BF24: =BD24-$F24 -> -72 | BG24: =SUM(BG5:BG23) -> 334 | BH24: =SUM(BH5:BH23) -> 210 | BI24: =SUM(BI5:BI23) -> 154 | BJ24: =SUM(BJ5:BJ23) -> 698 | BK24: =BJ24-BD24 -> -3 | BL24: =BJ24-$F24 -> -75
A25: Date of Report | D25: August 26,2009 | G25: 40072 | L25: 40101 | Q25: 40129 | W25: Wednesday, December 9,2009 | AC25: Wednesday, January 27, 2010 | AI25: Tuesday, February 16, 2010 | AO25: Thursday, March 18, 2010 | AU25: Tuesday, April 20, 2010 | BA25: Thursday, May 20, 2010 | BG25: Thursday, June 10, 2010
A26: School District | C26: Program/Year Level | G26: Program/Year Level | J26: Total | K26: Chg/ Month | L26: Program/Year Level | O26: Total | P26: Chg/ Month | Q26: Program/Year Level | T26: Total | U26: Chg/ Month | V26: Chg/ Sept | W26: Program/Year Level | Z26: Total | AA26: Chg/ Month | AB26: Chg/ Sept | AC26: Program/Year Level | AF26: Total | AG26: Chg/ Month | AH26: Chg/ Sept | AI26: Program/Year Level | AL26: Total | AM26: Chg/ Month | AN26: Chg/ Sept | AO26: Program/Year Level | AR26: Total | AS26: Chg/ Month | AT26: Chg/ Sept | AU26: Program/Year Level | AX26: Total | AY26: Chg/ Month | AZ26: Chg/ Sept | BA26: Program/Year Level | BD26: Total | BE26: Chg/ Month | BF26: Chg/ Sept | BG26: Program/Year Level | BJ26: Total | BK26: Chg/ Month | BL26: Chg/ Sept
A27: School District | C27: 1st | D27: 2nd | E27: 3rd | F27: Total | G27: 1st | H27: 2nd | I27: 3rd | J27: Total | L27: 1st | M27: 2nd | N27: 3rd | O27: Total | Q27: 1st | R27: 2nd | S27: 3rd | T27: Total | W27: 1st | X27: 2nd | Y27: 3rd | Z27: Total | AC27: 1st | AD27: 2nd | AE27: 3rd | AF27: Total | AI27: 1st | AJ27: 2nd | AK27: 3rd | AL27: Total | AO27: 1st | AP27: 2nd | AQ27: 3rd | AR27: Total | AU27: 1st | AV27: 2nd | AW27: 3rd | AX27: Total | BA27: 1st | BB27: 2nd | BC27: 3rd | BD27: Total | BG27: 1st | BH27: 2nd | BI27: 3rd | BJ27: Total
A28: Fairview | C28: 17 | D28: 8 | E28: 4 | F28: 29 | G28: 16 | H28: 9 | I28: 4 | J28: 29 | K28: =J28-E28 -> 25 | L28: 17 | M28: 9 | N28: 4 | O28: 30 | P28: =O28-J28 -> 1 | Q28: 17 | R28: 9 | S28: 4 | T28: =SUM(Q28:S28) -> 30 | U28: =T28-O28 -> 0 | V28: =T28-$F28 -> 1 | W28: 16 | X28: 9 | Y28: 4 | Z28: =SUM(W28:Y28) -> 29 | AA28: =Z28-T28 -> -1 | AB28: =Z28-$F28 -> 0 | AC28: 15 | AD28: 9 | AE28: 4 | AF28: =SUM(AC28:AE28) -> 28 | AG28: =AF28-Z28 -> -1 | AH28: =AF28-$F28 -> -1 | AI28: 14 | AJ28: 9 | AK28: 4 | AL28: =SUM(AI28:AK28) -> 27 | AM28: =AL28-AF28 -> -1 | AN28: =AL28-$F28 -> -2 | AO28: 14 | AP28: 9 | AQ28: 4 | AR28: =SUM(AO28:AQ28) -> 27 | AS28: =AR28-AL28 -> 0 | AT28: =AR28-$F28 -> -2 | AU28: 14 | AV28: 9 | AW28: 4 | AX28: =SUM(AU28:AW28) -> 27 | AY28: =AX28-AR28 -> 0 | AZ28: =AX28-$F28 -> -2 | BA28: 14 | BB28: 9 | BC28: 4 | BD28: =SUM(BA28:BC28) -> 27 | BE28: =BD28-AX28 -> 0 | BF28: =BD28-$F28 -> -2 | BG28: 14 | BH28: 8 | BI28: 4 | BJ28: =SUM(BG28:BI28) -> 26 | BK28: =BJ28-BD28 -> -1 | BL28: =BJ28-$F28 -> -3
A29: Fort LeBoeuf | C29: 41 | D29: 33 | E29: 12 | F29: 86 | G29: 43 | H29: 31 | I29: 12 | J29: 86 | K29: =J29-E29 -> 74 | L29: 44 | M29: 31 | N29: 12 | O29: 87 | P29: =O29-J29 -> 1 | Q29: 44 | R29: 30 | S29: 12 | T29: =SUM(Q29:S29) -> 86 | U29: =T29-O29 -> -1 | V29: =T29-$F29 -> 0 | W29: 42 | X29: 30 | Y29: 12 | Z29: =SUM(W29:Y29) -> 84 | AA29: =Z29-T29 -> -2 | AB29: =Z29-$F29 -> -2 | AC29: 39 | AD29: 30 | AE29: 12 | AF29: =SUM(AC29:AE29) -> 81 | AG29: =AF29-Z29 -> -3 | AH29: =AF29-$F29 -> -5 | AI29: 39 | AJ29: 29 | AK29: 12 | AL29: =SUM(AI29:AK29) -> 80 | AM29: =AL29-AF29 -> -1 | AN29: =AL29-$F29 -> -6 | AO29: 38 | AP29: 29 | AQ29: 12 | AR29: =SUM(AO29:AQ29) -> 79 | AS29: =AR29-AL29 -> -1 | AT29: =AR29-$F29 -> -7 | AU29: 38 | AV29: 28 | AW29: 12 | AX29: =SUM(AU29:AW29) -> 78 | AY29: =AX29-AR29 -> -1 | AZ29: =AX29-$F29 -> -8 | BA29: 39 | BB29: 27 | BC29: 12 | BD29: =SUM(BA29:BC29) -> 78 | BE29: =BD29-AX29 -> 0 | BF29: =BD29-$F29 -> -8 | BG29: 39 | BH29: 27 | BI29: 12 | BJ29: =SUM(BG29:BI29) -> 78 | BK29: =BJ29-BD29 -> 0 | BL29: =BJ29-$F29 -> -8
A30: General McLane | C30: 21 | D30: 18 | E30: 17 | F30: 56 | G30: 21 | H30: 18 | I30: 17 | J30: 56 | K30: =J30-E30 -> 39 | L30: 20 | M30: 18 | N30: 17 | O30: 55 | P30: =O30-J30 -> -1 | Q30: 20 | R30: 18 | S30: 17 | T30: =SUM(Q30:S30) -> 55 | U30: =T30-O30 -> 0 | V30: =T30-$F30 -> -1 | W30: 20 | X30: 18 | Y30: 17 | Z30: =SUM(W30:Y30) -> 55 | AA30: =Z30-T30 -> 0 | AB30: =Z30-$F30 -> -1 | AC30: 18 | AD30: 21 | AE30: 17 | AF30: =SUM(AC30:AE30) -> 56 | AG30: =AF30-Z30 -> 1 | AH30: =AF30-$F30 -> 0 | AI30: 18 | AJ30: 19 | AK30: 17 | AL30: =SUM(AI30:AK30) -> 54 | AM30: =AL30-AF30 -> -2 | AN30: =AL30-$F30 -> -2 | AO30: 19 | AP30: 18 | AQ30: 17 | AR30: =SUM(AO30:AQ30) -> 54 | AS30: =AR30-AL30 -> 0 | AT30: =AR30-$F30 -> -2 | AU30: 19 | AV30: 15 | AW30: 16 | AX30: =SUM(AU30:AW30) -> 50 | AY30: =AX30-AR30 -> -4 | AZ30: =AX30-$F30 -> -6 | BA30: 19 | BB30: 15 | BC30: 16 | BD30: =SUM(BA30:BC30) -> 50 | BE30: =BD30-AX30 -> 0 | BF30: =BD30-$F30 -> -6 | BG30: 19 | BH30: 15 | BI30: 16 | BJ30: =SUM(BG30:BI30) -> 50 | BK30: =BJ30-BD30 -> 0 | BL30: =BJ30-$F30 -> -6
A31: Girard | C31: 28 | D31: 26 | E31: 18 | F31: 72 | G31: 28 | H31: 26 | I31: 18 | J31: 72 | K31: =J31-E31 -> 54 | L31: 27 | M31: 24 | N31: 18 | O31: 69 | P31: =O31-J31 -> -3 | Q31: 25 | R31: 24 | S31: 18 | T31: =SUM(Q31:S31) -> 67 | U31: =T31-O31 -> -2 | V31: =T31-$F31 -> -5 | W31: 26 | X31: 23 | Y31: 18 | Z31: =SUM(W31:Y31) -> 67 | AA31: =Z31-T31 -> 0 | AB31: =Z31-$F31 -> -5 | AC31: 22 | AD31: 27 | AE31: 19 | AF31: =SUM(AC31:AE31) -> 68 | AG31: =AF31-Z31 -> 1 | AH31: =AF31-$F31 -> -4 | AI31: 23 | AJ31: 27 | AK31: 19 | AL31: =SUM(AI31:AK31) -> 69 | AM31: =AL31-AF31 -> 1 | AN31: =AL31-$F31 -> -3 | AO31: 24 | AP31: 26 | AQ31: 19 | AR31: =SUM(AO31:AQ31) -> 69 | AS31: =AR31-AL31 -> 0 | AT31: =AR31-$F31 -> -3 | AU31: 25 | AV31: 25 | AW31: 19 | AX31: =SUM(AU31:AW31) -> 69 | AY31: =AX31-AR31 -> 0 | AZ31: =AX31-$F31 -> -3 | BA31: 25 | BB31: 25 | BC31: 19 | BD31: =SUM(BA31:BC31) -> 69 | BE31: =BD31-AX31 -> 0 | BF31: =BD31-$F31 -> -3 | BG31: 25 | BH31: 25 | BI31: 19 | BJ31: =SUM(BG31:BI31) -> 69 | BK31: =BJ31-BD31 -> 0 | BL31: =BJ31-$F31 -> -3
A32: Harbor Creek | C32: 23 | D32: 20 | E32: 16 | F32: 59 | G32: 22 | H32: 19 | I32: 17 | J32: 58 | K32: =J32-E32 -> 42 | L32: 22 | M32: 18 | N32: 17 | O32: 57 | P32: =O32-J32 -> -1 | Q32: 22 | R32: 18 | S32: 17 | T32: =SUM(Q32:S32) -> 57 | U32: =T32-O32 -> 0 | V32: =T32-$F32 -> -2 | W32: 22 | X32: 18 | Y32: 17 | Z32: =SUM(W32:Y32) -> 57 | AA32: =Z32-T32 -> 0 | AB32: =Z32-$F32 -> -2 | AC32: 22 | AD32: 16 | AE32: 17 | AF32: =SUM(AC32:AE32) -> 55 | AG32: =AF32-Z32 -> -2 | AH32: =AF32-$F32 -> -4 | AI32: 23 | AJ32: 17 | AK32: 17 | AL32: =SUM(AI32:AK32) -> 57 | AM32: =AL32-AF32 -> 2 | AN32: =AL32-$F32 -> -2 | AO32: 23 | AP32: 16 | AQ32: 16 | AR32: =SUM(AO32:AQ32) -> 55 | AS32: =AR32-AL32 -> -2 | AT32: =AR32-$F32 -> -4 | AU32: 24 | AV32: 16 | AW32: 16 | AX32: =SUM(AU32:AW32) -> 56 | AY32: =AX32-AR32 -> 1 | AZ32: =AX32-$F32 -> -3 | BA32: 22 | BB32: 16 | BC32: 16 | BD32: =SUM(BA32:BC32) -> 54 | BE32: =BD32-AX32 -> -2 | BF32: =BD32-$F32 -> -5 | BG32: 22 | BH32: 16 | BI32: 16 | BJ32: =SUM(BG32:BI32) -> 54 | BK32: =BJ32-BD32 -> 0 | BL32: =BJ32-$F32 -> -5
A33: Iroquois | C33: 16 | D33: 9 | E33: 3 | F33: 28 | G33: 14 | H33: 8 | I33: 3 | J33: 25 | K33: =J33-E33 -> 22 | L33: 12 | M33: 8 | N33: 3 | O33: 23 | P33: =O33-J33 -> -2 | Q33: 11 | R33: 7 | S33: 3 | T33: =SUM(Q33:S33) -> 21 | U33: =T33-O33 -> -2 | V33: =T33-$F33 -> -7 | W33: 11 | X33: 7 | Y33: 3 | Z33: =SUM(W33:Y33) -> 21 | AA33: =Z33-T33 -> 0 | AB33: =Z33-$F33 -> -7 | AC33: 11 | AD33: 7 | AE33: 3 | AF33: =SUM(AC33:AE33) -> 21 | AG33: =AF33-Z33 -> 0 | AH33: =AF33-$F33 -> -7 | AI33: 11 | AJ33: 7 | AK33: 3 | AL33: =SUM(AI33:AK33) -> 21 | AM33: =AL33-AF33 -> 0 | AN33: =AL33-$F33 -> -7 | AO33: 11 | AP33: 7 | AQ33: 3 | AR33: =SUM(AO33:AQ33) -> 21 | AS33: =AR33-AL33 -> 0 | AT33: =AR33-$F33 -> -7 | AU33: 11 | AV33: 7 | AW33: 3 | AX33: =SUM(AU33:AW33) -> 21 | AY33: =AX33-AR33 -> 0 | AZ33: =AX33-$F33 -> -7 | BA33: 11 | BB33: 6 | BC33: 3 | BD33: =SUM(BA33:BC33) -> 20 | BE33: =BD33-AX33 -> -1 | BF33: =BD33-$F33 -> -8 | BG33: 11 | BH33: 6 | BI33: 3 | BJ33: =SUM(BG33:BI33) -> 20 | BK33: =BJ33-BD33 -> 0 | BL33: =BJ33-$F33 -> -8
A34: Millcreek | C34: 83 | D34: 54 | E34: 55 | F34: 192 | G34: 86 | H34: 52 | I34: 53 | J34: 191 | K34: =J34-E34 -> 136 | L34: 87 | M34: 51 | N34: 53 | O34: 191 | P34: =O34-J34 -> 0 | Q34: 87 | R34: 50 | S34: 53 | T34: =SUM(Q34:S34) -> 190 | U34: =T34-O34 -> -1 | V34: =T34-$F34 -> -2 | W34: 84 | X34: 49 | Y34: 52 | Z34: =SUM(W34:Y34) -> 185 | AA34: =Z34-T34 -> -5 | AB34: =Z34-$F34 -> -7 | AC34: 81 | AD34: 48 | AE34: 47 | AF34: =SUM(AC34:AE34) -> 176 | AG34: =AF34-Z34 -> -9 | AH34: =AF34-$F34 -> -16 | AI34: 81 | AJ34: 48 | AK34: 47 | AL34: =SUM(AI34:AK34) -> 176 | AM34: =AL34-AF34 -> 0 | AN34: =AL34-$F34 -> -16 | AO34: 80 | AP34: 49 | AQ34: 47 | AR34: =SUM(AO34:AQ34) -> 176 | AS34: =AR34-AL34 -> 0 | AT34: =AR34-$F34 -> -16 | AU34: 80 | AV34: 49 | AW34: 46 | AX34: =SUM(AU34:AW34) -> 175 | AY34: =AX34-AR34 -> -1 | AZ34: =AX34-$F34 -> -17 | BA34: 80 | BB34: 49 | BC34: 45 | BD34: =SUM(BA34:BC34) -> 174 | BE34: =BD34-AX34 -> -1 | BF34: =BD34-$F34 -> -18 | BG34: 80 | BH34: 49 | BI34: 44 | BJ34: =SUM(BG34:BI34) -> 173 | BK34: =BJ34-BD34 -> -1 | BL34: =BJ34-$F34 -> -19
A35: North East | C35: 41 | D35: 17 | E35: 10 | F35: 68 | G35: 45 | H35: 16 | I35: 9 | J35: 70 | K35: =J35-E35 -> 60 | L35: 51 | M35: 14 | N35: 9 | O35: 74 | P35: =O35-J35 -> 4 | Q35: 50 | R35: 14 | S35: 9 | T35: =SUM(Q35:S35) -> 73 | U35: =T35-O35 -> -1 | V35: =T35-$F35 -> 5 | W35: 50 | X35: 14 | Y35: 9 | Z35: =SUM(W35:Y35) -> 73 | AA35: =Z35-T35 -> 0 | AB35: =Z35-$F35 -> 5 | AC35: 48 | AD35: 16 | AE35: 9 | AF35: =SUM(AC35:AE35) -> 73 | AG35: =AF35-Z35 -> 0 | AH35: =AF35-$F35 -> 5 | AI35: 43 | AJ35: 16 | AK35: 7 | AL35: =SUM(AI35:AK35) -> 66 | AM35: =AL35-AF35 -> -7 | AN35: =AL35-$F35 -> -2 | AO35: 42 | AP35: 16 | AQ35: 7 | AR35: =SUM(AO35:AQ35) -> 65 | AS35: =AR35-AL35 -> -1 | AT35: =AR35-$F35 -> -3 | AU35: 44 | AV35: 16 | AW35: 7 | AX35: =SUM(AU35:AW35) -> 67 | AY35: =AX35-AR35 -> 2 | AZ35: =AX35-$F35 -> -1 | BA35: 44 | BB35: 16 | BC35: 7 | BD35: =SUM(BA35:BC35) -> 67 | BE35: =BD35-AX35 -> 0 | BF35: =BD35-$F35 -> -1 | BG35: 44 | BH35: 15 | BI35: 7 | BJ35: =SUM(BG35:BI35) -> 66 | BK35: =BJ35-BD35 -> -1 | BL35: =BJ35-$F35 -> -2
A36: Northwestern | C36: 38 | D36: 16 | E36: 13 | F36: 67 | G36: 35 | H36: 14 | I36: 11 | J36: 60 | K36: =J36-E36 -> 47 | L36: 36 | M36: 14 | N36: 11 | O36: 61 | P36: =O36-J36 -> 1 | Q36: 35 | R36: 14 | S36: 11 | T36: =SUM(Q36:S36) -> 60 | U36: =T36-O36 -> -1 | V36: =T36-$F36 -> -7 | W36: 34 | X36: 14 | Y36: 11 | Z36: =SUM(W36:Y36) -> 59 | AA36: =Z36-T36 -> -1 | AB36: =Z36-$F36 -> -8 | AC36: 34 | AD36: 13 | AE36: 14 | AF36: =SUM(AC36:AE36) -> 61 | AG36: =AF36-Z36 -> 2 | AH36: =AF36-$F36 -> -6 | AI36: 33 | AJ36: 13 | AK36: 13 | AL36: =SUM(AI36:AK36) -> 59 | AM36: =AL36-AF36 -> -2 | AN36: =AL36-$F36 -> -8 | AO36: 34 | AP36: 13 | AQ36: 13 | AR36: =SUM(AO36:AQ36) -> 60 | AS36: =AR36-AL36 -> 1 | AT36: =AR36-$F36 -> -7 | AU36: 34 | AV36: 13 | AW36: 13 | AX36: =SUM(AU36:AW36) -> 60 | AY36: =AX36-AR36 -> 0 | AZ36: =AX36-$F36 -> -7 | BA36: 34 | BB36: 13 | BC36: 13 | BD36: =SUM(BA36:BC36) -> 60 | BE36: =BD36-AX36 -> 0 | BF36: =BD36-$F36 -> -7 | BG36: 34 | BH36: 13 | BI36: 13 | BJ36: =SUM(BG36:BI36) -> 60 | BK36: =BJ36-BD36 -> 0 | BL36: =BJ36-$F36 -> -7
A37: Union City | C37: 18 | D37: 15 | E37: 7 | F37: 40 | G37: 19 | H37: 13 | I37: 5 | J37: 37 | K37: =J37-E37 -> 30 | L37: 19 | M37: 13 | N37: 5 | O37: 37 | P37: =O37-J37 -> 0 | Q37: 19 | R37: 13 | S37: 5 | T37: =SUM(Q37:S37) -> 37 | U37: =T37-O37 -> 0 | V37: =T37-$F37 -> -3 | W37: 19 | X37: 13 | Y37: 5 | Z37: =SUM(W37:Y37) -> 37 | AA37: =Z37-T37 -> 0 | AB37: =Z37-$F37 -> -3 | AC37: 17 | AD37: 12 | AE37: 4 | AF37: =SUM(AC37:AE37) -> 33 | AG37: =AF37-Z37 -> -4 | AH37: =AF37-$F37 -> -7 | AI37: 17 | AJ37: 12 | AK37: 4 | AL37: =SUM(AI37:AK37) -> 33 | AM37: =AL37-AF37 -> 0 | AN37: =AL37-$F37 -> -7 | AO37: 16 | AP37: 12 | AQ37: 4 | AR37: =SUM(AO37:AQ37) -> 32 | AS37: =AR37-AL37 -> -1 | AT37: =AR37-$F37 -> -8 | AU37: 16 | AV37: 12 | AW37: 4 | AX37: =SUM(AU37:AW37) -> 32 | AY37: =AX37-AR37 -> 0 | AZ37: =AX37-$F37 -> -8 | BA37: 16 | BB37: 12 | BC37: 4 | BD37: =SUM(BA37:BC37) -> 32 | BE37: =BD37-AX37 -> 0 | BF37: =BD37-$F37 -> -8 | BG37: 16 | BH37: 12 | BI37: 4 | BJ37: =SUM(BG37:BI37) -> 32 | BK37: =BJ37-BD37 -> 0 | BL37: =BJ37-$F37 -> -8
A38: Wattsburg | C38: 35 | D38: 25 | E38: 16 | F38: 76 | G38: 28 | H38: 23 | I38: 16 | J38: 67 | K38: =J38-E38 -> 51 | L38: 29 | M38: 23 | N38: 16 | O38: 68 | P38: =O38-J38 -> 1 | Q38: 29 | R38: 23 | S38: 16 | T38: =SUM(Q38:S38) -> 68 | U38: =T38-O38 -> 0 | V38: =T38-$F38 -> -8 | W38: 28 | X38: 23 | Y38: 16 | Z38: =SUM(W38:Y38) -> 67 | AA38: =Z38-T38 -> -1 | AB38: =Z38-$F38 -> -9 | AC38: 25 | AD38: 26 | AE38: 16 | AF38: =SUM(AC38:AE38) -> 67 | AG38: =AF38-Z38 -> 0 | AH38: =AF38-$F38 -> -9 | AI38: 31 | AJ38: 25 | AK38: 16 | AL38: =SUM(AI38:AK38) -> 72 | AM38: =AL38-AF38 -> 5 | AN38: =AL38-$F38 -> -4 | AO38: 31 | AP38: 25 | AQ38: 16 | AR38: =SUM(AO38:AQ38) -> 72 | AS38: =AR38-AL38 -> 0 | AT38: =AR38-$F38 -> -4 | AU38: 29 | AV38: 25 | AW38: 16 | AX38: =SUM(AU38:AW38) -> 70 | AY38: =AX38-AR38 -> -2 | AZ38: =AX38-$F38 -> -6 | BA38: 30 | BB38: 24 | BC38: 16 | BD38: =SUM(BA38:BC38) -> 70 | BE38: =BD38-AX38 -> 0 | BF38: =BD38-$F38 -> -6 | BG38: 30 | BH38: 24 | BI38: 16 | BJ38: =SUM(BG38:BI38) -> 70 | BK38: =BJ38-BD38 -> 0 | BL38: =BJ38-$F38 -> -6
A39: Totals | C39: 361 | D39: 241 | E39: 171 | F39: 773 | G39: =SUM(G28:G38) -> 357 | H39: =SUM(H28:H38) -> 229 | I39: =SUM(I28:I38) -> 165 | J39: =SUM(J28:J38) -> 751 | K39: =J39-E39 -> 580 | L39: 364 | M39: 223 | N39: 164 | O39: 752 | P39: =O39-J39 -> 1 | Q39: =SUM(Q28:Q38) -> 359 | R39: =SUM(R28:R38) -> 220 | S39: =SUM(S28:S38) -> 165 | T39: =SUM(T28:T38) -> 744 | U39: =T39-O39 -> -8 | V39: =T39-$F39 -> -29 | W39: =SUM(W28:W38) -> 352 | X39: =SUM(X28:X38) -> 218 | Y39: =SUM(Y28:Y38) -> 164 | Z39: =SUM(Z28:Z38) -> 734 | AA39: =Z39-T39 -> -10 | AB39: =Z39-$F39 -> -39 | AC39: =SUM(AC28:AC38) -> 332 | AD39: =SUM(AD28:AD38) -> 225 | AE39: =SUM(AE28:AE38) -> 162 | AF39: =SUM(AF28:AF38) -> 719 | AG39: =AF39-Z39 -> -15 | AH39: =AF39-$F39 -> -54 | AI39: =SUM(AI28:AI38) -> 333 | AJ39: =SUM(AJ28:AJ38) -> 222 | AK39: =SUM(AK28:AK38) -> 159 | AL39: =SUM(AL28:AL38) -> 714 | AM39: =AL39-AF39 -> -5 | AN39: =AL39-$F39 -> -59 | AO39: =SUM(AO28:AO38) -> 332 | AP39: =SUM(AP28:AP38) -> 220 | AQ39: =SUM(AQ28:AQ38) -> 158 | AR39: =SUM(AR28:AR38) -> 710 | AS39: =AR39-AL39 -> -4 | AT39: =AR39-$F39 -> -63 | AU39: =SUM(AU28:AU38) -> 334 | AV39: =SUM(AV28:AV38) -> 215 | AW39: =SUM(AW28:AW38) -> 156 | AX39: =SUM(AX28:AX38) -> 705 | AY39: =AX39-AR39 -> -5 | AZ39: =AX39-$F39 -> -68 | BA39: =SUM(BA28:BA38) -> 334 | BB39: =SUM(BB28:BB38) -> 212 | BC39: =SUM(BC28:BC38) -> 155 | BD39: =SUM(BD28:BD38) -> 701 | BE39: =BD39-AX39 -> -4 | BF39: =BD39-$F39 -> -72 | BG39: =SUM(BG28:BG38) -> 334 | BH39: =SUM(BH28:BH38) -> 210 | BI39: =SUM(BI28:BI38) -> 154 | BJ39: =SUM(BJ28:BJ38) -> 698 | BK39: =BJ39-BD39 -> -3 | BL39: =BJ39-$F39 -> -75

Sheet 0809 Monthly
B2: September 2008 | F2: October 2008 | K2: November 2008 | Q2: December 2008 | W2: January 2009 | AC2: February 2009 | AI2: March 2009 | AO2: April 2009 | AU2: May 2009 | BA2: June 2009
A3: Program | B3: Program/Year Level | E3: Total | F3: Program/Year Level | I3: Total | J3: Chg/ Month | K3: Program/Year Level | N3: Total | O3: Chg/ Month | P3: Chg/ Sept | Q3: Program/Year Level | T3: Total | U3: Chg/ Month | V3: Chg/ Sept | W3: Program/Year Level | Z3: Total | AA3: Chg/ Month | AB3: Chg/ Sept | AC3: Program/Year Level | AF3: Total | AG3: Chg/ Month | AH3: Chg/ Sept | AI3: Program/Year Level | AL3: Total | AM3: Chg/ Month | AN3: Chg/ Sept | AO3: Program/Year Level | AR3: Total | AS3: Chg/ Month | AT3: Chg/ Sept | AU3: Program/Year Level | AX3: Total | AY3: Chg/ Month | AZ3: Chg/ Sept | BA3: Program/Year Level | BD3: Total | BE3: Chg/ Month | BF3: Chg/ Sept
B4: 1st | C4: 2nd | D4: 3rd | E4: Total | F4: 1st | G4: 2nd | H4: 3rd | I4: Total | K4: 1st | L4: 2nd | M4: 3rd | N4: Total | Q4: 1st | R4: 2nd | S4: 3rd | T4: Total | W4: 1st | X4: 2nd | Y4: 3rd | Z4: Total | AC4: 1st | AD4: 2nd | AE4: 3rd | AF4: Total | AI4: 1st | AJ4: 2nd | AK4: 3rd | AL4: Total | AO4: 1st | AP4: 2nd | AQ4: 3rd | AR4: Total | AU4: 1st | AV4: 2nd | AW4: 3rd | AX4: Total | BA4: 1st | BB4: 2nd | BC4: 3rd | BD4: Total
A5: Art & Design | B5: 24 | C5: 14 | D5: 6 | E5: =SUM(B5:D5) -> 44 | F5: 22 | G5: 13 | H5: 6 | I5: =SUM(F5:H5) -> 41 | J5: =I5-E5 -> -3 | K5: 21 | L5: 12 | M5: 6 | N5: =SUM(K5:M5) -> 39 | O5: =N5-I5 -> -2 | P5: =N5-$E5 -> -5 | Q5: 21 | R5: 12 | S5: 6 | T5: =SUM(Q5:S5) -> 39 | U5: =T5-N5 -> 0 | V5: =T5-$E5 -> -5 | W5: 21 | X5: 12 | Y5: 6 | Z5: =SUM(W5:Y5) -> 39 | AA5: =Z5-T5 -> 0 | AB5: =Z5-$E5 -> -5 | AC5: 22 | AD5: 12 | AE5: 6 | AF5: =SUM(AC5:AE5) -> 40 | AG5: =AF5-Z5 -> 1 | AH5: =AF5-$E5 -> -4 | AI5: 22 | AJ5: 11 | AK5: 6 | AL5: =SUM(AI5:AK5) -> 39 | AM5: =AL5-AF5 -> -1 | AN5: =AL5-$E5 -> -5 | AO5: 22 | AP5: 10 | AQ5: 6 | AR5: =SUM(AO5:AQ5) -> 38 | AS5: =AR5-AL5 -> -1 | AT5: =AR5-$E5 -> -6 | AU5: 22 | AV5: 10 | AW5: 6 | AX5: =SUM(AU5:AW5) -> 38 | AY5: =AX5-AR5 -> 0 | AZ5: =AX5-$E5 -> -6 | BA5: 22 | BB5: 10 | BC5: 6 | BD5: =SUM(BA5:BC5) -> 38 | BE5: =BD5-AX5 -> 0 | BF5: =BD5-$E5 -> -6
A6: Auto Body | B6: 16 | C6: 12 | D6: 8 | E6: =SUM(B6:D6) -> 36 | F6: 10 | G6: 12 | H6: 8 | I6: =SUM(F6:H6) -> 30 | J6: =I6-E6 -> -6 | K6: 10 | L6: 12 | M6: 8 | N6: =SUM(K6:M6) -> 30 | O6: =N6-I6 -> 0 | P6: =N6-$E6 -> -6 | Q6: 10 | R6: 12 | S6: 8 | T6: =SUM(Q6:S6) -> 30 | U6: =T6-N6 -> 0 | V6: =T6-$E6 -> -6 | W6: 10 | X6: 12 | Y6: 8 | Z6: =SUM(W6:Y6) -> 30 | AA6: =Z6-T6 -> 0 | AB6: =Z6-$E6 -> -6 | AC6: 10 | AD6: 12 | AE6: 8 | AF6: =SUM(AC6:AE6) -> 30 | AG6: =AF6-Z6 -> 0 | AH6: =AF6-$E6 -> -6 | AI6: 10 | AJ6: 12 | AK6: 8 | AL6: =SUM(AI6:AK6) -> 30 | AM6: =AL6-AF6 -> 0 | AN6: =AL6-$E6 -> -6 | AO6: 9 | AP6: 12 | AQ6: 8 | AR6: =SUM(AO6:AQ6) -> 29 | AS6: =AR6-AL6 -> -1 | AT6: =AR6-$E6 -> -7 | AU6: 9 | AV6: 12 | AW6: 8 | AX6: =SUM(AU6:AW6) -> 29 | AY6: =AX6-AR6 -> 0 | AZ6: =AX6-$E6 -> -7 | BA6: 9 | BB6: 12 | BC6: 8 | BD6: =SUM(BA6:BC6) -> 29 | BE6: =BD6-AX6 -> 0 | BF6: =BD6-$E6 -> -7
A7: Automotive Technologies | B7: 30 | C7: 23 | D7: 25 | E7: =SUM(B7:D7) -> 78 | F7: 40 | G7: 23 | H7: 24 | I7: =SUM(F7:H7) -> 87 | J7: =I7-E7 -> 9 | K7: 37 | L7: 23 | M7: 24 | N7: =SUM(K7:M7) -> 84 | O7: =N7-I7 -> -3 | P7: =N7-$E7 -> 6 | Q7: 35 | R7: 22 | S7: 24 | T7: =SUM(Q7:S7) -> 81 | U7: =T7-N7 -> -3 | V7: =T7-$E7 -> 3 | W7: 34 | X7: 22 | Y7: 23 | Z7: =SUM(W7:Y7) -> 79 | AA7: =Z7-T7 -> -2 | AB7: =Z7-$E7 -> 1 | AC7: 32 | AD7: 21 | AE7: 22 | AF7: =SUM(AC7:AE7) -> 75 | AG7: =AF7-Z7 -> -4 | AH7: =AF7-$E7 -> -3 | AI7: 32 | AJ7: 21 | AK7: 22 | AL7: =SUM(AI7:AK7) -> 75 | AM7: =AL7-AF7 -> 0 | AN7: =AL7-$E7 -> -3 | AO7: 32 | AP7: 21 | AQ7: 22 | AR7: =SUM(AO7:AQ7) -> 75 | AS7: =AR7-AL7 -> 0 | AT7: =AR7-$E7 -> -3 | AU7: 32 | AV7: 21 | AW7: 22 | AX7: =SUM(AU7:AW7) -> 75 | AY7: =AX7-AR7 -> 0 | AZ7: =AX7-$E7 -> -3 | BA7: 31 | BB7: 21 | BC7: 22 | BD7: =SUM(BA7:BC7) -> 74 | BE7: =BD7-AX7 -> -1 | BF7: =BD7-$E7 -> -4
A8: Computer Info. Systems | B8: 18 | C8: 15 | D8: 11 | E8: =SUM(B8:D8) -> 44 | F8: 14 | G8: 13 | H8: 10 | I8: =SUM(F8:H8) -> 37 | J8: =I8-E8 -> -7 | K8: 14 | L8: 13 | M8: 10 | N8: =SUM(K8:M8) -> 37 | O8: =N8-I8 -> 0 | P8: =N8-$E8 -> -7 | Q8: 14 | R8: 13 | S8: 10 | T8: =SUM(Q8:S8) -> 37 | U8: =T8-N8 -> 0 | V8: =T8-$E8 -> -7 | W8: 14 | X8: 12 | Y8: 11 | Z8: =SUM(W8:Y8) -> 37 | AA8: =Z8-T8 -> 0 | AB8: =Z8-$E8 -> -7 | AC8: 15 | AD8: 12 | AE8: 11 | AF8: =SUM(AC8:AE8) -> 38 | AG8: =AF8-Z8 -> 1 | AH8: =AF8-$E8 -> -6 | AI8: 14 | AJ8: 12 | AK8: 11 | AL8: =SUM(AI8:AK8) -> 37 | AM8: =AL8-AF8 -> -1 | AN8: =AL8-$E8 -> -7 | AO8: 14 | AP8: 12 | AQ8: 11 | AR8: =SUM(AO8:AQ8) -> 37 | AS8: =AR8-AL8 -> 0 | AT8: =AR8-$E8 -> -7 | AU8: 14 | AV8: 12 | AW8: 11 | AX8: =SUM(AU8:AW8) -> 37 | AY8: =AX8-AR8 -> 0 | AZ8: =AX8-$E8 -> -7 | BA8: 14 | BB8: 12 | BC8: 11 | BD8: =SUM(BA8:BC8) -> 37 | BE8: =BD8-AX8 -> 0 | BF8: =BD8-$E8 -> -7
A9: Construction Trades | B9: 50 | C9: 16 | D9: 17 | E9: =SUM(B9:D9) -> 83 | F9: 42 | G9: 14 | H9: 17 | I9: =SUM(F9:H9) -> 73 | J9: =I9-E9 -> -10 | K9: 42 | L9: 14 | M9: 17 | N9: =SUM(K9:M9) -> 73 | O9: =N9-I9 -> 0 | P9: =N9-$E9 -> -10 | Q9: 41 | R9: 14 | S9: 17 | T9: =SUM(Q9:S9) -> 72 | U9: =T9-N9 -> -1 | V9: =T9-$E9 -> -11 | W9: 39 | X9: 15 | Y9: 17 | Z9: =SUM(W9:Y9) -> 71 | AA9: =Z9-T9 -> -1 | AB9: =Z9-$E9 -> -12 | AC9: 40 | AD9: 15 | AE9: 17 | AF9: =SUM(AC9:AE9) -> 72 | AG9: =AF9-Z9 -> 1 | AH9: =AF9-$E9 -> -11 | AI9: 39 | AJ9: 15 | AK9: 17 | AL9: =SUM(AI9:AK9) -> 71 | AM9: =AL9-AF9 -> -1 | AN9: =AL9-$E9 -> -12 | AO9: 38 | AP9: 15 | AQ9: 17 | AR9: =SUM(AO9:AQ9) -> 70 | AS9: =AR9-AL9 -> -1 | AT9: =AR9-$E9 -> -13 | AU9: 38 | AV9: 15 | AW9: 16 | AX9: =SUM(AU9:AW9) -> 69 | AY9: =AX9-AR9 -> -1 | AZ9: =AX9-$E9 -> -14 | BA9: 38 | BB9: 15 | BC9: 16 | BD9: =SUM(BA9:BC9) -> 69 | BE9: =BD9-AX9 -> 0 | BF9: =BD9-$E9 -> -14
A10: Cosmetology | B10: 15 | C10: 21 | D10: 9 | E10: =SUM(B10:D10) -> 45 | F10: 15 | G10: 19 | H10: 8 | I10: =SUM(F10:H10) -> 42 | J10: =I10-E10 -> -3 | K10: 15 | L10: 19 | M10: 8 | N10: =SUM(K10:M10) -> 42 | O10: =N10-I10 -> 0 | P10: =N10-$E10 -> -3 | Q10: 15 | R10: 19 | S10: 8 | T10: =SUM(Q10:S10) -> 42 | U10: =T10-N10 -> 0 | V10: =T10-$E10 -> -3 | W10: 15 | X10: 19 | Y10: 8 | Z10: =SUM(W10:Y10) -> 42 | AA10: =Z10-T10 -> 0 | AB10: =Z10-$E10 -> -3 | AC10: 15 | AD10: 19 | AE10: 8 | AF10: =SUM(AC10:AE10) -> 42 | AG10: =AF10-Z10 -> 0 | AH10: =AF10-$E10 -> -3 | AI10: 15 | AJ10: 19 | AK10: 8 | AL10: =SUM(AI10:AK10) -> 42 | AM10: =AL10-AF10 -> 0 | AN10: =AL10-$E10 -> -3 | AO10: 15 | AP10: 19 | AQ10: 8 | AR10: =SUM(AO10:AQ10) -> 42 | AS10: =AR10-AL10 -> 0 | AT10: =AR10-$E10 -> -3 | AU10: 15 | AV10: 19 | AW10: 8 | AX10: =SUM(AU10:AW10) -> 42 | AY10: =AX10-AR10 -> 0 | AZ10: =AX10-$E10 -> -3 | BA10: 15 | BB10: 19 | BC10: 8 | BD10: =SUM(BA10:BC10) -> 42 | BE10: =BD10-AX10 -> 0 | BF10: =BD10-$E10 -> -3
A11: Culinary Arts | B11: 34 | C11: 28 | D11: 15 | E11: =SUM(B11:D11) -> 77 | F11: 34 | G11: 27 | H11: 14 | I11: =SUM(F11:H11) -> 75 | J11: =I11-E11 -> -2 | K11: 33 | L11: 27 | M11: 14 | N11: =SUM(K11:M11) -> 74 | O11: =N11-I11 -> -1 | P11: =N11-$E11 -> -3 | Q11: 33 | R11: 26 | S11: 13 | T11: =SUM(Q11:S11) -> 72 | U11: =T11-N11 -> -2 | V11: =T11-$E11 -> -5 | W11: 32 | X11: 26 | Y11: 14 | Z11: =SUM(W11:Y11) -> 72 | AA11: =Z11-T11 -> 0 | AB11: =Z11-$E11 -> -5 | AC11: 26 | AD11: 25 | AE11: 14 | AF11: =SUM(AC11:AE11) -> 65 | AG11: =AF11-Z11 -> -7 | AH11: =AF11-$E11 -> -12 | AI11: 26 | AJ11: 25 | AK11: 14 | AL11: =SUM(AI11:AK11) -> 65 | AM11: =AL11-AF11 -> 0 | AN11: =AL11-$E11 -> -12 | AO11: 26 | AP11: 25 | AQ11: 14 | AR11: =SUM(AO11:AQ11) -> 65 | AS11: =AR11-AL11 -> 0 | AT11: =AR11-$E11 -> -12 | AU11: 26 | AV11: 24 | AW11: 14 | AX11: =SUM(AU11:AW11) -> 64 | AY11: =AX11-AR11 -> -1 | AZ11: =AX11-$E11 -> -13 | BA11: 26 | BB11: 24 | BC11: 14 | BD11: =SUM(BA11:BC11) -> 64 | BE11: =BD11-AX11 -> 0 | BF11: =BD11-$E11 -> -13
A12: Diversified Ocupations | E12: =SUM(B12:D12) -> 0 | F12: 7 | G12: 1 | H12: 0 | I12: =SUM(F12:H12) -> 8 | J12: =I12-E12 -> 8 | K12: 6 | L12: 0 | M12: 0 | N12: =SUM(K12:M12) -> 6 | O12: =N12-I12 -> -2 | P12: =N12-$E12 -> 6 | Q12: 7 | R12: 0 | S12: 0 | T12: =SUM(Q12:S12) -> 7 | U12: =T12-N12 -> 1 | V12: =T12-$E12 -> 7 | W12: 7 | X12: 0 | Y12: 0 | Z12: =SUM(W12:Y12) -> 7 | AA12: =Z12-T12 -> 0 | AB12: =Z12-$E12 -> 7 | AC12: 18 | AD12: 1 | AE12: 0 | AF12: =SUM(AC12:AE12) -> 19 | AG12: =AF12-Z12 -> 12 | AH12: =AF12-$E12 -> 19 | AI12: 20 | AJ12: 1 | AK12: 0 | AL12: =SUM(AI12:AK12) -> 21 | AM12: =AL12-AF12 -> 2 | AN12: =AL12-$E12 -> 21 | AO12: 20 | AP12: 0 | AQ12: 0 | AR12: =SUM(AO12:AQ12) -> 20 | AS12: =AR12-AL12 -> -1 | AT12: =AR12-$E12 -> 20 | AU12: 19 | AV12: 0 | AW12: 0 | AX12: =SUM(AU12:AW12) -> 19 | AY12: =AX12-AR12 -> -1 | AZ12: =AX12-$E12 -> 19 | BA12: 20 | BB12: 0 | BC12: 0 | BD12: =SUM(BA12:BC12) -> 20 | BE12: =BD12-AX12 -> 1 | BF12: =BD12-$E12 -> 20
A13: Drafting & Design | B13: 14 | C13: 11 | D13: 10 | E13: =SUM(B13:D13) -> 35 | F13: 14 | G13: 10 | H13: 10 | I13: =SUM(F13:H13) -> 34 | J13: =I13-E13 -> -1 | K13: 14 | L13: 10 | M13: 10 | N13: =SUM(K13:M13) -> 34 | O13: =N13-I13 -> 0 | P13: =N13-$E13 -> -1 | Q13: 14 | R13: 10 | S13: 10 | T13: =SUM(Q13:S13) -> 34 | U13: =T13-N13 -> 0 | V13: =T13-$E13 -> -1 | W13: 11 | X13: 12 | Y13: 11 | Z13: =SUM(W13:Y13) -> 34 | AA13: =Z13-T13 -> 0 | AB13: =Z13-$E13 -> -1 | AC13: 11 | AD13: 12 | AE13: 11 | AF13: =SUM(AC13:AE13) -> 34 | AG13: =AF13-Z13 -> 0 | AH13: =AF13-$E13 -> -1 | AI13: 11 | AJ13: 12 | AK13: 11 | AL13: =SUM(AI13:AK13) -> 34 | AM13: =AL13-AF13 -> 0 | AN13: =AL13-$E13 -> -1 | AO13: 11 | AP13: 12 | AQ13: 11 | AR13: =SUM(AO13:AQ13) -> 34 | AS13: =AR13-AL13 -> 0 | AT13: =AR13-$E13 -> -1 | AU13: 11 | AV13: 12 | AW13: 11 | AX13: =SUM(AU13:AW13) -> 34 | AY13: =AX13-AR13 -> 0 | AZ13: =AX13-$E13 -> -1 | BA13: 11 | BB13: 12 | BC13: 11 | BD13: =SUM(BA13:BC13) -> 34 | BE13: =BD13-AX13 -> 0 | BF13: =BD13-$E13 -> -1
A14: Early Childhood Education | B14: 21 | C14: 17 | D14: 7 | E14: =SUM(B14:D14) -> 45 | F14: 18 | G14: 14 | H14: 7 | I14: =SUM(F14:H14) -> 39 | J14: =I14-E14 -> -6 | K14: 18 | L14: 13 | M14: 6 | N14: =SUM(K14:M14) -> 37 | O14: =N14-I14 -> -2 | P14: =N14-$E14 -> -8 | Q14: 18 | R14: 13 | S14: 6 | T14: =SUM(Q14:S14) -> 37 | U14: =T14-N14 -> 0 | V14: =T14-$E14 -> -8 | W14: 18 | X14: 13 | Y14: 6 | Z14: =SUM(W14:Y14) -> 37 | AA14: =Z14-T14 -> 0 | AB14: =Z14-$E14 -> -8 | AC14: 18 | AD14: 13 | AE14: 6 | AF14: =SUM(AC14:AE14) -> 37 | AG14: =AF14-Z14 -> 0 | AH14: =AF14-$E14 -> -8 | AI14: 18 | AJ14: 13 | AK14: 6 | AL14: =SUM(AI14:AK14) -> 37 | AM14: =AL14-AF14 -> 0 | AN14: =AL14-$E14 -> -8 | AO14: 18 | AP14: 13 | AQ14: 6 | AR14: =SUM(AO14:AQ14) -> 37 | AS14: =AR14-AL14 -> 0 | AT14: =AR14-$E14 -> -8 | AU14: 18 | AV14: 13 | AW14: 6 | AX14: =SUM(AU14:AW14) -> 37 | AY14: =AX14-AR14 -> 0 | AZ14: =AX14-$E14 -> -8 | BA14: 17 | BB14: 13 | BC14: 6 | BD14: =SUM(BA14:BC14) -> 36 | BE14: =BD14-AX14 -> -1 | BF14: =BD14-$E14 -> -9
A15: Electrical Engineering | B15: 19 | C15: 17 | D15: 5 | E15: =SUM(B15:D15) -> 41 | F15: 18 | G15: 17 | H15: 5 | I15: =SUM(F15:H15) -> 40 | J15: =I15-E15 -> -1 | K15: 17 | L15: 16 | M15: 5 | N15: =SUM(K15:M15) -> 38 | O15: =N15-I15 -> -2 | P15: =N15-$E15 -> -3 | Q15: 17 | R15: 16 | S15: 5 | T15: =SUM(Q15:S15) -> 38 | U15: =T15-N15 -> 0 | V15: =T15-$E15 -> -3 | W15: 15 | X15: 17 | Y15: 5 | Z15: =SUM(W15:Y15) -> 37 | AA15: =Z15-T15 -> -1 | AB15: =Z15-$E15 -> -4 | AC15: 15 | AD15: 16 | AE15: 5 | AF15: =SUM(AC15:AE15) -> 36 | AG15: =AF15-Z15 -> -1 | AH15: =AF15-$E15 -> -5 | AI15: 15 | AJ15: 16 | AK15: 5 | AL15: =SUM(AI15:AK15) -> 36 | AM15: =AL15-AF15 -> 0 | AN15: =AL15-$E15 -> -5 | AO15: 15 | AP15: 16 | AQ15: 5 | AR15: =SUM(AO15:AQ15) -> 36 | AS15: =AR15-AL15 -> 0 | AT15: =AR15-$E15 -> -5 | AU15: 15 | AV15: 16 | AW15: 5 | AX15: =SUM(AU15:AW15) -> 36 | AY15: =AX15-AR15 -> 0 | AZ15: =AX15-$E15 -> -5 | BA15: 15 | BB15: 16 | BC15: 5 | BD15: =SUM(BA15:BC15) -> 36 | BE15: =BD15-AX15 -> 0 | BF15: =BD15-$E15 -> -5
A16: Electronics | B16: 16 | C16: 8 | D16: 8 | E16: =SUM(B16:D16) -> 32 | F16: 16 | G16: 7 | H16: 8 | I16: =SUM(F16:H16) -> 31 | J16: =I16-E16 -> -1 | K16: 16 | L16: 7 | M16: 8 | N16: =SUM(K16:M16) -> 31 | O16: =N16-I16 -> 0 | P16: =N16-$E16 -> -1 | Q16: 16 | R16: 7 | S16: 8 | T16: =SUM(Q16:S16) -> 31 | U16: =T16-N16 -> 0 | V16: =T16-$E16 -> -1 | W16: 16 | X16: 7 | Y16: 8 | Z16: =SUM(W16:Y16) -> 31 | AA16: =Z16-T16 -> 0 | AB16: =Z16-$E16 -> -1 | AC16: 15 | AD16: 7 | AE16: 8 | AF16: =SUM(AC16:AE16) -> 30 | AG16: =AF16-Z16 -> -1 | AH16: =AF16-$E16 -> -2 | AI16: 15 | AJ16: 7 | AK16: 8 | AL16: =SUM(AI16:AK16) -> 30 | AM16: =AL16-AF16 -> 0 | AN16: =AL16-$E16 -> -2 | AO16: 15 | AP16: 7 | AQ16: 8 | AR16: =SUM(AO16:AQ16) -> 30 | AS16: =AR16-AL16 -> 0 | AT16: =AR16-$E16 -> -2 | AU16: 15 | AV16: 7 | AW16: 8 | AX16: =SUM(AU16:AW16) -> 30 | AY16: =AX16-AR16 -> 0 | AZ16: =AX16-$E16 -> -2 | BA16: 15 | BB16: 7 | BC16: 8 | BD16: =SUM(BA16:BC16) -> 30 | BE16: =BD16-AX16 -> 0 | BF16: =BD16-$E16 -> -2
A17: Facilities Maintenance Tech | B17: 12 | C17: 6 | D17: 10 | E17: =SUM(B17:D17) -> 28 | F17: 12 | G17: 5 | H17: 9 | I17: =SUM(F17:H17) -> 26 | J17: =I17-E17 -> -2 | K17: 11 | L17: 5 | M17: 9 | N17: =SUM(K17:M17) -> 25 | O17: =N17-I17 -> -1 | P17: =N17-$E17 -> -3 | Q17: 11 | R17: 5 | S17: 9 | T17: =SUM(Q17:S17) -> 25 | U17: =T17-N17 -> 0 | V17: =T17-$E17 -> -3 | W17: 10 | X17: 5 | Y17: 10 | Z17: =SUM(W17:Y17) -> 25 | AA17: =Z17-T17 -> 0 | AB17: =Z17-$E17 -> -3 | AC17: 11 | AD17: 5 | AE17: 10 | AF17: =SUM(AC17:AE17) -> 26 | AG17: =AF17-Z17 -> 1 | AH17: =AF17-$E17 -> -2 | AI17: 11 | AJ17: 5 | AK17: 10 | AL17: =SUM(AI17:AK17) -> 26 | AM17: =AL17-AF17 -> 0 | AN17: =AL17-$E17 -> -2 | AO17: 11 | AP17: 5 | AQ17: 10 | AR17: =SUM(AO17:AQ17) -> 26 | AS17: =AR17-AL17 -> 0 | AT17: =AR17-$E17 -> -2 | AU17: 10 | AV17: 4 | AW17: 10 | AX17: =SUM(AU17:AW17) -> 24 | AY17: =AX17-AR17 -> -2 | AZ17: =AX17-$E17 -> -4 | BA17: 10 | BB17: 4 | BC17: 10 | BD17: =SUM(BA17:BC17) -> 24 | BE17: =BD17-AX17 -> 0 | BF17: =BD17-$E17 -> -4
A18: Graphic Communications | B18: 16 | C18: 17 | D18: 5 | E18: =SUM(B18:D18) -> 38 | F18: 18 | G18: 16 | H18: 6 | I18: =SUM(F18:H18) -> 40 | J18: =I18-E18 -> 2 | K18: 17 | L18: 16 | M18: 6 | N18: =SUM(K18:M18) -> 39 | O18: =N18-I18 -> -1 | P18: =N18-$E18 -> 1 | Q18: 17 | R18: 16 | S18: 6 | T18: =SUM(Q18:S18) -> 39 | U18: =T18-N18 -> 0 | V18: =T18-$E18 -> 1 | W18: 17 | X18: 16 | Y18: 5 | Z18: =SUM(W18:Y18) -> 38 | AA18: =Z18-T18 -> -1 | AB18: =Z18-$E18 -> 0 | AC18: 14 | AD18: 16 | AE18: 5 | AF18: =SUM(AC18:AE18) -> 35 | AG18: =AF18-Z18 -> -3 | AH18: =AF18-$E18 -> -3 | AI18: 14 | AJ18: 16 | AK18: 5 | AL18: =SUM(AI18:AK18) -> 35 | AM18: =AL18-AF18 -> 0 | AN18: =AL18-$E18 -> -3 | AO18: 14 | AP18: 16 | AQ18: 5 | AR18: =SUM(AO18:AQ18) -> 35 | AS18: =AR18-AL18 -> 0 | AT18: =AR18-$E18 -> -3 | AU18: 14 | AV18: 16 | AW18: 5 | AX18: =SUM(AU18:AW18) -> 35 | AY18: =AX18-AR18 -> 0 | AZ18: =AX18-$E18 -> -3 | BA18: 14 | BB18: 16 | BC18: 5 | BD18: =SUM(BA18:BC18) -> 35 | BE18: =BD18-AX18 -> 0 | BF18: =BD18-$E18 -> -3
A19: Health Assistant | B19: 22 | C19: 18 | D19: 7 | E19: =SUM(B19:D19) -> 47 | F19: 20 | G19: 17 | H19: 7 | I19: =SUM(F19:H19) -> 44 | J19: =I19-E19 -> -3 | K19: 20 | L19: 17 | M19: 7 | N19: =SUM(K19:M19) -> 44 | O19: =N19-I19 -> 0 | P19: =N19-$E19 -> -3 | Q19: 20 | R19: 17 | S19: 7 | T19: =SUM(Q19:S19) -> 44 | U19: =T19-N19 -> 0 | V19: =T19-$E19 -> -3 | W19: 19 | X19: 17 | Y19: 7 | Z19: =SUM(W19:Y19) -> 43 | AA19: =Z19-T19 -> -1 | AB19: =Z19-$E19 -> -4 | AC19: 16 | AD19: 17 | AE19: 7 | AF19: =SUM(AC19:AE19) -> 40 | AG19: =AF19-Z19 -> -3 | AH19: =AF19-$E19 -> -7 | AI19: 16 | AJ19: 17 | AK19: 7 | AL19: =SUM(AI19:AK19) -> 40 | AM19: =AL19-AF19 -> 0 | AN19: =AL19-$E19 -> -7 | AO19: 16 | AP19: 17 | AQ19: 7 | AR19: =SUM(AO19:AQ19) -> 40 | AS19: =AR19-AL19 -> 0 | AT19: =AR19-$E19 -> -7 | AU19: 17 | AV19: 16 | AW19: 7 | AX19: =SUM(AU19:AW19) -> 40 | AY19: =AX19-AR19 -> 0 | AZ19: =AX19-$E19 -> -7 | BA19: 17 | BB19: 16 | BC19: 7 | BD19: =SUM(BA19:BC19) -> 40 | BE19: =BD19-AX19 -> 0 | BF19: =BD19-$E19 -> -7
A20: Metal Fabrication | B20: 20 | C20: 14 | D20: 9 | E20: =SUM(B20:D20) -> 43 | F20: 22 | G20: 14 | H20: 9 | I20: =SUM(F20:H20) -> 45 | J20: =I20-E20 -> 2 | K20: 22 | L20: 14 | M20: 9 | N20: =SUM(K20:M20) -> 45 | O20: =N20-I20 -> 0 | P20: =N20-$E20 -> 2 | Q20: 22 | R20: 14 | S20: 9 | T20: =SUM(Q20:S20) -> 45 | U20: =T20-N20 -> 0 | V20: =T20-$E20 -> 2 | W20: 21 | X20: 15 | Y20: 9 | Z20: =SUM(W20:Y20) -> 45 | AA20: =Z20-T20 -> 0 | AB20: =Z20-$E20 -> 2 | AC20: 20 | AD20: 15 | AE20: 9 | AF20: =SUM(AC20:AE20) -> 44 | AG20: =AF20-Z20 -> -1 | AH20: =AF20-$E20 -> 1 | AI20: 20 | AJ20: 15 | AK20: 9 | AL20: =SUM(AI20:AK20) -> 44 | AM20: =AL20-AF20 -> 0 | AN20: =AL20-$E20 -> 1 | AO20: 19 | AP20: 15 | AQ20: 9 | AR20: =SUM(AO20:AQ20) -> 43 | AS20: =AR20-AL20 -> -1 | AT20: =AR20-$E20 -> 0 | AU20: 19 | AV20: 15 | AW20: 9 | AX20: =SUM(AU20:AW20) -> 43 | AY20: =AX20-AR20 -> 0 | AZ20: =AX20-$E20 -> 0 | BA20: 19 | BB20: 15 | BC20: 9 | BD20: =SUM(BA20:BC20) -> 43 | BE20: =BD20-AX20 -> 0 | BF20: =BD20-$E20 -> 0
A21: Networking Technologies | B21: 10 | E21: =SUM(B21:D21) -> 10 | F21: 12 | G21: 0 | H21: 0 | I21: =SUM(F21:H21) -> 12 | J21: =I21-E21 -> 2 | K21: 12 | L21: 0 | M21: 0 | N21: =SUM(K21:M21) -> 12 | O21: =N21-I21 -> 0 | P21: =N21-$E21 -> 2 | Q21: 12 | R21: 0 | S21: 0 | T21: =SUM(Q21:S21) -> 12 | U21: =T21-N21 -> 0 | V21: =T21-$E21 -> 2 | W21: 12 | X21: 0 | Y21: 0 | Z21: =SUM(W21:Y21) -> 12 | AA21: =Z21-T21 -> 0 | AB21: =Z21-$E21 -> 2 | AC21: 12 | AD21: 0 | AE21: 0 | AF21: =SUM(AC21:AE21) -> 12 | AG21: =AF21-Z21 -> 0 | AH21: =AF21-$E21 -> 2 | AI21: 12 | AJ21: 0 | AK21: 0 | AL21: =SUM(AI21:AK21) -> 12 | AM21: =AL21-AF21 -> 0 | AN21: =AL21-$E21 -> 2 | AO21: 12 | AP21: 0 | AQ21: 0 | AR21: =SUM(AO21:AQ21) -> 12 | AS21: =AR21-AL21 -> 0 | AT21: =AR21-$E21 -> 2 | AU21: 12 | AV21: 0 | AW21: 0 | AX21: =SUM(AU21:AW21) -> 12 | AY21: =AX21-AR21 -> 0 | AZ21: =AX21-$E21 -> 2 | BA21: 12 | BB21: 0 | BC21: 0 | BD21: =SUM(BA21:BC21) -> 12 | BE21: =BD21-AX21 -> 0 | BF21: =BD21-$E21 -> 2
A22: Tool & Die | B22: 19 | C22: 3 | D22: 4 | E22: =SUM(B22:D22) -> 26 | F22: 16 | G22: 3 | H22: 4 | I22: =SUM(F22:H22) -> 23 | J22: =I22-E22 -> -3 | K22: 15 | L22: 3 | M22: 4 | N22: =SUM(K22:M22) -> 22 | O22: =N22-I22 -> -1 | P22: =N22-$E22 -> -4 | Q22: 15 | R22: 3 | S22: 4 | T22: =SUM(Q22:S22) -> 22 | U22: =T22-N22 -> 0 | V22: =T22-$E22 -> -4 | W22: 15 | X22: 0 | Y22: 6 | Z22: =SUM(W22:Y22) -> 21 | AA22: =Z22-T22 -> -1 | AB22: =Z22-$E22 -> -5 | AC22: 15 | AD22: 0 | AE22: 5 | AF22: =SUM(AC22:AE22) -> 20 | AG22: =AF22-Z22 -> -1 | AH22: =AF22-$E22 -> -6 | AI22: 15 | AJ22: 0 | AK22: 5 | AL22: =SUM(AI22:AK22) -> 20 | AM22: =AL22-AF22 -> 0 | AN22: =AL22-$E22 -> -6 | AO22: 15 | AP22: 0 | AQ22: 5 | AR22: =SUM(AO22:AQ22) -> 20 | AS22: =AR22-AL22 -> 0 | AT22: =AR22-$E22 -> -6 | AU22: 15 | AV22: 0 | AW22: 5 | AX22: =SUM(AU22:AW22) -> 20 | AY22: =AX22-AR22 -> 0 | AZ22: =AX22-$E22 -> -6 | BA22: 15 | BB22: 2 | BC22: 3 | BD22: =SUM(BA22:BC22) -> 20 | BE22: =BD22-AX22 -> 0 | BF22: =BD22-$E22 -> -6
A23: Tourism & Hospitality | B23: 35 | E23: =SUM(B23:D23) -> 35 | F23: 39 | G23: 0 | H23: 0 | I23: =SUM(F23:H23) -> 39 | J23: =I23-E23 -> 4 | K23: 37 | L23: 0 | M23: 0 | N23: =SUM(K23:M23) -> 37 | O23: =N23-I23 -> -2 | P23: =N23-$E23 -> 2 | Q23: 36 | R23: 0 | S23: 0 | T23: =SUM(Q23:S23) -> 36 | U23: =T23-N23 -> -1 | V23: =T23-$E23 -> 1 | W23: 35 | X23: 0 | Y23: 0 | Z23: =SUM(W23:Y23) -> 35 | AA23: =Z23-T23 -> -1 | AB23: =Z23-$E23 -> 0 | AC23: 33 | AD23: 0 | AE23: 0 | AF23: =SUM(AC23:AE23) -> 33 | AG23: =AF23-Z23 -> -2 | AH23: =AF23-$E23 -> -2 | AI23: 32 | AJ23: 0 | AK23: 0 | AL23: =SUM(AI23:AK23) -> 32 | AM23: =AL23-AF23 -> -1 | AN23: =AL23-$E23 -> -3 | AO23: 31 | AP23: 0 | AQ23: 0 | AR23: =SUM(AO23:AQ23) -> 31 | AS23: =AR23-AL23 -> -1 | AT23: =AR23-$E23 -> -4 | AU23: 29 | AV23: 0 | AW23: 0 | AX23: =SUM(AU23:AW23) -> 29 | AY23: =AX23-AR23 -> -2 | AZ23: =AX23-$E23 -> -6 | BA23: 28 | BB23: 0 | BC23: 0 | BD23: =SUM(BA23:BC23) -> 28 | BE23: =BD23-AX23 -> -1 | BF23: =BD23-$E23 -> -7
A24: TOTALS | B24: =SUM(B5:B23) -> 391 | C24: =SUM(C5:C23) -> 240 | D24: =SUM(D5:D23) -> 156 | E24: =SUM(B24:D24) -> 787 | F24: =SUM(F5:F23) -> 389 | G24: =SUM(G5:G23) -> 225 | H24: =SUM(H5:H23) -> 152 | I24: =SUM(I5:I23) -> 766 | J24: =I24-E24 -> -21 | K24: =SUM(K5:K23) -> 377 | L24: =SUM(L5:L23) -> 221 | M24: =SUM(M5:M23) -> 151 | N24: =SUM(N5:N23) -> 749 | O24: =N24-I24 -> -17 | P24: =N24-$E24 -> -38 | Q24: =SUM(Q5:Q23) -> 374 | R24: =SUM(R5:R23) -> 219 | S24: =SUM(S5:S23) -> 150 | T24: =SUM(T5:T23) -> 743 | U24: =T24-N24 -> -6 | V24: =T24-$E24 -> -44 | W24: =SUM(W5:W23) -> 361 | X24: =SUM(X5:X23) -> 220 | Y24: =SUM(Y5:Y23) -> 154 | Z24: =SUM(Z5:Z23) -> 735 | AA24: =Z24-T24 -> -8 | AB24: =Z24-$E24 -> -52 | AC24: =SUM(AC5:AC23) -> 358 | AD24: =SUM(AD5:AD23) -> 218 | AE24: =SUM(AE5:AE23) -> 152 | AF24: =SUM(AF5:AF23) -> 728 | AG24: =AF24-Z24 -> -7 | AH24: =AF24-$E24 -> -59 | AI24: =SUM(AI5:AI23) -> 357 | AJ24: =SUM(AJ5:AJ23) -> 217 | AK24: =SUM(AK5:AK23) -> 152 | AL24: =SUM(AL5:AL23) -> 726 | AM24: =AL24-AF24 -> -2 | AN24: =AL24-$E24 -> -61 | AO24: =SUM(AO5:AO23) -> 353 | AP24: =SUM(AP5:AP23) -> 215 | AQ24: =SUM(AQ5:AQ23) -> 152 | AR24: =SUM(AR5:AR23) -> 720 | AS24: =AR24-AL24 -> -6 | AT24: =AR24-$E24 -> -67 | AU24: =SUM(AU5:AU23) -> 350 | AV24: =SUM(AV5:AV23) -> 212 | AW24: =SUM(AW5:AW23) -> 151 | AX24: =SUM(AX5:AX23) -> 713 | AY24: =AX24-AR24 -> -7 | AZ24: =AX24-$E24 -> -74 | BA24: =SUM(BA5:BA23) -> 348 | BB24: =SUM(BB5:BB23) -> 214 | BC24: =SUM(BC5:BC23) -> 149 | BD24: =SUM(BD5:BD23) -> 711 | BE24: =BD24-AX24 -> -2 | BF24: =BD24-$E24 -> -76
A25: Date of Report | B25: 39664 | F25: 39713
A26: School District | B26: Program/Year Level | E26: Total | F26: Program/Year Level | I26: Total | J26: Chg/ Month | K26: Program/Year Level | N26: Total | O26: Chg/ Month | P26: Chg/ Sept | Q26: Program/Year Level | T26: Total | U26: Chg/ Month | V26: Chg/ Sept | W26: Program/Year Level | Z26: Total | AA26: Chg/ Month | AB26: Chg/ Sept | AC26: Program/Year Level | AF26: Total | AG26: Chg/ Month | AH26: Chg/ Sept | AI26: Program/Year Level | AL26: Total | AM26: Chg/ Month | AN26: Chg/ Sept | AO26: Program/Year Level | AR26: Total | AS26: Chg/ Month | AT26: Chg/ Sept | AU26: Program/Year Level | AX26: Total | AY26: Chg/ Month | AZ26: Chg/ Sept | BA26: Program/Year Level | BD26: Total | BE26: Chg/ Month | BF26: Chg/ Sept
A27: School District | B27: 1st | C27: 2nd | D27: 3rd | E27: Total | F27: 1st | G27: 2nd | H27: 3rd | I27: Total | K27: 1st | L27: 2nd | M27: 3rd | N27: Total | Q27: 1st | R27: 2nd | S27: 3rd | T27: Total | W27: 1st | X27: 2nd | Y27: 3rd | Z27: Total | AC27: 1st | AD27: 2nd | AE27: 3rd | AF27: Total | AI27: 1st | AJ27: 2nd | AK27: 3rd | AL27: Total | AO27: 1st | AP27: 2nd | AQ27: 3rd | AR27: Total | AU27: 1st | AV27: 2nd | AW27: 3rd | AX27: Total | BA27: 1st | BB27: 2nd | BC27: 3rd | BD27: Total
A28: Fairview | B28: 17 | C28: 7 | D28: 10 | E28: =SUM(B28:D28) -> 34 | F28: 16 | G28: 5 | H28: 10 | I28: =SUM(F28:H28) -> 31 | J28: =I28-E28 -> -3 | K28: 15 | L28: 5 | M28: 10 | N28: =SUM(K28:M28) -> 30 | O28: =N28-I28 -> -1 | P28: =N28-$E28 -> -4 | Q28: 15 | R28: 5 | S28: 10 | T28: =SUM(Q28:S28) -> 30 | U28: =T28-N28 -> 0 | V28: =T28-$E28 -> -4 | W28: 15 | X28: 4 | Y28: 11 | Z28: =SUM(W28:Y28) -> 30 | AA28: =Z28-T28 -> 0 | AB28: =Z28-$E28 -> -4 | AC28: 15 | AD28: 4 | AE28: 11 | AF28: =SUM(AC28:AE28) -> 30 | AG28: =AF28-Z28 -> 0 | AH28: =AF28-$E28 -> -4 | AI28: 15 | AJ28: 4 | AK28: 11 | AL28: =SUM(AI28:AK28) -> 30 | AM28: =AL28-AF28 -> 0 | AN28: =AL28-$E28 -> -4 | AO28: 15 | AP28: 4 | AQ28: 11 | AR28: =SUM(AO28:AQ28) -> 30 | AS28: =AR28-AL28 -> 0 | AT28: =AR28-$E28 -> -4 | AU28: 14 | AV28: 4 | AW28: 11 | AX28: =SUM(AU28:AW28) -> 29 | AY28: =AX28-AR28 -> -1 | AZ28: =AX28-$E28 -> -5 | BA28: 14 | BB28: 5 | BC28: 10 | BD28: =SUM(BA28:BC28) -> 29 | BE28: =BD28-AX28 -> 0 | BF28: =BD28-$E28 -> -5
A29: Fort LeBoeuf | B29: 50 | C29: 20 | D29: 14 | E29: =SUM(B29:D29) -> 84 | F29: 50 | G29: 16 | H29: 15 | I29: =SUM(F29:H29) -> 81 | J29: =I29-E29 -> -3 | K29: 50 | L29: 17 | M29: 14 | N29: =SUM(K29:M29) -> 81 | O29: =N29-I29 -> 0 | P29: =N29-$E29 -> -3 | Q29: 50 | R29: 17 | S29: 14 | T29: =SUM(Q29:S29) -> 81 | U29: =T29-N29 -> 0 | V29: =T29-$E29 -> -3 | W29: 48 | X29: 18 | Y29: 14 | Z29: =SUM(W29:Y29) -> 80 | AA29: =Z29-T29 -> -1 | AB29: =Z29-$E29 -> -4 | AC29: 42 | AD29: 18 | AE29: 14 | AF29: =SUM(AC29:AE29) -> 74 | AG29: =AF29-Z29 -> -6 | AH29: =AF29-$E29 -> -10 | AI29: 42 | AJ29: 18 | AK29: 14 | AL29: =SUM(AI29:AK29) -> 74 | AM29: =AL29-AF29 -> 0 | AN29: =AL29-$E29 -> -10 | AO29: 41 | AP29: 18 | AQ29: 14 | AR29: =SUM(AO29:AQ29) -> 73 | AS29: =AR29-AL29 -> -1 | AT29: =AR29-$E29 -> -11 | AU29: 41 | AV29: 17 | AW29: 14 | AX29: =SUM(AU29:AW29) -> 72 | AY29: =AX29-AR29 -> -1 | AZ29: =AX29-$E29 -> -12 | BA29: 41 | BB29: 17 | BC29: 14 | BD29: =SUM(BA29:BC29) -> 72 | BE29: =BD29-AX29 -> 0 | BF29: =BD29-$E29 -> -12
A30: General McLane | B30: 32 | C30: 24 | D30: 12 | E30: =SUM(B30:D30) -> 68 | F30: 27 | G30: 23 | H30: 13 | I30: =SUM(F30:H30) -> 63 | J30: =I30-E30 -> -5 | K30: 26 | L30: 23 | M30: 13 | N30: =SUM(K30:M30) -> 62 | O30: =N30-I30 -> -1 | P30: =N30-$E30 -> -6 | Q30: 26 | R30: 23 | S30: 13 | T30: =SUM(Q30:S30) -> 62 | U30: =T30-N30 -> 0 | V30: =T30-$E30 -> -6 | W30: 26 | X30: 21 | Y30: 15 | Z30: =SUM(W30:Y30) -> 62 | AA30: =Z30-T30 -> 0 | AB30: =Z30-$E30 -> -6 | AC30: 25 | AD30: 20 | AE30: 14 | AF30: =SUM(AC30:AE30) -> 59 | AG30: =AF30-Z30 -> -3 | AH30: =AF30-$E30 -> -9 | AI30: 25 | AJ30: 20 | AK30: 14 | AL30: =SUM(AI30:AK30) -> 59 | AM30: =AL30-AF30 -> 0 | AN30: =AL30-$E30 -> -9 | AO30: 25 | AP30: 20 | AQ30: 14 | AR30: =SUM(AO30:AQ30) -> 59 | AS30: =AR30-AL30 -> 0 | AT30: =AR30-$E30 -> -9 | AU30: 25 | AV30: 20 | AW30: 14 | AX30: =SUM(AU30:AW30) -> 59 | AY30: =AX30-AR30 -> 0 | AZ30: =AX30-$E30 -> -9 | BA30: 25 | BB30: 21 | BC30: 13 | BD30: =SUM(BA30:BC30) -> 59 | BE30: =BD30-AX30 -> 0 | BF30: =BD30-$E30 -> -9
A31: Girard | B31: 34 | C31: 21 | D31: 15 | E31: =SUM(B31:D31) -> 70 | F31: 33 | G31: 20 | H31: 14 | I31: =SUM(F31:H31) -> 67 | J31: =I31-E31 -> -3 | K31: 32 | L31: 19 | M31: 14 | N31: =SUM(K31:M31) -> 65 | O31: =N31-I31 -> -2 | P31: =N31-$E31 -> -5 | Q31: 31 | R31: 19 | S31: 14 | T31: =SUM(Q31:S31) -> 64 | U31: =T31-N31 -> -1 | V31: =T31-$E31 -> -6 | W31: 29 | X31: 21 | Y31: 14 | Z31: =SUM(W31:Y31) -> 64 | AA31: =Z31-T31 -> 0 | AB31: =Z31-$E31 -> -6 | AC31: 34 | AD31: 21 | AE31: 14 | AF31: =SUM(AC31:AE31) -> 69 | AG31: =AF31-Z31 -> 5 | AH31: =AF31-$E31 -> -1 | AI31: 34 | AJ31: 21 | AK31: 14 | AL31: =SUM(AI31:AK31) -> 69 | AM31: =AL31-AF31 -> 0 | AN31: =AL31-$E31 -> -1 | AO31: 33 | AP31: 21 | AQ31: 14 | AR31: =SUM(AO31:AQ31) -> 68 | AS31: =AR31-AL31 -> -1 | AT31: =AR31-$E31 -> -2 | AU31: 33 | AV31: 21 | AW31: 14 | AX31: =SUM(AU31:AW31) -> 68 | AY31: =AX31-AR31 -> 0 | AZ31: =AX31-$E31 -> -2 | BA31: 33 | BB31: 21 | BC31: 14 | BD31: =SUM(BA31:BC31) -> 68 | BE31: =BD31-AX31 -> 0 | BF31: =BD31-$E31 -> -2
A32: Harbor Creek | B32: 35 | C32: 20 | D32: 13 | E32: =SUM(B32:D32) -> 68 | F32: 30 | G32: 19 | H32: 13 | I32: =SUM(F32:H32) -> 62 | J32: =I32-E32 -> -6 | K32: 30 | L32: 19 | M32: 13 | N32: =SUM(K32:M32) -> 62 | O32: =N32-I32 -> 0 | P32: =N32-$E32 -> -6 | Q32: 30 | R32: 19 | S32: 13 | T32: =SUM(Q32:S32) -> 62 | U32: =T32-N32 -> 0 | V32: =T32-$E32 -> -6 | W32: 30 | X32: 18 | Y32: 14 | Z32: =SUM(W32:Y32) -> 62 | AA32: =Z32-T32 -> 0 | AB32: =Z32-$E32 -> -6 | AC32: 28 | AD32: 18 | AE32: 14 | AF32: =SUM(AC32:AE32) -> 60 | AG32: =AF32-Z32 -> -2 | AH32: =AF32-$E32 -> -8 | AI32: 28 | AJ32: 18 | AK32: 14 | AL32: =SUM(AI32:AK32) -> 60 | AM32: =AL32-AF32 -> 0 | AN32: =AL32-$E32 -> -8 | AO32: 28 | AP32: 18 | AQ32: 14 | AR32: =SUM(AO32:AQ32) -> 60 | AS32: =AR32-AL32 -> 0 | AT32: =AR32-$E32 -> -8 | AU32: 28 | AV32: 18 | AW32: 14 | AX32: =SUM(AU32:AW32) -> 60 | AY32: =AX32-AR32 -> 0 | AZ32: =AX32-$E32 -> -8 | BA32: 28 | BB32: 18 | BC32: 14 | BD32: =SUM(BA32:BC32) -> 60 | BE32: =BD32-AX32 -> 0 | BF32: =BD32-$E32 -> -8
