Workbook
Name QUOAVE: Combo!$AZ$15

Sheet 1011Monthly
C2: August 2010 | H2: September 2010 | O2: October 2010 | V2: November 2010 | AD2: December 2010 | AL2: January 2011 | AT2: February 2011 | BB2: March 2011 | BJ2: April 2011 | BR2: May 2011 | BZ2: June 2011
A3: Program | C3: Program/Year Level | F3: Total | H3: Program/Year Level | K3: Total | L3: Chg/ Month | M3: Chg/ Year | O3: Program/Year Level | R3: Total | S3: Chg/ Month | T3: Chg/ Year | V3: Program/Year Level | Y3: Total | Z3: Chg/ Month | AA3: Chg/ Sept | AB3: Chg/ Year | AD3: Program/Year Level | AG3: Total | AH3: Chg/ Month | AI3: Chg/ Sept | AJ3: Chg/ Year | AL3: Program/Year Level | AO3: Total | AP3: Chg/ Month | AQ3: Chg/ Sept | AR3: Chg/ Year | AT3: Program/Year Level | AW3: Total | AX3: Chg/ Month | AY3: Chg/ Sept | AZ3: Chg/ Year | BB3: Program/Year Level | BE3: Total | BF3: Chg/ Month | BG3: Chg/ Sept | BH3: Chg/ Year | BJ3: Program/Year Level | BM3: Total | BN3: Chg/ Month | BO3: Chg/ Sept | BP3: Chg/ Year | BR3: Program/Year Level | BU3: Total | BV3: Chg/ Month | BW3: Chg/ Sept | BX3: Chg/ Year | BZ3: Program/Year Level | CC3: Total | CD3: Chg/ Month | CE3: Chg/ Sept | CF3: Chg/ Year
B4: Capacity | C4: 1st | D4: 2nd | E4: 3rd | F4: Total | H4: 1st | I4: 2nd | J4: 3rd | K4: Total | O4: 1st | P4: 2nd | Q4: 3rd | R4: Total | V4: 1st | W4: 2nd | X4: 3rd | Y4: Total | AD4: 1st | AE4: 2nd | AF4: 3rd | AG4: Total | AL4: 1st | AM4: 2nd | AN4: 3rd | AO4: Total | AT4: 1st | AU4: 2nd | AV4: 3rd | AW4: Total | BB4: 1st | BC4: 2nd | BD4: 3rd | BE4: Total | BJ4: 1st | BK4: 2nd | BL4: 3rd | BM4: Total | BR4: 1st | BS4: 2nd | BT4: 3rd | BU4: Total | BZ4: 1st | CA4: 2nd | CB4: 3rd | CC4: Total
A5: Art & Design | B5: 48 | C5: 16 | D5: 12 | E5: 17 | F5: =SUM(C5:E5) -> 45 | H5: 19 | I5: 10 | J5: 16 | K5: =SUM(H5:J5) -> 45 | L5: =K5-F5 -> 0 | M5: =K5-'0910 Monthly '!J5 -> -1 | O5: 19 | P5: 10 | Q5: 16 | R5: 45 | S5: =R5-K5 -> 0 | T5: =R5-'0910 Monthly '!N5 -> -1 | V5: 19 | W5: 10 | X5: 16 | Y5: =SUM(V5:X5) -> 45 | Z5: =Y5-R5 -> 0 | AA5: =Y5-$F5 -> 0 | AB5: =Z5-'0910 Monthly '!S5 -> -46 | AD5: 20 | AE5: 10 | AF5: 16 | AG5: 46 | AH5: =AG5-Y5 -> 1 | AI5: =AG5-$F5 -> 1 | AJ5: =AH5-'0910 Monthly '!Y5 -> -45 | AL5: 20 | AM5: 9 | AN5: 17 | AO5: 46 | AP5: =AO5-AG5 -> 0 | AQ5: =AO5-$F5 -> 1 | AR5: =AP5-'0910 Monthly '!AE5 -> -42 | AT5: 20 | AU5: 7 | AV5: 17 | AW5: 44 | AX5: =AW5-AO5 -> -2 | AY5: =AW5-$F5 -> -1 | AZ5: =AX5-'0910 Monthly '!AK5 -> -43 | BF5: =BE5-AW5 -> -44 | BG5: =BE5-$F5 -> -45 | BH5: =BF5-'0910 Monthly '!AQ5 -> -84 | BN5: =BM5-BE5 -> 0 | BO5: =BM5-$F5 -> -45 | BP5: =BN5-'0910 Monthly '!AW5 -> -40 | BV5: =BU5-BM5 -> 0 | BW5: =BU5-$F5 -> -45 | BX5: =BV5-'0910 Monthly '!BC5 -> -40 | CD5: =CC5-BU5 -> 0 | CE5: =CC5-$F5 -> -45 | CF5: =CD5-'0910 Monthly '!BI5 -> -39
A6: Auto Body | B6: 48 | C6: 12 | D6: 6 | E6: 3 | F6: =SUM(C6:E6) -> 21 | H6: 14 | I6: 6 | J6: 3 | K6: =SUM(H6:J6) -> 23 | L6: =K6-F6 -> 2 | M6: =K6-'0910 Monthly '!J6 -> -4 | O6: 12 | P6: 6 | Q6: 3 | R6: 21 | S6: =R6-K6 -> -2 | T6: =R6-'0910 Monthly '!N6 -> -4 | V6: 11 | W6: 6 | X6: 3 | Y6: =SUM(V6:X6) -> 20 | Z6: =Y6-R6 -> -1 | AA6: =Y6-$F6 -> -1 | AB6: =Z6-'0910 Monthly '!S6 -> -26 | AD6: 11 | AE6: 6 | AF6: 3 | AG6: 20 | AH6: =AG6-Y6 -> 0 | AI6: =AG6-$F6 -> -1 | AJ6: =AH6-'0910 Monthly '!Y6 -> -24 | AL6: 10 | AM6: 5 | AN6: 3 | AO6: 18 | AP6: =AO6-AG6 -> -2 | AQ6: =AO6-$F6 -> -3 | AR6: =AP6-'0910 Monthly '!AE6 -> -22 | AT6: 11 | AU6: 5 | AV6: 3 | AW6: 19 | AX6: =AW6-AO6 -> 1 | AY6: =AW6-$F6 -> -2 | AZ6: =AX6-'0910 Monthly '!AK6 -> -19 | BF6: =BE6-AW6 -> -19 | BG6: =BE6-$F6 -> -21 | BH6: =BF6-'0910 Monthly '!AQ6 -> -39 | BN6: =BM6-BE6 -> 0 | BO6: =BM6-$F6 -> -21 | BP6: =BN6-'0910 Monthly '!AW6 -> -20 | BV6: =BU6-BM6 -> 0 | BW6: =BU6-$F6 -> -21 | BX6: =BV6-'0910 Monthly '!BC6 -> -20 | CD6: =CC6-BU6 -> 0 | CE6: =CC6-$F6 -> -21 | CF6: =CD6-'0910 Monthly '!BI6 -> -20
A7: Automotive Technologies | B7: 96 | C7: 25 | D7: 24 | E7: 18 | F7: =SUM(C7:E7) -> 67 | H7: 26 | I7: 22 | J7: 18 | K7: =SUM(H7:J7) -> 66 | L7: =K7-F7 -> -1 | M7: =K7-'0910 Monthly '!J7 -> 8 | O7: 27 | P7: 20 | Q7: 17 | R7: 64 | S7: =R7-K7 -> -2 | T7: =R7-'0910 Monthly '!N7 -> -4 | V7: 27 | W7: 20 | X7: 17 | Y7: =SUM(V7:X7) -> 64 | Z7: =Y7-R7 -> 0 | AA7: =Y7-$F7 -> -3 | AB7: =Z7-'0910 Monthly '!S7 -> -67 | AD7: 27 | AE7: 20 | AF7: 17 | AG7: 64 | AH7: =AG7-Y7 -> 0 | AI7: =AG7-$F7 -> -3 | AJ7: =AH7-'0910 Monthly '!Y7 -> -65 | AL7: 27 | AM7: 19 | AN7: 17 | AO7: 63 | AP7: =AO7-AG7 -> -1 | AQ7: =AO7-$F7 -> -4 | AR7: =AP7-'0910 Monthly '!AE7 -> -64 | AT7: 30 | AU7: 17 | AV7: 17 | AW7: 64 | AX7: =AW7-AO7 -> 1 | AY7: =AW7-$F7 -> -3 | AZ7: =AX7-'0910 Monthly '!AK7 -> -61 | BF7: =BE7-AW7 -> -64 | BG7: =BE7-$F7 -> -67 | BH7: =BF7-'0910 Monthly '!AQ7 -> -126 | BN7: =BM7-BE7 -> 0 | BO7: =BM7-$F7 -> -67 | BP7: =BN7-'0910 Monthly '!AW7 -> -63 | BV7: =BU7-BM7 -> 0 | BW7: =BU7-$F7 -> -67 | BX7: =BV7-'0910 Monthly '!BC7 -> -62 | CD7: =CC7-BU7 -> 0 | CE7: =CC7-$F7 -> -67 | CF7: =CD7-'0910 Monthly '!BI7 -> -62
A8: Computer Info. Systems | B8: 48 | C8: 14 | D8: 12 | E8: 8 | F8: =SUM(C8:E8) -> 34 | H8: 12 | I8: 12 | J8: 9 | K8: =SUM(H8:J8) -> 33 | L8: =K8-F8 -> -1 | M8: =K8-'0910 Monthly '!J8 -> -4 | O8: 12 | P8: 10 | Q8: 8 | R8: 30 | S8: =R8-K8 -> -3 | T8: =R8-'0910 Monthly '!N8 -> -7 | V8: 12 | W8: 10 | X8: 8 | Y8: =SUM(V8:X8) -> 30 | Z8: =Y8-R8 -> 0 | AA8: =Y8-$F8 -> -4 | AB8: =Z8-'0910 Monthly '!S8 -> -37 | AD8: 12 | AE8: 9 | AF8: 8 | AG8: 29 | AH8: =AG8-Y8 -> -1 | AI8: =AG8-$F8 -> -5 | AJ8: =AH8-'0910 Monthly '!Y8 -> -38 | AL8: 12 | AM8: 9 | AN8: 8 | AO8: 29 | AP8: =AO8-AG8 -> 0 | AQ8: =AO8-$F8 -> -5 | AR8: =AP8-'0910 Monthly '!AE8 -> -37 | AT8: 10 | AU8: 9 | AV8: 8 | AW8: 27 | AX8: =AW8-AO8 -> -2 | AY8: =AW8-$F8 -> -7 | AZ8: =AX8-'0910 Monthly '!AK8 -> -39 | BF8: =BE8-AW8 -> -27 | BG8: =BE8-$F8 -> -34 | BH8: =BF8-'0910 Monthly '!AQ8 -> -63 | BN8: =BM8-BE8 -> 0 | BO8: =BM8-$F8 -> -34 | BP8: =BN8-'0910 Monthly '!AW8 -> -36 | BV8: =BU8-BM8 -> 0 | BW8: =BU8-$F8 -> -34 | BX8: =BV8-'0910 Monthly '!BC8 -> -35 | CD8: =CC8-BU8 -> 0 | CE8: =CC8-$F8 -> -34 | CF8: =CD8-'0910 Monthly '!BI8 -> -35
A9: Construction Trades | B9: 96 | C9: 39 | D9: 14 | E9: 21 | F9: =SUM(C9:E9) -> 74 | H9: 29 | I9: 14 | J9: 18 | K9: =SUM(H9:J9) -> 61 | L9: =K9-F9 -> -13 | M9: =K9-'0910 Monthly '!J9 -> -2 | O9: 27 | P9: 13 | Q9: 18 | R9: 58 | S9: =R9-K9 -> -3 | T9: =R9-'0910 Monthly '!N9 -> -1 | V9: 28 | W9: 13 | X9: 18 | Y9: =SUM(V9:X9) -> 59 | Z9: =Y9-R9 -> 1 | AA9: =Y9-$F9 -> -15 | AB9: =Z9-'0910 Monthly '!S9 -> -58 | AD9: 27 | AE9: 13 | AF9: 18 | AG9: 58 | AH9: =AG9-Y9 -> -1 | AI9: =AG9-$F9 -> -16 | AJ9: =AH9-'0910 Monthly '!Y9 -> -59 | AL9: 25 | AM9: 14 | AN9: 20 | AO9: 59 | AP9: =AO9-AG9 -> 1 | AQ9: =AO9-$F9 -> -15 | AR9: =AP9-'0910 Monthly '!AE9 -> -54 | AT9: 21 | AU9: 13 | AV9: 19 | AW9: 53 | AX9: =AW9-AO9 -> -6 | AY9: =AW9-$F9 -> -21 | AZ9: =AX9-'0910 Monthly '!AK9 -> -61 | BF9: =BE9-AW9 -> -53 | BG9: =BE9-$F9 -> -74 | BH9: =BF9-'0910 Monthly '!AQ9 -> -107 | BN9: =BM9-BE9 -> 0 | BO9: =BM9-$F9 -> -74 | BP9: =BN9-'0910 Monthly '!AW9 -> -55 | BV9: =BU9-BM9 -> 0 | BW9: =BU9-$F9 -> -74 | BX9: =BV9-'0910 Monthly '!BC9 -> -54 | CD9: =CC9-BU9 -> 0 | CE9: =CC9-$F9 -> -74 | CF9: =CD9-'0910 Monthly '!BI9 -> -54
A10: Cosmetology | B10: 48 | C10: 21 | D10: 14 | E10: 13 | F10: =SUM(C10:E10) -> 48 | H10: 23 | I10: 12 | J10: 11 | K10: =SUM(H10:J10) -> 46 | L10: =K10-F10 -> -2 | M10: =K10-'0910 Monthly '!J10 -> -2 | O10: 23 | P10: 12 | Q10: 11 | R10: 46 | S10: =R10-K10 -> 0 | T10: =R10-'0910 Monthly '!N10 -> -2 | V10: 23 | W10: 12 | X10: 11 | Y10: =SUM(V10:X10) -> 46 | Z10: =Y10-R10 -> 0 | AA10: =Y10-$F10 -> -2 | AB10: =Z10-'0910 Monthly '!S10 -> -48 | AD10: 23 | AE10: 12 | AF10: 11 | AG10: 46 | AH10: =AG10-Y10 -> 0 | AI10: =AG10-$F10 -> -2 | AJ10: =AH10-'0910 Monthly '!Y10 -> -48 | AL10: 23 | AM10: 12 | AN10: 11 | AO10: 46 | AP10: =AO10-AG10 -> 0 | AQ10: =AO10-$F10 -> -2 | AR10: =AP10-'0910 Monthly '!AE10 -> -47 | AT10: 23 | AU10: 11 | AV10: 11 | AW10: 45 | AX10: =AW10-AO10 -> -1 | AY10: =AW10-$F10 -> -3 | AZ10: =AX10-'0910 Monthly '!AK10 -> -48 | BF10: =BE10-AW10 -> -45 | BG10: =BE10-$F10 -> -48 | BH10: =BF10-'0910 Monthly '!AQ10 -> -92 | BN10: =BM10-BE10 -> 0 | BO10: =BM10-$F10 -> -48 | BP10: =BN10-'0910 Monthly '!AW10 -> -44 | BV10: =BU10-BM10 -> 0 | BW10: =BU10-$F10 -> -48 | BX10: =BV10-'0910 Monthly '!BC10 -> -44 | CD10: =CC10-BU10 -> 0 | CE10: =CC10-$F10 -> -48 | CF10: =CD10-'0910 Monthly '!BI10 -> -44
A11: Culinary Arts | B11: 96 | C11: 48 | D11: 24 | E11: 13 | F11: =SUM(C11:E11) -> 85 | H11: 47 | I11: 22 | J11: 13 | K11: =SUM(H11:J11) -> 82 | L11: =K11-F11 -> -3 | M11: =K11-'0910 Monthly '!J11 -> 9 | O11: 45 | P11: 22 | Q11: 13 | R11: 80 | S11: =R11-K11 -> -2 | T11: =R11-'0910 Monthly '!N11 -> 6 | V11: 45 | W11: 19 | X11: 13 | Y11: =SUM(V11:X11) -> 77 | Z11: =Y11-R11 -> -3 | AA11: =Y11-$F11 -> -8 | AB11: =Z11-'0910 Monthly '!S11 -> -74 | AD11: 45 | AE11: 19 | AF11: 13 | AG11: 77 | AH11: =AG11-Y11 -> 0 | AI11: =AG11-$F11 -> -8 | AJ11: =AH11-'0910 Monthly '!Y11 -> -69 | AL11: 40 | AM11: 23 | AN11: 14 | AO11: 77 | AP11: =AO11-AG11 -> 0 | AQ11: =AO11-$F11 -> -8 | AR11: =AP11-'0910 Monthly '!AE11 -> -71 | AT11: 41 | AU11: 22 | AV11: 13 | AW11: 76 | AX11: =AW11-AO11 -> -1 | AY11: =AW11-$F11 -> -9 | AZ11: =AX11-'0910 Monthly '!AK11 -> -72 | BF11: =BE11-AW11 -> -76 | BG11: =BE11-$F11 -> -85 | BH11: =BF11-'0910 Monthly '!AQ11 -> -147 | BN11: =BM11-BE11 -> 0 | BO11: =BM11-$F11 -> -85 | BP11: =BN11-'0910 Monthly '!AW11 -> -70 | BV11: =BU11-BM11 -> 0 | BW11: =BU11-$F11 -> -85 | BX11: =BV11-'0910 Monthly '!BC11 -> -69 | CD11: =CC11-BU11 -> 0 | CE11: =CC11-$F11 -> -85 | CF11: =CD11-'0910 Monthly '!BI11 -> -69
A12: Diversified Ocupations | C12: 6 | D12: 2 | E12: 0 | F12: =SUM(C12:E12) -> 8 | H12: 4 | I12: 0 | J12: 0 | K12: =SUM(H12:J12) -> 4 | L12: =K12-F12 -> -4 | M12: =K12-'0910 Monthly '!J12 -> 2 | O12: 5 | P12: 0 | Q12: 0 | R12: 5 | S12: =R12-K12 -> 1 | T12: =R12-'0910 Monthly '!N12 -> 2 | V12: 5 | W12: 0 | X12: 0 | Y12: =SUM(V12:X12) -> 5 | Z12: =Y12-R12 -> 0 | AA12: =Y12-$F12 -> -3 | AB12: =Z12-'0910 Monthly '!S12 -> -4 | AD12: 5 | AE12: 0 | AF12: 0 | AG12: 5 | AH12: =AG12-Y12 -> 0 | AI12: =AG12-$F12 -> -3 | AJ12: =AH12-'0910 Monthly '!Y12 -> -4 | AL12: 4 | AM12: 0 | AN12: 0 | AO12: 4 | AP12: =AO12-AG12 -> -1 | AQ12: =AO12-$F12 -> -4 | AR12: =AP12-'0910 Monthly '!AE12 -> -5 | AT12: 7 | AU12: 0 | AV12: 0 | AW12: 7 | AX12: =AW12-AO12 -> 3 | AY12: =AW12-$F12 -> -1 | AZ12: =AX12-'0910 Monthly '!AK12 -> -6 | BF12: =BE12-AW12 -> -7 | BG12: =BE12-$F12 -> -8 | BH12: =BF12-'0910 Monthly '!AQ12 -> -16 | BN12: =BM12-BE12 -> 0 | BO12: =BM12-$F12 -> -8 | BP12: =BN12-'0910 Monthly '!AW12 -> -8 | BV12: =BU12-BM12 -> 0 | BW12: =BU12-$F12 -> -8 | BX12: =BV12-'0910 Monthly '!BC12 -> -8 | CD12: =CC12-BU12 -> 0 | CE12: =CC12-$F12 -> -8 | CF12: =CD12-'0910 Monthly '!BI12 -> -8
A13: Drafting & Design | B13: 48 | C13: 10 | D13: 10 | E13: 7 | F13: =SUM(C13:E13) -> 27 | H13: 13 | I13: 8 | J13: 7 | K13: =SUM(H13:J13) -> 28 | L13: =K13-F13 -> 1 | M13: =K13-'0910 Monthly '!J13 -> -2 | O13: 13 | P13: 8 | Q13: 7 | R13: 28 | S13: =R13-K13 -> 0 | T13: =R13-'0910 Monthly '!N13 -> -3 | V13: 13 | W13: 8 | X13: 7 | Y13: =SUM(V13:X13) -> 28 | Z13: =Y13-R13 -> 0 | AA13: =Y13-$F13 -> 1 | AB13: =Z13-'0910 Monthly '!S13 -> -30 | AD13: 14 | AE13: 8 | AF13: 7 | AG13: 29 | AH13: =AG13-Y13 -> 1 | AI13: =AG13-$F13 -> 2 | AJ13: =AH13-'0910 Monthly '!Y13 -> -29 | AL13: 13 | AM13: 9 | AN13: 7 | AO13: 29 | AP13: =AO13-AG13 -> 0 | AQ13: =AO13-$F13 -> 2 | AR13: =AP13-'0910 Monthly '!AE13 -> -30 | AT13: 12 | AU13: 8 | AV13: 6 | AW13: 26 | AX13: =AW13-AO13 -> -3 | AY13: =AW13-$F13 -> -1 | AZ13: =AX13-'0910 Monthly '!AK13 -> -31 | BF13: =BE13-AW13 -> -26 | BG13: =BE13-$F13 -> -27 | BH13: =BF13-'0910 Monthly '!AQ13 -> -54 | BN13: =BM13-BE13 -> 0 | BO13: =BM13-$F13 -> -27 | BP13: =BN13-'0910 Monthly '!AW13 -> -28 | BV13: =BU13-BM13 -> 0 | BW13: =BU13-$F13 -> -27 | BX13: =BV13-'0910 Monthly '!BC13 -> -28 | CD13: =CC13-BU13 -> 0 | CE13: =CC13-$F13 -> -27 | CF13: =CD13-'0910 Monthly '!BI13 -> -28
A14: Early Childhood Education | B14: 48 | C14: 15 | D14: 15 | E14: 12 | F14: =SUM(C14:E14) -> 42 | H14: 18 | I14: 15 | J14: 12 | K14: =SUM(H14:J14) -> 45 | L14: =K14-F14 -> 3 | M14: =K14-'0910 Monthly '!J14 -> 1 | O14: 19 | P14: 15 | Q14: 12 | R14: 46 | S14: =R14-K14 -> 1 | T14: =R14-'0910 Monthly '!N14 -> 4 | V14: 19 | W14: 15 | X14: 12 | Y14: =SUM(V14:X14) -> 46 | Z14: =Y14-R14 -> 0 | AA14: =Y14-$F14 -> 4 | AB14: =Z14-'0910 Monthly '!S14 -> -42 | AD14: 19 | AE14: 15 | AF14: 12 | AG14: 46 | AH14: =AG14-Y14 -> 0 | AI14: =AG14-$F14 -> 4 | AJ14: =AH14-'0910 Monthly '!Y14 -> -42 | AL14: 19 | AM14: 13 | AN14: 12 | AO14: 44 | AP14: =AO14-AG14 -> -2 | AQ14: =AO14-$F14 -> 2 | AR14: =AP14-'0910 Monthly '!AE14 -> -44 | AT14: 18 | AU14: 13 | AV14: 12 | AW14: 43 | AX14: =AW14-AO14 -> -1 | AY14: =AW14-$F14 -> 1 | AZ14: =AX14-'0910 Monthly '!AK14 -> -43 | BF14: =BE14-AW14 -> -43 | BG14: =BE14-$F14 -> -42 | BH14: =BF14-'0910 Monthly '!AQ14 -> -85 | BN14: =BM14-BE14 -> 0 | BO14: =BM14-$F14 -> -42 | BP14: =BN14-'0910 Monthly '!AW14 -> -42 | BV14: =BU14-BM14 -> 0 | BW14: =BU14-$F14 -> -42 | BX14: =BV14-'0910 Monthly '!BC14 -> -42 | CD14: =CC14-BU14 -> 0 | CE14: =CC14-$F14 -> -42 | CF14: =CD14-'0910 Monthly '!BI14 -> -42
A15: Electrical Engineering | B15: 48 | C15: 12 | D15: 16 | E15: 12 | F15: =SUM(C15:E15) -> 40 | H15: 12 | I15: 15 | J15: 12 | K15: =SUM(H15:J15) -> 39 | L15: =K15-F15 -> -1 | M15: =K15-'0910 Monthly '!J15 -> -5 | O15: 13 | P15: 14 | Q15: 12 | R15: 39 | S15: =R15-K15 -> 0 | T15: =R15-'0910 Monthly '!N15 -> -5 | V15: 13 | W15: 14 | X15: 12 | Y15: =SUM(V15:X15) -> 39 | Z15: =Y15-R15 -> 0 | AA15: =Y15-$F15 -> -1 | AB15: =Z15-'0910 Monthly '!S15 -> -43 | AD15: 13 | AE15: 14 | AF15: 12 | AG15: 39 | AH15: =AG15-Y15 -> 0 | AI15: =AG15-$F15 -> -1 | AJ15: =AH15-'0910 Monthly '!Y15 -> -44 | AL15: 15 | AM15: 14 | AN15: 12 | AO15: 41 | AP15: =AO15-AG15 -> 2 | AQ15: =AO15-$F15 -> 1 | AR15: =AP15-'0910 Monthly '!AE15 -> -41 | AT15: 14 | AU15: 13 | AV15: 12 | AW15: 39 | AX15: =AW15-AO15 -> -2 | AY15: =AW15-$F15 -> -1 | AZ15: =AX15-'0910 Monthly '!AK15 -> -44 | BF15: =BE15-AW15 -> -39 | BG15: =BE15-$F15 -> -40 | BH15: =BF15-'0910 Monthly '!AQ15 -> -81 | BN15: =BM15-BE15 -> 0 | BO15: =BM15-$F15 -> -40 | BP15: =BN15-'0910 Monthly '!AW15 -> -42 | BV15: =BU15-BM15 -> 0 | BW15: =BU15-$F15 -> -40 | BX15: =BV15-'0910 Monthly '!BC15 -> -42 | CD15: =CC15-BU15 -> 0 | CE15: =CC15-$F15 -> -40 | CF15: =CD15-'0910 Monthly '!BI15 -> -42
A16: Electronics | B16: 48 | C16: 11 | D16: 7 | E16: 5 | F16: =SUM(C16:E16) -> 23 | H16: 10 | I16: 7 | J16: 5 | K16: =SUM(H16:J16) -> 22 | L16: =K16-F16 -> -1 | M16: =K16-'0910 Monthly '!J16 -> 0 | O16: 10 | P16: 7 | Q16: 5 | R16: 22 | S16: =R16-K16 -> 0 | T16: =R16-'0910 Monthly '!N16 -> 1 | V16: 10 | W16: 7 | X16: 5 | Y16: =SUM(V16:X16) -> 22 | Z16: =Y16-R16 -> 0 | AA16: =Y16-$F16 -> -1 | AB16: =Z16-'0910 Monthly '!S16 -> -21 | AD16: 10 | AE16: 7 | AF16: 5 | AG16: 22 | AH16: =AG16-Y16 -> 0 | AI16: =AG16-$F16 -> -1 | AJ16: =AH16-'0910 Monthly '!Y16 -> -20 | AL16: 10 | AM16: 8 | AN16: 5 | AO16: 23 | AP16: =AO16-AG16 -> 1 | AQ16: =AO16-$F16 -> 0 | AR16: =AP16-'0910 Monthly '!AE16 -> -15 | AT16: 10 | AU16: 8 | AV16: 5 | AW16: 23 | AX16: =AW16-AO16 -> 0 | AY16: =AW16-$F16 -> 0 | AZ16: =AX16-'0910 Monthly '!AK16 -> -17 | BF16: =BE16-AW16 -> -23 | BG16: =BE16-$F16 -> -23 | BH16: =BF16-'0910 Monthly '!AQ16 -> -41 | BN16: =BM16-BE16 -> 0 | BO16: =BM16-$F16 -> -23 | BP16: =BN16-'0910 Monthly '!AW16 -> -18 | BV16: =BU16-BM16 -> 0 | BW16: =BU16-$F16 -> -23 | BX16: =BV16-'0910 Monthly '!BC16 -> -18 | CD16: =CC16-BU16 -> 0 | CE16: =CC16-$F16 -> -23 | CF16: =CD16-'0910 Monthly '!BI16 -> -18
A17: Facilities Maintenance Tech | B17: 48 | C17: 12 | D17: 22 | E17: 7 | F17: =SUM(C17:E17) -> 41 | H17: 14 | I17: 21 | J17: 6 | K17: =SUM(H17:J17) -> 41 | L17: =K17-F17 -> 0 | M17: =K17-'0910 Monthly '!J17 -> 6 | O17: 14 | P17: 20 | Q17: 6 | R17: 40 | S17: =R17-K17 -> -1 | T17: =R17-'0910 Monthly '!N17 -> 6 | V17: 14 | W17: 19 | X17: 6 | Y17: =SUM(V17:X17) -> 39 | Z17: =Y17-R17 -> -1 | AA17: =Y17-$F17 -> -2 | AB17: =Z17-'0910 Monthly '!S17 -> -35 | AD17: 15 | AE17: 19 | AF17: 6 | AG17: 40 | AH17: =AG17-Y17 -> 1 | AI17: =AG17-$F17 -> -1 | AJ17: =AH17-'0910 Monthly '!Y17 -> -32 | AL17: 15 | AM17: 19 | AN17: 6 | AO17: 40 | AP17: =AO17-AG17 -> 0 | AQ17: =AO17-$F17 -> -1 | AR17: =AP17-'0910 Monthly '!AE17 -> -34 | AT17: 15 | AU17: 19 | AV17: 6 | AW17: 40 | AX17: =AW17-AO17 -> 0 | AY17: =AW17-$F17 -> -1 | AZ17: =AX17-'0910 Monthly '!AK17 -> -33 | BF17: =BE17-AW17 -> -40 | BG17: =BE17-$F17 -> -41 | BH17: =BF17-'0910 Monthly '!AQ17 -> -73 | BN17: =BM17-BE17 -> 0 | BO17: =BM17-$F17 -> -41 | BP17: =BN17-'0910 Monthly '!AW17 -> -33 | BV17: =BU17-BM17 -> 0 | BW17: =BU17-$F17 -> -41 | BX17: =BV17-'0910 Monthly '!BC17 -> -33 | CD17: =CC17-BU17 -> 0 | CE17: =CC17-$F17 -> -41 | CF17: =CD17-'0910 Monthly '!BI17 -> -33
A18: Graphic Communications | B18: 48 | C18: 21 | D18: 9 | E18: 9 | F18: =SUM(C18:E18) -> 39 | H18: 19 | I18: 8 | J18: 8 | K18: =SUM(H18:J18) -> 35 | L18: =K18-F18 -> -4 | M18: =K18-'0910 Monthly '!J18 -> 5 | O18: 19 | P18: 9 | Q18: 8 | R18: 36 | S18: =R18-K18 -> 1 | T18: =R18-'0910 Monthly '!N18 -> 5 | V18: 20 | W18: 9 | X18: 7 | Y18: =SUM(V18:X18) -> 36 | Z18: =Y18-R18 -> 0 | AA18: =Y18-$F18 -> -3 | AB18: =Z18-'0910 Monthly '!S18 -> -31 | AD18: 20 | AE18: 9 | AF18: 7 | AG18: 36 | AH18: =AG18-Y18 -> 0 | AI18: =AG18-$F18 -> -3 | AJ18: =AH18-'0910 Monthly '!Y18 -> -31 | AL18: 19 | AM18: 10 | AN18: 7 | AO18: 36 | AP18: =AO18-AG18 -> 0 | AQ18: =AO18-$F18 -> -3 | AR18: =AP18-'0910 Monthly '!AE18 -> -33 | AT18: 18 | AU18: 9 | AV18: 7 | AW18: 34 | AX18: =AW18-AO18 -> -2 | AY18: =AW18-$F18 -> -5 | AZ18: =AX18-'0910 Monthly '!AK18 -> -36 | BF18: =BE18-AW18 -> -34 | BG18: =BE18-$F18 -> -39 | BH18: =BF18-'0910 Monthly '!AQ18 -> -67 | BN18: =BM18-BE18 -> 0 | BO18: =BM18-$F18 -> -39 | BP18: =BN18-'0910 Monthly '!AW18 -> -33 | BV18: =BU18-BM18 -> 0 | BW18: =BU18-$F18 -> -39 | BX18: =BV18-'0910 Monthly '!BC18 -> -33 | CD18: =CC18-BU18 -> 0 | CE18: =CC18-$F18 -> -39 | CF18: =CD18-'0910 Monthly '!BI18 -> -31
A19: Health Assistant | B19: 48 | C19: 17 | D19: 15 | E19: 11 | F19: =SUM(C19:E19) -> 43 | H19: 17 | I19: 15 | J19: 10 | K19: =SUM(H19:J19) -> 42 | L19: =K19-F19 -> -1 | M19: =K19-'0910 Monthly '!J19 -> -6 | O19: 17 | P19: 15 | Q19: 10 | R19: 42 | S19: =R19-K19 -> 0 | T19: =R19-'0910 Monthly '!N19 -> -5 | V19: 17 | W19: 15 | X19: 10 | Y19: =SUM(V19:X19) -> 42 | Z19: =Y19-R19 -> 0 | AA19: =Y19-$F19 -> -1 | AB19: =Z19-'0910 Monthly '!S19 -> -47 | AD19: 17 | AE19: 15 | AF19: 10 | AG19: 42 | AH19: =AG19-Y19 -> 0 | AI19: =AG19-$F19 -> -1 | AJ19: =AH19-'0910 Monthly '!Y19 -> -47 | AL19: 17 | AM19: 15 | AN19: 10 | AO19: 42 | AP19: =AO19-AG19 -> 0 | AQ19: =AO19-$F19 -> -1 | AR19: =AP19-'0910 Monthly '!AE19 -> -46 | AT19: 17 | AU19: 15 | AV19: 10 | AW19: 42 | AX19: =AW19-AO19 -> 0 | AY19: =AW19-$F19 -> -1 | AZ19: =AX19-'0910 Monthly '!AK19 -> -45 | BF19: =BE19-AW19 -> -42 | BG19: =BE19-$F19 -> -43 | BH19: =BF19-'0910 Monthly '!AQ19 -> -87 | BN19: =BM19-BE19 -> 0 | BO19: =BM19-$F19 -> -43 | BP19: =BN19-'0910 Monthly '!AW19 -> -45 | BV19: =BU19-BM19 -> 0 | BW19: =BU19-$F19 -> -43 | BX19: =BV19-'0910 Monthly '!BC19 -> -45 | CD19: =CC19-BU19 -> 0 | CE19: =CC19-$F19 -> -43 | CF19: =CD19-'0910 Monthly '!BI19 -> -45
A20: Metal Fabrication | B20: 48 | C20: 16 | D20: 17 | E20: 13 | F20: =SUM(C20:E20) -> 46 | H20: 15 | I20: 17 | J20: 13 | K20: =SUM(H20:J20) -> 45 | L20: =K20-F20 -> -1 | M20: =K20-'0910 Monthly '!J20 -> -4 | O20: 14 | P20: 17 | Q20: 13 | R20: 44 | S20: =R20-K20 -> -1 | T20: =R20-'0910 Monthly '!N20 -> -4 | V20: 14 | W20: 17 | X20: 13 | Y20: =SUM(V20:X20) -> 44 | Z20: =Y20-R20 -> 0 | AA20: =Y20-$F20 -> -2 | AB20: =Z20-'0910 Monthly '!S20 -> -47 | AD20: 14 | AE20: 17 | AF20: 12 | AG20: 43 | AH20: =AG20-Y20 -> -1 | AI20: =AG20-$F20 -> -3 | AJ20: =AH20-'0910 Monthly '!Y20 -> -47 | AL20: 14 | AM20: 16 | AN20: 12 | AO20: 42 | AP20: =AO20-AG20 -> -1 | AQ20: =AO20-$F20 -> -4 | AR20: =AP20-'0910 Monthly '!AE20 -> -47 | AT20: 14 | AU20: 16 | AV20: 12 | AW20: 42 | AX20: =AW20-AO20 -> 0 | AY20: =AW20-$F20 -> -4 | AZ20: =AX20-'0910 Monthly '!AK20 -> -45 | BF20: =BE20-AW20 -> -42 | BG20: =BE20-$F20 -> -46 | BH20: =BF20-'0910 Monthly '!AQ20 -> -87 | BN20: =BM20-BE20 -> 0 | BO20: =BM20-$F20 -> -46 | BP20: =BN20-'0910 Monthly '!AW20 -> -43 | BV20: =BU20-BM20 -> 0 | BW20: =BU20-$F20 -> -46 | BX20: =BV20-'0910 Monthly '!BC20 -> -43 | CD20: =CC20-BU20 -> 0 | CE20: =CC20-$F20 -> -46 | CF20: =CD20-'0910 Monthly '!BI20 -> -43
A21: Networking Technologies | B21: 48 | C21: 15 | D21: 0 | E21: 0 | F21: =SUM(C21:E21) -> 15 | H21: 16 | I21: 0 | J21: 0 | K21: =SUM(H21:J21) -> 16 | L21: =K21-F21 -> 1 | M21: =K21-'0910 Monthly '!J21 -> -16 | O21: 18 | P21: 0 | Q21: 0 | R21: 18 | S21: =R21-K21 -> 2 | T21: =R21-'0910 Monthly '!N21 -> -14 | V21: 18 | W21: 0 | X21: 0 | Y21: =SUM(V21:X21) -> 18 | Z21: =Y21-R21 -> 0 | AA21: =Y21-$F21 -> 3 | AB21: =Z21-'0910 Monthly '!S21 -> -32 | AD21: 18 | AE21: 0 | AF21: 0 | AG21: 18 | AH21: =AG21-Y21 -> 0 | AI21: =AG21-$F21 -> 3 | AJ21: =AH21-'0910 Monthly '!Y21 -> -32 | AL21: 18 | AM21: 0 | AN21: 0 | AO21: 18 | AP21: =AO21-AG21 -> 0 | AQ21: =AO21-$F21 -> 3 | AR21: =AP21-'0910 Monthly '!AE21 -> -32 | AT21: 18 | AU21: 0 | AV21: 0 | AW21: 18 | AX21: =AW21-AO21 -> 0 | AY21: =AW21-$F21 -> 3 | AZ21: =AX21-'0910 Monthly '!AK21 -> -29 | BF21: =BE21-AW21 -> -18 | BG21: =BE21-$F21 -> -15 | BH21: =BF21-'0910 Monthly '!AQ21 -> -47 | BN21: =BM21-BE21 -> 0 | BO21: =BM21-$F21 -> -15 | BP21: =BN21-'0910 Monthly '!AW21 -> -29 | BV21: =BU21-BM21 -> 0 | BW21: =BU21-$F21 -> -15 | BX21: =BV21-'0910 Monthly '!BC21 -> -29 | CD21: =CC21-BU21 -> 0 | CE21: =CC21-$F21 -> -15 | CF21: =CD21-'0910 Monthly '!BI21 -> -29
A22: Tool & Die | B22: 48 | C22: 6 | D22: 10 | E22: 11 | F22: =SUM(C22:E22) -> 27 | H22: 7 | I22: 10 | J22: 11 | K22: =SUM(H22:J22) -> 28 | L22: =K22-F22 -> 1 | M22: =K22-'0910 Monthly '!J22 -> 1 | O22: 8 | P22: 10 | Q22: 11 | R22: 29 | S22: =R22-K22 -> 1 | T22: =R22-'0910 Monthly '!N22 -> 3 | V22: 9 | W22: 10 | X22: 11 | Y22: =SUM(V22:X22) -> 30 | Z22: =Y22-R22 -> 1 | AA22: =Y22-$F22 -> 3 | AB22: =Z22-'0910 Monthly '!S22 -> -24 | AD22: 9 | AE22: 10 | AF22: 10 | AG22: 29 | AH22: =AG22-Y22 -> -1 | AI22: =AG22-$F22 -> 2 | AJ22: =AH22-'0910 Monthly '!Y22 -> -26 | AL22: 9 | AM22: 10 | AN22: 10 | AO22: 29 | AP22: =AO22-AG22 -> 0 | AQ22: =AO22-$F22 -> 2 | AR22: =AP22-'0910 Monthly '!AE22 -> -25 | AT22: 9 | AU22: 10 | AV22: 10 | AW22: 29 | AX22: =AW22-AO22 -> 0 | AY22: =AW22-$F22 -> 2 | AZ22: =AX22-'0910 Monthly '!AK22 -> -25 | BF22: =BE22-AW22 -> -29 | BG22: =BE22-$F22 -> -27 | BH22: =BF22-'0910 Monthly '!AQ22 -> -54 | BN22: =BM22-BE22 -> 0 | BO22: =BM22-$F22 -> -27 | BP22: =BN22-'0910 Monthly '!AW22 -> -25 | BV22: =BU22-BM22 -> 0 | BW22: =BU22-$F22 -> -27 | BX22: =BV22-'0910 Monthly '!BC22 -> -25 | CD22: =CC22-BU22 -> 0 | CE22: =CC22-$F22 -> -27 | CF22: =CD22-'0910 Monthly '!BI22 -> -25
A23: Tourism & Hospitality | B23: 48 | C23: 36 | D23: 0 | E23: 0 | F23: =SUM(C23:E23) -> 36 | H23: 40 | I23: 0 | J23: 0 | K23: =SUM(H23:J23) -> 40 | L23: =K23-F23 -> 4 | M23: =K23-'0910 Monthly '!J23 -> 4 | O23: 38 | P23: 0 | Q23: 0 | R23: 38 | S23: =R23-K23 -> -2 | T23: =R23-'0910 Monthly '!N23 -> 2 | V23: 38 | W23: 0 | X23: 0 | Y23: =SUM(V23:X23) -> 38 | Z23: =Y23-R23 -> 0 | AA23: =Y23-$F23 -> 2 | AB23: =Z23-'0910 Monthly '!S23 -> -35 | AD23: 37 | AE23: 0 | AF23: 0 | AG23: 37 | AH23: =AG23-Y23 -> -1 | AI23: =AG23-$F23 -> 1 | AJ23: =AH23-'0910 Monthly '!Y23 -> -34 | AL23: 37 | AM23: 0 | AN23: 0 | AO23: 37 | AP23: =AO23-AG23 -> 0 | AQ23: =AO23-$F23 -> 1 | AR23: =AP23-'0910 Monthly '!AE23 -> -33 | AT23: 34 | AU23: 0 | AV23: 0 | AW23: 34 | AX23: =AW23-AO23 -> -3 | AY23: =AW23-$F23 -> -2 | AZ23: =AX23-'0910 Monthly '!AK23 -> -35 | BF23: =BE23-AW23 -> -34 | BG23: =BE23-$F23 -> -36 | BH23: =BF23-'0910 Monthly '!AQ23 -> -65 | BN23: =BM23-BE23 -> 0 | BO23: =BM23-$F23 -> -36 | BP23: =BN23-'0910 Monthly '!AW23 -> -31 | BV23: =BU23-BM23 -> 0 | BW23: =BU23-$F23 -> -36 | BX23: =BV23-'0910 Monthly '!BC23 -> -31 | CD23: =CC23-BU23 -> 0 | CE23: =CC23-$F23 -> -36 | CF23: =CD23-'0910 Monthly '!BI23 -> -31
A24: TOTALS | B24: =SUM(B5:B23) -> 1008 | C24: =SUM(C5:C23) -> 352 | D24: =SUM(D5:D23) -> 229 | E24: =SUM(E5:E23) -> 180 | F24: =SUM(F5:F23) -> 761 | H24: =SUM(H5:H23) -> 355 | I24: =SUM(I5:I23) -> 214 | J24: =SUM(J5:J23) -> 172 | K24: =SUM(H24:J24) -> 741 | L24: =K24-F24 -> -20 | M24: =K24-'0910 Monthly '!J24 -> -10 | O24: =SUM(O5:O23) -> 353 | P24: =SUM(P5:P23) -> 208 | Q24: =SUM(Q5:Q23) -> 170 | R24: =SUM(R5:R23) -> 731 | S24: =R24-K24 -> -10 | T24: =R24-'0910 Monthly '!N24 -> -21 | V24: =SUM(V5:V23) -> 355 | W24: =SUM(W5:W23) -> 204 | X24: =SUM(X5:X23) -> 169 | Y24: =SUM(Y5:Y23) -> 728 | Z24: =Y24-R24 -> -3 | AA24: =Y24-$F24 -> -33 | AB24: =Z24-'0910 Monthly '!S24 -> -747 | AD24: =SUM(AD5:AD23) -> 356 | AE24: =SUM(AE5:AE23) -> 203 | AF24: =SUM(AF5:AF23) -> 167 | AG24: =SUM(AG5:AG23) -> 726 | AH24: =AG24-Y24 -> -2 | AI24: =AG24-$F24 -> -35 | AJ24: =AH24-'0910 Monthly '!Y24 -> -736 | AL24: =SUM(AL5:AL23) -> 347 | AM24: =SUM(AM5:AM23) -> 205 | AN24: =SUM(AN5:AN23) -> 171 | AO24: =SUM(AO5:AO23) -> 723 | AP24: =AO24-AG24 -> -3 | AQ24: =AO24-$F24 -> -38 | AR24: =AP24-'0910 Monthly '!AE24 -> -722 | AT24: =SUM(AT5:AT23) -> 342 | AU24: =SUM(AU5:AU23) -> 195 | AV24: =SUM(AV5:AV23) -> 168 | AW24: =SUM(AW5:AW23) -> 705 | AX24: =AW24-AO24 -> -18 | AY24: =AW24-$F24 -> -56 | AZ24: =AX24-'0910 Monthly '!AK24 -> -732 | BB24: =SUM(BB5:BB23) -> 0 | BC24: =SUM(BC5:BC23) -> 0 | BD24: =SUM(BD5:BD23) -> 0 | BE24: =SUM(BE5:BE23) -> 0 | BF24: =BE24-AW24 -> -705 | BG24: =BE24-$F24 -> -761 | BH24: =BF24-'0910 Monthly '!AQ24 -> -1415 | BJ24: =SUM(BJ5:BJ23) -> 0 | BK24: =SUM(BK5:BK23) -> 0 | BL24: =SUM(BL5:BL23) -> 0 | BM24: =SUM(BM5:BM23) -> 0 | BN24: =BM24-BE24 -> 0 | BO24: =BM24-$F24 -> -761 | BP24: =BN24-'0910 Monthly '!AW24 -> -705 | BR24: =SUM(BR5:BR23) -> 0 | BS24: =SUM(BS5:BS23) -> 0 | BT24: =SUM(BT5:BT23) -> 0 | BU24: =SUM(BU5:BU23) -> 0 | BV24: =BU24-BM24 -> 0 | BW24: =BU24-$F24 -> -761 | BX24: =BV24-'0910 Monthly '!BC24 -> -701 | BZ24: 0 | CA24: 0 | CB24: 0 | CD24: =CC24-BU24 -> 0 | CE24: =CC24-$F24 -> -761 | CF24: =CD24-'0910 Monthly '!BI24 -> -698
A25: Date of Report | C25: 40414 | H25: 40436 | O25: Thursday, October 21, 2010 | V25: 40500 | AD25: 40528 | AL25: Friday, January 21, 2011 | AT25: Tuesday, February 15, 2011
A26: School District | C26: Program/Year Level | H26: Program/Year Level | K26: Total | L26: Chg/ Month | M26: Chg/ Year | O26: Program/Year Level | R26: Total | S26: Chg/ Month | T26: Chg/ Year | V26: Program/Year Level | Y26: Total | Z26: Chg/ Month | AA26: Chg/ Sept | AB26: Chg/ Year | AD26: Program/Year Level | AG26: Total | AH26: Chg/ Month | AI26: Chg/ Sept | AJ26: Chg/ Year | AL26: Program/Year Level | AO26: Total | AP26: Chg/ Month | AQ26: Chg/ Sept | AR26: Chg/ Year | AT26: Program/Year Level | AW26: Total | AX26: Chg/ Month | AY26: Chg/ Sept | AZ26: Chg/ Year | BB26: Program/Year Level | BE26: Total | BF26: Chg/ Month | BG26: Chg/ Sept | BH26: Chg/ Year | BJ26: Program/Year Level | BM26: Total | BN26: Chg/ Month | BO26: Chg/ Sept | BP26: Chg/ Year | BR26: Program/Year Level | BU26: Total | BV26: Chg/ Month | BW26: Chg/ Sept | BX26: Chg/ Year | BZ26: Program/Year Level | CC26: Total | CD26: Chg/ Month | CE26: Chg/ Sept | CF26: Chg/ Year
A27: School District | B27: Quota | C27: 1st | D27: 2nd | E27: 3rd | F27: Total | H27: 1st | I27: 2nd | J27: 3rd | K27: Total | O27: 1st | P27: 2nd | Q27: 3rd | R27: Total | V27: 1st | W27: 2nd | X27: 3rd | Y27: Total | AD27: 1st | AE27: 2nd | AF27: 3rd | AG27: Total | AL27: 1st | AM27: 2nd | AN27: 3rd | AO27: Total | AT27: 1st | AU27: 2nd | AV27: 3rd | AW27: Total | BB27: 1st | BC27: 2nd | BD27: 3rd | BE27: Total | BJ27: 1st | BK27: 2nd | BL27: 3rd | BM27: Total | BR27: 1st | BS27: 2nd | BT27: 3rd | BU27: Total | BZ27: 1st | CA27: 2nd | CB27: 3rd | CC27: Total
A28: Fairview | B28: =$B$24*B43 -> 73.158321 | C28: 9 | D28: 11 | E28: 5 | F28: 25 | H28: 13 | I28: 10 | J28: 5 | K28: 28 | L28: =K28-F28 -> 3 | M28: =K28-'0910 Monthly '!J28 -> -1 | O28: 13 | P28: 10 | Q28: 5 | R28: 28 | S28: =R28-K28 -> 0 | T28: =R28-'0910 Monthly '!N28 -> -2 | V28: 13 | W28: 9 | X28: 5 | Y28: 27 | Z28: =Y28-R28 -> -1 | AA28: =Y28-$F28 -> 2 | AB28: =Z28-'0910 Monthly '!S28 -> -31 | AD28: 13 | AE28: 9 | AF28: 5 | AG28: 27 | AH28: =AG28-Y28 -> 0 | AI28: =AG28-$F28 -> 2 | AJ28: =AH28-'0910 Monthly '!Y28 -> -29 | AL28: 13 | AM28: 8 | AN28: 5 | AO28: 26 | AP28: =AO28-AG28 -> -1 | AQ28: =AO28-$F28 -> 1 | AR28: =AP28-'0910 Monthly '!AE28 -> -29 | AT28: 14 | AU28: 8 | AV28: 5 | AW28: 27 | AX28: =AW28-AO28 -> 1 | AY28: =AW28-$F28 -> 2 | AZ28: =AX28-'0910 Monthly '!AK28 -> -26 | BF28: =BE28-AW28 -> -27 | BG28: =BE28-$F28 -> -25 | BH28: =BF28-'0910 Monthly '!AQ28 -> -54 | BN28: =BM28-BE28 -> 0 | BO28: =BM28-$F28 -> -25 | BP28: =BN28-'0910 Monthly '!AW28 -> -27 | BV28: =BU28-BM28 -> 0 | BW28: =BU28-$F28 -> -25 | BX28: =BV28-'0910 Monthly '!BC28 -> -27 | CD28: =CC28-BU28 -> 0 | CE28: =CC28-$F28 -> -25 | CF28: =CD28-'0910 Monthly '!BI28 -> -26
A29: Fort LeBoeuf | B29: =$B$24*B44 -> 86.062595 | C29: 42 | D29: 32 | E29: 24 | F29: 98 | H29: 40 | I29: 29 | J29: 22 | K29: 91 | L29: =K29-F29 -> -7 | M29: =K29-'0910 Monthly '!J29 -> 5 | O29: 38 | P29: 28 | Q29: 22 | R29: 88 | S29: =R29-K29 -> -3 | T29: =R29-'0910 Monthly '!N29 -> 1 | V29: 40 | W29: 27 | X29: 22 | Y29: 89 | Z29: 1 | AA29: =Y29-$F29 -> -9 | AB29: =Z29-'0910 Monthly '!S29 -> -85 | AD29: 41 | AE29: 27 | AF29: 22 | AG29: 90 | AH29: =AG29-Y29 -> 1 | AI29: =AG29-$F29 -> -8 | AJ29: =AH29-'0910 Monthly '!Y29 -> -83 | AL29: 42 | AM29: 26 | AN29: 22 | AO29: 90 | AP29: =AO29-AG29 -> 0 | AQ29: =AO29-$F29 -> -8 | AR29: =AP29-'0910 Monthly '!AE29 -> -81 | AT29: 42 | AU29: 23 | AV29: 22 | AW29: 87 | AX29: =AW29-AO29 -> -3 | AY29: =AW29-$F29 -> -11 | AZ29: =AX29-'0910 Monthly '!AK29 -> -83 | BF29: =BE29-AW29 -> -87 | BG29: =BE29-$F29 -> -98 | BH29: =BF29-'0910 Monthly '!AQ29 -> -166 | BN29: =BM29-BE29 -> 0 | BO29: =BM29-$F29 -> -98 | BP29: =BN29-'0910 Monthly '!AW29 -> -78 | BV29: =BU29-BM29 -> 0 | BW29: =BU29-$F29 -> -98 | BX29: =BV29-'0910 Monthly '!BC29 -> -78 | CD29: =CC29-BU29 -> 0 | CE29: =CC29-$F29 -> -98 | CF29: =CD29-'0910 Monthly '!BI29 -> -78
A30: General McLane | B30: =$B$24*B45 -> 93.30237 | C30: 33 | D30: 13 | E30: 10 | F30: 56 | H30: 33 | I30: 13 | J30: 11 | K30: 57 | L30: =K30-F30 -> 1 | M30: =K30-'0910 Monthly '!J30 -> 1 | O30: 35 | P30: 13 | Q30: 10 | R30: 58 | S30: =R30-K30 -> 1 | T30: =R30-'0910 Monthly '!N30 -> 3 | V30: 34 | W30: 13 | X30: 10 | Y30: 57 | Z30: =Y30-R30 -> -1 | AA30: =Y30-$F30 -> 1 | AB30: =Z30-'0910 Monthly '!S30 -> -56 | AD30: 33 | AE30: 13 | AF30: 9 | AG30: 55 | AH30: =AG30-Y30 -> -2 | AI30: =AG30-$F30 -> -1 | AJ30: =AH30-'0910 Monthly '!Y30 -> -57 | AL30: 33 | AM30: 14 | AN30: 9 | AO30: 56 | AP30: =AO30-AG30 -> 1 | AQ30: =AO30-$F30 -> 0 | AR30: =AP30-'0910 Monthly '!AE30 -> -55 | AT30: 32 | AU30: 14 | AV30: 8 | AW30: 54 | AX30: =AW30-AO30 -> -2 | AY30: =AW30-$F30 -> -2 | AZ30: =AX30-'0910 Monthly '!AK30 -> -56 | BF30: =BE30-AW30 -> -54 | BG30: =BE30-$F30 -> -56 | BH30: =BF30-'0910 Monthly '!AQ30 -> -108 | BN30: =BM30-BE30 -> 0 | BO30: =BM30-$F30 -> -56 | BP30: =BN30-'0910 Monthly '!AW30 -> -50 | BV30: =BU30-BM30 -> 0 | BW30: =BU30-$F30 -> -56 | BX30: =BV30-'0910 Monthly '!BC30 -> -50 | CD30: =CC30-BU30 -> 0 | CE30: =CC30-$F30 -> -56 | CF30: =CD30-'0910 Monthly '!BI30 -> -50
A31: Girard | B31: =$B$24*B46 -> 77.925959 | C31: 30 | D31: 21 | E31: 21 | F31: 72 | H31: 29 | I31: 20 | J31: 19 | K31: 68 | L31: =K31-F31 -> -4 | M31: =K31-'0910 Monthly '!J31 -> -4 | O31: 28 | P31: 19 | Q31: 19 | R31: 66 | S31: =R31-K31 -> -2 | T31: =R31-'0910 Monthly '!N31 -> -3 | V31: 29 | W31: 18 | X31: 19 | Y31: 66 | Z31: =Y31-R31 -> 0 | AA31: =Y31-$F31 -> -6 | AB31: =Z31-'0910 Monthly '!S31 -> -67 | AD31: 29 | AE31: 18 | AF31: 19 | AG31: 66 | AH31: =AG31-Y31 -> 0 | AI31: =AG31-$F31 -> -6 | AJ31: =AH31-'0910 Monthly '!Y31 -> -67 | AL31: 26 | AM31: 18 | AN31: 22 | AO31: 66 | AP31: =AO31-AG31 -> 0 | AQ31: =AO31-$F31 -> -6 | AR31: =AP31-'0910 Monthly '!AE31 -> -68 | AT31: 24 | AU31: 15 | AV31: 20 | AW31: 59 | AX31: =AW31-AO31 -> -7 | AY31: =AW31-$F31 -> -13 | AZ31: =AX31-'0910 Monthly '!AK31 -> -76 | BF31: =BE31-AW31 -> -59 | BG31: =BE31-$F31 -> -72 | BH31: =BF31-'0910 Monthly '!AQ31 -> -128 | BN31: =BM31-BE31 -> 0 | BO31: =BM31-$F31 -> -72 | BP31: =BN31-'0910 Monthly '!AW31 -> -69 | BV31: =BU31-BM31 -> 0 | BW31: =BU31-$F31 -> -72 | BX31: =BV31-'0910 Monthly '!BC31 -> -69 | CD31: =CC31-BU31 -> 0 | CE31: =CC31-$F31 -> -72 | CF31: =CD31-'0910 Monthly '!BI31 -> -69
A32: Harbor Creek | B32: =$B$24*B47 -> 79.14312 | C32: 34 | D32: 9 | E32: 16 | F32: 59 | H32: 36 | I32: 10 | J32: 16 | K32: 62 | L32: =K32-F32 -> 3 | M32: =K32-'0910 Monthly '!J32 -> 4 | O32: 35 | P32: 10 | Q32: 15 | R32: 60 | S32: =R32-K32 -> -2 | T32: =R32-'0910 Monthly '!N32 -> 3 | V32: 35 | W32: 10 | X32: 15 | Y32: 60 | Z32: =Y32-R32 -> 0 | AA32: =Y32-$F32 -> 1 | AB32: =Z32-'0910 Monthly '!S32 -> -57 | AD32: 36 | AE32: 10 | AF32: 15 | AG32: 61 | AH32: =AG32-Y32 -> 1 | AI32: =AG32-$F32 -> 2 | AJ32: =AH32-'0910 Monthly '!Y32 -> -56 | AL32: 35 | AM32: 10 | AN32: 15 | AO32: 60 | AP32: =AO32-AG32 -> -1 | AQ32: =AO32-$F32 -> 1 | AR32: =AP32-'0910 Monthly '!AE32 -> -56 | AT32: 35 | AU32: 10 | AV32: 15 | AW32: 60 | AX32: =AW32-AO32 -> 0 | AY32: =AW32-$F32 -> 1 | AZ32: =AX32-'0910 Monthly '!AK32 -> -57 | BF32: =BE32-AW32 -> -60 | BG32: =BE32-$F32 -> -59 | BH32: =BF32-'0910 Monthly '!AQ32 -> -115 | BN32: =BM32-BE32 -> 0 | BO32: =BM32-$F32 -> -59 | BP32: =BN32-'0910 Monthly '!AW32 -> -56 | BV32: =BU32-BM32 -> 0 | BW32: =BU32-$F32 -> -59 | BX32: =BV32-'0910 Monthly '!BC32 -> -54 | CD32: =CC32-BU32 -> 0 | CE32: =CC32-$F32 -> -59 | CF32: =CD32-'0910 Monthly '!BI32 -> -54
A33: Iroquois | B33: =$B$24*B48 -> 51.145988 | C33: 13 | D33: 6 | E33: 5 | F33: 24 | H33: 15 | I33: 6 | J33: 4 | K33: 25 | L33: =K33-F33 -> 1 | M33: =K33-'0910 Monthly '!J33 -> 0 | O33: 14 | P33: 6 | Q33: 4 | R33: 24 | S33: =R33-K33 -> -1 | T33: =R33-'0910 Monthly '!N33 -> 1 | V33: 14 | W33: 6 | X33: 4 | Y33: 24 | Z33: =Y33-R33 -> 0 | AA33: =Y33-$F33 -> 0 | AB33: =Z33-'0910 Monthly '!S33 -> -21 | AD33: 14 | AE33: 6 | AF33: 4 | AG33: 24 | AH33: =AG33-Y33 -> 0 | AI33: =AG33-$F33 -> 0 | AJ33: =AH33-'0910 Monthly '!Y33 -> -21 | AL33: 14 | AM33: 6 | AN33: 4 | AO33: 24 | AP33: =AO33-AG33 -> 0 | AQ33: =AO33-$F33 -> 0 | AR33: =AP33-'0910 Monthly '!AE33 -> -21 | AT33: 14 | AU33: 6 | AV33: 4 | AW33: 24 | AX33: =AW33-AO33 -> 0 | AY33: =AW33-$F33 -> 0 | AZ33: =AX33-'0910 Monthly '!AK33 -> -21 | BF33: =BE33-AW33 -> -24 | BG33: =BE33-$F33 -> -24 | BH33: =BF33-'0910 Monthly '!AQ33 -> -45 | BN33: =BM33-BE33 -> 0 | BO33: =BM33-$F33 -> -24 | BP33: =BN33-'0910 Monthly '!AW33 -> -21 | BV33: =BU33-BM33 -> 0 | BW33: =BU33-$F33 -> -24 | BX33: =BV33-'0910 Monthly '!BC33 -> -20 | CD33: =CC33-BU33 -> 0 | CE33: =CC33-$F33 -> -24 | CF33: =CD33-'0910 Monthly '!BI33 -> -20
A34: Millcreek | B34: =$B$24*B49 -> 296.31921 | C34: 60 | D34: 62 | E34: 43 | F34: 165 | H34: 52 | I34: 58 | J34: 41 | K34: 151 | L34: =K34-F34 -> -14 | M34: =K34-'0910 Monthly '!J34 -> -40 | O34: 53 | P34: 56 | Q34: 41 | R34: 150 | S34: =R34-K34 -> -1 | T34: =R34-'0910 Monthly '!N34 -> -41 | V34: 51 | W34: 54 | X34: 40 | Y34: 145 | Z34: =Y34-R34 -> -5 | AA34: =Y34-$F34 -> -20 | AB34: =Z34-'0910 Monthly '!S34 -> -195 | AD34: 51 | AE34: 53 | AF34: 39 | AG34: 143 | AH34: =AG34-Y34 -> -2 | AI34: =AG34-$F34 -> -22 | AJ34: =AH34-'0910 Monthly '!Y34 -> -187 | AL34: 50 | AM34: 53 | AN34: 40 | AO34: 143 | AP34: =AO34-AG34 -> 0 | AQ34: =AO34-$F34 -> -22 | AR34: =AP34-'0910 Monthly '!AE34 -> -176 | AT34: 51 | AU34: 51 | AV34: 40 | AW34: 142 | AX34: =AW34-AO34 -> -1 | AY34: =AW34-$F34 -> -23 | AZ34: =AX34-'0910 Monthly '!AK34 -> -177 | BF34: =BE34-AW34 -> -142 | BG34: =BE34-$F34 -> -165 | BH34: =BF34-'0910 Monthly '!AQ34 -> -318 | BN34: =BM34-BE34 -> 0 | BO34: =BM34-$F34 -> -165 | BP34: =BN34-'0910 Monthly '!AW34 -> -175 | BV34: =BU34-BM34 -> 0 | BW34: =BU34-$F34 -> -165 | BX34: =BV34-'0910 Monthly '!BC34 -> -174 | CD34: =CC34-BU34 -> 0 | CE34: =CC34-$F34 -> -165 | CF34: =CD34-'0910 Monthly '!BI34 -> -173
A35: North East | B35: =$B$24*B50 -> 75.171167 | C35: 38 | D35: 21 | E35: 12 | F35: 71 | H35: 41 | I35: 21 | J35: 12 | K35: 74 | L35: =K35-F35 -> 3 | M35: =K35-'0910 Monthly '!J35 -> 4 | O35: 43 | P35: 21 | Q35: 12 | R35: 76 | S35: =R35-K35 -> 2 | T35: =R35-'0910 Monthly '!N35 -> 2 | V35: 45 | W35: 21 | X35: 12 | Y35: 78 | Z35: =Y35-R35 -> 2 | AA35: =Y35-$F35 -> 7 | AB35: =Z35-'0910 Monthly '!S35 -> -71 | AD35: 46 | AE35: 21 | AF35: 12 | AG35: 79 | AH35: =AG35-Y35 -> 1 | AI35: =AG35-$F35 -> 8 | AJ35: =AH35-'0910 Monthly '!Y35 -> -72 | AL35: 43 | AM35: 24 | AN35: 12 | AO35: 79 | AP35: =AO35-AG35 -> 0 | AQ35: =AO35-$F35 -> 8 | AR35: =AP35-'0910 Monthly '!AE35 -> -73 | AT35: 39 | AU35: 24 | AV35: 12 | AW35: 75 | AX35: =AW35-AO35 -> -4 | AY35: =AW35-$F35 -> 4 | AZ35: =AX35-'0910 Monthly '!AK35 -> -70 | BF35: =BE35-AW35 -> -75 | BG35: =BE35-$F35 -> -71 | BH35: =BF35-'0910 Monthly '!AQ35 -> -140 | BN35: =BM35-BE35 -> 0 | BO35: =BM35-$F35 -> -71 | BP35: =BN35-'0910 Monthly '!AW35 -> -67 | BV35: =BU35-BM35 -> 0 | BW35: =BU35-$F35 -> -71 | BX35: =BV35-'0910 Monthly '!BC35 -> -67 | CD35: =CC35-BU35 -> 0 | CE35: =CC35-$F35 -> -71 | CF35: =CD35-'0910 Monthly '!BI35 -> -66
A36: Northwestern | B36: =$B$24*B51 -> 69.359123 | C36: 37 | D36: 18 | E36: 11 | F36: 66 | H36: 40 | I36: 17 | J36: 11 | K36: 68 | L36: =K36-F36 -> 2 | M36: =K36-'0910 Monthly '!J36 -> 8 | O36: 41 | P36: 15 | Q36: 11 | R36: 67 | S36: =R36-K36 -> -1 | T36: =R36-'0910 Monthly '!N36 -> 6 | V36: 41 | W36: 17 | X36: 11 | Y36: 69 | Z36: =Y36-R36 -> 2 | AA36: =Y36-$F36 -> 3 | AB36: =Z36-'0910 Monthly '!S36 -> -58 | AD36: 42 | AE36: 17 | AF36: 11 | AG36: 70 | AH36: =AG36-Y36 -> 1 | AI36: =AG36-$F36 -> 4 | AJ36: =AH36-'0910 Monthly '!Y36 -> -58 | AL36: 41 | AM36: 18 | AN36: 11 | AO36: 70 | AP36: =AO36-AG36 -> 0 | AQ36: =AO36-$F36 -> 4 | AR36: =AP36-'0910 Monthly '!AE36 -> -61 | AT36: 41 | AU36: 17 | AV36: 11 | AW36: 69 | AX36: =AW36-AO36 -> -1 | AY36: =AW36-$F36 -> 3 | AZ36: =AX36-'0910 Monthly '!AK36 -> -60 | BF36: =BE36-AW36 -> -69 | BG36: =BE36-$F36 -> -66 | BH36: =BF36-'0910 Monthly '!AQ36 -> -129 | BN36: =BM36-BE36 -> 0 | BO36: =BM36-$F36 -> -66 | BP36: =BN36-'0910 Monthly '!AW36 -> -60 | BV36: =BU36-BM36 -> 0 | BW36: =BU36-$F36 -> -66 | BX36: =BV36-'0910 Monthly '!BC36 -> -60 | CD36: =CC36-BU36 -> 0 | CE36: =CC36-$F36 -> -66 | CF36: =CD36-'0910 Monthly '!BI36 -> -60
A37: Union City | B37: =$B$24*B52 -> 46.710468 | C37: 22 | D37: 12 | E37: 12 | F37: 46 | H37: 27 | I37: 11 | J37: 11 | K37: 49 | L37: =K37-F37 -> 3 | M37: =K37-'0910 Monthly '!J37 -> 12 | O37: 26 | P37: 12 | Q37: 11 | R37: 49 | S37: =R37-K37 -> 0 | T37: =R37-'0910 Monthly '!N37 -> 12 | V37: 26 | W37: 12 | X37: 11 | Y37: 49 | Z37: =Y37-R37 -> 0 | AA37: =Y37-$F37 -> 3 | AB37: =Z37-'0910 Monthly '!S37 -> -37 | AD37: 25 | AE37: 12 | AF37: 11 | AG37: 48 | AH37: =AG37-Y37 -> -1 | AI37: =AG37-$F37 -> 2 | AJ37: =AH37-'0910 Monthly '!Y37 -> -38 | AL37: 25 | AM37: 12 | AN37: 11 | AO37: 48 | AP37: =AO37-AG37 -> 0 | AQ37: =AO37-$F37 -> 2 | AR37: =AP37-'0910 Monthly '!AE37 -> -33 | AT37: 23 | AU37: 11 | AV37: 11 | AW37: 45 | AX37: =AW37-AO37 -> -3 | AY37: =AW37-$F37 -> -1 | AZ37: =AX37-'0910 Monthly '!AK37 -> -36 | BF37: =BE37-AW37 -> -45 | BG37: =BE37-$F37 -> -46 | BH37: =BF37-'0910 Monthly '!AQ37 -> -77 | BN37: =BM37-BE37 -> 0 | BO37: =BM37-$F37 -> -46 | BP37: =BN37-'0910 Monthly '!AW37 -> -32 | BV37: =BU37-BM37 -> 0 | BW37: =BU37-$F37 -> -46 | BX37: =BV37-'0910 Monthly '!BC37 -> -32 | CD37: =CC37-BU37 -> 0 | CE37: =CC37-$F37 -> -46 | CF37: =CD37-'0910 Monthly '!BI37 -> -32
A38: Wattsburg | B38: =$B$24*B53 -> 59.701682 | C38: 34 | D38: 24 | E38: 21 | F38: 79 | H38: 29 | I38: 19 | J38: 20 | K38: 68 | L38: =K38-F38 -> -11 | M38: =K38-'0910 Monthly '!J38 -> 1 | O38: 27 | P38: 18 | Q38: 20 | R38: 65 | S38: =R38-K38 -> -3 | T38: =R38-'0910 Monthly '!N38 -> -3 | V38: 27 | W38: 17 | X38: 20 | Y38: 64 | Z38: =Y38-R38 -> -1 | AA38: =Y38-$F38 -> -15 | AB38: =Z38-'0910 Monthly '!S38 -> -69 | AD38: 26 | AE38: 17 | AF38: 20 | AG38: 63 | AH38: =AG38-Y38 -> -1 | AI38: =AG38-$F38 -> -16 | AJ38: =AH38-'0910 Monthly '!Y38 -> -68 | AL38: 25 | AM38: 16 | AN38: 20 | AO38: 61 | AP38: =AO38-AG38 -> -2 | AQ38: =AO38-$F38 -> -18 | AR38: =AP38-'0910 Monthly '!AE38 -> -69 | AT38: 27 | AU38: 16 | AV38: 20 | AW38: 63 | AX38: =AW38-AO38 -> 2 | AY38: =AW38-$F38 -> -16 | AZ38: =AX38-'0910 Monthly '!AK38 -> -70 | BF38: =BE38-AW38 -> -63 | BG38: =BE38-$F38 -> -79 | BH38: =BF38-'0910 Monthly '!AQ38 -> -135 | BN38: =BM38-BE38 -> 0 | BO38: =BM38-$F38 -> -79 | BP38: =BN38-'0910 Monthly '!AW38 -> -70 | BV38: =BU38-BM38 -> 0 | BW38: =BU38-$F38 -> -79 | BX38: =BV38-'0910 Monthly '!BC38 -> -70 | CD38: =CC38-BU38 -> 0 | CE38: =CC38-$F38 -> -79 | CF38: =CD38-'0910 Monthly '!BI38 -> -70
A39: Totals | B39: =SUM(B28:B38) -> 1008 | C39: 352 | D39: 229 | E39: 180 | F39: 761 | H39: =SUM(H28:H38) -> 355 | I39: =SUM(I28:I38) -> 214 | J39: =SUM(J28:J38) -> 172 | K39: =SUM(K28:K38) -> 741 | L39: =K39-F39 -> -20 | M39: =K39-'0910 Monthly '!J39 -> -10 | O39: 353 | P39: 208 | Q39: 170 | R39: 731 | S39: 0 | T39: =R39-'0910 Monthly '!N39 -> -21 | V39: =SUM(V28:V38) -> 355 | W39: =SUM(W28:W38) -> 204 | X39: =SUM(X28:X38) -> 169 | Y39: =SUM(Y28:Y38) -> 728 | Z39: =Y39-R39 -> -3 | AA39: =Y39-$F39 -> -33 | AB39: =Z39-'0910 Monthly '!S39 -> -747 | AD39: =SUM(AD28:AD38) -> 356 | AE39: =SUM(AE28:AE38) -> 203 | AF39: =SUM(AF28:AF38) -> 167 | AG39: =SUM(AG28:AG38) -> 726 | AH39: =AG39-Y39 -> -2 | AI39: =AG39-$F39 -> -35 | AJ39: =AH39-'0910 Monthly '!Y39 -> -736 | AL39: =SUM(AL28:AL38) -> 347 | AM39: =SUM(AM28:AM38) -> 205 | AN39: =SUM(AN28:AN38) -> 171 | AO39: =SUM(AO28:AO38) -> 723 | AP39: =AO39-AG39 -> -3 | AQ39: =AO39-$F39 -> -38 | AR39: =AP39-'0910 Monthly '!AE39 -> -722 | AT39: =SUM(AT28:AT38) -> 342 | AU39: =SUM(AU28:AU38) -> 195 | AV39: =SUM(AV28:AV38) -> 168 | AW39: =SUM(AW28:AW38) -> 705 | AX39: =AW39-AO39 -> -18 | AY39: =AW39-$F39 -> -56 | AZ39: =AX39-'0910 Monthly '!AK39 -> -732 | BB39: =SUM(BB28:BB38) -> 0 | BC39: =SUM(BC28:BC38) -> 0 | BD39: =SUM(BD28:BD38) -> 0 | BE39: =SUM(BE28:BE38) -> 0 | BF39: =BE39-AW39 -> -705 | BG39: =BE39-$F39 -> -761 | BH39: =BF39-'0910 Monthly '!AQ39 -> -1415 | BJ39: =SUM(BJ28:BJ38) -> 0 | BK39: =SUM(BK28:BK38) -> 0 | BL39: =SUM(BL28:BL38) -> 0 | BM39: =SUM(BM28:BM38) -> 0 | BN39: =BM39-BE39 -> 0 | BO39: =BM39-$F39 -> -761 | BP39: =BN39-'0910 Monthly '!AW39 -> -705 | BR39: =SUM(BR28:BR38) -> 0 | BS39: =SUM(BS28:BS38) -> 0 | BT39: =SUM(BT28:BT38) -> 0 | BU39: =SUM(BU28:BU38) -> 0 | BV39: =BU39-BM39 -> 0 | BW39: =BU39-$F39 -> -761 | BX39: =BV39-'0910 Monthly '!BC39 -> -701 | BZ39: =SUM(BZ28:BZ38) -> 0 | CA39: =SUM(CA28:CA38) -> 0 | CB39: =SUM(CB28:CB38) -> 0 | CC39: =SUM(CC28:CC38) -> 0 | CD39: =CC39-BU39 -> 0 | CE39: =CC39-$F39 -> -761 | CF39: =CD39-'0910 Monthly '!BI39 -> -698
A42: Quota Percentage
A43: Fairview | B43: 0.072577699
A44: Fort LeBoeuf | B44: 0.085379559
A45: General McLane | B45: 0.092561875
A46: Girard | B46: 0.077307499
A47: Harbor Creek | B47: 0.078515
A48: Iroquois | B48: 0.050740068
A49: Millcreek | B49: 0.29396747
A50: North East | B50: 0.074574571
A51: Northwestern | B51: 0.068808654
A52: Union City | B52: 0.04633975
A53: Wattsburg | B53: 0.059227859
B54: =SUM(B43:B53) -> 1

Sheet 0910 Monthly 
C2: August 2009 | G2: September 2009 | K2: October 2009 | P2: November 2009 | V2: December 2009 | AB2: January 2010 | AH2: February 2010 | AN2: March 2010 | AT2: April 2010 | AZ2: May 2010 | BF2: June 2010
A3: Program | C3: Program/Year Level | F3: Total | G3: Program/Year Level | J3: Total | K3: Program/Year Level | N3: Total | O3: Chg/ Month | P3: Program/Year Level | S3: Total | T3: Chg/ Month | U3: Chg/ Sept | V3: Program/Year Level | Y3: Total | Z3: Chg/ Month | AA3: Chg/ Sept | AB3: Program/Year Level | AE3: Total | AF3: Chg/ Month | AG3: Chg/ Sept | AH3: Program/Year Level | AK3: Total | AL3: Chg/ Month | AM3: Chg/ Sept | AN3: Program/Year Level | AQ3: Total | AR3: Chg/ Month | AS3: Chg/ Sept | AT3: Program/Year Level | AW3: Total | AX3: Chg/ Month | AY3: Chg/ Sept | AZ3: Program/Year Level | BC3: Total | BD3: Chg/ Month | BE3: Chg/ Sept | BF3: Program/Year Level | BI3: Total | BJ3: Chg/ Month | BK3: Chg/ Sept
B4: Capacity | C4: 1st | D4: 2nd | E4: 3rd | F4: Total | G4: 1st | H4: 2nd | I4: 3rd | J4: Total | K4: 1st | L4: 2nd | M4: 3rd | N4: Total | P4: 1st | Q4: 2nd | R4: 3rd | S4: Total | V4: 1st | W4: 2nd | X4: 3rd | Y4: Total | AB4: 1st | AC4: 2nd | AD4: 3rd | AE4: Total | AH4: 1st | AI4: 2nd | AJ4: 3rd | AK4: Total | AN4: 1st | AO4: 2nd | AP4: 3rd | AQ4: Total | AT4: 1st | AU4: 2nd | AV4: 3rd | AW4: Total | AZ4: 1st | BA4: 2nd | BB4: 3rd | BC4: Total | BF4: 1st | BG4: 2nd | BH4: 3rd | BI4: Total
A5: Art & Design | B5: 48 | C5: 17 | D5: 19 | E5: 8 | F5: 44 | G5: 19 | H5: 19 | I5: 8 | J5: 46 | K5: 19 | L5: 19 | M5: 8 | N5: 46 | O5: =N5-J5 -> 0 | P5: 19 | Q5: 19 | R5: 8 | S5: =SUM(P5:R5) -> 46 | T5: =S5-N5 -> 0 | U5: =S5-$F5 -> 2 | V5: 19 | W5: 19 | X5: 8 | Y5: =SUM(V5:X5) -> 46 | Z5: =Y5-S5 -> 0 | AA5: =Y5-$F5 -> 2 | AB5: 13 | AC5: 21 | AD5: 8 | AE5: =SUM(AB5:AD5) -> 42 | AF5: =AE5-Y5 -> -4 | AG5: =AE5-$F5 -> -2 | AH5: 13 | AI5: 20 | AJ5: 8 | AK5: =SUM(AH5:AJ5) -> 41 | AL5: =AK5-AE5 -> -1 | AM5: =AK5-$F5 -> -3 | AN5: 13 | AO5: 19 | AP5: 8 | AQ5: =SUM(AN5:AP5) -> 40 | AR5: =AQ5-AK5 -> -1 | AS5: =AQ5-$F5 -> -4 | AT5: 13 | AU5: 19 | AV5: 8 | AW5: =SUM(AT5:AV5) -> 40 | AX5: =AW5-AQ5 -> 0 | AY5: =AW5-$F5 -> -4 | AZ5: 13 | BA5: 19 | BB5: 8 | BC5: =SUM(AZ5:BB5) -> 40 | BD5: =BC5-AW5 -> 0 | BE5: =BC5-$F5 -> -4 | BF5: 13 | BG5: 18 | BH5: 8 | BI5: =SUM(BF5:BH5) -> 39 | BJ5: =BI5-BC5 -> -1 | BK5: =BI5-$F5 -> -5
A6: Auto Body | B6: 48 | C6: 13 | D6: 8 | E6: 10 | F6: 31 | G6: 12 | H6: 5 | I6: 10 | J6: 27 | K6: 10 | L6: 5 | M6: 10 | N6: 25 | O6: =N6-J6 -> -2 | P6: 10 | Q6: 5 | R6: 10 | S6: =SUM(P6:R6) -> 25 | T6: =S6-N6 -> 0 | U6: =S6-$F6 -> -6 | V6: 10 | W6: 5 | X6: 9 | Y6: =SUM(V6:X6) -> 24 | Z6: =Y6-S6 -> -1 | AA6: =Y6-$F6 -> -7 | AB6: 7 | AC6: 5 | AD6: 8 | AE6: =SUM(AB6:AD6) -> 20 | AF6: =AE6-Y6 -> -4 | AG6: =AE6-$F6 -> -11 | AH6: 7 | AI6: 5 | AJ6: 8 | AK6: =SUM(AH6:AJ6) -> 20 | AL6: =AK6-AE6 -> 0 | AM6: =AK6-$F6 -> -11 | AN6: 7 | AO6: 5 | AP6: 8 | AQ6: =SUM(AN6:AP6) -> 20 | AR6: =AQ6-AK6 -> 0 | AS6: =AQ6-$F6 -> -11 | AT6: 7 | AU6: 5 | AV6: 8 | AW6: =SUM(AT6:AV6) -> 20 | AX6: =AW6-AQ6 -> 0 | AY6: =AW6-$F6 -> -11 | AZ6: 7 | BA6: 5 | BB6: 8 | BC6: =SUM(AZ6:BB6) -> 20 | BD6: =BC6-AW6 -> 0 | BE6: =BC6-$F6 -> -11 | BF6: 7 | BG6: 5 | BH6: 8 | BI6: =SUM(BF6:BH6) -> 20 | BJ6: =BI6-BC6 -> 0 | BK6: =BI6-$F6 -> -11
A7: Automotive Technologies | B7: 96 | C7: 23 | D7: 22 | E7: 15 | F7: 60 | G7: 23 | H7: 21 | I7: 14 | J7: 58 | K7: 34 | L7: 20 | M7: 14 | N7: 68 | O7: =N7-J7 -> 10 | P7: 33 | Q7: 20 | R7: 14 | S7: =SUM(P7:R7) -> 67 | T7: =S7-N7 -> -1 | U7: =S7-$F7 -> 7 | V7: 31 | W7: 20 | X7: 14 | Y7: =SUM(V7:X7) -> 65 | Z7: =Y7-S7 -> -2 | AA7: =Y7-$F7 -> 5 | AB7: 29 | AC7: 21 | AD7: 13 | AE7: =SUM(AB7:AD7) -> 63 | AF7: =AE7-Y7 -> -2 | AG7: =AE7-$F7 -> 3 | AH7: 29 | AI7: 21 | AJ7: 12 | AK7: =SUM(AH7:AJ7) -> 62 | AL7: =AK7-AE7 -> -1 | AM7: =AK7-$F7 -> 2 | AN7: 29 | AO7: 21 | AP7: 12 | AQ7: =SUM(AN7:AP7) -> 62 | AR7: =AQ7-AK7 -> 0 | AS7: =AQ7-$F7 -> 2 | AT7: 30 | AU7: 21 | AV7: 12 | AW7: =SUM(AT7:AV7) -> 63 | AX7: =AW7-AQ7 -> 1 | AY7: =AW7-$F7 -> 3 | AZ7: 29 | BA7: 21 | BB7: 12 | BC7: =SUM(AZ7:BB7) -> 62 | BD7: =BC7-AW7 -> -1 | BE7: =BC7-$F7 -> 2 | BF7: 29 | BG7: 21 | BH7: 12 | BI7: =SUM(BF7:BH7) -> 62 | BJ7: =BI7-BC7 -> 0 | BK7: =BI7-$F7 -> 2
A8: Computer Info. Systems | B8: 48 | C8: 21 | D8: 10 | E8: 9 | F8: 40 | G8: 18 | H8: 10 | I8: 9 | J8: 37 | K8: 18 | L8: 10 | M8: 9 | N8: 37 | O8: =N8-J8 -> 0 | P8: 18 | Q8: 10 | R8: 9 | S8: =SUM(P8:R8) -> 37 | T8: =S8-N8 -> 0 | U8: =S8-$F8 -> -3 | V8: 18 | W8: 10 | X8: 9 | Y8: =SUM(V8:X8) -> 37 | Z8: =Y8-S8 -> 0 | AA8: =Y8-$F8 -> -3 | AB8: 17 | AC8: 11 | AD8: 9 | AE8: =SUM(AB8:AD8) -> 37 | AF8: =AE8-Y8 -> 0 | AG8: =AE8-$F8 -> -3 | AH8: 17 | AI8: 11 | AJ8: 9 | AK8: =SUM(AH8:AJ8) -> 37 | AL8: =AK8-AE8 -> 0 | AM8: =AK8-$F8 -> -3 | AN8: 17 | AO8: 10 | AP8: 9 | AQ8: =SUM(AN8:AP8) -> 36 | AR8: =AQ8-AK8 -> -1 | AS8: =AQ8-$F8 -> -4 | AT8: 17 | AU8: 10 | AV8: 9 | AW8: =SUM(AT8:AV8) -> 36 | AX8: =AW8-AQ8 -> 0 | AY8: =AW8-$F8 -> -4 | AZ8: 17 | BA8: 9 | BB8: 9 | BC8: =SUM(AZ8:BB8) -> 35 | BD8: =BC8-AW8 -> -1 | BE8: =BC8-$F8 -> -5 | BF8: 17 | BG8: 9 | BH8: 9 | BI8: =SUM(BF8:BH8) -> 35 | BJ8: =BI8-BC8 -> 0 | BK8: =BI8-$F8 -> -5
A9: Construction Trades | B9: 96 | C9: 30 | D9: 27 | E9: 13 | F9: 70 | G9: 25 | H9: 27 | I9: 11 | J9: 63 | K9: 22 | L9: 26 | M9: 11 | N9: 59 | O9: =N9-J9 -> -4 | P9: 22 | Q9: 26 | R9: 11 | S9: =SUM(P9:R9) -> 59 | T9: =S9-N9 -> 0 | U9: =S9-$F9 -> -11 | V9: 22 | W9: 25 | X9: 11 | Y9: =SUM(V9:X9) -> 58 | Z9: =Y9-S9 -> -1 | AA9: =Y9-$F9 -> -12 | AB9: 18 | AC9: 28 | AD9: 9 | AE9: =SUM(AB9:AD9) -> 55 | AF9: =AE9-Y9 -> -3 | AG9: =AE9-$F9 -> -15 | AH9: 18 | AI9: 28 | AJ9: 9 | AK9: =SUM(AH9:AJ9) -> 55 | AL9: =AK9-AE9 -> 0 | AM9: =AK9-$F9 -> -15 | AN9: 17 | AO9: 28 | AP9: 9 | AQ9: =SUM(AN9:AP9) -> 54 | AR9: =AQ9-AK9 -> -1 | AS9: =AQ9-$F9 -> -16 | AT9: 18 | AU9: 28 | AV9: 9 | AW9: =SUM(AT9:AV9) -> 55 | AX9: =AW9-AQ9 -> 1 | AY9: =AW9-$F9 -> -15 | AZ9: 18 | BA9: 27 | BB9: 9 | BC9: =SUM(AZ9:BB9) -> 54 | BD9: =BC9-AW9 -> -1 | BE9: =BC9-$F9 -> -16 | BF9: 18 | BG9: 27 | BH9: 9 | BI9: =SUM(BF9:BH9) -> 54 | BJ9: =BI9-BC9 -> 0 | BK9: =BI9-$F9 -> -16
A10: Cosmetology | B10: 48 | C10: 14 | D10: 14 | E10: 18 | F10: 46 | G10: 15 | H10: 15 | I10: 18 | J10: 48 | K10: 15 | L10: 15 | M10: 18 | N10: 48 | O10: =N10-J10 -> 0 | P10: 15 | Q10: 15 | R10: 18 | S10: =SUM(P10:R10) -> 48 | T10: =S10-N10 -> 0 | U10: =S10-$F10 -> 2 | V10: 15 | W10: 15 | X10: 18 | Y10: =SUM(V10:X10) -> 48 | Z10: =Y10-S10 -> 0 | AA10: =Y10-$F10 -> 2 | AB10: 15 | AC10: 15 | AD10: 17 | AE10: =SUM(AB10:AD10) -> 47 | AF10: =AE10-Y10 -> -1 | AG10: =AE10-$F10 -> 1 | AH10: 15 | AI10: 15 | AJ10: 17 | AK10: =SUM(AH10:AJ10) -> 47 | AL10: =AK10-AE10 -> 0 | AM10: =AK10-$F10 -> 1 | AN10: 15 | AO10: 15 | AP10: 17 | AQ10: =SUM(AN10:AP10) -> 47 | AR10: =AQ10-AK10 -> 0 | AS10: =AQ10-$F10 -> 1 | AT10: 15 | AU10: 13 | AV10: 16 | AW10: =SUM(AT10:AV10) -> 44 | AX10: =AW10-AQ10 -> -3 | AY10: =AW10-$F10 -> -2 | AZ10: 15 | BA10: 13 | BB10: 16 | BC10: =SUM(AZ10:BB10) -> 44 | BD10: =BC10-AW10 -> 0 | BE10: =BC10-$F10 -> -2 | BF10: 15 | BG10: 13 | BH10: 16 | BI10: =SUM(BF10:BH10) -> 44 | BJ10: =BI10-BC10 -> 0 | BK10: =BI10-$F10 -> -2
A11: Culinary Arts | B11: 96 | C11: 38 | D11: 21 | E11: 22 | F11: 81 | G11: 34 | H11: 18 | I11: 21 | J11: 73 | K11: 36 | L11: 17 | M11: 21 | N11: 74 | O11: =N11-J11 -> 1 | P11: 33 | Q11: 17 | R11: 21 | S11: =SUM(P11:R11) -> 71 | T11: =S11-N11 -> -3 | U11: =S11-$F11 -> -10 | V11: 31 | W11: 17 | X11: 21 | Y11: =SUM(V11:X11) -> 69 | Z11: =Y11-S11 -> -2 | AA11: =Y11-$F11 -> -12 | AB11: 33 | AC11: 17 | AD11: 21 | AE11: =SUM(AB11:AD11) -> 71 | AF11: =AE11-Y11 -> 2 | AG11: =AE11-$F11 -> -10 | AH11: 33 | AI11: 17 | AJ11: 21 | AK11: =SUM(AH11:AJ11) -> 71 | AL11: =AK11-AE11 -> 0 | AM11: =AK11-$F11 -> -10 | AN11: 34 | AO11: 17 | AP11: 20 | AQ11: =SUM(AN11:AP11) -> 71 | AR11: =AQ11-AK11 -> 0 | AS11: =AQ11-$F11 -> -10 | AT11: 33 | AU11: 17 | AV11: 20 | AW11: =SUM(AT11:AV11) -> 70 | AX11: =AW11-AQ11 -> -1 | AY11: =AW11-$F11 -> -11 | AZ11: 33 | BA11: 17 | BB11: 19 | BC11: =SUM(AZ11:BB11) -> 69 | BD11: =BC11-AW11 -> -1 | BE11: =BC11-$F11 -> -12 | BF11: 33 | BG11: 17 | BH11: 19 | BI11: =SUM(BF11:BH11) -> 69 | BJ11: =BI11-BC11 -> 0 | BK11: =BI11-$F11 -> -12
A12: Diversified Ocupations | C12: 0 | D12: 0 | E12: 0 | F12: 0 | G12: 2 | H12: 0 | I12: 0 | J12: 2 | K12: 3 | L12: 0 | M12: 0 | N12: 3 | O12: =N12-J12 -> 1 | P12: 4 | Q12: 0 | R12: 0 | S12: =SUM(P12:R12) -> 4 | T12: =S12-N12 -> 1 | U12: =S12-$F12 -> 4 | V12: 4 | W12: 0 | X12: 0 | Y12: =SUM(V12:X12) -> 4 | Z12: =Y12-S12 -> 0 | AA12: =Y12-$F12 -> 4 | AB12: 3 | AC12: 1 | AD12: 0 | AE12: =SUM(AB12:AD12) -> 4 | AF12: =AE12-Y12 -> 0 | AG12: =AE12-$F12 -> 4 | AH12: 8 | AI12: 1 | AJ12: 0 | AK12: =SUM(AH12:AJ12) -> 9 | AL12: =AK12-AE12 -> 5 | AM12: =AK12-$F12 -> 9 | AN12: 8 | AO12: 1 | AP12: 0 | AQ12: =SUM(AN12:AP12) -> 9 | AR12: =AQ12-AK12 -> 0 | AS12: =AQ12-$F12 -> 9 | AT12: 7 | AU12: 1 | AV12: 0 | AW12: =SUM(AT12:AV12) -> 8 | AX12: =AW12-AQ12 -> -1 | AY12: =AW12-$F12 -> 8 | AZ12: 7 | BA12: 1 | BB12: 0 | BC12: =SUM(AZ12:BB12) -> 8 | BD12: =BC12-AW12 -> 0 | BE12: =BC12-$F12 -> 8 | BF12: 7 | BG12: 1 | BH12: 0 | BI12: =SUM(BF12:BH12) -> 8 | BJ12: =BI12-BC12 -> 0 | BK12: =BI12-$F12 -> 8
A13: Drafting & Design | B13: 48 | C13: 8 | D13: 10 | E13: 9 | F13: 27 | G13: 11 | H13: 10 | I13: 9 | J13: 30 | K13: 12 | L13: 10 | M13: 9 | N13: 31 | O13: =N13-J13 -> 1 | P13: 12 | Q13: 9 | R13: 9 | S13: =SUM(P13:R13) -> 30 | T13: =S13-N13 -> -1 | U13: =S13-$F13 -> 3 | V13: 12 | W13: 9 | X13: 9 | Y13: =SUM(V13:X13) -> 30 | Z13: =Y13-S13 -> 0 | AA13: =Y13-$F13 -> 3 | AB13: 11 | AC13: 8 | AD13: 11 | AE13: =SUM(AB13:AD13) -> 30 | AF13: =AE13-Y13 -> 0 | AG13: =AE13-$F13 -> 3 | AH13: 11 | AI13: 7 | AJ13: 10 | AK13: =SUM(AH13:AJ13) -> 28 | AL13: =AK13-AE13 -> -2 | AM13: =AK13-$F13 -> 1 | AN13: 11 | AO13: 7 | AP13: 10 | AQ13: =SUM(AN13:AP13) -> 28 | AR13: =AQ13-AK13 -> 0 | AS13: =AQ13-$F13 -> 1 | AT13: 11 | AU13: 7 | AV13: 10 | AW13: =SUM(AT13:AV13) -> 28 | AX13: =AW13-AQ13 -> 0 | AY13: =AW13-$F13 -> 1 | AZ13: 11 | BA13: 7 | BB13: 10 | BC13: =SUM(AZ13:BB13) -> 28 | BD13: =BC13-AW13 -> 0 | BE13: =BC13-$F13 -> 1 | BF13: 11 | BG13: 7 | BH13: 10 | BI13: =SUM(BF13:BH13) -> 28 | BJ13: =BI13-BC13 -> 0 | BK13: =BI13-$F13 -> 1
A14: Early Childhood Education | B14: 48 | C14: 20 | D14: 15 | E14: 11 | F14: 46 | G14: 20 | H14: 14 | I14: 10 | J14: 44 | K14: 18 | L14: 14 | M14: 10 | N14: 42 | O14: =N14-J14 -> -2 | P14: 18 | Q14: 14 | R14: 10 | S14: =SUM(P14:R14) -> 42 | T14: =S14-N14 -> 0 | U14: =S14-$F14 -> -4 | V14: 18 | W14: 14 | X14: 10 | Y14: =SUM(V14:X14) -> 42 | Z14: =Y14-S14 -> 0 | AA14: =Y14-$F14 -> -4 | AB14: 17 | AC14: 15 | AD14: 10 | AE14: =SUM(AB14:AD14) -> 42 | AF14: =AE14-Y14 -> 0 | AG14: =AE14-$F14 -> -4 | AH14: 17 | AI14: 15 | AJ14: 10 | AK14: =SUM(AH14:AJ14) -> 42 | AL14: =AK14-AE14 -> 0 | AM14: =AK14-$F14 -> -4 | AN14: 17 | AO14: 15 | AP14: 10 | AQ14: =SUM(AN14:AP14) -> 42 | AR14: =AQ14-AK14 -> 0 | AS14: =AQ14-$F14 -> -4 | AT14: 17 | AU14: 15 | AV14: 10 | AW14: =SUM(AT14:AV14) -> 42 | AX14: =AW14-AQ14 -> 0 | AY14: =AW14-$F14 -> -4 | AZ14: 17 | BA14: 15 | BB14: 10 | BC14: =SUM(AZ14:BB14) -> 42 | BD14: =BC14-AW14 -> 0 | BE14: =BC14-$F14 -> -4 | BF14: 17 | BG14: 15 | BH14: 10 | BI14: =SUM(BF14:BH14) -> 42 | BJ14: =BI14-BC14 -> 0 | BK14: =BI14-$F14 -> -4
A15: Electrical Engineering | B15: 48 | C15: 16 | D15: 16 | E15: 14 | F15: 46 | G15: 16 | H15: 15 | I15: 13 | J15: 44 | K15: 16 | L15: 15 | M15: 13 | N15: 44 | O15: =N15-J15 -> 0 | P15: 15 | Q15: 15 | R15: 13 | S15: =SUM(P15:R15) -> 43 | T15: =S15-N15 -> -1 | U15: =S15-$F15 -> -3 | V15: 16 | W15: 15 | X15: 13 | Y15: =SUM(V15:X15) -> 44 | Z15: =Y15-S15 -> 1 | AA15: =Y15-$F15 -> -2 | AB15: 15 | AC15: 14 | AD15: 14 | AE15: =SUM(AB15:AD15) -> 43 | AF15: =AE15-Y15 -> -1 | AG15: =AE15-$F15 -> -3 | AH15: 15 | AI15: 14 | AJ15: 13 | AK15: =SUM(AH15:AJ15) -> 42 | AL15: =AK15-AE15 -> -1 | AM15: =AK15-$F15 -> -4 | AN15: 15 | AO15: 14 | AP15: 13 | AQ15: =SUM(AN15:AP15) -> 42 | AR15: =AQ15-AK15 -> 0 | AS15: =AQ15-$F15 -> -4 | AT15: 16 | AU15: 13 | AV15: 13 | AW15: =SUM(AT15:AV15) -> 42 | AX15: =AW15-AQ15 -> 0 | AY15: =AW15-$F15 -> -4 | AZ15: 16 | BA15: 13 | BB15: 13 | BC15: =SUM(AZ15:BB15) -> 42 | BD15: =BC15-AW15 -> 0 | BE15: =BC15-$F15 -> -4 | BF15: 16 | BG15: 13 | BH15: 13 | BI15: =SUM(BF15:BH15) -> 42 | BJ15: =BI15-BC15 -> 0 | BK15: =BI15-$F15 -> -4
A16: Electronics | B16: 48 | C16: 10 | D16: 10 | E16: 4 | F16: 24 | G16: 9 | H16: 9 | I16: 4 | J16: 22 | K16: 8 | L16: 9 | M16: 4 | N16: 21 | O16: =N16-J16 -> -1 | P16: 8 | Q16: 9 | R16: 4 | S16: =SUM(P16:R16) -> 21 | T16: =S16-N16 -> 0 | U16: =S16-$F16 -> -3 | V16: 8 | W16: 8 | X16: 4 | Y16: =SUM(V16:X16) -> 20 | Z16: =Y16-S16 -> -1 | AA16: =Y16-$F16 -> -4 | AB16: 7 | AC16: 5 | AD16: 4 | AE16: =SUM(AB16:AD16) -> 16 | AF16: =AE16-Y16 -> -4 | AG16: =AE16-$F16 -> -8 | AH16: 8 | AI16: 5 | AJ16: 4 | AK16: =SUM(AH16:AJ16) -> 17 | AL16: =AK16-AE16 -> 1 | AM16: =AK16-$F16 -> -7 | AN16: 9 | AO16: 5 | AP16: 4 | AQ16: =SUM(AN16:AP16) -> 18 | AR16: =AQ16-AK16 -> 1 | AS16: =AQ16-$F16 -> -6 | AT16: 9 | AU16: 5 | AV16: 4 | AW16: =SUM(AT16:AV16) -> 18 | AX16: =AW16-AQ16 -> 0 | AY16: =AW16-$F16 -> -6 | AZ16: 9 | BA16: 5 | BB16: 4 | BC16: =SUM(AZ16:BB16) -> 18 | BD16: =BC16-AW16 -> 0 | BE16: =BC16-$F16 -> -6 | BF16: 9 | BG16: 5 | BH16: 4 | BI16: =SUM(BF16:BH16) -> 18 | BJ16: =BI16-BC16 -> 0 | BK16: =BI16-$F16 -> -6
A17: Facilities Maintenance Tech | B17: 48 | C17: 22 | D17: 10 | E17: 1 | F17: 33 | G17: 25 | H17: 9 | I17: 1 | J17: 35 | K17: 25 | L17: 8 | M17: 1 | N17: 34 | O17: =N17-J17 -> -1 | P17: 25 | Q17: 8 | R17: 1 | S17: =SUM(P17:R17) -> 34 | T17: =S17-N17 -> 0 | U17: =S17-$F17 -> 1 | V17: 24 | W17: 8 | X17: 1 | Y17: =SUM(V17:X17) -> 33 | Z17: =Y17-S17 -> -1 | AA17: =Y17-$F17 -> 0 | AB17: 24 | AC17: 9 | AD17: 1 | AE17: =SUM(AB17:AD17) -> 34 | AF17: =AE17-Y17 -> 1 | AG17: =AE17-$F17 -> 1 | AH17: 23 | AI17: 9 | AJ17: 1 | AK17: =SUM(AH17:AJ17) -> 33 | AL17: =AK17-AE17 -> -1 | AM17: =AK17-$F17 -> 0 | AN17: 23 | AO17: 9 | AP17: 1 | AQ17: =SUM(AN17:AP17) -> 33 | AR17: =AQ17-AK17 -> 0 | AS17: =AQ17-$F17 -> 0 | AT17: 24 | AU17: 8 | AV17: 1 | AW17: =SUM(AT17:AV17) -> 33 | AX17: =AW17-AQ17 -> 0 | AY17: =AW17-$F17 -> 0 | AZ17: 24 | BA17: 8 | BB17: 1 | BC17: =SUM(AZ17:BB17) -> 33 | BD17: =BC17-AW17 -> 0 | BE17: =BC17-$F17 -> 0 | BF17: 24 | BG17: 8 | BH17: 1 | BI17: =SUM(BF17:BH17) -> 33 | BJ17: =BI17-BC17 -> 0 | BK17: =BI17-$F17 -> 0
A18: Graphic Communications | B18: 48 | C18: 8 | D18: 13 | E18: 9 | F18: 30 | G18: 9 | H18: 12 | I18: 9 | J18: 30 | K18: 10 | L18: 12 | M18: 9 | N18: 31 | O18: =N18-J18 -> 1 | P18: 10 | Q18: 12 | R18: 9 | S18: =SUM(P18:R18) -> 31 | T18: =S18-N18 -> 0 | U18: =S18-$F18 -> 1 | V18: 10 | W18: 12 | X18: 9 | Y18: =SUM(V18:X18) -> 31 | Z18: =Y18-S18 -> 0 | AA18: =Y18-$F18 -> 1 | AB18: 12 | AC18: 12 | AD18: 9 | AE18: =SUM(AB18:AD18) -> 33 | AF18: =AE18-Y18 -> 2 | AG18: =AE18-$F18 -> 3 | AH18: 13 | AI18: 12 | AJ18: 9 | AK18: =SUM(AH18:AJ18) -> 34 | AL18: =AK18-AE18 -> 1 | AM18: =AK18-$F18 -> 4 | AN18: 12 | AO18: 12 | AP18: 9 | AQ18: =SUM(AN18:AP18) -> 33 | AR18: =AQ18-AK18 -> -1 | AS18: =AQ18-$F18 -> 3 | AT18: 12 | AU18: 12 | AV18: 9 | AW18: =SUM(AT18:AV18) -> 33 | AX18: =AW18-AQ18 -> 0 | AY18: =AW18-$F18 -> 3 | AZ18: 12 | BA18: 12 | BB18: 9 | BC18: =SUM(AZ18:BB18) -> 33 | BD18: =BC18-AW18 -> 0 | BE18: =BC18-$F18 -> 3 | BF18: 12 | BG18: 11 | BH18: 8 | BI18: =SUM(BF18:BH18) -> 31 | BJ18: =BI18-BC18 -> -2 | BK18: =BI18-$F18 -> 1
A19: Health Assistant | B19: 48 | C19: 18 | D19: 15 | E19: 15 | F19: 48 | G19: 19 | H19: 14 | I19: 15 | J19: 48 | K19: 19 | L19: 13 | M19: 15 | N19: 47 | O19: =N19-J19 -> -1 | P19: 19 | Q19: 13 | R19: 15 | S19: =SUM(P19:R19) -> 47 | T19: =S19-N19 -> 0 | U19: =S19-$F19 -> -1 | V19: 19 | W19: 13 | X19: 15 | Y19: =SUM(V19:X19) -> 47 | Z19: =Y19-S19 -> 0 | AA19: =Y19-$F19 -> -1 | AB19: 16 | AC19: 15 | AD19: 15 | AE19: =SUM(AB19:AD19) -> 46 | AF19: =AE19-Y19 -> -1 | AG19: =AE19-$F19 -> -2 | AH19: 16 | AI19: 14 | AJ19: 15 | AK19: =SUM(AH19:AJ19) -> 45 | AL19: =AK19-AE19 -> -1 | AM19: =AK19-$F19 -> -3 | AN19: 16 | AO19: 14 | AP19: 15 | AQ19: =SUM(AN19:AP19) -> 45 | AR19: =AQ19-AK19 -> 0 | AS19: =AQ19-$F19 -> -3 | AT19: 16 | AU19: 14 | AV19: 15 | AW19: =SUM(AT19:AV19) -> 45 | AX19: =AW19-AQ19 -> 0 | AY19: =AW19-$F19 -> -3 | AZ19: 17 | BA19: 13 | BB19: 15 | BC19: =SUM(AZ19:BB19) -> 45 | BD19: =BC19-AW19 -> 0 | BE19: =BC19-$F19 -> -3 | BF19: 17 | BG19: 13 | BH19: 15 | BI19: =SUM(BF19:BH19) -> 45 | BJ19: =BI19-BC19 -> 0 | BK19: =BI19-$F19 -> -3
A20: Metal Fabrication | B20: 48 | C20: 17 | D20: 17 | E20: 12 | F20: 46 | G20: 20 | H20: 17 | I20: 12 | J20: 49 | K20: 20 | L20: 16 | M20: 12 | N20: 48 | O20: =N20-J20 -> -1 | P20: 20 | Q20: 15 | R20: 12 | S20: =SUM(P20:R20) -> 47 | T20: =S20-N20 -> -1 | U20: =S20-$F20 -> 1 | V20: 19 | W20: 15 | X20: 12 | Y20: =SUM(V20:X20) -> 46 | Z20: =Y20-S20 -> -1 | AA20: =Y20-$F20 -> 0 | AB20: 19 | AC20: 15 | AD20: 12 | AE20: =SUM(AB20:AD20) -> 46 | AF20: =AE20-Y20 -> 0 | AG20: =AE20-$F20 -> 0 | AH20: 18 | AI20: 15 | AJ20: 12 | AK20: =SUM(AH20:AJ20) -> 45 | AL20: =AK20-AE20 -> -1 | AM20: =AK20-$F20 -> -1 | AN20: 18 | AO20: 15 | AP20: 12 | AQ20: =SUM(AN20:AP20) -> 45 | AR20: =AQ20-AK20 -> 0 | AS20: =AQ20-$F20 -> -1 | AT20: 18 | AU20: 14 | AV20: 11 | AW20: =SUM(AT20:AV20) -> 43 | AX20: =AW20-AQ20 -> -2 | AY20: =AW20-$F20 -> -3 | AZ20: 18 | BA20: 14 | BB20: 11 | BC20: =SUM(AZ20:BB20) -> 43 | BD20: =BC20-AW20 -> 0 | BE20: =BC20-$F20 -> -3 | BF20: 18 | BG20: 14 | BH20: 11 | BI20: =SUM(BF20:BH20) -> 43 | BJ20: =BI20-BC20 -> 0 | BK20: =BI20-$F20 -> -3
A21: Networking Technologies | B21: 48 | C21: 31 | D21: 0 | E21: 0 | F21: 31 | G21: 32 | H21: 0 | I21: 0 | J21: 32 | K21: 32 | L21: 0 | M21: 0 | N21: 32 | O21: =N21-J21 -> 0 | P21: 32 | Q21: 0 | R21: 0 | S21: =SUM(P21:R21) -> 32 | T21: =S21-N21 -> 0 | U21: =S21-$F21 -> 1 | V21: 32 | W21: 0 | X21: 0 | Y21: =SUM(V21:X21) -> 32 | Z21: =Y21-S21 -> 0 | AA21: =Y21-$F21 -> 1 | AB21: 32 | AC21: 0 | AD21: 0 | AE21: =SUM(AB21:AD21) -> 32 | AF21: =AE21-Y21 -> 0 | AG21: =AE21-$F21 -> 1 | AH21: 29 | AI21: 0 | AJ21: 0 | AK21: =SUM(AH21:AJ21) -> 29 | AL21: =AK21-AE21 -> -3 | AM21: =AK21-$F21 -> -2 | AN21: 29 | AO21: 0 | AP21: 0 | AQ21: =SUM(AN21:AP21) -> 29 | AR21: =AQ21-AK21 -> 0 | AS21: =AQ21-$F21 -> -2 | AT21: 29 | AU21: 0 | AV21: 0 | AW21: =SUM(AT21:AV21) -> 29 | AX21: =AW21-AQ21 -> 0 | AY21: =AW21-$F21 -> -2 | AZ21: 29 | BA21: 0 | BB21: 0 | BC21: =SUM(AZ21:BB21) -> 29 | BD21: =BC21-AW21 -> 0 | BE21: =BC21-$F21 -> -2 | BF21: 29 | BG21: 0 | BH21: 0 | BI21: =SUM(BF21:BH21) -> 29 | BJ21: =BI21-BC21 -> 0 | BK21: =BI21-$F21 -> -2
A22: Tool & Die | B22: 48 | C22: 17 | D22: 14 | E22: 1 | F22: 32 | G22: 12 | H22: 14 | I22: 1 | J22: 27 | K22: 11 | L22: 14 | M22: 1 | N22: 26 | O22: =N22-J22 -> -1 | P22: 11 | Q22: 13 | R22: 1 | S22: =SUM(P22:R22) -> 25 | T22: =S22-N22 -> -1 | U22: =S22-$F22 -> -7 | V22: 11 | W22: 13 | X22: 1 | Y22: =SUM(V22:X22) -> 25 | Z22: =Y22-S22 -> 0 | AA22: =Y22-$F22 -> -7 | AB22: 11 | AC22: 13 | AD22: 1 | AE22: =SUM(AB22:AD22) -> 25 | AF22: =AE22-Y22 -> 0 | AG22: =AE22-$F22 -> -7 | AH22: 11 | AI22: 13 | AJ22: 1 | AK22: =SUM(AH22:AJ22) -> 25 | AL22: =AK22-AE22 -> 0 | AM22: =AK22-$F22 -> -7 | AN22: 11 | AO22: 13 | AP22: 1 | AQ22: =SUM(AN22:AP22) -> 25 | AR22: =AQ22-AK22 -> 0 | AS22: =AQ22-$F22 -> -7 | AT22: 11 | AU22: 13 | AV22: 1 | AW22: =SUM(AT22:AV22) -> 25 | AX22: =AW22-AQ22 -> 0 | AY22: =AW22-$F22 -> -7 | AZ22: 11 | BA22: 13 | BB22: 1 | BC22: =SUM(AZ22:BB22) -> 25 | BD22: =BC22-AW22 -> 0 | BE22: =BC22-$F22 -> -7 | BF22: 11 | BG22: 13 | BH22: 1 | BI22: =SUM(BF22:BH22) -> 25 | BJ22: =BI22-BC22 -> 0 | BK22: =BI22-$F22 -> -7
A23: Tourism & Hospitality | B23: 48 | C23: 38 | D23: 0 | E23: 0 | F23: 38 | G23: 36 | H23: 0 | I23: 0 | J23: 36 | K23: 36 | L23: 0 | M23: 0 | N23: 36 | O23: =N23-J23 -> 0 | P23: 35 | Q23: 0 | R23: 0 | S23: =SUM(P23:R23) -> 35 | T23: =S23-N23 -> -1 | U23: =S23-$F23 -> -3 | V23: 33 | W23: 0 | X23: 0 | Y23: =SUM(V23:X23) -> 33 | Z23: =Y23-S23 -> -2 | AA23: =Y23-$F23 -> -5 | AB23: 33 | AC23: 0 | AD23: 0 | AE23: =SUM(AB23:AD23) -> 33 | AF23: =AE23-Y23 -> 0 | AG23: =AE23-$F23 -> -5 | AH23: 32 | AI23: 0 | AJ23: 0 | AK23: =SUM(AH23:AJ23) -> 32 | AL23: =AK23-AE23 -> -1 | AM23: =AK23-$F23 -> -6 | AN23: 31 | AO23: 0 | AP23: 0 | AQ23: =SUM(AN23:AP23) -> 31 | AR23: =AQ23-AK23 -> -1 | AS23: =AQ23-$F23 -> -7 | AT23: 31 | AU23: 0 | AV23: 0 | AW23: =SUM(AT23:AV23) -> 31 | AX23: =AW23-AQ23 -> 0 | AY23: =AW23-$F23 -> -7 | AZ23: 31 | BA23: 0 | BB23: 0 | BC23: =SUM(AZ23:BB23) -> 31 | BD23: =BC23-AW23 -> 0 | BE23: =BC23-$F23 -> -7 | BF23: 31 | BG23: 0 | BH23: 0 | BI23: =SUM(BF23:BH23) -> 31 | BJ23: =BI23-BC23 -> 0 | BK23: =BI23-$F23 -> -7
A24: TOTALS | B24: =SUM(B5:B23) -> 1008 | C24: 361 | D24: 241 | E24: 171 | F24: 773 | G24: =SUM(G5:G23) -> 357 | H24: =SUM(H5:H23) -> 229 | I24: =SUM(I5:I23) -> 165 | J24: =SUM(G24:I24) -> 751 | K24: =SUM(K5:K23) -> 364 | L24: =SUM(L5:L23) -> 223 | M24: =SUM(M5:M23) -> 165 | N24: =SUM(N5:N23) -> 752 | O24: =N24-J24 -> 1 | P24: =SUM(P5:P23) -> 359 | Q24: =SUM(Q5:Q23) -> 220 | R24: =SUM(R5:R23) -> 165 | S24: =SUM(S5:S23) -> 744 | T24: =S24-N24 -> -8 | U24: =S24-$F24 -> -29 | V24: =SUM(V5:V23) -> 352 | W24: =SUM(W5:W23) -> 218 | X24: =SUM(X5:X23) -> 164 | Y24: =SUM(Y5:Y23) -> 734 | Z24: =Y24-S24 -> -10 | AA24: =Y24-$F24 -> -39 | AB24: =SUM(AB5:AB23) -> 332 | AC24: =SUM(AC5:AC23) -> 225 | AD24: =SUM(AD5:AD23) -> 162 | AE24: =SUM(AE5:AE23) -> 719 | AF24: =AE24-Y24 -> -15 | AG24: =AE24-$F24 -> -54 | AH24: =SUM(AH5:AH23) -> 333 | AI24: =SUM(AI5:AI23) -> 222 | AJ24: =SUM(AJ5:AJ23) -> 159 | AK24: =SUM(AK5:AK23) -> 714 | AL24: =AK24-AE24 -> -5 | AM24: =AK24-$F24 -> -59 | AN24: =SUM(AN5:AN23) -> 332 | AO24: =SUM(AO5:AO23) -> 220 | AP24: =SUM(AP5:AP23) -> 158 | AQ24: =SUM(AQ5:AQ23) -> 710 | AR24: =AQ24-AK24 -> -4 | AS24: =AQ24-$F24 -> -63 | AT24: =SUM(AT5:AT23) -> 334 | AU24: =SUM(AU5:AU23) -> 215 | AV24: =SUM(AV5:AV23) -> 156 | AW24: =SUM(AW5:AW23) -> 705 | AX24: =AW24-AQ24 -> -5 | AY24: =AW24-$F24 -> -68 | AZ24: =SUM(AZ5:AZ23) -> 334 | BA24: =SUM(BA5:BA23) -> 212 | BB24: =SUM(BB5:BB23) -> 155 | BC24: =SUM(BC5:BC23) -> 701 | BD24: =BC24-AW24 -> -4 | BE24: =BC24-$F24 -> -72 | BF24: =SUM(BF5:BF23) -> 334 | BG24: =SUM(BG5:BG23) -> 210 | BH24: =SUM(BH5:BH23) -> 154 | BI24: =SUM(BI5:BI23) -> 698 | BJ24: =BI24-BC24 -> -3 | BK24: =BI24-$F24 -> -75
A25: Date of Report | D25: August 26,2009 | G25: 40072 | K25: 40101 | P25: 40129 | V25: Wednesday, December 9,2009 | AB25: Wednesday, January 27, 2010 | AH25: Tuesday, February 16, 2010 | AN25: Thursday, March 18, 2010 | AT25: Tuesday, April 20, 2010 | AZ25: Thursday, May 20, 2010 | BF25: Thursday, June 10, 2010
A26: School District | C26: Program/Year Level | G26: Program/Year Level | J26: Total | K26: Program/Year Level | N26: Total | O26: Chg/ Month | P26: Program/Year Level | S26: Total | T26: Chg/ Month | U26: Chg/ Sept | V26: Program/Year Level | Y26: Total | Z26: Chg/ Month | AA26: Chg/ Sept | AB26: Program/Year Level | AE26: Total | AF26: Chg/ Month | AG26: Chg/ Sept | AH26: Program/Year Level | AK26: Total | AL26: Chg/ Month | AM26: Chg/ Sept | AN26: Program/Year Level | AQ26: Total | AR26: Chg/ Month | AS26: Chg/ Sept | AT26: Program/Year Level | AW26: Total | AX26: Chg/ Month | AY26: Chg/ Sept | AZ26: Program/Year Level | BC26: Total | BD26: Chg/ Month | BE26: Chg/ Sept | BF26: Program/Year Level | BI26: Total | BJ26: Chg/ Month | BK26: Chg/ Sept
A27: School District | C27: 1st | D27: 2nd | E27: 3rd | F27: Total | G27: 1st | H27: 2nd | I27: 3rd | J27: Total | K27: 1st | L27: 2nd | M27: 3rd | N27: Total | P27: 1st | Q27: 2nd | R27: 3rd | S27: Total | V27: 1st | W27: 2nd | X27: 3rd | Y27: Total | AB27: 1st | AC27: 2nd | AD27: 3rd | AE27: Total | AH27: 1st | AI27: 2nd | AJ27: 3rd | AK27: Total | AN27: 1st | AO27: 2nd | AP27: 3rd | AQ27: Total | AT27: 1st | AU27: 2nd | AV27: 3rd | AW27: Total | AZ27: 1st | BA27: 2nd | BB27: 3rd | BC27: Total | BF27: 1st | BG27: 2nd | BH27: 3rd | BI27: Total
A28: Fairview | C28: 17 | D28: 8 | E28: 4 | F28: 29 | G28: 16 | H28: 9 | I28: 4 | J28: 29 | K28: 17 | L28: 9 | M28: 4 | N28: 30 | O28: =N28-J28 -> 1 | P28: 17 | Q28: 9 | R28: 4 | S28: =SUM(P28:R28) -> 30 | T28: =S28-N28 -> 0 | U28: =S28-$F28 -> 1 | V28: 16 | W28: 9 | X28: 4 | Y28: =SUM(V28:X28) -> 29 | Z28: =Y28-S28 -> -1 | AA28: =Y28-$F28 -> 0 | AB28: 15 | AC28: 9 | AD28: 4 | AE28: =SUM(AB28:AD28) -> 28 | AF28: =AE28-Y28 -> -1 | AG28: =AE28-$F28 -> -1 | AH28: 14 | AI28: 9 | AJ28: 4 | AK28: =SUM(AH28:AJ28) -> 27 | AL28: =AK28-AE28 -> -1 | AM28: =AK28-$F28 -> -2 | AN28: 14 | AO28: 9 | AP28: 4 | AQ28: =SUM(AN28:AP28) -> 27 | AR28: =AQ28-AK28 -> 0 | AS28: =AQ28-$F28 -> -2 | AT28: 14 | AU28: 9 | AV28: 4 | AW28: =SUM(AT28:AV28) -> 27 | AX28: =AW28-AQ28 -> 0 | AY28: =AW28-$F28 -> -2 | AZ28: 14 | BA28: 9 | BB28: 4 | BC28: =SUM(AZ28:BB28) -> 27 | BD28: =BC28-AW28 -> 0 | BE28: =BC28-$F28 -> -2 | BF28: 14 | BG28: 8 | BH28: 4 | BI28: =SUM(BF28:BH28) -> 26 | BJ28: =BI28-BC28 -> -1 | BK28: =BI28-$F28 -> -3
A29: Fort LeBoeuf | C29: 41 | D29: 33 | E29: 12 | F29: 86 | G29: 43 | H29: 31 | I29: 12 | J29: 86 | K29: 44 | L29: 31 | M29: 12 | N29: 87 | O29: =N29-J29 -> 1 | P29: 44 | Q29: 30 | R29: 12 | S29: =SUM(P29:R29) -> 86 | T29: =S29-N29 -> -1 | U29: =S29-$F29 -> 0 | V29: 42 | W29: 30 | X29: 12 | Y29: =SUM(V29:X29) -> 84 | Z29: =Y29-S29 -> -2 | AA29: =Y29-$F29 -> -2 | AB29: 39 | AC29: 30 | AD29: 12 | AE29: =SUM(AB29:AD29) -> 81 | AF29: =AE29-Y29 -> -3 | AG29: =AE29-$F29 -> -5 | AH29: 39 | AI29: 29 | AJ29: 12 | AK29: =SUM(AH29:AJ29) -> 80 | AL29: =AK29-AE29 -> -1 | AM29: =AK29-$F29 -> -6 | AN29: 38 | AO29: 29 | AP29: 12 | AQ29: =SUM(AN29:AP29) -> 79 | AR29: =AQ29-AK29 -> -1 | AS29: =AQ29-$F29 -> -7 | AT29: 38 | AU29: 28 | AV29: 12 | AW29: =SUM(AT29:AV29) -> 78 | AX29: =AW29-AQ29 -> -1 | AY29: =AW29-$F29 -> -8 | AZ29: 39 | BA29: 27 | BB29: 12 | BC29: =SUM(AZ29:BB29) -> 78 | BD29: =BC29-AW29 -> 0 | BE29: =BC29-$F29 -> -8 | BF29: 39 | BG29: 27 | BH29: 12 | BI29: =SUM(BF29:BH29) -> 78 | BJ29: =BI29-BC29 -> 0 | BK29: =BI29-$F29 -> -8
A30: General McLane | C30: 21 | D30: 18 | E30: 17 | F30: 56 | G30: 21 | H30: 18 | I30: 17 | J30: 56 | K30: 20 | L30: 18 | M30: 17 | N30: 55 | O30: =N30-J30 -> -1 | P30: 20 | Q30: 18 | R30: 17 | S30: =SUM(P30:R30) -> 55 | T30: =S30-N30 -> 0 | U30: =S30-$F30 -> -1 | V30: 20 | W30: 18 | X30: 17 | Y30: =SUM(V30:X30) -> 55 | Z30: =Y30-S30 -> 0 | AA30: =Y30-$F30 -> -1 | AB30: 18 | AC30: 21 | AD30: 17 | AE30: =SUM(AB30:AD30) -> 56 | AF30: =AE30-Y30 -> 1 | AG30: =AE30-$F30 -> 0 | AH30: 18 | AI30: 19 | AJ30: 17 | AK30: =SUM(AH30:AJ30) -> 54 | AL30: =AK30-AE30 -> -2 | AM30: =AK30-$F30 -> -2 | AN30: 19 | AO30: 18 | AP30: 17 | AQ30: =SUM(AN30:AP30) -> 54 | AR30: =AQ30-AK30 -> 0 | AS30: =AQ30-$F30 -> -2 | AT30: 19 | AU30: 15 | AV30: 16 | AW30: =SUM(AT30:AV30) -> 50 | AX30: =AW30-AQ30 -> -4 | AY30: =AW30-$F30 -> -6 | AZ30: 19 | BA30: 15 | BB30: 16 | BC30: =SUM(AZ30:BB30) -> 50 | BD30: =BC30-AW30 -> 0 | BE30: =BC30-$F30 -> -6 | BF30: 19 | BG30: 15 | BH30: 16 | BI30: =SUM(BF30:BH30) -> 50 | BJ30: =BI30-BC30 -> 0 | BK30: =BI30-$F30 -> -6
A31: Girard | C31: 28 | D31: 26 | E31: 18 | F31: 72 | G31: 28 | H31: 26 | I31: 18 | J31: 72 | K31: 27 | L31: 24 | M31: 18 | N31: 69 | O31: =N31-J31 -> -3 | P31: 25 | Q31: 24 | R31: 18 | S31: =SUM(P31:R31) -> 67 | T31: =S31-N31 -> -2 | U31: =S31-$F31 -> -5 | V31: 26 | W31: 23 | X31: 18 | Y31: =SUM(V31:X31) -> 67 | Z31: =Y31-S31 -> 0 | AA31: =Y31-$F31 -> -5 | AB31: 22 | AC31: 27 | AD31: 19 | AE31: =SUM(AB31:AD31) -> 68 | AF31: =AE31-Y31 -> 1 | AG31: =AE31-$F31 -> -4 | AH31: 23 | AI31: 27 | AJ31: 19 | AK31: =SUM(AH31:AJ31) -> 69 | AL31: =AK31-AE31 -> 1 | AM31: =AK31-$F31 -> -3 | AN31: 24 | AO31: 26 | AP31: 19 | AQ31: =SUM(AN31:AP31) -> 69 | AR31: =AQ31-AK31 -> 0 | AS31: =AQ31-$F31 -> -3 | AT31: 25 | AU31: 25 | AV31: 19 | AW31: =SUM(AT31:AV31) -> 69 | AX31: =AW31-AQ31 -> 0 | AY31: =AW31-$F31 -> -3 | AZ31: 25 | BA31: 25 | BB31: 19 | BC31: =SUM(AZ31:BB31) -> 69 | BD31: =BC31-AW31 -> 0 | BE31: =BC31-$F31 -> -3 | BF31: 25 | BG31: 25 | BH31: 19 | BI31: =SUM(BF31:BH31) -> 69 | BJ31: =BI31-BC31 -> 0 | BK31: =BI31-$F31 -> -3
A32: Harbor Creek | C32: 23 | D32: 20 | E32: 16 | F32: 59 | G32: 22 | H32: 19 | I32: 17 | J32: 58 | K32: 22 | L32: 18 | M32: 17 | N32: 57 | O32: =N32-J32 -> -1 | P32: 22 | Q32: 18 | R32: 17 | S32: =SUM(P32:R32) -> 57 | T32: =S32-N32 -> 0 | U32: =S32-$F32 -> -2 | V32: 22 | W32: 18 | X32: 17 | Y32: =SUM(V32:X32) -> 57 | Z32: =Y32-S32 -> 0 | AA32: =Y32-$F32 -> -2 | AB32: 22 | AC32: 16 | AD32: 17 | AE32: =SUM(AB32:AD32) -> 55 | AF32: =AE32-Y32 -> -2 | AG32: =AE32-$F32 -> -4 | AH32: 23 | AI32: 17 | AJ32: 17 | AK32: =SUM(AH32:AJ32) -> 57 | AL32: =AK32-AE32 -> 2 | AM32: =AK32-$F32 -> -2 | AN32: 23 | AO32: 16 | AP32: 16 | AQ32: =SUM(AN32:AP32) -> 55 | AR32: =AQ32-AK32 -> -2 | AS32: =AQ32-$F32 -> -4 | AT32: 24 | AU32: 16 | AV32: 16 | AW32: =SUM(AT32:AV32) -> 56 | AX32: =AW32-AQ32 -> 1 | AY32: =AW32-$F32 -> -3 | AZ32: 22 | BA32: 16 | BB32: 16 | BC32: =SUM(AZ32:BB32) -> 54 | BD32: =BC32-AW32 -> -2 | BE32: =BC32-$F32 -> -5 | BF32: 22 | BG32: 16 | BH32: 16 | BI32: =SUM(BF32:BH32) -> 54 | BJ32: =BI32-BC32 -> 0 | BK32: =BI32-$F32 -> -5
A33: Iroquois | C33: 16 | D33: 9 | E33: 3 | F33: 28 | G33: 14 | H33: 8 | I33: 3 | J33: 25 | K33: 12 | L33: 8 | M33: 3 | N33: 23 | O33: =N33-J33 -> -2 | P33: 11 | Q33: 7 | R33: 3 | S33: =SUM(P33:R33) -> 21 | T33: =S33-N33 -> -2 | U33: =S33-$F33 -> -7 | V33: 11 | W33: 7 | X33: 3 | Y33: =SUM(V33:X33) -> 21 | Z33: =Y33-S33 -> 0 | AA33: =Y33-$F33 -> -7 | AB33: 11 | AC33: 7 | AD33: 3 | AE33: =SUM(AB33:AD33) -> 21 | AF33: =AE33-Y33 -> 0 | AG33: =AE33-$F33 -> -7 | AH33: 11 | AI33: 7 | AJ33: 3 | AK33: =SUM(AH33:AJ33) -> 21 | AL33: =AK33-AE33 -> 0 | AM33: =AK33-$F33 -> -7 | AN33: 11 | AO33: 7 | AP33: 3 | AQ33: =SUM(AN33:AP33) -> 21 | AR33: =AQ33-AK33 -> 0 | AS33: =AQ33-$F33 -> -7 | AT33: 11 | AU33: 7 | AV33: 3 | AW33: =SUM(AT33:AV33) -> 21 | AX33: =AW33-AQ33 -> 0 | AY33: =AW33-$F33 -> -7 | AZ33: 11 | BA33: 6 | BB33: 3 | BC33: =SUM(AZ33:BB33) -> 20 | BD33: =BC33-AW33 -> -1 | BE33: =BC33-$F33 -> -8 | BF33: 11 | BG33: 6 | BH33: 3 | BI33: =SUM(BF33:BH33) -> 20 | BJ33: =BI33-BC33 -> 0 | BK33: =BI33-$F33 -> -8
A34: Millcreek | C34: 83 | D34: 54 | E34: 55 | F34: 192 | G34: 86 | H34: 52 | I34: 53 | J34: 191 | K34: 87 | L34: 51 | M34: 53 | N34: 191 | O34: =N34-J34 -> 0 | P34: 87 | Q34: 50 | R34: 53 | S34: =SUM(P34:R34) -> 190 | T34: =S34-N34 -> -1 | U34: =S34-$F34 -> -2 | V34: 84 | W34: 49 | X34: 52 | Y34: =SUM(V34:X34) -> 185 | Z34: =Y34-S34 -> -5 | AA34: =Y34-$F34 -> -7 | AB34: 81 | AC34: 48 | AD34: 47 | AE34: =SUM(AB34:AD34) -> 176 | AF34: =AE34-Y34 -> -9 | AG34: =AE34-$F34 -> -16 | AH34: 81 | AI34: 48 | AJ34: 47 | AK34: =SUM(AH34:AJ34) -> 176 | AL34: =AK34-AE34 -> 0 | AM34: =AK34-$F34 -> -16 | AN34: 80 | AO34: 49 | AP34: 47 | AQ34: =SUM(AN34:AP34) -> 176 | AR34: =AQ34-AK34 -> 0 | AS34: =AQ34-$F34 -> -16 | AT34: 80 | AU34: 49 | AV34: 46 | AW34: =SUM(AT34:AV34) -> 175 | AX34: =AW34-AQ34 -> -1 | AY34: =AW34-$F34 -> -17 | AZ34: 80 | BA34: 49 | BB34: 45 | BC34: =SUM(AZ34:BB34) -> 174 | BD34: =BC34-AW34 -> -1 | BE34: =BC34-$F34 -> -18 | BF34: 80 | BG34: 49 | BH34: 44 | BI34: =SUM(BF34:BH34) -> 173 | BJ34: =BI34-BC34 -> -1 | BK34: =BI34-$F34 -> -19
A35: North East | C35: 41 | D35: 17 | E35: 10 | F35: 68 | G35: 45 | H35: 16 | I35: 9 | J35: 70 | K35: 51 | L35: 14 | M35: 9 | N35: 74 | O35: =N35-J35 -> 4 | P35: 50 | Q35: 14 | R35: 9 | S35: =SUM(P35:R35) -> 73 | T35: =S35-N35 -> -1 | U35: =S35-$F35 -> 5 | V35: 50 | W35: 14 | X35: 9 | Y35: =SUM(V35:X35) -> 73 | Z35: =Y35-S35 -> 0 | AA35: =Y35-$F35 -> 5 | AB35: 48 | AC35: 16 | AD35: 9 | AE35: =SUM(AB35:AD35) -> 73 | AF35: =AE35-Y35 -> 0 | AG35: =AE35-$F35 -> 5 | AH35: 43 | AI35: 16 | AJ35: 7 | AK35: =SUM(AH35:AJ35) -> 66 | AL35: =AK35-AE35 -> -7 | AM35: =AK35-$F35 -> -2 | AN35: 42 | AO35: 16 | AP35: 7 | AQ35: =SUM(AN35:AP35) -> 65 | AR35: =AQ35-AK35 -> -1 | AS35: =AQ35-$F35 -> -3 | AT35: 44 | AU35: 16 | AV35: 7 | AW35: =SUM(AT35:AV35) -> 67 | AX35: =AW35-AQ35 -> 2 | AY35: =AW35-$F35 -> -1 | AZ35: 44 | BA35: 16 | BB35: 7 | BC35: =SUM(AZ35:BB35) -> 67 | BD35: =BC35-AW35 -> 0 | BE35: =BC35-$F35 -> -1 | BF35: 44 | BG35: 15 | BH35: 7 | BI35: =SUM(BF35:BH35) -> 66 | BJ35: =BI35-BC35 -> -1 | BK35: =BI35-$F35 -> -2
A36: Northwestern | C36: 38 | D36: 16 | E36: 13 | F36: 67 | G36: 35 | H36: 14 | I36: 11 | J36: 60 | K36: 36 | L36: 14 | M36: 11 | N36: 61 | O36: =N36-J36 -> 1 | P36: 35 | Q36: 14 | R36: 11 | S36: =SUM(P36:R36) -> 60 | T36: =S36-N36 -> -1 | U36: =S36-$F36 -> -7 | V36: 34 | W36: 14 | X36: 11 | Y36: =SUM(V36:X36) -> 59 | Z36: =Y36-S36 -> -1 | AA36: =Y36-$F36 -> -8 | AB36: 34 | AC36: 13 | AD36: 14 | AE36: =SUM(AB36:AD36) -> 61 | AF36: =AE36-Y36 -> 2 | AG36: =AE36-$F36 -> -6 | AH36: 33 | AI36: 13 | AJ36: 13 | AK36: =SUM(AH36:AJ36) -> 59 | AL36: =AK36-AE36 -> -2 | AM36: =AK36-$F36 -> -8 | AN36: 34 | AO36: 13 | AP36: 13 | AQ36: =SUM(AN36:AP36) -> 60 | AR36: =AQ36-AK36 -> 1 | AS36: =AQ36-$F36 -> -7 | AT36: 34 | AU36: 13 | AV36: 13 | AW36: =SUM(AT36:AV36) -> 60 | AX36: =AW36-AQ36 -> 0 | AY36: =AW36-$F36 -> -7 | AZ36: 34 | BA36: 13 | BB36: 13 | BC36: =SUM(AZ36:BB36) -> 60 | BD36: =BC36-AW36 -> 0 | BE36: =BC36-$F36 -> -7 | BF36: 34 | BG36: 13 | BH36: 13 | BI36: =SUM(BF36:BH36) -> 60 | BJ36: =BI36-BC36 -> 0 | BK36: =BI36-$F36 -> -7
A37: Union City | C37: 18 | D37: 15 | E37: 7 | F37: 40 | G37: 19 | H37: 13 | I37: 5 | J37: 37 | K37: 19 | L37: 13 | M37: 5 | N37: 37 | O37: =N37-J37 -> 0 | P37: 19 | Q37: 13 | R37: 5 | S37: =SUM(P37:R37) -> 37 | T37: =S37-N37 -> 0 | U37: =S37-$F37 -> -3 | V37: 19 | W37: 13 | X37: 5 | Y37: =SUM(V37:X37) -> 37 | Z37: =Y37-S37 -> 0 | AA37: =Y37-$F37 -> -3 | AB37: 17 | AC37: 12 | AD37: 4 | AE37: =SUM(AB37:AD37) -> 33 | AF37: =AE37-Y37 -> -4 | AG37: =AE37-$F37 -> -7 | AH37: 17 | AI37: 12 | AJ37: 4 | AK37: =SUM(AH37:AJ37) -> 33 | AL37: =AK37-AE37 -> 0 | AM37: =AK37-$F37 -> -7 | AN37: 16 | AO37: 12 | AP37: 4 | AQ37: =SUM(AN37:AP37) -> 32 | AR37: =AQ37-AK37 -> -1 | AS37: =AQ37-$F37 -> -8 | AT37: 16 | AU37: 12 | AV37: 4 | AW37: =SUM(AT37:AV37) -> 32 | AX37: =AW37-AQ37 -> 0 | AY37: =AW37-$F37 -> -8 | AZ37: 16 | BA37: 12 | BB37: 4 | BC37: =SUM(AZ37:BB37) -> 32 | BD37: =BC37-AW37 -> 0 | BE37: =BC37-$F37 -> -8 | BF37: 16 | BG37: 12 | BH37: 4 | BI37: =SUM(BF37:BH37) -> 32 | BJ37: =BI37-BC37 -> 0 | BK37: =BI37-$F37 -> -8
A38: Wattsburg | C38: 35 | D38: 25 | E38: 16 | F38: 76 | G38: 28 | H38: 23 | I38: 16 | J38: 67 | K38: 29 | L38: 23 | M38: 16 | N38: 68 | O38: =N38-J38 -> 1 | P38: 29 | Q38: 23 | R38: 16 | S38: =SUM(P38:R38) -> 68 | T38: =S38-N38 -> 0 | U38: =S38-$F38 -> -8 | V38: 28 | W38: 23 | X38: 16 | Y38: =SUM(V38:X38) -> 67 | Z38: =Y38-S38 -> -1 | AA38: =Y38-$F38 -> -9 | AB38: 25 | AC38: 26 | AD38: 16 | AE38: =SUM(AB38:AD38) -> 67 | AF38: =AE38-Y38 -> 0 | AG38: =AE38-$F38 -> -9 | AH38: 31 | AI38: 25 | AJ38: 16 | AK38: =SUM(AH38:AJ38) -> 72 | AL38: =AK38-AE38 -> 5 | AM38: =AK38-$F38 -> -4 | AN38: 31 | AO38: 25 | AP38: 16 | AQ38: =SUM(AN38:AP38) -> 72 | AR38: =AQ38-AK38 -> 0 | AS38: =AQ38-$F38 -> -4 | AT38: 29 | AU38: 25 | AV38: 16 | AW38: =SUM(AT38:AV38) -> 70 | AX38: =AW38-AQ38 -> -2 | AY38: =AW38-$F38 -> -6 | AZ38: 30 | BA38: 24 | BB38: 16 | BC38: =SUM(AZ38:BB38) -> 70 | BD38: =BC38-AW38 -> 0 | BE38: =BC38-$F38 -> -6 | BF38: 30 | BG38: 24 | BH38: 16 | BI38: =SUM(BF38:BH38) -> 70 | BJ38: =BI38-BC38 -> 0 | BK38: =BI38-$F38 -> -6
A39: Totals | C39: 361 | D39: 241 | E39: 171 | F39: 773 | G39: =SUM(G28:G38) -> 357 | H39: =SUM(H28:H38) -> 229 | I39: =SUM(I28:I38) -> 165 | J39: =SUM(J28:J38) -> 751 | K39: 364 | L39: 223 | M39: 164 | N39: 752 | O39: =N39-J39 -> 1 | P39: =SUM(P28:P38) -> 359 | Q39: =SUM(Q28:Q38) -> 220 | R39: =SUM(R28:R38) -> 165 | S39: =SUM(S28:S38) -> 744 | T39: =S39-N39 -> -8 | U39: =S39-$F39 -> -29 | V39: =SUM(V28:V38) -> 352 | W39: =SUM(W28:W38) -> 218 | X39: =SUM(X28:X38) -> 164 | Y39: =SUM(Y28:Y38) -> 734 | Z39: =Y39-S39 -> -10 | AA39: =Y39-$F39 -> -39 | AB39: =SUM(AB28:AB38) -> 332 | AC39: =SUM(AC28:AC38) -> 225 | AD39: =SUM(AD28:AD38) -> 162 | AE39: =SUM(AE28:AE38) -> 719 | AF39: =AE39-Y39 -> -15 | AG39: =AE39-$F39 -> -54 | AH39: =SUM(AH28:AH38) -> 333 | AI39: =SUM(AI28:AI38) -> 222 | AJ39: =SUM(AJ28:AJ38) -> 159 | AK39: =SUM(AK28:AK38) -> 714 | AL39: =AK39-AE39 -> -5 | AM39: =AK39-$F39 -> -59 | AN39: =SUM(AN28:AN38) -> 332 | AO39: =SUM(AO28:AO38) -> 220 | AP39: =SUM(AP28:AP38) -> 158 | AQ39: =SUM(AQ28:AQ38) -> 710 | AR39: =AQ39-AK39 -> -4 | AS39: =AQ39-$F39 -> -63 | AT39: =SUM(AT28:AT38) -> 334 | AU39: =SUM(AU28:AU38) -> 215 | AV39: =SUM(AV28:AV38) -> 156 | AW39: =SUM(AW28:AW38) -> 705 | AX39: =AW39-AQ39 -> -5 | AY39: =AW39-$F39 -> -68 | AZ39: =SUM(AZ28:AZ38) -> 334 | BA39: =SUM(BA28:BA38) -> 212 | BB39: =SUM(BB28:BB38) -> 155 | BC39: =SUM(BC28:BC38) -> 701 | BD39: =BC39-AW39 -> -4 | BE39: =BC39-$F39 -> -72 | BF39: =SUM(BF28:BF38) -> 334 | BG39: =SUM(BG28:BG38) -> 210 | BH39: =SUM(BH28:BH38) -> 154 | BI39: =SUM(BI28:BI38) -> 698 | BJ39: =BI39-BC39 -> -3 | BK39: =BI39-$F39 -> -75

Sheet 0809 Monthly
B2: September 2008 | F2: October 2008 | K2: November 2008 | Q2: December 2008 | W2: January 2009 | AC2: February 2009 | AI2: March 2009 | AO2: April 2009 | AU2: May 2009 | BA2: June 2009
A3: Program | B3: Program/Year Level | E3: Total | F3: Program/Year Level | I3: Total | J3: Chg/ Month | K3: Program/Year Level | N3: Total | O3: Chg/ Month | P3: Chg/ Sept | Q3: Program/Year Level | T3: Total | U3: Chg/ Month | V3: Chg/ Sept | W3: Program/Year Level | Z3: Total | AA3: Chg/ Month | AB3: Chg/ Sept | AC3: Program/Year Level | AF3: Total | AG3: Chg/ Month | AH3: Chg/ Sept | AI3: Program/Year Level | AL3: Total | AM3: Chg/ Month | AN3: Chg/ Sept | AO3: Program/Year Level | AR3: Total | AS3: Chg/ Month | AT3: Chg/ Sept | AU3: Program/Year Level | AX3: Total | AY3: Chg/ Month | AZ3: Chg/ Sept | BA3: Program/Year Level | BD3: Total | BE3: Chg/ Month | BF3: Chg/ Sept
B4: 1st | C4: 2nd | D4: 3rd | E4: Total | F4: 1st | G4: 2nd | H4: 3rd | I4: Total | K4: 1st | L4: 2nd | M4: 3rd | N4: Total | Q4: 1st | R4: 2nd | S4: 3rd | T4: Total | W4: 1st | X4: 2nd | Y4: 3rd | Z4: Total | AC4: 1st | AD4: 2nd | AE4: 3rd | AF4: Total | AI4: 1st | AJ4: 2nd | AK4: 3rd | AL4: Total | AO4: 1st | AP4: 2nd | AQ4: 3rd | AR4: Total | AU4: 1st | AV4: 2nd | AW4: 3rd | AX4: Total | BA4: 1st | BB4: 2nd | BC4: 3rd | BD4: Total
A5: Art & Design | B5: 24 | C5: 14 | D5: 6 | E5: =SUM(B5:D5) -> 44 | F5: 22 | G5: 13 | H5: 6 | I5: =SUM(F5:H5) -> 41 | J5: =I5-E5 -> -3 | K5: 21 | L5: 12 | M5: 6 | N5: =SUM(K5:M5) -> 39 | O5: =N5-I5 -> -2 | P5: =N5-$E5 -> -5 | Q5: 21 | R5: 12 | S5: 6 | T5: =SUM(Q5:S5) -> 39 | U5: =T5-N5 -> 0 | V5: =T5-$E5 -> -5 | W5: 21 | X5: 12 | Y5: 6 | Z5: =SUM(W5:Y5) -> 39 | AA5: =Z5-T5 -> 0 | AB5: =Z5-$E5 -> -5 | AC5: 22 | AD5: 12 | AE5: 6 | AF5: =SUM(AC5:AE5) -> 40 | AG5: =AF5-Z5 -> 1 | AH5: =AF5-$E5 -> -4 | AI5: 22 | AJ5: 11 | AK5: 6 | AL5: =SUM(AI5:AK5) -> 39 | AM5: =AL5-AF5 -> -1 | AN5: =AL5-$E5 -> -5 | AO5: 22 | AP5: 10 | AQ5: 6 | AR5: =SUM(AO5:AQ5) -> 38 | AS5: =AR5-AL5 -> -1 | AT5: =AR5-$E5 -> -6 | AU5: 22 | AV5: 10 | AW5: 6 | AX5: =SUM(AU5:AW5) -> 38 | AY5: =AX5-AR5 -> 0 | AZ5: =AX5-$E5 -> -6 | BA5: 22 | BB5: 10 | BC5: 6 | BD5: =SUM(BA5:BC5) -> 38 | BE5: =BD5-AX5 -> 0 | BF5: =BD5-$E5 -> -6
A6: Auto Body | B6: 16 | C6: 12 | D6: 8 | E6: =SUM(B6:D6) -> 36 | F6: 10 | G6: 12 | H6: 8 | I6: =SUM(F6:H6) -> 30 | J6: =I6-E6 -> -6 | K6: 10 | L6: 12 | M6: 8 | N6: =SUM(K6:M6) -> 30 | O6: =N6-I6 -> 0 | P6: =N6-$E6 -> -6 | Q6: 10 | R6: 12 | S6: 8 | T6: =SUM(Q6:S6) -> 30 | U6: =T6-N6 -> 0 | V6: =T6-$E6 -> -6 | W6: 10 | X6: 12 | Y6: 8 | Z6: =SUM(W6:Y6) -> 30 | AA6: =Z6-T6 -> 0 | AB6: =Z6-$E6 -> -6 | AC6: 10 | AD6: 12 | AE6: 8 | AF6: =SUM(AC6:AE6) -> 30 | AG6: =AF6-Z6 -> 0 | AH6: =AF6-$E6 -> -6 | AI6: 10 | AJ6: 12 | AK6: 8 | AL6: =SUM(AI6:AK6) -> 30 | AM6: =AL6-AF6 -> 0 | AN6: =AL6-$E6 -> -6 | AO6: 9 | AP6: 12 | AQ6: 8 | AR6: =SUM(AO6:AQ6) -> 29 | AS6: =AR6-AL6 -> -1 | AT6: =AR6-$E6 -> -7 | AU6: 9 | AV6: 12 | AW6: 8 | AX6: =SUM(AU6:AW6) -> 29 | AY6: =AX6-AR6 -> 0 | AZ6: =AX6-$E6 -> -7 | BA6: 9 | BB6: 12 | BC6: 8 | BD6: =SUM(BA6:BC6) -> 29 | BE6: =BD6-AX6 -> 0 | BF6: =BD6-$E6 -> -7
A7: Automotive Technologies | B7: 30 | C7: 23 | D7: 25 | E7: =SUM(B7:D7) -> 78 | F7: 40 | G7: 23 | H7: 24 | I7: =SUM(F7:H7) -> 87 | J7: =I7-E7 -> 9 | K7: 37 | L7: 23 | M7: 24 | N7: =SUM(K7:M7) -> 84 | O7: =N7-I7 -> -3 | P7: =N7-$E7 -> 6 | Q7: 35 | R7: 22 | S7: 24 | T7: =SUM(Q7:S7) -> 81 | U7: =T7-N7 -> -3 | V7: =T7-$E7 -> 3 | W7: 34 | X7: 22 | Y7: 23 | Z7: =SUM(W7:Y7) -> 79 | AA7: =Z7-T7 -> -2 | AB7: =Z7-$E7 -> 1 | AC7: 32 | AD7: 21 | AE7: 22 | AF7: =SUM(AC7:AE7) -> 75 | AG7: =AF7-Z7 -> -4 | AH7: =AF7-$E7 -> -3 | AI7: 32 | AJ7: 21 | AK7: 22 | AL7: =SUM(AI7:AK7) -> 75 | AM7: =AL7-AF7 -> 0 | AN7: =AL7-$E7 -> -3 | AO7: 32 | AP7: 21 | AQ7: 22 | AR7: =SUM(AO7:AQ7) -> 75 | AS7: =AR7-AL7 -> 0 | AT7: =AR7-$E7 -> -3 | AU7: 32 | AV7: 21 | AW7: 22 | AX7: =SUM(AU7:AW7) -> 75 | AY7: =AX7-AR7 -> 0 | AZ7: =AX7-$E7 -> -3 | BA7: 31 | BB7: 21 | BC7: 22 | BD7: =SUM(BA7:BC7) -> 74 | BE7: =BD7-AX7 -> -1 | BF7: =BD7-$E7 -> -4
A8: Computer Info. Systems | B8: 18 | C8: 15 | D8: 11 | E8: =SUM(B8:D8) -> 44 | F8: 14 | G8: 13 | H8: 10 | I8: =SUM(F8:H8) -> 37 | J8: =I8-E8 -> -7 | K8: 14 | L8: 13 | M8: 10 | N8: =SUM(K8:M8) -> 37 | O8: =N8-I8 -> 0 | P8: =N8-$E8 -> -7 | Q8: 14 | R8: 13 | S8: 10 | T8: =SUM(Q8:S8) -> 37 | U8: =T8-N8 -> 0 | V8: =T8-$E8 -> -7 | W8: 14 | X8: 12 | Y8: 11 | Z8: =SUM(W8:Y8) -> 37 | AA8: =Z8-T8 -> 0 | AB8: =Z8-$E8 -> -7 | AC8: 15 | AD8: 12 | AE8: 11 | AF8: =SUM(AC8:AE8) -> 38 | AG8: =AF8-Z8 -> 1 | AH8: =AF8-$E8 -> -6 | AI8: 14 | AJ8: 12 | AK8: 11 | AL8: =SUM(AI8:AK8) -> 37 | AM8: =AL8-AF8 -> -1 | AN8: =AL8-$E8 -> -7 | AO8: 14 | AP8: 12 | AQ8: 11 | AR8: =SUM(AO8:AQ8) -> 37 | AS8: =AR8-AL8 -> 0 | AT8: =AR8-$E8 -> -7 | AU8: 14 | AV8: 12 | AW8: 11 | AX8: =SUM(AU8:AW8) -> 37 | AY8: =AX8-AR8 -> 0 | AZ8: =AX8-$E8 -> -7 | BA8: 14 | BB8: 12 | BC8: 11 | BD8: =SUM(BA8:BC8) -> 37 | BE8: =BD8-AX8 -> 0 | BF8: =BD8-$E8 -> -7
A9: Construction Trades | B9: 50 | C9: 16 | D9: 17 | E9: =SUM(B9:D9) -> 83 | F9: 42 | G9: 14 | H9: 17 | I9: =SUM(F9:H9) -> 73 | J9: =I9-E9 -> -10 | K9: 42 | L9: 14 | M9: 17 | N9: =SUM(K9:M9) -> 73 | O9: =N9-I9 -> 0 | P9: =N9-$E9 -> -10 | Q9: 41 | R9: 14 | S9: 17 | T9: =SUM(Q9:S9) -> 72 | U9: =T9-N9 -> -1 | V9: =T9-$E9 -> -11 | W9: 39 | X9: 15 | Y9: 17 | Z9: =SUM(W9:Y9) -> 71 | AA9: =Z9-T9 -> -1 | AB9: =Z9-$E9 -> -12 | AC9: 40 | AD9: 15 | AE9: 17 | AF9: =SUM(AC9:AE9) -> 72 | AG9: =AF9-Z9 -> 1 | AH9: =AF9-$E9 -> -11 | AI9: 39 | AJ9: 15 | AK9: 17 | AL9: =SUM(AI9:AK9) -> 71 | AM9: =AL9-AF9 -> -1 | AN9: =AL9-$E9 -> -12 | AO9: 38 | AP9: 15 | AQ9: 17 | AR9: =SUM(AO9:AQ9) -> 70 | AS9: =AR9-AL9 -> -1 | AT9: =AR9-$E9 -> -13 | AU9: 38 | AV9: 15 | AW9: 16 | AX9: =SUM(AU9:AW9) -> 69 | AY9: =AX9-AR9 -> -1 | AZ9: =AX9-$E9 -> -14 | BA9: 38 | BB9: 15 | BC9: 16 | BD9: =SUM(BA9:BC9) -> 69 | BE9: =BD9-AX9 -> 0 | BF9: =BD9-$E9 -> -14
A10: Cosmetology | B10: 15 | C10: 21 | D10: 9 | E10: =SUM(B10:D10) -> 45 | F10: 15 | G10: 19 | H10: 8 | I10: =SUM(F10:H10) -> 42 | J10: =I10-E10 -> -3 | K10: 15 | L10: 19 | M10: 8 | N10: =SUM(K10:M10) -> 42 | O10: =N10-I10 -> 0 | P10: =N10-$E10 -> -3 | Q10: 15 | R10: 19 | S10: 8 | T10: =SUM(Q10:S10) -> 42 | U10: =T10-N10 -> 0 | V10: =T10-$E10 -> -3 | W10: 15 | X10: 19 | Y10: 8 | Z10: =SUM(W10:Y10) -> 42 | AA10: =Z10-T10 -> 0 | AB10: =Z10-$E10 -> -3 | AC10: 15 | AD10: 19 | AE10: 8 | AF10: =SUM(AC10:AE10) -> 42 | AG10: =AF10-Z10 -> 0 | AH10: =AF10-$E10 -> -3 | AI10: 15 | AJ10: 19 | AK10: 8 | AL10: =SUM(AI10:AK10) -> 42 | AM10: =AL10-AF10 -> 0 | AN10: =AL10-$E10 -> -3 | AO10: 15 | AP10: 19 | AQ10: 8 | AR10: =SUM(AO10:AQ10) -> 42 | AS10: =AR10-AL10 -> 0 | AT10: =AR10-$E10 -> -3 | AU10: 15 | AV10: 19 | AW10: 8 | AX10: =SUM(AU10:AW10) -> 42 | AY10: =AX10-AR10 -> 0 | AZ10: =AX10-$E10 -> -3 | BA10: 15 | BB10: 19 | BC10: 8 | BD10: =SUM(BA10:BC10) -> 42 | BE10: =BD10-AX10 -> 0 | BF10: =BD10-$E10 -> -3
A11: Culinary Arts | B11: 34 | C11: 28 | D11: 15 | E11: =SUM(B11:D11) -> 77 | F11: 34 | G11: 27 | H11: 14 | I11: =SUM(F11:H11) -> 75 | J11: =I11-E11 -> -2 | K11: 33 | L11: 27 | M11: 14 | N11: =SUM(K11:M11) -> 74 | O11: =N11-I11 -> -1 | P11: =N11-$E11 -> -3 | Q11: 33 | R11: 26 | S11: 13 | T11: =SUM(Q11:S11) -> 72 | U11: =T11-N11 -> -2 | V11: =T11-$E11 -> -5 | W11: 32 | X11: 26 | Y11: 14 | Z11: =SUM(W11:Y11) -> 72 | AA11: =Z11-T11 -> 0 | AB11: =Z11-$E11 -> -5 | AC11: 26 | AD11: 25 | AE11: 14 | AF11: =SUM(AC11:AE11) -> 65 | AG11: =AF11-Z11 -> -7 | AH11: =AF11-$E11 -> -12 | AI11: 26 | AJ11: 25 | AK11: 14 | AL11: =SUM(AI11:AK11) -> 65 | AM11: =AL11-AF11 -> 0 | AN11: =AL11-$E11 -> -12 | AO11: 26 | AP11: 25 | AQ11: 14 | AR11: =SUM(AO11:AQ11) -> 65 | AS11: =AR11-AL11 -> 0 | AT11: =AR11-$E11 -> -12 | AU11: 26 | AV11: 24 | AW11: 14 | AX11: =SUM(AU11:AW11) -> 64 | AY11: =AX11-AR11 -> -1 | AZ11: =AX11-$E11 -> -13 | BA11: 26 | BB11: 24 | BC11: 14 | BD11: =SUM(BA11:BC11) -> 64 | BE11: =BD11-AX11 -> 0 | BF11: =BD11-$E11 -> -13
A12: Diversified Ocupations | E12: =SUM(B12:D12) -> 0 | F12: 7 | G12: 1 | H12: 0 | I12: =SUM(F12:H12) -> 8 | J12: =I12-E12 -> 8 | K12: 6 | L12: 0 | M12: 0 | N12: =SUM(K12:M12) -> 6 | O12: =N12-I12 -> -2 | P12: =N12-$E12 -> 6 | Q12: 7 | R12: 0 | S12: 0 | T12: =SUM(Q12:S12) -> 7 | U12: =T12-N12 -> 1 | V12: =T12-$E12 -> 7 | W12: 7 | X12: 0 | Y12: 0 | Z12: =SUM(W12:Y12) -> 7 | AA12: =Z12-T12 -> 0 | AB12: =Z12-$E12 -> 7 | AC12: 18 | AD12: 1 | AE12: 0 | AF12: =SUM(AC12:AE12) -> 19 | AG12: =AF12-Z12 -> 12 | AH12: =AF12-$E12 -> 19 | AI12: 20 | AJ12: 1 | AK12: 0 | AL12: =SUM(AI12:AK12) -> 21 | AM12: =AL12-AF12 -> 2 | AN12: =AL12-$E12 -> 21 | AO12: 20 | AP12: 0 | AQ12: 0 | AR12: =SUM(AO12:AQ12) -> 20 | AS12: =AR12-AL12 -> -1 | AT12: =AR12-$E12 -> 20 | AU12: 19 | AV12: 0 | AW12: 0 | AX12: =SUM(AU12:AW12) -> 19 | AY12: =AX12-AR12 -> -1 | AZ12: =AX12-$E12 -> 19 | BA12: 20 | BB12: 0 | BC12: 0 | BD12: =SUM(BA12:BC12) -> 20 | BE12: =BD12-AX12 -> 1 | BF12: =BD12-$E12 -> 20
A13: Drafting & Design | B13: 14 | C13: 11 | D13: 10 | E13: =SUM(B13:D13) -> 35 | F13: 14 | G13: 10 | H13: 10 | I13: =SUM(F13:H13) -> 34 | J13: =I13-E13 -> -1 | K13: 14 | L13: 10 | M13: 10 | N13: =SUM(K13:M13) -> 34 | O13: =N13-I13 -> 0 | P13: =N13-$E13 -> -1 | Q13: 14 | R13: 10 | S13: 10 | T13: =SUM(Q13:S13) -> 34 | U13: =T13-N13 -> 0 | V13: =T13-$E13 -> -1 | W13: 11 | X13: 12 | Y13: 11 | Z13: =SUM(W13:Y13) -> 34 | AA13: =Z13-T13 -> 0 | AB13: =Z13-$E13 -> -1 | AC13: 11 | AD13: 12 | AE13: 11 | AF13: =SUM(AC13:AE13) -> 34 | AG13: =AF13-Z13 -> 0 | AH13: =AF13-$E13 -> -1 | AI13: 11 | AJ13: 12 | AK13: 11 | AL13: =SUM(AI13:AK13) -> 34 | AM13: =AL13-AF13 -> 0 | AN13: =AL13-$E13 -> -1 | AO13: 11 | AP13: 12 | AQ13: 11 | AR13: =SUM(AO13:AQ13) -> 34 | AS13: =AR13-AL13 -> 0 | AT13: =AR13-$E13 -> -1 | AU13: 11 | AV13: 12 | AW13: 11 | AX13: =SUM(AU13:AW13) -> 34 | AY13: =AX13-AR13 -> 0 | AZ13: =AX13-$E13 -> -1 | BA13: 11 | BB13: 12 | BC13: 11 | BD13: =SUM(BA13:BC13) -> 34 | BE13: =BD13-AX13 -> 0 | BF13: =BD13-$E13 -> -1
A14: Early Childhood Education | B14: 21 | C14: 17 | D14: 7 | E14: =SUM(B14:D14) -> 45 | F14: 18 | G14: 14 | H14: 7 | I14: =SUM(F14:H14) -> 39 | J14: =I14-E14 -> -6 | K14: 18 | L14: 13 | M14: 6 | N14: =SUM(K14:M14) -> 37 | O14: =N14-I14 -> -2 | P14: =N14-$E14 -> -8 | Q14: 18 | R14: 13 | S14: 6 | T14: =SUM(Q14:S14) -> 37 | U14: =T14-N14 -> 0 | V14: =T14-$E14 -> -8 | W14: 18 | X14: 13 | Y14: 6 | Z14: =SUM(W14:Y14) -> 37 | AA14: =Z14-T14 -> 0 | AB14: =Z14-$E14 -> -8 | AC14: 18 | AD14: 13 | AE14: 6 | AF14: =SUM(AC14:AE14) -> 37 | AG14: =AF14-Z14 -> 0 | AH14: =AF14-$E14 -> -8 | AI14: 18 | AJ14: 13 | AK14: 6 | AL14: =SUM(AI14:AK14) -> 37 | AM14: =AL14-AF14 -> 0 | AN14: =AL14-$E14 -> -8 | AO14: 18 | AP14: 13 | AQ14: 6 | AR14: =SUM(AO14:AQ14) -> 37 | AS14: =AR14-AL14 -> 0 | AT14: =AR14-$E14 -> -8 | AU14: 18 | AV14: 13 | AW14: 6 | AX14: =SUM(AU14:AW14) -> 37 | AY14: =AX14-AR14 -> 0 | AZ14: =AX14-$E14 -> -8 | BA14: 17 | BB14: 13 | BC14: 6 | BD14: =SUM(BA14:BC14) -> 36 | BE14: =BD14-AX14 -> -1 | BF14: =BD14-$E14 -> -9
A15: Electrical Engineering | B15: 19 | C15: 17 | D15: 5 | E15: =SUM(B15:D15) -> 41 | F15: 18 | G15: 17 | H15: 5 | I15: =SUM(F15:H15) -> 40 | J15: =I15-E15 -> -1 | K15: 17 | L15: 16 | M15: 5 | N15: =SUM(K15:M15) -> 38 | O15: =N15-I15 -> -2 | P15: =N15-$E15 -> -3 | Q15: 17 | R15: 16 | S15: 5 | T15: =SUM(Q15:S15) -> 38 | U15: =T15-N15 -> 0 | V15: =T15-$E15 -> -3 | W15: 15 | X15: 17 | Y15: 5 | Z15: =SUM(W15:Y15) -> 37 | AA15: =Z15-T15 -> -1 | AB15: =Z15-$E15 -> -4 | AC15: 15 | AD15: 16 | AE15: 5 | AF15: =SUM(AC15:AE15) -> 36 | AG15: =AF15-Z15 -> -1 | AH15: =AF15-$E15 -> -5 | AI15: 15 | AJ15: 16 | AK15: 5 | AL15: =SUM(AI15:AK15) -> 36 | AM15: =AL15-AF15 -> 0 | AN15: =AL15-$E15 -> -5 | AO15: 15 | AP15: 16 | AQ15: 5 | AR15: =SUM(AO15:AQ15) -> 36 | AS15: =AR15-AL15 -> 0 | AT15: =AR15-$E15 -> -5 | AU15: 15 | AV15: 16 | AW15: 5 | AX15: =SUM(AU15:AW15) -> 36 | AY15: =AX15-AR15 -> 0 | AZ15: =AX15-$E15 -> -5 | BA15: 15 | BB15: 16 | BC15: 5 | BD15: =SUM(BA15:BC15) -> 36 | BE15: =BD15-AX15 -> 0 | BF15: =BD15-$E15 -> -5
A16: Electronics | B16: 16 | C16: 8 | D16: 8 | E16: =SUM(B16:D16) -> 32 | F16: 16 | G16: 7 | H16: 8 | I16: =SUM(F16:H16) -> 31 | J16: =I16-E16 -> -1 | K16: 16 | L16: 7 | M16: 8 | N16: =SUM(K16:M16) -> 31 | O16: =N16-I16 -> 0 | P16: =N16-$E16 -> -1 | Q16: 16 | R16: 7 | S16: 8 | T16: =SUM(Q16:S16) -> 31 | U16: =T16-N16 -> 0 | V16: =T16-$E16 -> -1 | W16: 16 | X16: 7 | Y16: 8 | Z16: =SUM(W16:Y16) -> 31 | AA16: =Z16-T16 -> 0 | AB16: =Z16-$E16 -> -1 | AC16: 15 | AD16: 7 | AE16: 8 | AF16: =SUM(AC16:AE16) -> 30 | AG16: =AF16-Z16 -> -1 | AH16: =AF16-$E16 -> -2 | AI16: 15 | AJ16: 7 | AK16: 8 | AL16: =SUM(AI16:AK16) -> 30 | AM16: =AL16-AF16 -> 0 | AN16: =AL16-$E16 -> -2 | AO16: 15 | AP16: 7 | AQ16: 8 | AR16: =SUM(AO16:AQ16) -> 30 | AS16: =AR16-AL16 -> 0 | AT16: =AR16-$E16 -> -2 | AU16: 15 | AV16: 7 | AW16: 8 | AX16: =SUM(AU16:AW16) -> 30 | AY16: =AX16-AR16 -> 0 | AZ16: =AX16-$E16 -> -2 | BA16: 15 | BB16: 7 | BC16: 8 | BD16: =SUM(BA16:BC16) -> 30 | BE16: =BD16-AX16 -> 0 | BF16: =BD16-$E16 -> -2
A17: Facilities Maintenance Tech | B17: 12 | C17: 6 | D17: 10 | E17: =SUM(B17:D17) -> 28 | F17: 12 | G17: 5 | H17: 9 | I17: =SUM(F17:H17) -> 26 | J17: =I17-E17 -> -2 | K17: 11 | L17: 5 | M17: 9 | N17: =SUM(K17:M17) -> 25 | O17: =N17-I17 -> -1 | P17: =N17-$E17 -> -3 | Q17: 11 | R17: 5 | S17: 9 | T17: =SUM(Q17:S17) -> 25 | U17: =T17-N17 -> 0 | V17: =T17-$E17 -> -3 | W17: 10 | X17: 5 | Y17: 10 | Z17: =SUM(W17:Y17) -> 25 | AA17: =Z17-T17 -> 0 | AB17: =Z17-$E17 -> -3 | AC17: 11 | AD17: 5 | AE17: 10 | AF17: =SUM(AC17:AE17) -> 26 | AG17: =AF17-Z17 -> 1 | AH17: =AF17-$E17 -> -2 | AI17: 11 | AJ17: 5 | AK17: 10 | AL17: =SUM(AI17:AK17) -> 26 | AM17: =AL17-AF17 -> 0 | AN17: =AL17-$E17 -> -2 | AO17: 11 | AP17: 5 | AQ17: 10 | AR17: =SUM(AO17:AQ17) -> 26 | AS17: =AR17-AL17 -> 0 | AT17: =AR17-$E17 -> -2 | AU17: 10 | AV17: 4 | AW17: 10 | AX17: =SUM(AU17:AW17) -> 24 | AY17: =AX17-AR17 -> -2 | AZ17: =AX17-$E17 -> -4 | BA17: 10 | BB17: 4 | BC17: 10 | BD17: =SUM(BA17:BC17) -> 24 | BE17: =BD17-AX17 -> 0 | BF17: =BD17-$E17 -> -4
A18: Graphic Communications | B18: 16 | C18: 17 | D18: 5 | E18: =SUM(B18:D18) -> 38 | F18: 18 | G18: 16 | H18: 6 | I18: =SUM(F18:H18) -> 40 | J18: =I18-E18 -> 2 | K18: 17 | L18: 16 | M18: 6 | N18: =SUM(K18:M18) -> 39 | O18: =N18-I18 -> -1 | P18: =N18-$E18 -> 1 | Q18: 17 | R18: 16 | S18: 6 | T18: =SUM(Q18:S18) -> 39 | U18: =T18-N18 -> 0 | V18: =T18-$E18 -> 1 | W18: 17 | X18: 16 | Y18: 5 | Z18: =SUM(W18:Y18) -> 38 | AA18: =Z18-T18 -> -1 | AB18: =Z18-$E18 -> 0 | AC18: 14 | AD18: 16 | AE18: 5 | AF18: =SUM(AC18:AE18) -> 35 | AG18: =AF18-Z18 -> -3 | AH18: =AF18-$E18 -> -3 | AI18: 14 | AJ18: 16 | AK18: 5 | AL18: =SUM(AI18:AK18) -> 35 | AM18: =AL18-AF18 -> 0 | AN18: =AL18-$E18 -> -3 | AO18: 14 | AP18: 16 | AQ18: 5 | AR18: =SUM(AO18:AQ18) -> 35 | AS18: =AR18-AL18 -> 0 | AT18: =AR18-$E18 -> -3 | AU18: 14 | AV18: 16 | AW18: 5 | AX18: =SUM(AU18:AW18) -> 35 | AY18: =AX18-AR18 -> 0 | AZ18: =AX18-$E18 -> -3 | BA18: 14 | BB18: 16 | BC18: 5 | BD18: =SUM(BA18:BC18) -> 35 | BE18: =BD18-AX18 -> 0 | BF18: =BD18-$E18 -> -3
A19: Health Assistant | B19: 22 | C19: 18 | D19: 7 | E19: =SUM(B19:D19) -> 47 | F19: 20 | G19: 17 | H19: 7 | I19: =SUM(F19:H19) -> 44 | J19: =I19-E19 -> -3 | K19: 20 | L19: 17 | M19: 7 | N19: =SUM(K19:M19) -> 44 | O19: =N19-I19 -> 0 | P19: =N19-$E19 -> -3 | Q19: 20 | R19: 17 | S19: 7 | T19: =SUM(Q19:S19) -> 44 | U19: =T19-N19 -> 0 | V19: =T19-$E19 -> -3 | W19: 19 | X19: 17 | Y19: 7 | Z19: =SUM(W19:Y19) -> 43 | AA19: =Z19-T19 -> -1 | AB19: =Z19-$E19 -> -4 | AC19: 16 | AD19: 17 | AE19: 7 | AF19: =SUM(AC19:AE19) -> 40 | AG19: =AF19-Z19 -> -3 | AH19: =AF19-$E19 -> -7 | AI19: 16 | AJ19: 17 | AK19: 7 | AL19: =SUM(AI19:AK19) -> 40 | AM19: =AL19-AF19 -> 0 | AN19: =AL19-$E19 -> -7 | AO19: 16 | AP19: 17 | AQ19: 7 | AR19: =SUM(AO19:AQ19) -> 40 | AS19: =AR19-AL19 -> 0 | AT19: =AR19-$E19 -> -7 | AU19: 17 | AV19: 16 | AW19: 7 | AX19: =SUM(AU19:AW19) -> 40 | AY19: =AX19-AR19 -> 0 | AZ19: =AX19-$E19 -> -7 | BA19: 17 | BB19: 16 | BC19: 7 | BD19: =SUM(BA19:BC19) -> 40 | BE19: =BD19-AX19 -> 0 | BF19: =BD19-$E19 -> -7
A20: Metal Fabrication | B20: 20 | C20: 14 | D20: 9 | E20: =SUM(B20:D20) -> 43 | F20: 22 | G20: 14 | H20: 9 | I20: =SUM(F20:H20) -> 45 | J20: =I20-E20 -> 2 | K20: 22 | L20: 14 | M20: 9 | N20: =SUM(K20:M20) -> 45 | O20: =N20-I20 -> 0 | P20: =N20-$E20 -> 2 | Q20: 22 | R20: 14 | S20: 9 | T20: =SUM(Q20:S20) -> 45 | U20: =T20-N20 -> 0 | V20: =T20-$E20 -> 2 | W20: 21 | X20: 15 | Y20: 9 | Z20: =SUM(W20:Y20) -> 45 | AA20: =Z20-T20 -> 0 | AB20: =Z20-$E20 -> 2 | AC20: 20 | AD20: 15 | AE20: 9 | AF20: =SUM(AC20:AE20) -> 44 | AG20: =AF20-Z20 -> -1 | AH20: =AF20-$E20 -> 1 | AI20: 20 | AJ20: 15 | AK20: 9 | AL20: =SUM(AI20:AK20) -> 44 | AM20: =AL20-AF20 -> 0 | AN20: =AL20-$E20 -> 1 | AO20: 19 | AP20: 15 | AQ20: 9 | AR20: =SUM(AO20:AQ20) -> 43 | AS20: =AR20-AL20 -> -1 | AT20: =AR20-$E20 -> 0 | AU20: 19 | AV20: 15 | AW20: 9 | AX20: =SUM(AU20:AW20) -> 43 | AY20: =AX20-AR20 -> 0 | AZ20: =AX20-$E20 -> 0 | BA20: 19 | BB20: 15 | BC20: 9 | BD20: =SUM(BA20:BC20) -> 43 | BE20: =BD20-AX20 -> 0 | BF20: =BD20-$E20 -> 0
A21: Networking Technologies | B21: 10 | E21: =SUM(B21:D21) -> 10 | F21: 12 | G21: 0 | H21: 0 | I21: =SUM(F21:H21) -> 12 | J21: =I21-E21 -> 2 | K21: 12 | L21: 0 | M21: 0 | N21: =SUM(K21:M21) -> 12 | O21: =N21-I21 -> 0 | P21: =N21-$E21 -> 2 | Q21: 12 | R21: 0 | S21: 0 | T21: =SUM(Q21:S21) -> 12 | U21: =T21-N21 -> 0 | V21: =T21-$E21 -> 2 | W21: 12 | X21: 0 | Y21: 0 | Z21: =SUM(W21:Y21) -> 12 | AA21: =Z21-T21 -> 0 | AB21: =Z21-$E21 -> 2 | AC21: 12 | AD21: 0 | AE21: 0 | AF21: =SUM(AC21:AE21) -> 12 | AG21: =AF21-Z21 -> 0 | AH21: =AF21-$E21 -> 2 | AI21: 12 | AJ21: 0 | AK21: 0 | AL21: =SUM(AI21:AK21) -> 12 | AM21: =AL21-AF21 -> 0 | AN21: =AL21-$E21 -> 2 | AO21: 12 | AP21: 0 | AQ21: 0 | AR21: =SUM(AO21:AQ21) -> 12 | AS21: =AR21-AL21 -> 0 | AT21: =AR21-$E21 -> 2 | AU21: 12 | AV21: 0 | AW21: 0 | AX21: =SUM(AU21:AW21) -> 12 | AY21: =AX21-AR21 -> 0 | AZ21: =AX21-$E21 -> 2 | BA21: 12 | BB21: 0 | BC21: 0 | BD21: =SUM(BA21:BC21) -> 12 | BE21: =BD21-AX21 -> 0 | BF21: =BD21-$E21 -> 2
A22: Tool & Die | B22: 19 | C22: 3 | D22: 4 | E22: =SUM(B22:D22) -> 26 | F22: 16 | G22: 3 | H22: 4 | I22: =SUM(F22:H22) -> 23 | J22: =I22-E22 -> -3 | K22: 15 | L22: 3 | M22: 4 | N22: =SUM(K22:M22) -> 22 | O22: =N22-I22 -> -1 | P22: =N22-$E22 -> -4 | Q22: 15 | R22: 3 | S22: 4 | T22: =SUM(Q22:S22) -> 22 | U22: =T22-N22 -> 0 | V22: =T22-$E22 -> -4 | W22: 15 | X22: 0 | Y22: 6 | Z22: =SUM(W22:Y22) -> 21 | AA22: =Z22-T22 -> -1 | AB22: =Z22-$E22 -> -5 | AC22: 15 | AD22: 0 | AE22: 5 | AF22: =SUM(AC22:AE22) -> 20 | AG22: =AF22-Z22 -> -1 | AH22: =AF22-$E22 -> -6 | AI22: 15 | AJ22: 0 | AK22: 5 | AL22: =SUM(AI22:AK22) -> 20 | AM22: =AL22-AF22 -> 0 | AN22: =AL22-$E22 -> -6 | AO22: 15 | AP22: 0 | AQ22: 5 | AR22: =SUM(AO22:AQ22) -> 20 | AS22: =AR22-AL22 -> 0 | AT22: =AR22-$E22 -> -6 | AU22: 15 | AV22: 0 | AW22: 5 | AX22: =SUM(AU22:AW22) -> 20 | AY22: =AX22-AR22 -> 0 | AZ22: =AX22-$E22 -> -6 | BA22: 15 | BB22: 2 | BC22: 3 | BD22: =SUM(BA22:BC22) -> 20 | BE22: =BD22-AX22 -> 0 | BF22: =BD22-$E22 -> -6
A23: Tourism & Hospitality | B23: 35 | E23: =SUM(B23:D23) -> 35 | F23: 39 | G23: 0 | H23: 0 | I23: =SUM(F23:H23) -> 39 | J23: =I23-E23 -> 4 | K23: 37 | L23: 0 | M23: 0 | N23: =SUM(K23:M23) -> 37 | O23: =N23-I23 -> -2 | P23: =N23-$E23 -> 2 | Q23: 36 | R23: 0 | S23: 0 | T23: =SUM(Q23:S23) -> 36 | U23: =T23-N23 -> -1 | V23: =T23-$E23 -> 1 | W23: 35 | X23: 0 | Y23: 0 | Z23: =SUM(W23:Y23) -> 35 | AA23: =Z23-T23 -> -1 | AB23: =Z23-$E23 -> 0 | AC23: 33 | AD23: 0 | AE23: 0 | AF23: =SUM(AC23:AE23) -> 33 | AG23: =AF23-Z23 -> -2 | AH23: =AF23-$E23 -> -2 | AI23: 32 | AJ23: 0 | AK23: 0 | AL23: =SUM(AI23:AK23) -> 32 | AM23: =AL23-AF23 -> -1 | AN23: =AL23-$E23 -> -3 | AO23: 31 | AP23: 0 | AQ23: 0 | AR23: =SUM(AO23:AQ23) -> 31 | AS23: =AR23-AL23 -> -1 | AT23: =AR23-$E23 -> -4 | AU23: 29 | AV23: 0 | AW23: 0 | AX23: =SUM(AU23:AW23) -> 29 | AY23: =AX23-AR23 -> -2 | AZ23: =AX23-$E23 -> -6 | BA23: 28 | BB23: 0 | BC23: 0 | BD23: =SUM(BA23:BC23) -> 28 | BE23: =BD23-AX23 -> -1 | BF23: =BD23-$E23 -> -7
A24: TOTALS | B24: =SUM(B5:B23) -> 391 | C24: =SUM(C5:C23) -> 240 | D24: =SUM(D5:D23) -> 156 | E24: =SUM(B24:D24) -> 787 | F24: =SUM(F5:F23) -> 389 | G24: =SUM(G5:G23) -> 225 | H24: =SUM(H5:H23) -> 152 | I24: =SUM(I5:I23) -> 766 | J24: =I24-E24 -> -21 | K24: =SUM(K5:K23) -> 377 | L24: =SUM(L5:L23) -> 221 | M24: =SUM(M5:M23) -> 151 | N24: =SUM(N5:N23) -> 749 | O24: =N24-I24 -> -17 | P24: =N24-$E24 -> -38 | Q24: =SUM(Q5:Q23) -> 374 | R24: =SUM(R5:R23) -> 219 | S24: =SUM(S5:S23) -> 150 | T24: =SUM(T5:T23) -> 743 | U24: =T24-N24 -> -6 | V24: =T24-$E24 -> -44 | W24: =SUM(W5:W23) -> 361 | X24: =SUM(X5:X23) -> 220 | Y24: =SUM(Y5:Y23) -> 154 | Z24: =SUM(Z5:Z23) -> 735 | AA24: =Z24-T24 -> -8 | AB24: =Z24-$E24 -> -52 | AC24: =SUM(AC5:AC23) -> 358 | AD24: =SUM(AD5:AD23) -> 218 | AE24: =SUM(AE5:AE23) -> 152 | AF24: =SUM(AF5:AF23) -> 728 | AG24: =AF24-Z24 -> -7 | AH24: =AF24-$E24 -> -59 | AI24: =SUM(AI5:AI23) -> 357 | AJ24: =SUM(AJ5:AJ23) -> 217 | AK24: =SUM(AK5:AK23) -> 152 | AL24: =SUM(AL5:AL23) -> 726 | AM24: =AL24-AF24 -> -2 | AN24: =AL24-$E24 -> -61 | AO24: =SUM(AO5:AO23) -> 353 | AP24: =SUM(AP5:AP23) -> 215 | AQ24: =SUM(AQ5:AQ23) -> 152 | AR24: =SUM(AR5:AR23) -> 720 | AS24: =AR24-AL24 -> -6 | AT24: =AR24-$E24 -> -67 | AU24: =SUM(AU5:AU23) -> 350 | AV24: =SUM(AV5:AV23) -> 212 | AW24: =SUM(AW5:AW23) -> 151 | AX24: =SUM(AX5:AX23) -> 713 | AY24: =AX24-AR24 -> -7 | AZ24: =AX24-$E24 -> -74 | BA24: =SUM(BA5:BA23) -> 348 | BB24: =SUM(BB5:BB23) -> 214 | BC24: =SUM(BC5:BC23) -> 149 | BD24: =SUM(BD5:BD23) -> 711 | BE24: =BD24-AX24 -> -2 | BF24: =BD24-$E24 -> -76
A25: Date of Report | B25: 39664 | F25: 39713
A26: School District | B26: Program/Year Level | E26: Total | F26: Program/Year Level | I26: Total | J26: Chg/ Month | K26: Program/Year Level | N26: Total | O26: Chg/ Month | P26: Chg/ Sept | Q26: Program/Year Level | T26: Total | U26: Chg/ Month | V26: Chg/ Sept | W26: Program/Year Level | Z26: Total | AA26: Chg/ Month | AB26: Chg/ Sept | AC26: Program/Year Level | AF26: Total | AG26: Chg/ Month | AH26: Chg/ Sept | AI26: Program/Year Level | AL26: Total | AM26: Chg/ Month | AN26: Chg/ Sept | AO26: Program/Year Level | AR26: Total | AS26: Chg/ Month | AT26: Chg/ Sept | AU26: Program/Year Level | AX26: Total | AY26: Chg/ Month | AZ26: Chg/ Sept | BA26: Program/Year Level | BD26: Total | BE26: Chg/ Month | BF26: Chg/ Sept
A27: School District | B27: 1st | C27: 2nd | D27: 3rd | E27: Total | F27: 1st | G27: 2nd | H27: 3rd | I27: Total | K27: 1st | L27: 2nd | M27: 3rd | N27: Total | Q27: 1st | R27: 2nd | S27: 3rd | T27: Total | W27: 1st | X27: 2nd | Y27: 3rd | Z27: Total | AC27: 1st | AD27: 2nd | AE27: 3rd | AF27: Total | AI27: 1st | AJ27: 2nd | AK27: 3rd | AL27: Total | AO27: 1st | AP27: 2nd | AQ27: 3rd | AR27: Total | AU27: 1st | AV27: 2nd | AW27: 3rd | AX27: Total | BA27: 1st | BB27: 2nd | BC27: 3rd | BD27: Total
A28: Fairview | B28: 17 | C28: 7 | D28: 10 | E28: =SUM(B28:D28) -> 34 | F28: 16 | G28: 5 | H28: 10 | I28: =SUM(F28:H28) -> 31 | J28: =I28-E28 -> -3 | K28: 15 | L28: 5 | M28: 10 | N28: =SUM(K28:M28) -> 30 | O28: =N28-I28 -> -1 | P28: =N28-$E28 -> -4 | Q28: 15 | R28: 5 | S28: 10 | T28: =SUM(Q28:S28) -> 30 | U28: =T28-N28 -> 0 | V28: =T28-$E28 -> -4 | W28: 15 | X28: 4 | Y28: 11 | Z28: =SUM(W28:Y28) -> 30 | AA28: =Z28-T28 -> 0 | AB28: =Z28-$E28 -> -4 | AC28: 15 | AD28: 4 | AE28: 11 | AF28: =SUM(AC28:AE28) -> 30 | AG28: =AF28-Z28 -> 0 | AH28: =AF28-$E28 -> -4 | AI28: 15 | AJ28: 4 | AK28: 11 | AL28: =SUM(AI28:AK28) -> 30 | AM28: =AL28-AF28 -> 0 | AN28: =AL28-$E28 -> -4 | AO28: 15 | AP28: 4 | AQ28: 11 | AR28: =SUM(AO28:AQ28) -> 30 | AS28: =AR28-AL28 -> 0 | AT28: =AR28-$E28 -> -4 | AU28: 14 | AV28: 4 | AW28: 11 | AX28: =SUM(AU28:AW28) -> 29 | AY28: =AX28-AR28 -> -1 | AZ28: =AX28-$E28 -> -5 | BA28: 14 | BB28: 5 | BC28: 10 | BD28: =SUM(BA28:BC28) -> 29 | BE28: =BD28-AX28 -> 0 | BF28: =BD28-$E28 -> -5
A29: Fort LeBoeuf | B29: 50 | C29: 20 | D29: 14 | E29: =SUM(B29:D29) -> 84 | F29: 50 | G29: 16 | H29: 15 | I29: =SUM(F29:H29) -> 81 | J29: =I29-E29 -> -3 | K29: 50 | L29: 17 | M29: 14 | N29: =SUM(K29:M29) -> 81 | O29: =N29-I29 -> 0 | P29: =N29-$E29 -> -3 | Q29: 50 | R29: 17 | S29: 14 | T29: =SUM(Q29:S29) -> 81 | U29: =T29-N29 -> 0 | V29: =T29-$E29 -> -3 | W29: 48 | X29: 18 | Y29: 14 | Z29: =SUM(W29:Y29) -> 80 | AA29: =Z29-T29 -> -1 | AB29: =Z29-$E29 -> -4 | AC29: 42 | AD29: 18 | AE29: 14 | AF29: =SUM(AC29:AE29) -> 74 | AG29: =AF29-Z29 -> -6 | AH29: =AF29-$E29 -> -10 | AI29: 42 | AJ29: 18 | AK29: 14 | AL29: =SUM(AI29:AK29) -> 74 | AM29: =AL29-AF29 -> 0 | AN29: =AL29-$E29 -> -10 | AO29: 41 | AP29: 18 | AQ29: 14 | AR29: =SUM(AO29:AQ29) -> 73 | AS29: =AR29-AL29 -> -1 | AT29: =AR29-$E29 -> -11 | AU29: 41 | AV29: 17 | AW29: 14 | AX29: =SUM(AU29:AW29) -> 72 | AY29: =AX29-AR29 -> -1 | AZ29: =AX29-$E29 -> -12 | BA29: 41 | BB29: 17 | BC29: 14 | BD29: =SUM(BA29:BC29) -> 72 | BE29: =BD29-AX29 -> 0 | BF29: =BD29-$E29 -> -12
A30: General McLane | B30: 32 | C30: 24 | D30: 12 | E30: =SUM(B30:D30) -> 68 | F30: 27 | G30: 23 | H30: 13 | I30: =SUM(F30:H30) -> 63 | J30: =I30-E30 -> -5 | K30: 26 | L30: 23 | M30: 13 | N30: =SUM(K30:M30) -> 62 | O30: =N30-I30 -> -1 | P30: =N30-$E30 -> -6 | Q30: 26 | R30: 23 | S30: 13 | T30: =SUM(Q30:S30) -> 62 | U30: =T30-N30 -> 0 | V30: =T30-$E30 -> -6 | W30: 26 | X30: 21 | Y30: 15 | Z30: =SUM(W30:Y30) -> 62 | AA30: =Z30-T30 -> 0 | AB30: =Z30-$E30 -> -6 | AC30: 25 | AD30: 20 | AE30: 14 | AF30: =SUM(AC30:AE30) -> 59 | AG30: =AF30-Z30 -> -3 | AH30: =AF30-$E30 -> -9 | AI30: 25 | AJ30: 20 | AK30: 14 | AL30: =SUM(AI30:AK30) -> 59 | AM30: =AL30-AF30 -> 0 | AN30: =AL30-$E30 -> -9 | AO30: 25 | AP30: 20 | AQ30: 14 | AR30: =SUM(AO30:AQ30) -> 59 | AS30: =AR30-AL30 -> 0 | AT30: =AR30-$E30 -> -9 | AU30: 25 | AV30: 20 | AW30: 14 | AX30: =SUM(AU30:AW30) -> 59 | AY30: =AX30-AR30 -> 0 | AZ30: =AX30-$E30 -> -9 | BA30: 25 | BB30: 21 | BC30: 13 | BD30: =SUM(BA30:BC30) -> 59 | BE30: =BD30-AX30 -> 0 | BF30: =BD30-$E30 -> -9
A31: Girard | B31: 34 | C31: 21 | D31: 15 | E31: =SUM(B31:D31) -> 70 | F31: 33 | G31: 20 | H31: 14 | I31: =SUM(F31:H31) -> 67 | J31: =I31-E31 -> -3 | K31: 32 | L31: 19 | M31: 14 | N31: =SUM(K31:M31) -> 65 | O31: =N31-I31 -> -2 | P31: =N31-$E31 -> -5 | Q31: 31 | R31: 19 | S31: 14 | T31: =SUM(Q31:S31) -> 64 | U31: =T31-N31 -> -1 | V31: =T31-$E31 -> -6 | W31: 29 | X31: 21 | Y31: 14 | Z31: =SUM(W31:Y31) -> 64 | AA31: =Z31-T31 -> 0 | AB31: =Z31-$E31 -> -6 | AC31: 34 | AD31: 21 | AE31: 14 | AF31: =SUM(AC31:AE31) -> 69 | AG31: =AF31-Z31 -> 5 | AH31: =AF31-$E31 -> -1 | AI31: 34 | AJ31: 21 | AK31: 14 | AL31: =SUM(AI31:AK31) -> 69 | AM31: =AL31-AF31 -> 0 | AN31: =AL31-$E31 -> -1 | AO31: 33 | AP31: 21 | AQ31: 14 | AR31: =SUM(AO31:AQ31) -> 68 | AS31: =AR31-AL31 -> -1 | AT31: =AR31-$E31 -> -2 | AU31: 33 | AV31: 21 | AW31: 14 | AX31: =SUM(AU31:AW31) -> 68 | AY31: =AX31-AR31 -> 0 | AZ31: =AX31-$E31 -> -2 | BA31: 33 | BB31: 21 | BC31: 14 | BD31: =SUM(BA31:BC31) -> 68 | BE31: =BD31-AX31 -> 0 | BF31: =BD31-$E31 -> -2
A32: Harbor Creek | B32: 35 | C32: 20 | D32: 13 | E32: =SUM(B32:D32) -> 68 | F32: 30 | G32: 19 | H32: 13 | I32: =SUM(F32:H32) -> 62 | J32: =I32-E32 -> -6 | K32: 30 | L32: 19 | M32: 13 | N32: =SUM(K32:M32) -> 62 | O32: =N32-I32 -> 0 | P32: =N32-$E32 -> -6 | Q32: 30 | R32: 19 | S32: 13 | T32: =SUM(Q32:S32) -> 62 | U32: =T32-N32 -> 0 | V32: =T32-$E32 -> -6 | W32: 30 | X32: 18 | Y32: 14 | Z32: =SUM(W32:Y32) -> 62 | AA32: =Z32-T32 -> 0 | AB32: =Z32-$E32 -> -6 | AC32: 28 | AD32: 18 | AE32: 14 | AF32: =SUM(AC32:AE32) -> 60 | AG32: =AF32-Z32 -> -2 | AH32: =AF32-$E32 -> -8 | AI32: 28 | AJ32: 18 | AK32: 14 | AL32: =SUM(AI32:AK32) -> 60 | AM32: =AL32-AF32 -> 0 | AN32: =AL32-$E32 -> -8 | AO32: 28 | AP32: 18 | AQ32: 14 | AR32: =SUM(AO32:AQ32) -> 60 | AS32: =AR32-AL32 -> 0 | AT32: =AR32-$E32 -> -8 | AU32: 28 | AV32: 18 | AW32: 14 | AX32: =SUM(AU32:AW32) -> 60 | AY32: =AX32-AR32 -> 0 | AZ32: =AX32-$E32 -> -8 | BA32: 28 | BB32: 18 | BC32: 14 | BD32: =SUM(BA32:BC32) -> 60 | BE32: =BD32-AX32 -> 0 | BF32: =BD32-$E32 -> -8
A33: Iroquois | B33: 18 | C33: 8 | D33: 5 | E33: =SUM(B33:D33) -> 31 | F33: 14 | G33: 7 | H33: 4 | I33: =SUM(F33:H33) -> 25 | J33: =I33-E33 -> -6 | K33: 15 | L33: 6 | M33: 4 | N33: =SUM(K33:M33) -> 25 | O33: =N33-I33 -> 0 | P33: =N33-$E33 -> -6 | Q33: 15 | R33: 6 | S33: 4 | T33: =SUM(Q33:S33) -> 25 | U33: =T33-N33 -> 0 | V33: =T33-$E33 -> -6 | W33: 15 | X33: 5 | Y33: 5 | Z33: =SUM(W33:Y33) -> 25 | AA33: =Z33-T33 -> 0 | AB33: =Z33-$E33 -> -6 | AC33: 15 | AD33: 4 | AE33: 4 | AF33: =SUM(AC33:AE33) -> 23 | AG33: =AF33-Z33 -> -2 | AH33: =AF33-$E33 -> -8 | AI33: 15 | AJ33: 4 | AK33: 4 | AL33: =SUM(AI33:AK33) -> 23 | AM33: =AL33-AF33 -> 0 | AN33: =AL33-$E33 -> -8 | AO33: 14 | AP33: 4 | AQ33: 4 | AR33: =SUM(AO33:AQ33) -> 22 | AS33: =AR33-AL33 -> -1 | AT33: =AR33-$E33 -> -9 | AU33: 14 | AV33: 4 | AW33: 4 | AX33: =SUM(AU33:AW33) -> 22 | AY33: =AX33-AR33 -> 0 | AZ33: =AX33-$E33 -> -9 | BA33: 14 | BB33: 4 | BC33: 4 | BD33: =SUM(BA33:BC33) -> 22 | BE33: =BD33-AX33 -> 0 | BF33: =BD33-$E33 -> -9
A34: Millcreek | B34: 79 | C34: 71 | D34: 36 | E34: =SUM(B34:D34) -> 186 | F34: =15+59+3 -> 77 | G34: 68 | H34: 36 | I34: =SUM(F34:H34) -> 181 | J34: =I34-E34 -> -5 | K34: 72 | L34: 67 | M34: 37 | N34: =SUM(K34:M34) -> 176 | O34: =N34-I34 -> -5 | P34: =N34-$E34 -> -10 | Q34: 71 | R34: 65 | S34: 37 | T34: =SUM(Q34:S34) -> 173 | U34: =T34-N34 -> -3 | V34: =T34-$E34 -> -13 | W34: 68 | X34: 64 | Y34: 38 | Z34: =SUM(W34:Y34) -> 170 | AA34: =Z34-T34 -> -3 | AB34: =Z34-$E34 -> -16 | AC34: 64 | AD34: 63 | AE34: 38 | AF34: =SUM(AC34:AE34) -> 165 | AG34: =AF34-Z34 -> -5 | AH34: =AF34-$E34 -> -21 | AI34: 62 | AJ34: 63 | AK34: 38 | AL34: =SUM(AI34:AK34) -> 163 | AM34: =AL34-AF34 -> -2 | AN34: =AL34-$E34 -> -23 | AO34: 61 | AP34: 63 | AQ34: 38 | AR34: =SUM(AO34:AQ34) -> 162 | AS34: =AR34-AL34 -> -1 | AT34: =AR34-$E34 -> -24 | AU34: 61 | AV34: 63 | AW34: 37 | AX34: =SUM(AU34:AW34) -> 161 | AY34: =AX34-AR34 -> -1 | AZ34: =AX34-$E34 -> -25 | BA34: 59 | BB34: 63 | BC34: 37 | BD34: =SUM(BA34:BC34) -> 159 | BE34: =BD34-AX34 -> -2 | BF34: =BD34-$E34 -> -27
A35: North East | B35: 32 | C35: 21 | D35: 14 | E35: =SUM(B35:D35) -> 67 | F35: 43 | G35: 21 | H35: 13 | I35: =SUM(F35:H35) -> 77 | J35: =I35-E35 -> 10 | K35: 40 | L35: 21 | M35: 12 | N35: =SUM(K35:M35) -> 73 | O35: =N35-I35 -> -4 | P35: =N35-$E35 -> 6 | Q35: 38 | R35: 21 | S35: 11 | T35: =SUM(Q35:S35) -> 70 | U35: =T35-N35 -> -3 | V35: =T35-$E35 -> 3 | W35: 38 | X35: 21 | Y35: 12 | Z35: =SUM(W35:Y35) -> 71 | AA35: =Z35-T35 -> 1 | AB35: =Z35-$E35 -> 4 | AC35: 34 | AD35: 21 | AE35: 12 | AF35: =SUM(AC35:AE35) -> 67 | AG35: =AF35-Z35 -> -4 | AH35: =AF35-$E35 -> 0 | AI35: 34 | AJ35: 21 | AK35: 12 | AL35: =SUM(AI35:AK35) -> 67 | AM35: =AL35-AF35 -> 0 | AN35: =AL35-$E35 -> 0 | AO35: 34 | AP35: 20 | AQ35: 12 | AR35: =SUM(AO35:AQ35) -> 66 | AS35: =AR35-AL35 -> -1 | AT35: =AR35-$E35 -> -1 | AU35: 33 | AV35: 19 | AW35: 12 | AX35: =SUM(AU35:AW35) -> 64 | AY35: =AX35-AR35 -> -2 | AZ35: =AX35-$E35 -> -3 | BA35: 32 | BB35: 19 | BC35: 12 | BD35: =SUM(BA35:BC35) -> 63 | BE35: =BD35-AX35 -> -1 | BF35: =BD35-$E35 -> -4
A36: Northwestern | B36: 37 | C36: 21 | D36: 13 | E36: =SUM(B36:D36) -> 71 | F36: 36 | G36: 18 | H36: 10 | I36: =SUM(F36:H36) -> 64 | J36: =I36-E36 -> -7 | K36: 36 | L36: 17 | M36: 10 | N36: =SUM(K36:M36) -> 63 | O36: =N36-I36 -> -1 | P36: =N36-$E36 -> -8 | Q36: 36 | R36: 17 | S36: 10 | T36: =SUM(Q36:S36) -> 63 | U36: =T36-N36 -> 0 | V36: =T36-$E36 -> -8 | W36: 33 | X36: 20 | Y36: 8 | Z36: =SUM(W36:Y36) -> 61 | AA36: =Z36-T36 -> -2 | AB36: =Z36-$E36 -> -10 | AC36: 34 | AD36: 20 | AE36: 8 | AF36: =SUM(AC36:AE36) -> 62 | AG36: =AF36-Z36 -> 1 | AH36: =AF36-$E36 -> -9 | AI36: 33 | AJ36: 19 | AK36: 8 | AL36: =SUM(AI36:AK36) -> 60 | AM36: =AL36-AF36 -> -2 | AN36: =AL36-$E36 -> -11 | AO36: 33 | AP36: 19 | AQ36: 8 | AR36: =SUM(AO36:AQ36) -> 60 | AS36: =AR36-AL36 -> 0 | AT36: =AR36-$E36 -> -11 | AU36: 33 | AV36: 19 | AW36: 8 | AX36: =SUM(AU36:AW36) -> 60 | AY36: =AX36-AR36 -> 0 | AZ36: =AX36-$E36 -> -11 | BA36: 33 | BB36: 19 | BC36: 8 | BD36: =SUM(BA36:BC36) -> 60 | BE36: =BD36-AX36 -> 0 | BF36: =BD36-$E36 -> -11
A37: Union City | B37: 22 | C37: 9 | D37: 9 | E37: =SUM(B37:D37) -> 40 | F37: 21 | G37: 10 | H37: 9 | I37: =SUM(F37:H37) -> 40 | J37: =I37-E37 -> 0 | K37: 21 | L37: 10 | M37: 9 | N37: =SUM(K37:M37) -> 40 | O37: =N37-I37 -> 0 | P37: =N37-$E37 -> 0 | Q37: 21 | R37: 10 | S37: 9 | T37: =SUM(Q37:S37) -> 40 | U37: =T37-N37 -> 0 | V37: =T37-$E37 -> 0 | W37: 20 | X37: 11 | Y37: 8 | Z37: =SUM(W37:Y37) -> 39 | AA37: =Z37-T37 -> -1 | AB37: =Z37-$E37 -> -1 | AC37: 17 | AD37: 11 | AE37: 8 | AF37: =SUM(AC37:AE37) -> 36 | AG37: =AF37-Z37 -> -3 | AH37: =AF37-$E37 -> -4 | AI37: 17 | AJ37: 11 | AK37: 8 | AL37: =SUM(AI37:AK37) -> 36 | AM37: =AL37-AF37 -> 0 | AN37: =AL37-$E37 -> -4 | AO37: 17 | AP37: 11 | AQ37: 8 | AR37: =SUM(AO37:AQ37) -> 36 | AS37: =AR37-AL37 -> 0 | AT37: =AR37-$E37 -> -4 | AU37: 17 | AV37: 10 | AW37: 8 | AX37: =SUM(AU37:AW37) -> 35 | AY37: =AX37-AR37 -> -1 | AZ37: =AX37-$E37 -> -5 | BA37: 17 | BB37: 10 | BC37: 8 | BD37: =SUM(BA37:BC37) -> 35 | BE37: =BD37-AX37 -> 0 | BF37: =BD37-$E37 -> -5
A38: Wattsburg | B38: 35 | C38: 18 | D38: 15 | E38: =SUM(B38:D38) -> 68 | F38: 42 | G38: 18 | H38: 15 | I38: =SUM(F38:H38) -> 75 | J38: =I38-E38 -> 7 | K38: 40 | L38: 17 | M38: 15 | N38: =SUM(K38:M38) -> 72 | O38: =N38-I38 -> -3 | P38: =N38-$E38 -> 4 | Q38: 41 | R38: 17 | S38: 15 | T38: =SUM(Q38:S38) -> 73 | U38: =T38-N38 -> 1 | V38: =T38-$E38 -> 5 | W38: 39 | X38: 17 | Y38: 15 | Z38: =SUM(W38:Y38) -> 71 | AA38: =Z38-T38 -> -2 | AB38: =Z38-$E38 -> 3 | AC38: 50 | AD38: 18 | AE38: 15 | AF38: =SUM(AC38:AE38) -> 83 | AG38: =AF38-Z38 -> 12 | AH38: =AF38-$E38 -> 15 | AI38: 52 | AJ38: 18 | AK38: 15 | AL38: =SUM(AI38:AK38) -> 85 | AM38: =AL38-AF38 -> 2 | AN38: =AL38-$E38 -> 17 | AO38: 52 | AP38: 17 | AQ38: 15 | AR38: =SUM(AO38:AQ38) -> 84 | AS38: =AR38-AL38 -> -1 | AT38: =AR38-$E38 -> 16 | AU38: 51 | AV38: 17 | AW38: 15 | AX38: =SUM(AU38:AW38) -> 83 | AY38: =AX38-AR38 -> -1 | AZ38: =AX38-$E38 -> 15 | BA38: 52 | BB38: 17 | BC38: 15 | BD38: =SUM(BA38:BC38) -> 84 | BE38: =BD38-AX38 -> 1 | BF38: =BD38-$E38 -> 16
A39: Totals | B39: =SUM(B28:B38) -> 391 | C39: =SUM(C28:C38) -> 240 | D39: =SUM(D28:D38) -> 156 | E39: =SUM(E28:E38) -> 787 | F39: =SUM(F28:F38) -> 389 | G39: =SUM(G28:G38) -> 225 | H39: =SUM(H28:H38) -> 152 | I39: =SUM(I28:I38) -> 766 | J39: =I39-E39 -> -21 | K39: =SUM(K28:K38) -> 377 | L39: =SUM(L28:L38) -> 221 | M39: =SUM(M28:M38) -> 151 | N39: =SUM(N28:N38) -> 749 | O39: =N39-I39 -> -17 | P39: =N39-$E39 -> -38 | Q39: =SUM(Q28:Q38) -> 374 | R39: =SUM(R28:R38) -> 219 | S39: =SUM(S28:S38) -> 150 | T39: =SUM(T28:T38) -> 743 | U39: =T39-N39 -> -6 | V39: =T39-$E39 -> -44 | W39: =SUM(W28:W38) -> 361 | X39: =SUM(X28:X38) -> 220 | Y39: =SUM(Y28:Y38) -> 154 | Z39: =SUM(Z28:Z38) -> 735 | AA39: =Z39-T39 -> -8 | AB39: =Z39-$E39 -> -52 | AC39: =SUM(AC28:AC38) -> 358 | AD39: =SUM(AD28:AD38) -> 218 | AE39: =SUM(AE28:AE38) -> 152 | AF39: =SUM(AF28:AF38) -> 728 | AG39: =AF39-Z39 -> -7 | AH39: =AF39-$E39 -> -59 | AI39: =SUM(AI28:AI38) -> 357 | AJ39: =SUM(AJ28:AJ38) -> 217 | AK39: =SUM(AK28:AK38) -> 152 | AL39: =SUM(AL28:AL38) -> 726 | AM39: =AL39-AF39 -> -2 | AN39: =AL39-$E39 -> -61 | AO39: =SUM(AO28:AO38) -> 353 | AP39: =SUM(AP28:AP38) -> 215 | AQ39: =SUM(AQ28:AQ38) -> 152 | AR39: =SUM(AR28:AR38) -> 720 | AS39: =AR39-AL39 -> -6 | AT39: =AR39-$E39 -> -67 | AU39: =SUM(AU28:AU38) -> 350 | AV39: =SUM(AV28:AV38) -> 212 | AW39: =SUM(AW28:AW38) -> 151 | AX39: =SUM(AX28:AX38) -> 713 | AY39: =AX39-AR39 -> -7 | AZ39: =AX39-$E39 -> -74 | BA39: =SUM(BA28:BA38) -> 348 | BB39: =SUM(BB28:BB38) -> 214 | BC39: =SUM(BC28:BC38) -> 149 | BD39: =SUM(BD28:BD38) -> 711 | BE39: =BD39-AX39 -> -2 | BF39: =BD39-$E39 -> -76

Sheet 0708 Monthly
B2: September 2007 | F2: October 2007 | K2: November 2007 | Q2: December 2007 | W2: January 2008 | AC2: February 2008 | AI2: March 2008 | AO2: April 2008 | AU2: May 2008 | BA2: June 2008
A3: Program | B3: Program/Year Level | E3: Total | F3: Program/Year Level | I3: Total | J3: Chg/ Month | K3: Program/Year Level | N3: Total | O3: Chg/ Month | P3: Chg/ Sept | Q3: Program/Year Level | T3: Total | U3: Chg/ Month | V3: Chg/ Sept | W3: Program/Year Level | Z3: Total | AA3: Chg/ Month | AB3: Chg/ Sept | AC3: Program/Year Level | AF3: Total | AG3: Chg/ Month | AH3: Chg/ Sept | AI3: Program/Year Level | AL3: Total | AM3: Chg/ Month | AN3: Chg/ Sept | AO3: Program/Year Level | AR3: Total | AS3: Chg/ Month | AT3: Chg/ Sept | AU3: Program/Year Level | AX3: Total | AY3: Chg/ Month | AZ3: Chg/ Sept | BA3: Program/Year Level | BD3: Total | BE3: Chg/ Month | BF3: Chg/ Sept
B4: 1st | C4: 2nd | D4: 3rd | E4: Total | F4: 1st | G4: 2nd | H4: 3rd | I4: Total | K4: 1st | L4: 2nd | M4: 3rd | N4: Total | Q4: 1st | R4: 2nd | S4: 3rd | T4: Total | W4: 1st | X4: 2nd | Y4: 3rd | Z4: Total | AC4: 1st | AD4: 2nd | AE4: 3rd | AF4: Total | AI4: 1st | AJ4: 2nd | AK4: 3rd | AL4: Total | AO4: 1st | AP4: 2nd | AQ4: 3rd | AR4: Total | AU4: 1st | AV4: 2nd | AW4: 3rd | AX4: Total | BA4: 1st | BB4: 2nd | BC4: 3rd | BD4: Total
A5: Art & Design | B5: 20 | C5: 10 | D5: 7 | E5: =SUM(B5:D5) -> 37 | F5: 17 | G5: 10 | H5: 6 | I5: =SUM(F5:H5) -> 33 | J5: =I5-E5 -> -4 | K5: 17 | L5: 10 | M5: 6 | N5: =SUM(K5:M5) -> 33 | O5: =N5-I5 -> 0 | P5: =N5-$E5 -> -4 | Q5: 17 | R5: 10 | S5: 6 | T5: =SUM(Q5:S5) -> 33 | U5: =T5-N5 -> 0 | V5: =T5-$E5 -> -4 | W5: 18 | X5: 10 | Y5: 6 | Z5: =SUM(W5:Y5) -> 34 | AA5: =Z5-T5 -> 1 | AB5: =Z5-$E5 -> -3 | AC5: 17 | AD5: 10 | AE5: 6 | AF5: =SUM(AC5:AE5) -> 33 | AG5: =AF5-Z5 -> -1 | AH5: =AF5-$E5 -> -4 | AI5: 17 | AJ5: 10 | AK5: 6 | AL5: =SUM(AI5:AK5) -> 33 | AM5: =AL5-AF5 -> 0 | AN5: =AL5-$E5 -> -4 | AO5: 16 | AP5: 10 | AQ5: 6 | AR5: =SUM(AO5:AQ5) -> 32 | AS5: =AR5-AL5 -> -1 | AT5: =AR5-$E5 -> -5 | AU5: 15 | AV5: 10 | AW5: 6 | AX5: =SUM(AU5:AW5) -> 31 | AY5: =AX5-AR5 -> -1 | AZ5: =AX5-$E5 -> -6 | BA5: 15 | BB5: 10 | BC5: 6 | BD5: =SUM(BA5:BC5) -> 31 | BE5: =BD5-AX5 -> 0 | BF5: =BD5-$E5 -> -6
A6: Auto Body | B6: 20 | C6: 14 | D6: 7 | E6: =SUM(B6:D6) -> 41 | F6: 21 | G6: 13 | H6: 7 | I6: =SUM(F6:H6) -> 41 | J6: =I6-E6 -> 0 | K6: 20 | L6: 13 | M6: 7 | N6: =SUM(K6:M6) -> 40 | O6: =N6-I6 -> -1 | P6: =N6-$E6 -> -1 | Q6: 20 | R6: 13 | S6: 6 | T6: =SUM(Q6:S6) -> 39 | U6: =T6-N6 -> -1 | V6: =T6-$E6 -> -2 | W6: 20 | X6: 12 | Y6: 7 | Z6: =SUM(W6:Y6) -> 39 | AA6: =Z6-T6 -> 0 | AB6: =Z6-$E6 -> -2 | AC6: 19 | AD6: 11 | AE6: 7 | AF6: =SUM(AC6:AE6) -> 37 | AG6: =AF6-Z6 -> -2 | AH6: =AF6-$E6 -> -4 | AI6: 19 | AJ6: 11 | AK6: 7 | AL6: =SUM(AI6:AK6) -> 37 | AM6: =AL6-AF6 -> 0 | AN6: =AL6-$E6 -> -4 | AO6: 19 | AP6: 11 | AQ6: 7 | AR6: =SUM(AO6:AQ6) -> 37 | AS6: =AR6-AL6 -> 0 | AT6: =AR6-$E6 -> -4 | AU6: 18 | AV6: 11 | AW6: 7 | AX6: =SUM(AU6:AW6) -> 36 | AY6: =AX6-AR6 -> -1 | AZ6: =AX6-$E6 -> -5 | BA6: 18 | BB6: 11 | BC6: 7 | BD6: =SUM(BA6:BC6) -> 36 | BE6: =BD6-AX6 -> 0 | BF6: =BD6-$E6 -> -5
A7: Automotive Technologies | B7: 43 | C7: 29 | D7: 11 | E7: =SUM(B7:D7) -> 83 | F7: 38 | G7: 29 | H7: 11 | I7: =SUM(F7:H7) -> 78 | J7: =I7-E7 -> -5 | K7: 40 | L7: 29 | M7: 10 | N7: =SUM(K7:M7) -> 79 | O7: =N7-I7 -> 1 | P7: =N7-$E7 -> -4 | Q7: 40 | R7: 29 | S7: 10 | T7: =SUM(Q7:S7) -> 79 | U7: =T7-N7 -> 0 | V7: =T7-$E7 -> -4 | W7: 38 | X7: 29 | Y7: 10 | Z7: =SUM(W7:Y7) -> 77 | AA7: =Z7-T7 -> -2 | AB7: =Z7-$E7 -> -6 | AC7: 33 | AD7: 28 | AE7: 10 | AF7: =SUM(AC7:AE7) -> 71 | AG7: =AF7-Z7 -> -6 | AH7: =AF7-$E7 -> -12 | AI7: 33 | AJ7: 28 | AK7: 10 | AL7: =SUM(AI7:AK7) -> 71 | AM7: =AL7-AF7 -> 0 | AN7: =AL7-$E7 -> -12 | AO7: 33 | AP7: 28 | AQ7: 10 | AR7: =SUM(AO7:AQ7) -> 71 | AS7: =AR7-AL7 -> 0 | AT7: =AR7-$E7 -> -12 | AU7: 33 | AV7: 28 | AW7: 10 | AX7: =SUM(AU7:AW7) -> 71 | AY7: =AX7-AR7 -> 0 | AZ7: =AX7-$E7 -> -12 | BA7: 33 | BB7: 28 | BC7: 12 | BD7: =SUM(BA7:BC7) -> 73 | BE7: =BD7-AX7 -> 2 | BF7: =BD7-$E7 -> -10
A8: Computer Info. Systems | B8: 15 | C8: 16 | D8: 9 | E8: =SUM(B8:D8) -> 40 | F8: 15 | G8: 16 | H8: 9 | I8: =SUM(F8:H8) -> 40 | J8: =I8-E8 -> 0 | K8: 16 | L8: 16 | M8: 9 | N8: =SUM(K8:M8) -> 41 | O8: =N8-I8 -> 1 | P8: =N8-$E8 -> 1 | Q8: 16 | R8: 16 | S8: 9 | T8: =SUM(Q8:S8) -> 41 | U8: =T8-N8 -> 0 | V8: =T8-$E8 -> 1 | W8: 15 | X8: 16 | Y8: 9 | Z8: =SUM(W8:Y8) -> 40 | AA8: =Z8-T8 -> -1 | AB8: =Z8-$E8 -> 0 | AC8: 15 | AD8: 16 | AE8: 9 | AF8: =SUM(AC8:AE8) -> 40 | AG8: =AF8-Z8 -> 0 | AH8: =AF8-$E8 -> 0 | AI8: 15 | AJ8: 16 | AK8: 9 | AL8: =SUM(AI8:AK8) -> 40 | AM8: =AL8-AF8 -> 0 | AN8: =AL8-$E8 -> 0 | AO8: 15 | AP8: 16 | AQ8: 8 | AR8: =SUM(AO8:AQ8) -> 39 | AS8: =AR8-AL8 -> -1 | AT8: =AR8-$E8 -> -1 | AU8: 15 | AV8: 16 | AW8: 8 | AX8: =SUM(AU8:AW8) -> 39 | AY8: =AX8-AR8 -> 0 | AZ8: =AX8-$E8 -> -1 | BA8: 15 | BB8: 16 | BC8: 8 | BD8: =SUM(BA8:BC8) -> 39 | BE8: =BD8-AX8 -> 0 | BF8: =BD8-$E8 -> -1
A9: Construction Trades | B9: 26 | C9: 20 | D9: 15 | E9: =SUM(B9:D9) -> 61 | F9: 20 | G9: 19 | H9: 15 | I9: =SUM(F9:H9) -> 54 | J9: =I9-E9 -> -7 | K9: 20 | L9: 19 | M9: 14 | N9: =SUM(K9:M9) -> 53 | O9: =N9-I9 -> -1 | P9: =N9-$E9 -> -8 | Q9: 20 | R9: 19 | S9: 14 | T9: =SUM(Q9:S9) -> 53 | U9: =T9-N9 -> 0 | V9: =T9-$E9 -> -8 | W9: 20 | X9: 17 | Y9: 15 | Z9: =SUM(W9:Y9) -> 52 | AA9: =Z9-T9 -> -1 | AB9: =Z9-$E9 -> -9 | AC9: 21 | AD9: 17 | AE9: 15 | AF9: =SUM(AC9:AE9) -> 53 | AG9: =AF9-Z9 -> 1 | AH9: =AF9-$E9 -> -8 | AI9: 21 | AJ9: 17 | AK9: 15 | AL9: =SUM(AI9:AK9) -> 53 | AM9: =AL9-AF9 -> 0 | AN9: =AL9-$E9 -> -8 | AO9: 20 | AP9: 17 | AQ9: 14 | AR9: =SUM(AO9:AQ9) -> 51 | AS9: =AR9-AL9 -> -2 | AT9: =AR9-$E9 -> -10 | AU9: 20 | AV9: 17 | AW9: 14 | AX9: =SUM(AU9:AW9) -> 51 | AY9: =AX9-AR9 -> 0 | AZ9: =AX9-$E9 -> -10 | BA9: 20 | BB9: 17 | BC9: 14 | BD9: =SUM(BA9:BC9) -> 51 | BE9: =BD9-AX9 -> 0 | BF9: =BD9-$E9 -> -10
A10: Cosmetology | B10: 22 | C10: 11 | D10: 11 | E10: =SUM(B10:D10) -> 44 | F10: 22 | G10: 10 | H10: 12 | I10: =SUM(F10:H10) -> 44 | J10: =I10-E10 -> 0 | K10: 22 | L10: 10 | M10: 12 | N10: =SUM(K10:M10) -> 44 | O10: =N10-I10 -> 0 | P10: =N10-$E10 -> 0 | Q10: 22 | R10: 10 | S10: 12 | T10: =SUM(Q10:S10) -> 44 | U10: =T10-N10 -> 0 | V10: =T10-$E10 -> 0 | W10: 21 | X10: 11 | Y10: 12 | Z10: =SUM(W10:Y10) -> 44 | AA10: =Z10-T10 -> 0 | AB10: =Z10-$E10 -> 0 | AC10: 20 | AD10: 11 | AE10: 12 | AF10: =SUM(AC10:AE10) -> 43 | AG10: =AF10-Z10 -> -1 | AH10: =AF10-$E10 -> -1 | AI10: 21 | AJ10: 11 | AK10: 12 | AL10: =SUM(AI10:AK10) -> 44 | AM10: =AL10-AF10 -> 1 | AN10: =AL10-$E10 -> 0 | AO10: 21 | AP10: 11 | AQ10: 12 | AR10: =SUM(AO10:AQ10) -> 44 | AS10: =AR10-AL10 -> 0 | AT10: =AR10-$E10 -> 0 | AU10: 21 | AV10: 11 | AW10: 12 | AX10: =SUM(AU10:AW10) -> 44 | AY10: =AX10-AR10 -> 0 | AZ10: =AX10-$E10 -> 0 | BA10: 21 | BB10: 11 | BC10: 12 | BD10: =SUM(BA10:BC10) -> 44 | BE10: =BD10-AX10 -> 0 | BF10: =BD10-$E10 -> 0
A11: Culinary Arts | B11: 40 | C11: 23 | D11: 15 | E11: =SUM(B11:D11) -> 78 | F11: 39 | G11: 22 | H11: 15 | I11: =SUM(F11:H11) -> 76 | J11: =I11-E11 -> -2 | K11: 38 | L11: 21 | M11: 15 | N11: =SUM(K11:M11) -> 74 | O11: =N11-I11 -> -2 | P11: =N11-$E11 -> -4 | Q11: 36 | R11: 21 | S11: 15 | T11: =SUM(Q11:S11) -> 72 | U11: =T11-N11 -> -2 | V11: =T11-$E11 -> -6 | W11: 34 | X11: 22 | Y11: 15 | Z11: =SUM(W11:Y11) -> 71 | AA11: =Z11-T11 -> -1 | AB11: =Z11-$E11 -> -7 | AC11: 34 | AD11: 20 | AE11: 15 | AF11: =SUM(AC11:AE11) -> 69 | AG11: =AF11-Z11 -> -2 | AH11: =AF11-$E11 -> -9 | AI11: 34 | AJ11: 20 | AK11: 15 | AL11: =SUM(AI11:AK11) -> 69 | AM11: =AL11-AF11 -> 0 | AN11: =AL11-$E11 -> -9 | AO11: 34 | AP11: 20 | AQ11: 15 | AR11: =SUM(AO11:AQ11) -> 69 | AS11: =AR11-AL11 -> 0 | AT11: =AR11-$E11 -> -9 | AU11: 34 | AV11: 20 | AW11: 15 | AX11: =SUM(AU11:AW11) -> 69 | AY11: =AX11-AR11 -> 0 | AZ11: =AX11-$E11 -> -9 | BA11: 35 | BB11: 20 | BC11: 15 | BD11: =SUM(BA11:BC11) -> 70 | BE11: =BD11-AX11 -> 1 | BF11: =BD11-$E11 -> -8
A12: Diversified Ocupations | B12: 1 | E12: =SUM(B12:D12) -> 1 | F12: 1 | G12: 0 | H12: 0 | I12: =SUM(F12:H12) -> 1 | J12: =I12-E12 -> 0 | K12: 10 | L12: 0 | M12: 0 | N12: =SUM(K12:M12) -> 10 | O12: =N12-I12 -> 9 | P12: =N12-$E12 -> 9 | Q12: 11 | R12: 0 | S12: 0 | T12: =SUM(Q12:S12) -> 11 | U12: =T12-N12 -> 1 | V12: =T12-$E12 -> 10 | W12: 8 | X12: 1 | Y12: 0 | Z12: =SUM(W12:Y12) -> 9 | AA12: =Z12-T12 -> -2 | AB12: =Z12-$E12 -> 8 | AC12: 12 | AD12: 1 | AE12: 0 | AF12: =SUM(AC12:AE12) -> 13 | AG12: =AF12-Z12 -> 4 | AH12: =AF12-$E12 -> 12 | AI12: 12 | AJ12: 1 | AK12: 0 | AL12: =SUM(AI12:AK12) -> 13 | AM12: =AL12-AF12 -> 0 | AN12: =AL12-$E12 -> 12 | AO12: 14 | AP12: 1 | AQ12: 0 | AR12: =SUM(AO12:AQ12) -> 15 | AS12: =AR12-AL12 -> 2 | AT12: =AR12-$E12 -> 14 | AU12: 13 | AV12: 1 | AW12: 0 | AX12: =SUM(AU12:AW12) -> 14 | AY12: =AX12-AR12 -> -1 | AZ12: =AX12-$E12 -> 13 | BA12: 18 | BB12: 1 | BC12: 0 | BD12: =SUM(BA12:BC12) -> 19 | BE12: =BD12-AX12 -> 5 | BF12: =BD12-$E12 -> 18
A13: Drafting & Design | B13: 12 | C13: 11 | D13: 8 | E13: =SUM(B13:D13) -> 31 | F13: 12 | G13: 11 | H13: 8 | I13: =SUM(F13:H13) -> 31 | J13: =I13-E13 -> 0 | K13: 12 | L13: 11 | M13: 8 | N13: =SUM(K13:M13) -> 31 | O13: =N13-I13 -> 0 | P13: =N13-$E13 -> 0 | Q13: 12 | R13: 11 | S13: 8 | T13: =SUM(Q13:S13) -> 31 | U13: =T13-N13 -> 0 | V13: =T13-$E13 -> 0 | W13: 11 | X13: 11 | Y13: 9 | Z13: =SUM(W13:Y13) -> 31 | AA13: =Z13-T13 -> 0 | AB13: =Z13-$E13 -> 0 | AC13: 13 | AD13: 11 | AE13: 9 | AF13: =SUM(AC13:AE13) -> 33 | AG13: =AF13-Z13 -> 2 | AH13: =AF13-$E13 -> 2 | AI13: 13 | AJ13: 11 | AK13: 9 | AL13: =SUM(AI13:AK13) -> 33 | AM13: =AL13-AF13 -> 0 | AN13: =AL13-$E13 -> 2 | AO13: 13 | AP13: 11 | AQ13: 9 | AR13: =SUM(AO13:AQ13) -> 33 | AS13: =AR13-AL13 -> 0 | AT13: =AR13-$E13 -> 2 | AU13: 13 | AV13: 11 | AW13: 9 | AX13: =SUM(AU13:AW13) -> 33 | AY13: =AX13-AR13 -> 0 | AZ13: =AX13-$E13 -> 2 | BA13: 13 | BB13: 11 | BC13: 9 | BD13: =SUM(BA13:BC13) -> 33 | BE13: =BD13-AX13 -> 0 | BF13: =BD13-$E13 -> 2
A14: Early Childhood Education | B14: 23 | C14: 12 | D14: 11 | E14: =SUM(B14:D14) -> 46 | F14: 25 | G14: 12 | H14: 11 | I14: =SUM(F14:H14) -> 48 | J14: =I14-E14 -> 2 | K14: 24 | L14: 12 | M14: 11 | N14: =SUM(K14:M14) -> 47 | O14: =N14-I14 -> -1 | P14: =N14-$E14 -> 1 | Q14: 24 | R14: 12 | S14: 11 | T14: =SUM(Q14:S14) -> 47 | U14: =T14-N14 -> 0 | V14: =T14-$E14 -> 1 | W14: 23 | X14: 12 | Y14: 11 | Z14: =SUM(W14:Y14) -> 46 | AA14: =Z14-T14 -> -1 | AB14: =Z14-$E14 -> 0 | AC14: 22 | AD14: 12 | AE14: 11 | AF14: =SUM(AC14:AE14) -> 45 | AG14: =AF14-Z14 -> -1 | AH14: =AF14-$E14 -> -1 | AI14: 22 | AJ14: 12 | AK14: 11 | AL14: =SUM(AI14:AK14) -> 45 | AM14: =AL14-AF14 -> 0 | AN14: =AL14-$E14 -> -1 | AO14: 22 | AP14: 12 | AQ14: 11 | AR14: =SUM(AO14:AQ14) -> 45 | AS14: =AR14-AL14 -> 0 | AT14: =AR14-$E14 -> -1 | AU14: 21 | AV14: 12 | AW14: 11 | AX14: =SUM(AU14:AW14) -> 44 | AY14: =AX14-AR14 -> -1 | AZ14: =AX14-$E14 -> -2 | BA14: 21 | BB14: 12 | BC14: 11 | BD14: =SUM(BA14:BC14) -> 44 | BE14: =BD14-AX14 -> 0 | BF14: =BD14-$E14 -> -2
A15: Electrical Engineering | B15: 20 | C15: 11 | D15: 11 | E15: =SUM(B15:D15) -> 42 | F15: 21 | G15: 10 | H15: 8 | I15: =SUM(F15:H15) -> 39 | J15: =I15-E15 -> -3 | K15: 21 | L15: 10 | M15: 8 | N15: =SUM(K15:M15) -> 39 | O15: =N15-I15 -> 0 | P15: =N15-$E15 -> -3 | Q15: 21 | R15: 10 | S15: 8 | T15: =SUM(Q15:S15) -> 39 | U15: =T15-N15 -> 0 | V15: =T15-$E15 -> -3 | W15: 19 | X15: 11 | Y15: 8 | Z15: =SUM(W15:Y15) -> 38 | AA15: =Z15-T15 -> -1 | AB15: =Z15-$E15 -> -4 | AC15: 20 | AD15: 11 | AE15: 8 | AF15: =SUM(AC15:AE15) -> 39 | AG15: =AF15-Z15 -> 1 | AH15: =AF15-$E15 -> -3 | AI15: 19 | AJ15: 11 | AK15: 8 | AL15: =SUM(AI15:AK15) -> 38 | AM15: =AL15-AF15 -> -1 | AN15: =AL15-$E15 -> -4 | AO15: 19 | AP15: 11 | AQ15: 8 | AR15: =SUM(AO15:AQ15) -> 38 | AS15: =AR15-AL15 -> 0 | AT15: =AR15-$E15 -> -4 | AU15: 19 | AV15: 11 | AW15: 7 | AX15: =SUM(AU15:AW15) -> 37 | AY15: =AX15-AR15 -> -1 | AZ15: =AX15-$E15 -> -5 | BA15: 19 | BB15: 11 | BC15: 7 | BD15: =SUM(BA15:BC15) -> 37 | BE15: =BD15-AX15 -> 0 | BF15: =BD15-$E15 -> -5
A16: Electronics | B16: 13 | C16: 8 | D16: 8 | E16: =SUM(B16:D16) -> 29 | F16: 11 | G16: 8 | H16: 8 | I16: =SUM(F16:H16) -> 27 | J16: =I16-E16 -> -2 | K16: 10 | L16: 8 | M16: 8 | N16: =SUM(K16:M16) -> 26 | O16: =N16-I16 -> -1 | P16: =N16-$E16 -> -3 | Q16: 10 | R16: 8 | S16: 8 | T16: =SUM(Q16:S16) -> 26 | U16: =T16-N16 -> 0 | V16: =T16-$E16 -> -3 | W16: 10 | X16: 8 | Y16: 8 | Z16: =SUM(W16:Y16) -> 26 | AA16: =Z16-T16 -> 0 | AB16: =Z16-$E16 -> -3 | AC16: 8 | AD16: 8 | AE16: 8 | AF16: =SUM(AC16:AE16) -> 24 | AG16: =AF16-Z16 -> -2 | AH16: =AF16-$E16 -> -5 | AI16: 8 | AJ16: 8 | AK16: 8 | AL16: =SUM(AI16:AK16) -> 24 | AM16: =AL16-AF16 -> 0 | AN16: =AL16-$E16 -> -5 | AO16: 8 | AP16: 8 | AQ16: 8 | AR16: =SUM(AO16:AQ16) -> 24 | AS16: =AR16-AL16 -> 0 | AT16: =AR16-$E16 -> -5 | AU16: 8 | AV16: 8 | AW16: 8 | AX16: =SUM(AU16:AW16) -> 24 | AY16: =AX16-AR16 -> 0 | AZ16: =AX16-$E16 -> -5 | BA16: 8 | BB16: 8 | BC16: 8 | BD16: =SUM(BA16:BC16) -> 24 | BE16: =BD16-AX16 -> 0 | BF16: =BD16-$E16 -> -5
A17: Facilities Maintenance Tech | B17: 10 | C17: 15 | D17: 8 | E17: =SUM(B17:D17) -> 33 | F17: 9 | G17: 15 | H17: 8 | I17: =SUM(F17:H17) -> 32 | J17: =I17-E17 -> -1 | K17: 9 | L17: 15 | M17: 8 | N17: =SUM(K17:M17) -> 32 | O17: =N17-I17 -> 0 | P17: =N17-$E17 -> -1 | Q17: 9 | R17: 15 | S17: 8 | T17: =SUM(Q17:S17) -> 32 | U17: =T17-N17 -> 0 | V17: =T17-$E17 -> -1 | W17: 7 | X17: 17 | Y17: 7 | Z17: =SUM(W17:Y17) -> 31 | AA17: =Z17-T17 -> -1 | AB17: =Z17-$E17 -> -2 | AC17: 8 | AD17: 17 | AE17: 7 | AF17: =SUM(AC17:AE17) -> 32 | AG17: =AF17-Z17 -> 1 | AH17: =AF17-$E17 -> -1 | AI17: 8 | AJ17: 16 | AK17: 7 | AL17: =SUM(AI17:AK17) -> 31 | AM17: =AL17-AF17 -> -1 | AN17: =AL17-$E17 -> -2 | AO17: 8 | AP17: 16 | AQ17: 7 | AR17: =SUM(AO17:AQ17) -> 31 | AS17: =AR17-AL17 -> 0 | AT17: =AR17-$E17 -> -2 | AU17: 8 | AV17: 15 | AW17: 7 | AX17: =SUM(AU17:AW17) -> 30 | AY17: =AX17-AR17 -> -1 | AZ17: =AX17-$E17 -> -3 | BA17: 7 | BB17: 15 | BC17: 7 | BD17: =SUM(BA17:BC17) -> 29 | BE17: =BD17-AX17 -> -1 | BF17: =BD17-$E17 -> -4
A18: Graphic Communications | B18: 21 | C18: 12 | D18: 6 | E18: =SUM(B18:D18) -> 39 | F18: 20 | G18: 10 | H18: 5 | I18: =SUM(F18:H18) -> 35 | J18: =I18-E18 -> -4 | K18: 21 | L18: 10 | M18: 5 | N18: =SUM(K18:M18) -> 36 | O18: =N18-I18 -> 1 | P18: =N18-$E18 -> -3 | Q18: 21 | R18: 10 | S18: 5 | T18: =SUM(Q18:S18) -> 36 | U18: =T18-N18 -> 0 | V18: =T18-$E18 -> -3 | W18: 21 | X18: 9 | Y18: 5 | Z18: =SUM(W18:Y18) -> 35 | AA18: =Z18-T18 -> -1 | AB18: =Z18-$E18 -> -4 | AC18: 21 | AD18: 8 | AE18: 5 | AF18: =SUM(AC18:AE18) -> 34 | AG18: =AF18-Z18 -> -1 | AH18: =AF18-$E18 -> -5 | AI18: 21 | AJ18: 8 | AK18: 5 | AL18: =SUM(AI18:AK18) -> 34 | AM18: =AL18-AF18 -> 0 | AN18: =AL18-$E18 -> -5 | AO18: 21 | AP18: 8 | AQ18: 5 | AR18: =SUM(AO18:AQ18) -> 34 | AS18: =AR18-AL18 -> 0 | AT18: =AR18-$E18 -> -5 | AU18: 21 | AV18: 8 | AW18: 5 | AX18: =SUM(AU18:AW18) -> 34 | AY18: =AX18-AR18 -> 0 | AZ18: =AX18-$E18 -> -5 | BA18: 21 | BB18: 8 | BC18: 5 | BD18: =SUM(BA18:BC18) -> 34 | BE18: =BD18-AX18 -> 0 | BF18: =BD18-$E18 -> -5
A19: Health Assistant | B19: 24 | C19: 12 | D19: 13 | E19: =SUM(B19:D19) -> 49 | F19: 22 | G19: 10 | H19: 12 | I19: =SUM(F19:H19) -> 44 | J19: =I19-E19 -> -5 | K19: 22 | L19: 10 | M19: 12 | N19: =SUM(K19:M19) -> 44 | O19: =N19-I19 -> 0 | P19: =N19-$E19 -> -5 | Q19: 20 | R19: 9 | S19: 12 | T19: =SUM(Q19:S19) -> 41 | U19: =T19-N19 -> -3 | V19: =T19-$E19 -> -8 | W19: 19 | X19: 9 | Y19: 12 | Z19: =SUM(W19:Y19) -> 40 | AA19: =Z19-T19 -> -1 | AB19: =Z19-$E19 -> -9 | AC19: 19 | AD19: 9 | AE19: 12 | AF19: =SUM(AC19:AE19) -> 40 | AG19: =AF19-Z19 -> 0 | AH19: =AF19-$E19 -> -9 | AI19: 19 | AJ19: 9 | AK19: 12 | AL19: =SUM(AI19:AK19) -> 40 | AM19: =AL19-AF19 -> 0 | AN19: =AL19-$E19 -> -9 | AO19: 19 | AP19: 9 | AQ19: 12 | AR19: =SUM(AO19:AQ19) -> 40 | AS19: =AR19-AL19 -> 0 | AT19: =AR19-$E19 -> -9 | AU19: 19 | AV19: 9 | AW19: 11 | AX19: =SUM(AU19:AW19) -> 39 | AY19: =AX19-AR19 -> -1 | AZ19: =AX19-$E19 -> -10 | BA19: 19 | BB19: 10 | BC19: 11 | BD19: =SUM(BA19:BC19) -> 40 | BE19: =BD19-AX19 -> 1 | BF19: =BD19-$E19 -> -9
A20: Metal Fabrication | B20: 17 | C20: 12 | D20: 11 | E20: =SUM(B20:D20) -> 40 | F20: 17 | G20: 12 | H20: 11 | I20: =SUM(F20:H20) -> 40 | J20: =I20-E20 -> 0 | K20: 17 | L20: 12 | M20: 11 | N20: =SUM(K20:M20) -> 40 | O20: =N20-I20 -> 0 | P20: =N20-$E20 -> 0 | Q20: 16 | R20: 12 | S20: 10 | T20: =SUM(Q20:S20) -> 38 | U20: =T20-N20 -> -2 | V20: =T20-$E20 -> -2 | W20: 16 | X20: 12 | Y20: 10 | Z20: =SUM(W20:Y20) -> 38 | AA20: =Z20-T20 -> 0 | AB20: =Z20-$E20 -> -2 | AC20: 16 | AD20: 12 | AE20: 10 | AF20: =SUM(AC20:AE20) -> 38 | AG20: =AF20-Z20 -> 0 | AH20: =AF20-$E20 -> -2 | AI20: 16 | AJ20: 12 | AK20: 10 | AL20: =SUM(AI20:AK20) -> 38 | AM20: =AL20-AF20 -> 0 | AN20: =AL20-$E20 -> -2 | AO20: 16 | AP20: 12 | AQ20: 10 | AR20: =SUM(AO20:AQ20) -> 38 | AS20: =AR20-AL20 -> 0 | AT20: =AR20-$E20 -> -2 | AU20: 16 | AV20: 12 | AW20: 9 | AX20: =SUM(AU20:AW20) -> 37 | AY20: =AX20-AR20 -> -1 | AZ20: =AX20-$E20 -> -3 | BA20: 16 | BB20: 12 | BC20: 10 | BD20: =SUM(BA20:BC20) -> 38 | BE20: =BD20-AX20 -> 1 | BF20: =BD20-$E20 -> -2
A21: Networking Technologies | B21: 19 | E21: =SUM(B21:D21) -> 19 | F21: 20 | G21: 0 | H21: 0 | I21: =SUM(F21:H21) -> 20 | J21: =I21-E21 -> 1 | K21: 18 | L21: 0 | M21: 0 | N21: =SUM(K21:M21) -> 18 | O21: =N21-I21 -> -2 | P21: =N21-$E21 -> -1 | Q21: 18 | R21: 0 | S21: 0 | T21: =SUM(Q21:S21) -> 18 | U21: =T21-N21 -> 0 | V21: =T21-$E21 -> -1 | W21: 18 | X21: 0 | Y21: 0 | Z21: =SUM(W21:Y21) -> 18 | AA21: =Z21-T21 -> 0 | AB21: =Z21-$E21 -> -1 | AC21: 18 | AD21: 0 | AE21: 0 | AF21: =SUM(AC21:AE21) -> 18 | AG21: =AF21-Z21 -> 0 | AH21: =AF21-$E21 -> -1 | AI21: 18 | AJ21: 0 | AK21: 0 | AL21: =SUM(AI21:AK21) -> 18 | AM21: =AL21-AF21 -> 0 | AN21: =AL21-$E21 -> -1 | AO21: 18 | AP21: 0 | AQ21: 0 | AR21: =SUM(AO21:AQ21) -> 18 | AS21: =AR21-AL21 -> 0 | AT21: =AR21-$E21 -> -1 | AU21: 18 | AV21: 0 | AW21: 0 | AX21: =SUM(AU21:AW21) -> 18 | AY21: =AX21-AR21 -> 0 | AZ21: =AX21-$E21 -> -1 | BA21: 18 | BB21: 0 | BC21: 0 | BD21: =SUM(BA21:BC21) -> 18 | BE21: =BD21-AX21 -> 0 | BF21: =BD21-$E21 -> -1
A22: Plastics Technologies | B22: 0 | C22: 0 | D22: 3 | E22: =SUM(B22:D22) -> 3 | F22: 0 | G22: 0 | H22: 3 | I22: =SUM(F22:H22) -> 3 | J22: =I22-E22 -> 0 | K22: 0 | L22: 0 | M22: 2 | N22: =SUM(K22:M22) -> 2 | O22: =N22-I22 -> -1 | P22: =N22-$E22 -> -1 | Q22: 0 | R22: 0 | S22: 1 | T22: =SUM(Q22:S22) -> 1 | U22: =T22-N22 -> -1 | V22: =T22-$E22 -> -2 | W22: 0 | X22: 0 | Y22: 1 | Z22: =SUM(W22:Y22) -> 1 | AA22: =Z22-T22 -> 0 | AB22: =Z22-$E22 -> -2 | AC22: 0 | AD22: 0 | AE22: 1 | AF22: =SUM(AC22:AE22) -> 1 | AG22: =AF22-Z22 -> 0 | AH22: =AF22-$E22 -> -2 | AI22: 0 | AJ22: 0 | AK22: 1 | AL22: =SUM(AI22:AK22) -> 1 | AM22: =AL22-AF22 -> 0 | AN22: =AL22-$E22 -> -2 | AO22: 0 | AP22: 0 | AQ22: 1 | AR22: =SUM(AO22:AQ22) -> 1 | AS22: =AR22-AL22 -> 0 | AT22: =AR22-$E22 -> -2 | AU22: 0 | AV22: 0 | AW22: 1 | AX22: =SUM(AU22:AW22) -> 1 | AY22: =AX22-AR22 -> 0 | AZ22: =AX22-$E22 -> -2 | BA22: 0 | BB22: 0 | BC22: 1 | BD22: =SUM(BA22:BC22) -> 1 | BE22: =BD22-AX22 -> 0 | BF22: =BD22-$E22 -> -2
A23: Tool & Die | B23: 6 | C23: 7 | D23: 7 | E23: =SUM(B23:D23) -> 20 | F23: 6 | G23: 7 | H23: 7 | I23: =SUM(F23:H23) -> 20 | J23: =I23-E23 -> 0 | K23: 6 | L23: 7 | M23: 7 | N23: =SUM(K23:M23) -> 20 | O23: =N23-I23 -> 0 | P23: =N23-$E23 -> 0 | Q23: 6 | R23: 7 | S23: 7 | T23: =SUM(Q23:S23) -> 20 | U23: =T23-N23 -> 0 | V23: =T23-$E23 -> 0 | W23: 2 | X23: 10 | Y23: 7 | Z23: =SUM(W23:Y23) -> 19 | AA23: =Z23-T23 -> -1 | AB23: =Z23-$E23 -> -1 | AC23: 3 | AD23: 10 | AE23: 7 | AF23: =SUM(AC23:AE23) -> 20 | AG23: =AF23-Z23 -> 1 | AH23: =AF23-$E23 -> 0 | AI23: 3 | AJ23: 10 | AK23: 7 | AL23: =SUM(AI23:AK23) -> 20 | AM23: =AL23-AF23 -> 0 | AN23: =AL23-$E23 -> 0 | AO23: 3 | AP23: 10 | AQ23: 7 | AR23: =SUM(AO23:AQ23) -> 20 | AS23: =AR23-AL23 -> 0 | AT23: =AR23-$E23 -> 0 | AU23: 3 | AV23: 10 | AW23: 7 | AX23: =SUM(AU23:AW23) -> 20 | AY23: =AX23-AR23 -> 0 | AZ23: =AX23-$E23 -> 0 | BA23: 3 | BB23: 10 | BC23: 7 | BD23: =SUM(BA23:BC23) -> 20 | BE23: =BD23-AX23 -> 0 | BF23: =BD23-$E23 -> 0
A24: Tourism & Hospitality | B24: 41 | E24: =SUM(B24:D24) -> 41 | F24: 38 | G24: 0 | H24: 0 | I24: =SUM(F24:H24) -> 38 | J24: =I24-E24 -> -3 | K24: 38 | L24: 0 | M24: 0 | N24: =SUM(K24:M24) -> 38 | O24: =N24-I24 -> 0 | P24: =N24-$E24 -> -3 | Q24: 37 | R24: 0 | S24: 0 | T24: =SUM(Q24:S24) -> 37 | U24: =T24-N24 -> -1 | V24: =T24-$E24 -> -4 | W24: 37 | X24: 0 | Y24: 0 | Z24: =SUM(W24:Y24) -> 37 | AA24: =Z24-T24 -> 0 | AB24: =Z24-$E24 -> -4 | AC24: 35 | AD24: 0 | AE24: 0 | AF24: =SUM(AC24:AE24) -> 35 | AG24: =AF24-Z24 -> -2 | AH24: =AF24-$E24 -> -6 | AI24: 35 | AJ24: 0 | AK24: 0 | AL24: =SUM(AI24:AK24) -> 35 | AM24: =AL24-AF24 -> 0 | AN24: =AL24-$E24 -> -6 | AO24: 33 | AP24: 0 | AQ24: 0 | AR24: =SUM(AO24:AQ24) -> 33 | AS24: =AR24-AL24 -> -2 | AT24: =AR24-$E24 -> -8 | AU24: 32 | AV24: 0 | AW24: 0 | AX24: =SUM(AU24:AW24) -> 32 | AY24: =AX24-AR24 -> -1 | AZ24: =AX24-$E24 -> -9 | BA24: 31 | BB24: 0 | BC24: 0 | BD24: =SUM(BA24:BC24) -> 31 | BE24: =BD24-AX24 -> -1 | BF24: =BD24-$E24 -> -10
A25: TOTALS | B25: =SUM(B5:B24) -> 393 | C25: =SUM(C5:C24) -> 223 | D25: =SUM(D5:D24) -> 161 | E25: =SUM(B25:D25) -> 777 | F25: =SUM(F5:F24) -> 374 | G25: =SUM(G5:G24) -> 214 | H25: =SUM(H5:H24) -> 156 | I25: =SUM(I5:I24) -> 744 | J25: =I25-E25 -> -33 | K25: =SUM(K5:K24) -> 381 | L25: =SUM(L5:L24) -> 213 | M25: =SUM(M5:M24) -> 153 | N25: =SUM(N5:N24) -> 747 | O25: =N25-I25 -> 3 | P25: =N25-$E25 -> -30 | Q25: =SUM(Q5:Q24) -> 376 | R25: =SUM(R5:R24) -> 212 | S25: =SUM(S5:S24) -> 150 | T25: =SUM(T5:T24) -> 738 | U25: =T25-N25 -> -9 | V25: =T25-$E25 -> -39 | W25: =SUM(W5:W24) -> 357 | X25: =SUM(X5:X24) -> 217 | Y25: =SUM(Y5:Y24) -> 152 | Z25: =SUM(Z5:Z24) -> 726 | AA25: =Z25-T25 -> -12 | AB25: =Z25-$E25 -> -51 | AC25: =SUM(AC5:AC24) -> 354 | AD25: =SUM(AD5:AD24) -> 212 | AE25: =SUM(AE5:AE24) -> 152 | AF25: =SUM(AF5:AF24) -> 718 | AG25: =AF25-Z25 -> -8 | AH25: =AF25-$E25 -> -59 | AI25: =SUM(AI5:AI24) -> 354 | AJ25: =SUM(AJ5:AJ24) -> 211 | AK25: =SUM(AK5:AK24) -> 152 | AL25: =SUM(AL5:AL24) -> 717 | AM25: =AL25-AF25 -> -1 | AN25: =AL25-$E25 -> -60 | AO25: =SUM(AO5:AO24) -> 352 | AP25: =SUM(AP5:AP24) -> 211 | AQ25: =SUM(AQ5:AQ24) -> 150 | AR25: =SUM(AR5:AR24) -> 713 | AS25: =AR25-AL25 -> -4 | AT25: =AR25-$E25 -> -64 | AU25: =SUM(AU5:AU24) -> 347 | AV25: =SUM(AV5:AV24) -> 210 | AW25: =SUM(AW5:AW24) -> 147 | AX25: =SUM(AX5:AX24) -> 704 | AY25: =AX25-AR25 -> -9 | AZ25: =AX25-$E25 -> -73 | BA25: =SUM(BA5:BA24) -> 351 | BB25: =SUM(BB5:BB24) -> 211 | BC25: =SUM(BC5:BC24) -> 150 | BD25: =SUM(BD5:BD24) -> 712 | BE25: =BD25-AX25 -> 8 | BF25: =BD25-$E25 -> -65
A26: Date of Report | B26: 39323 | F26: Wednseday, September 19, 2007 | K26: Wednesday, October 17, 2007 | Q26: Wednesday,November 12, 2007 | W26: Wednesday, January 16,2008 | AC26: Monday, February 18, 2008 | AI26: Tuesday, March 18, 2008 | AO26: Tuesday, April 15, 2008 | AU26: Wednesday, May 14, 2008 | BA26: Wednesday, June 18, 2008
A27: School District | B27: Program/Year Level | E27: Total | F27: Program/Year Level | I27: Total | J27: Chg/ Month | K27: Program/Year Level | N27: Total | O27: Chg/ Month | P27: Chg/ Sept | Q27: Program/Year Level | T27: Total | U27: Chg/ Month | V27: Chg/ Sept | W27: Program/Year Level | Z27: Total | AA27: Chg/ Month | AB27: Chg/ Sept | AC27: Program/Year Level | AF27: Total | AG27: Chg/ Month | AH27: Chg/ Sept | AI27: Program/Year Level | AL27: Total | AM27: Chg/ Month | AN27: Chg/ Sept | AO27: Program/Year Level | AR27: Total | AS27: Chg/ Month | AT27: Chg/ Sept | AU27: Program/Year Level | AX27: Total | AY27: Chg/ Month | AZ27: Chg/ Sept | BA27: Program/Year Level | BD27: Total | BE27: Chg/ Month | BF27: Chg/ Sept
A28: School District | B28: 1st | C28: 2nd | D28: 3rd | E28: Total | F28: 1st | G28: 2nd | H28: 3rd | I28: Total | K28: 1st | L28: 2nd | M28: 3rd | N28: Total | Q28: 1st | R28: 2nd | S28: 3rd | T28: Total | W28: 1st | X28: 2nd | Y28: 3rd | Z28: Total | AC28: 1st | AD28: 2nd | AE28: 3rd | AF28: Total | AI28: 1st | AJ28: 2nd | AK28: 3rd | AL28: Total | AO28: 1st | AP28: 2nd | AQ28: 3rd | AR28: Total | AU28: 1st | AV28: 2nd | AW28: 3rd | AX28: Total | BA28: 1st | BB28: 2nd | BC28: 3rd | BD28: Total
A29: Fairview | B29: 16 | C29: 14 | D29: 10 | E29: =SUM(B29:D29) -> 40 | F29: 13 | G29: 14 | H29: 11 | I29: =SUM(F29:H29) -> 38 | J29: =I29-E29 -> -2 | K29: 13 | L29: 14 | M29: 11 | N29: =SUM(K29:M29) -> 38 | O29: =N29-I29 -> 0 | P29: =N29-$E29 -> -2 | Q29: 12 | R29: 13 | S29: 11 | T29: =SUM(Q29:S29) -> 36 | U29: =T29-N29 -> -2 | V29: =T29-$E29 -> -4 | W29: 10 | X29: 15 | Y29: 11 | Z29: =SUM(W29:Y29) -> 36 | AA29: =Z29-T29 -> 0 | AB29: =Z29-$E29 -> -4 | AC29: 10 | AD29: 15 | AE29: 11 | AF29: =SUM(AC29:AE29) -> 36 | AG29: =AF29-Z29 -> 0 | AH29: =AF29-$E29 -> -4 | AI29: 10 | AJ29: 16 | AK29: 11 | AL29: =SUM(AI29:AK29) -> 37 | AM29: =AL29-AF29 -> 1 | AN29: =AL29-$E29 -> -3 | AO29: 9 | AP29: 16 | AQ29: 11 | AR29: =SUM(AO29:AQ29) -> 36 | AS29: =AR29-AL29 -> -1 | AT29: =AR29-$E29 -> -4 | AU29: 9 | AV29: 16 | AW29: 11 | AX29: =SUM(AU29:AW29) -> 36 | AY29: =AX29-AR29 -> 0 | AZ29: =AX29-$E29 -> -4 | BA29: 9 | BB29: 16 | BC29: 11 | BD29: =SUM(BA29:BC29) -> 36 | BE29: =BD29-AX29 -> 0 | BF29: =BD29-$E29 -> -4
A30: Fort LeBoeuf | B30: 39 | C30: 24 | D30: 14 | E30: =SUM(B30:D30) -> 77 | F30: 37 | G30: 24 | H30: 14 | I30: =SUM(F30:H30) -> 75 | J30: =I30-E30 -> -2 | K30: 37 | L30: 23 | M30: 14 | N30: =SUM(K30:M30) -> 74 | O30: =N30-I30 -> -1 | P30: =N30-$E30 -> -3 | Q30: 36 | R30: 23 | S30: 13 | T30: =SUM(Q30:S30) -> 72 | U30: =T30-N30 -> -2 | V30: =T30-$E30 -> -5 | W30: 34 | X30: 21 | Y30: 15 | Z30: =SUM(W30:Y30) -> 70 | AA30: =Z30-T30 -> -2 | AB30: =Z30-$E30 -> -7 | AC30: 34 | AD30: 21 | AE30: 15 | AF30: =SUM(AC30:AE30) -> 70 | AG30: =AF30-Z30 -> 0 | AH30: =AF30-$E30 -> -7 | AI30: 34 | AJ30: 20 | AK30: 15 | AL30: =SUM(AI30:AK30) -> 69 | AM30: =AL30-AF30 -> -1 | AN30: =AL30-$E30 -> -8 | AO30: 34 | AP30: 20 | AQ30: 15 | AR30: =SUM(AO30:AQ30) -> 69 | AS30: =AR30-AL30 -> 0 | AT30: =AR30-$E30 -> -8 | AU30: 33 | AV30: 20 | AW30: 15 | AX30: =SUM(AU30:AW30) -> 68 | AY30: =AX30-AR30 -> -1 | AZ30: =AX30-$E30 -> -9 | BA30: 33 | BB30: 21 | BC30: 16 | BD30: =SUM(BA30:BC30) -> 70 | BE30: =BD30-AX30 -> 2 | BF30: =BD30-$E30 -> -7
A31: General McLane | B31: 42 | C31: 17 | D31: 12 | E31: =SUM(B31:D31) -> 71 | F31: 39 | G31: 16 | H31: 12 | I31: =SUM(F31:H31) -> 67 | J31: =I31-E31 -> -4 | K31: 39 | L31: 17 | M31: 11 | N31: =SUM(K31:M31) -> 67 | O31: =N31-I31 -> 0 | P31: =N31-$E31 -> -4 | Q31: 38 | R31: 17 | S31: 11 | T31: =SUM(Q31:S31) -> 66 | U31: =T31-N31 -> -1 | V31: =T31-$E31 -> -5 | W31: 36 | X31: 19 | Y31: 11 | Z31: =SUM(W31:Y31) -> 66 | AA31: =Z31-T31 -> 0 | AB31: =Z31-$E31 -> -5 | AC31: 35 | AD31: 19 | AE31: 11 | AF31: =SUM(AC31:AE31) -> 65 | AG31: =AF31-Z31 -> -1 | AH31: =AF31-$E31 -> -6 | AI31: 35 | AJ31: 19 | AK31: 11 | AL31: =SUM(AI31:AK31) -> 65 | AM31: =AL31-AF31 -> 0 | AN31: =AL31-$E31 -> -6 | AO31: 35 | AP31: 19 | AQ31: 11 | AR31: =SUM(AO31:AQ31) -> 65 | AS31: =AR31-AL31 -> 0 | AT31: =AR31-$E31 -> -6 | AU31: 35 | AV31: 19 | AW31: 11 | AX31: =SUM(AU31:AW31) -> 65 | AY31: =AX31-AR31 -> 0 | AZ31: =AX31-$E31 -> -6 | BA31: 35 | BB31: 19 | BC31: 11 | BD31: =SUM(BA31:BC31) -> 65 | BE31: =BD31-AX31 -> 0 | BF31: =BD31-$E31 -> -6
A32: Girard | B32: 33 | C32: 21 | D32: 10 | E32: =SUM(B32:D32) -> 64 | F32: 32 | G32: 21 | H32: 11 | I32: =SUM(F32:H32) -> 64 | J32: =I32-E32 -> 0 | K32: 33 | L32: 21 | M32: 11 | N32: =SUM(K32:M32) -> 65 | O32: =N32-I32 -> 1 | P32: =N32-$E32 -> 1 | Q32: 33 | R32: 21 | S32: 11 | T32: =SUM(Q32:S32) -> 65 | U32: =T32-N32 -> 0 | V32: =T32-$E32 -> 1 | W32: 32 | X32: 20 | Y32: 11 | Z32: =SUM(W32:Y32) -> 63 | AA32: =Z32-T32 -> -2 | AB32: =Z32-$E32 -> -1 | AC32: 30 | AD32: 20 | AE32: 11 | AF32: =SUM(AC32:AE32) -> 61 | AG32: =AF32-Z32 -> -2 | AH32: =AF32-$E32 -> -3 | AI32: 30 | AJ32: 19 | AK32: 11 | AL32: =SUM(AI32:AK32) -> 60 | AM32: =AL32-AF32 -> -1 | AN32: =AL32-$E32 -> -4 | AO32: 30 | AP32: 19 | AQ32: 11 | AR32: =SUM(AO32:AQ32) -> 60 | AS32: =AR32-AL32 -> 0 | AT32: =AR32-$E32 -> -4 | AU32: 29 | AV32: 19 | AW32: 10 | AX32: =SUM(AU32:AW32) -> 58 | AY32: =AX32-AR32 -> -2 | AZ32: =AX32-$E32 -> -6 | BA32: 30 | BB32: 19 | BC32: 11 | BD32: =SUM(BA32:BC32) -> 60 | BE32: =BD32-AX32 -> 2 | BF32: =BD32-$E32 -> -4
A33: Harbor Creek | B33: 33 | C33: 15 | D33: 17 | E33: =SUM(B33:D33) -> 65 | F33: 31 | G33: 15 | H33: 16 | I33: =SUM(F33:H33) -> 62 | J33: =I33-E33 -> -3 | K33: 30 | L33: 15 | M33: 16 | N33: =SUM(K33:M33) -> 61 | O33: =N33-I33 -> -1 | P33: =N33-$E33 -> -4 | Q33: 30 | R33: 15 | S33: 16 | T33: =SUM(Q33:S33) -> 61 | U33: =T33-N33 -> 0 | V33: =T33-$E33 -> -4 | W33: 29 | X33: 16 | Y33: 16 | Z33: =SUM(W33:Y33) -> 61 | AA33: =Z33-T33 -> 0 | AB33: =Z33-$E33 -> -4 | AC33: 28 | AD33: 16 | AE33: 16 | AF33: =SUM(AC33:AE33) -> 60 | AG33: =AF33-Z33 -> -1 | AH33: =AF33-$E33 -> -5 | AI33: 28 | AJ33: 16 | AK33: 16 | AL33: =SUM(AI33:AK33) -> 60 | AM33: =AL33-AF33 -> 0 | AN33: =AL33-$E33 -> -5 | AO33: 27 | AP33: 15 | AQ33: 16 | AR33: =SUM(AO33:AQ33) -> 58 | AS33: =AR33-AL33 -> -2 | AT33: =AR33-$E33 -> -7 | AU33: 27 | AV33: 15 | AW33: 16 | AX33: =SUM(AU33:AW33) -> 58 | AY33: =AX33-AR33 -> 0 | AZ33: =AX33-$E33 -> -7 | BA33: 27 | BB33: 15 | BC33: 16 | BD33: =SUM(BA33:BC33) -> 58 | BE33: =BD33-AX33 -> 0 | BF33: =BD33-$E33 -> -7
A34: Iroquois | B34: 10 | C34: 6 | D34: 8 | E34: =SUM(B34:D34) -> 24 | F34: 10 | G34: 6 | H34: 8 | I34: =SUM(F34:H34) -> 24 | J34: =I34-E34 -> 0 | K34: 10 | L34: 6 | M34: 8 | N34: =SUM(K34:M34) -> 24 | O34: =N34-I34 -> 0 | P34: =N34-$E34 -> 0 | Q34: 10 | R34: 6 | S34: 8 | T34: =SUM(Q34:S34) -> 24 | U34: =T34-N34 -> 0 | V34: =T34-$E34 -> 0 | W34: 9 | X34: 7 | Y34: 8 | Z34: =SUM(W34:Y34) -> 24 | AA34: =Z34-T34 -> 0 | AB34: =Z34-$E34 -> 0 | AC34: 9 | AD34: 6 | AE34: 8 | AF34: =SUM(AC34:AE34) -> 23 | AG34: =AF34-Z34 -> -1 | AH34: =AF34-$E34 -> -1 | AI34: 8 | AJ34: 6 | AK34: 8 | AL34: =SUM(AI34:AK34) -> 22 | AM34: =AL34-AF34 -> -1 | AN34: =AL34-$E34 -> -2 | AO34: 8 | AP34: 6 | AQ34: 8 | AR34: =SUM(AO34:AQ34) -> 22 | AS34: =AR34-AL34 -> 0 | AT34: =AR34-$E34 -> -2 | AU34: 8 | AV34: 6 | AW34: 8 | AX34: =SUM(AU34:AW34) -> 22 | AY34: =AX34-AR34 -> 0 | AZ34: =AX34-$E34 -> -2 | BA34: 8 | BB34: 6 | BC34: 8 | BD34: =SUM(BA34:BC34) -> 22 | BE34: =BD34-AX34 -> 0 | BF34: =BD34-$E34 -> -2
A35: Millcreek | B35: 97 | C35: 60 | D35: 34 | E35: =SUM(B35:D35) -> 191 | F35: 93 | G35: 52 | H35: 31 | I35: =SUM(F35:H35) -> 176 | J35: =I35-E35 -> -15 | K35: 92 | L35: 53 | M35: 31 | N35: =SUM(K35:M35) -> 176 | O35: =N35-I35 -> 0 | P35: =N35-$E35 -> -15 | Q35: 88 | R35: 53 | S35: 31 | T35: =SUM(Q35:S35) -> 172 | U35: =T35-N35 -> -4 | V35: =T35-$E35 -> -19 | W35: 86 | X35: 53 | Y35: 30 | Z35: =SUM(W35:Y35) -> 169 | AA35: =Z35-T35 -> -3 | AB35: =Z35-$E35 -> -22 | AC35: 85 | AD35: 51 | AE35: 30 | AF35: =SUM(AC35:AE35) -> 166 | AG35: =AF35-Z35 -> -3 | AH35: =AF35-$E35 -> -25 | AI35: 86 | AJ35: 51 | AK35: 30 | AL35: =SUM(AI35:AK35) -> 167 | AM35: =AL35-AF35 -> 1 | AN35: =AL35-$E35 -> -24 | AO35: 86 | AP35: 52 | AQ35: 30 | AR35: =SUM(AO35:AQ35) -> 168 | AS35: =AR35-AL35 -> 1 | AT35: =AR35-$E35 -> -23 | AU35: 85 | AV35: 52 | AW35: 29 | AX35: =SUM(AU35:AW35) -> 166 | AY35: =AX35-AR35 -> -2 | AZ35: =AX35-$E35 -> -25 | BA35: 85 | BB35: 52 | BC35: 29 | BD35: =SUM(BA35:BC35) -> 166 | BE35: =BD35-AX35 -> 0 | BF35: =BD35-$E35 -> -25
A36: North East | B36: 48 | C36: 18 | D36: 17 | E36: =SUM(B36:D36) -> 83 | F36: 48 | G36: 17 | H36: 17 | I36: =SUM(F36:H36) -> 82 | J36: =I36-E36 -> -1 | K36: 48 | L36: 17 | M36: 17 | N36: =SUM(K36:M36) -> 82 | O36: =N36-I36 -> 0 | P36: =N36-$E36 -> -1 | Q36: 48 | R36: 17 | S36: 16 | T36: =SUM(Q36:S36) -> 81 | U36: =T36-N36 -> -1 | V36: =T36-$E36 -> -2 | W36: 46 | X36: 18 | Y36: 16 | Z36: =SUM(W36:Y36) -> 80 | AA36: =Z36-T36 -> -1 | AB36: =Z36-$E36 -> -3 | AC36: 43 | AD36: 18 | AE36: 16 | AF36: =SUM(AC36:AE36) -> 77 | AG36: =AF36-Z36 -> -3 | AH36: =AF36-$E36 -> -6 | AI36: 43 | AJ36: 18 | AK36: 16 | AL36: =SUM(AI36:AK36) -> 77 | AM36: =AL36-AF36 -> 0 | AN36: =AL36-$E36 -> -6 | AO36: 41 | AP36: 18 | AQ36: 15 | AR36: =SUM(AO36:AQ36) -> 74 | AS36: =AR36-AL36 -> -3 | AT36: =AR36-$E36 -> -9 | AU36: 40 | AV36: 18 | AW36: 14 | AX36: =SUM(AU36:AW36) -> 72 | AY36: =AX36-AR36 -> -2 | AZ36: =AX36-$E36 -> -11 | BA36: 39 | BB36: 18 | BC36: 14 | BD36: =SUM(BA36:BC36) -> 71 | BE36: =BD36-AX36 -> -1 | BF36: =BD36-$E36 -> -12
A37: Northwestern | B37: 35 | C37: 14 | D37: 18 | E37: =SUM(B37:D37) -> 67 | F37: 35 | G37: 15 | H37: 15 | I37: =SUM(F37:H37) -> 65 | J37: =I37-E37 -> -2 | K37: 33 | L37: 15 | M37: 15 | N37: =SUM(K37:M37) -> 63 | O37: =N37-I37 -> -2 | P37: =N37-$E37 -> -4 | Q37: 35 | R37: 15 | S37: 15 | T37: =SUM(Q37:S37) -> 65 | U37: =T37-N37 -> 2 | V37: =T37-$E37 -> -2 | W37: 34 | X37: 16 | Y37: 15 | Z37: =SUM(W37:Y37) -> 65 | AA37: =Z37-T37 -> 0 | AB37: =Z37-$E37 -> -2 | AC37: 36 | AD37: 16 | AE37: 15 | AF37: =SUM(AC37:AE37) -> 67 | AG37: =AF37-Z37 -> 2 | AH37: =AF37-$E37 -> 0 | AI37: 36 | AJ37: 16 | AK37: 15 | AL37: =SUM(AI37:AK37) -> 67 | AM37: =AL37-AF37 -> 0 | AN37: =AL37-$E37 -> 0 | AO37: 36 | AP37: 16 | AQ37: 15 | AR37: =SUM(AO37:AQ37) -> 67 | AS37: =AR37-AL37 -> 0 | AT37: =AR37-$E37 -> 0 | AU37: 36 | AV37: 16 | AW37: 15 | AX37: =SUM(AU37:AW37) -> 67 | AY37: =AX37-AR37 -> 0 | AZ37: =AX37-$E37 -> 0 | BA37: 35 | BB37: 16 | BC37: 15 | BD37: =SUM(BA37:BC37) -> 66 | BE37: =BD37-AX37 -> -1 | BF37: =BD37-$E37 -> -1
A38: Union City | B38: 20 | C38: 11 | D38: 5 | E38: =SUM(B38:D38) -> 36 | F38: 18 | G38: 10 | H38: 5 | I38: =SUM(F38:H38) -> 33 | J38: =I38-E38 -> -3 | K38: 18 | L38: 10 | M38: 4 | N38: =SUM(K38:M38) -> 32 | O38: =N38-I38 -> -1 | P38: =N38-$E38 -> -4 | Q38: 16 | R38: 10 | S38: 4 | T38: =SUM(Q38:S38) -> 30 | U38: =T38-N38 -> -2 | V38: =T38-$E38 -> -6 | W38: 15 | X38: 10 | Y38: 4 | Z38: =SUM(W38:Y38) -> 29 | AA38: =Z38-T38 -> -1 | AB38: =Z38-$E38 -> -7 | AC38: 14 | AD38: 10 | AE38: 4 | AF38: =SUM(AC38:AE38) -> 28 | AG38: =AF38-Z38 -> -1 | AH38: =AF38-$E38 -> -8 | AI38: 14 | AJ38: 10 | AK38: 4 | AL38: =SUM(AI38:AK38) -> 28 | AM38: =AL38-AF38 -> 0 | AN38: =AL38-$E38 -> -8 | AO38: 14 | AP38: 10 | AQ38: 4 | AR38: =SUM(AO38:AQ38) -> 28 | AS38: =AR38-AL38 -> 0 | AT38: =AR38-$E38 -> -8 | AU38: 14 | AV38: 10 | AW38: 4 | AX38: =SUM(AU38:AW38) -> 28 | AY38: =AX38-AR38 -> 0 | AZ38: =AX38-$E38 -> -8 | BA38: 14 | BB38: 10 | BC38: 4 | BD38: =SUM(BA38:BC38) -> 28 | BE38: =BD38-AX38 -> 0 | BF38: =BD38-$E38 -> -8
A39: Wattsburg | B39: 20 | C39: 23 | D39: 16 | E39: =SUM(B39:D39) -> 59 | F39: 20 | G39: 22 | H39: 16 | I39: =SUM(F39:H39) -> 58 | J39: =I39-E39 -> -1 | K39: 28 | L39: 22 | M39: 15 | N39: =SUM(K39:M39) -> 65 | O39: =N39-I39 -> 7 | P39: =N39-$E39 -> 6 | Q39: 30 | R39: 22 | S39: 14 | T39: =SUM(Q39:S39) -> 66 | U39: =T39-N39 -> 1 | V39: =T39-$E39 -> 7 | W39: 26 | X39: 22 | Y39: 15 | Z39: =SUM(W39:Y39) -> 63 | AA39: =Z39-T39 -> -3 | AB39: =Z39-$E39 -> 4 | AC39: 30 | AD39: 20 | AE39: 15 | AF39: =SUM(AC39:AE39) -> 65 | AG39: =AF39-Z39 -> 2 | AH39: =AF39-$E39 -> 6 | AI39: 30 | AJ39: 20 | AK39: 15 | AL39: =SUM(AI39:AK39) -> 65 | AM39: =AL39-AF39 -> 0 | AN39: =AL39-$E39 -> 6 | AO39: 32 | AP39: 20 | AQ39: 14 | AR39: =SUM(AO39:AQ39) -> 66 | AS39: =AR39-AL39 -> 1 | AT39: =AR39-$E39 -> 7 | AU39: 31 | AV39: 19 | AW39: 14 | AX39: =SUM(AU39:AW39) -> 64 | AY39: =AX39-AR39 -> -2 | AZ39: =AX39-$E39 -> 5 | BA39: 36 | BB39: 19 | BC39: 15 | BD39: =SUM(BA39:BC39) -> 70 | BE39: =BD39-AX39 -> 6 | BF39: =BD39-$E39 -> 11
A40: Totals | B40: =SUM(B29:B39) -> 393 | C40: =SUM(C29:C39) -> 223 | D40: =SUM(D29:D39) -> 161 | E40: =SUM(E29:E39) -> 777 | F40: =SUM(F29:F39) -> 376 | G40: =SUM(G29:G39) -> 212 | H40: =SUM(H29:H39) -> 156 | I40: =SUM(I29:I39) -> 744 | J40: =I40-E40 -> -33 | K40: =SUM(K29:K39) -> 381 | L40: =SUM(L29:L39) -> 213 | M40: =SUM(M29:M39) -> 153 | N40: =SUM(N29:N39) -> 747 | O40: =N40-I40 -> 3 | P40: =N40-$E40 -> -30 | Q40: =SUM(Q29:Q39) -> 376 | R40: =SUM(R29:R39) -> 212 | S40: =SUM(S29:S39) -> 150 | T40: =SUM(T29:T39) -> 738 | U40: =T40-N40 -> -9 | V40: =T40-$E40 -> -39 | W40: =SUM(W29:W39) -> 357 | X40: =SUM(X29:X39) -> 217 | Y40: =SUM(Y29:Y39) -> 152 | Z40: =SUM(Z29:Z39) -> 726 | AA40: =Z40-T40 -> -12 | AB40: =Z40-$E40 -> -51 | AC40: =SUM(AC29:AC39) -> 354 | AD40: =SUM(AD29:AD39) -> 212 | AE40: =SUM(AE29:AE39) -> 152 | AF40: =SUM(AF29:AF39) -> 718 | AG40: =AF40-Z40 -> -8 | AH40: =AF40-$E40 -> -59 | AI40: =SUM(AI29:AI39) -> 354 | AJ40: =SUM(AJ29:AJ39) -> 211 | AK40: =SUM(AK29:AK39) -> 152 | AL40: =SUM(AL29:AL39) -> 717 | AM40: =AL40-AF40 -> -1 | AN40: =AL40-$E40 -> -60 | AO40: =SUM(AO29:AO39) -> 352 | AP40: =SUM(AP29:AP39) -> 211 | AQ40: =SUM(AQ29:AQ39) -> 150 | AR40: =SUM(AR29:AR39) -> 713 | AS40: =AR40-AL40 -> -4 | AT40: =AR40-$E40 -> -64 | AU40: =SUM(AU29:AU39) -> 347 | AV40: =SUM(AV29:AV39) -> 210 | AW40: =SUM(AW29:AW39) -> 147 | AX40: =SUM(AX29:AX39) -> 704 | AY40: =AX40-AR40 -> -9 | AZ40: =AX40-$E40 -> -73 | BA40: =SUM(BA29:BA39) -> 351 | BB40: =SUM(BB29:BB39) -> 211 | BC40: =SUM(BC29:BC39) -> 150 | BD40: =SUM(BD29:BD39) -> 712 | BE40: =BD40-AX40 -> 8 | BF40: =BD40-$E40 -> -65

Sheet 0607 Monthly
B2: September 2006 | F2: October 2006 | K2: November 2006 | P2: December 2006 | U2: January 2007 | AA2: February 2007 | AG2: March 2007 | AM2: April 2007 | AS2: May 2007 | AY2: June 2007
B3: 2004-2005 Enrollments | F3: 2004-2005 Enrollments | K3: 2004-2005 Enrollments | P3: 2004-2005 Enrollments | U3: 2004-2005 Enrollments | AA3: 2004-2005 Enrollments | AG3: 2004-2005 Enrollments | AM3: 2004-2005 Enrollments | AS3: 2004-2005 Enrollments | AY3: 2004-2005 Enrollments
B4: Program/Year Level | F4: Program/Year Level | J4: Chg/ Month | K4: Program/Year Level | O4: Chg/ Month | P4: Program/Year Level | T4: Chg/ Month | U4: Program/Year Level | Y4: Chg/ Month | Z4: Chg. from Sept. | AA4: Program/Year Level | AE4: Chg/ Month | AF4: Chg/ Mid Year | AG4: Program/Year Level | AK4: Chg/ Month | AL4: Chg/ Sept | AM4: Program/Year Level | AQ4: Chg/ Month | AR4: Chg/ Sept | AS4: Program/Year Level | AW4: Chg/ Month | AX4: Chg/ Sept | AY4: Program/Year Level | BC4: Chg/ Month | BD4: Chg/ Sept
A5: Technical Laboratory | B5: 1st | C5: 2nd | D5: 3rd | E5: Total | F5: 1st | G5: 2nd | H5: 3rd | I5: Total | K5: 1st | L5: 2nd | M5: 3rd | N5: Total | P5: 1st | Q5: 2nd | R5: 3rd | S5: Total | U5: 1st | V5: 2nd | W5: 3rd | X5: Total | AA5: 1st | AB5: 2nd | AC5: 3rd | AD5: Total | AG5: 1st | AH5: 2nd | AI5: 3rd | AJ5: Total | AM5: 1st | AN5: 2nd | AO5: 3rd | AP5: Total | AS5: 1st | AT5: 2nd | AU5: 3rd | AV5: Total | AY5: 1st | AZ5: 2nd | BA5: 3rd | BB5: Total
A6: Art & Design | B6: 17 | C6: 9 | D6: 13 | E6: =SUM(B6:D6) -> 39 | F6: 19 | G6: 9 | H6: 13 | I6: =SUM(F6:H6) -> 41 | J6: =I6-E6 -> 2 | K6: 19 | L6: 9 | M6: 13 | N6: =SUM(K6:M6) -> 41 | O6: =N6-I6 -> 0 | P6: 18 | Q6: 9 | R6: 13 | S6: =SUM(P6:R6) -> 40 | T6: =S6-N6 -> -1 | U6: 17 | V6: 9 | W6: 13 | X6: =SUM(U6:W6) -> 39 | Y6: =X6-S6 -> -1 | Z6: =X6-$E6 -> 0 | AA6: 15 | AB6: 9 | AC6: 13 | AD6: =SUM(AA6:AC6) -> 37 | AE6: =AD6-X6 -> -2 | AF6: =AD6-$E6 -> -2 | AG6: 15 | AH6: 9 | AI6: 13 | AJ6: =SUM(AG6:AI6) -> 37 | AK6: =AJ6-AD6 -> 0 | AL6: =AJ6-$E6 -> -2 | AM6: 15 | AN6: 9 | AO6: 13 | AP6: =SUM(AM6:AO6) -> 37 | AQ6: =AP6-AJ6 -> 0 | AR6: =AP6-$E6 -> -2 | AS6: 13 | AT6: 9 | AU6: 13 | AV6: =SUM(AS6:AU6) -> 35 | AW6: =AV6-AP6 -> -2 | AX6: =AV6-$E6 -> -4 | BB6: =SUM(AY6:BA6) -> 0 | BC6: =BB6-AV6 -> -35 | BD6: =BB6-$E6 -> -39
A7: Auto Body | B7: 18 | C7: 16 | D7: 10 | E7: =SUM(B7:D7) -> 44 | F7: 17 | G7: 15 | H7: 10 | I7: =SUM(F7:H7) -> 42 | J7: =I7-E7 -> -2 | K7: 17 | L7: 15 | M7: 9 | N7: =SUM(K7:M7) -> 41 | O7: =N7-I7 -> -1 | P7: 17 | Q7: 15 | R7: 8 | S7: =SUM(P7:R7) -> 40 | T7: =S7-N7 -> -1 | U7: 17 | V7: 15 | W7: 8 | X7: =SUM(U7:W7) -> 40 | Y7: =X7-S7 -> 0 | Z7: =X7-$E7 -> -4 | AA7: 17 | AB7: 12 | AC7: 8 | AD7: =SUM(AA7:AC7) -> 37 | AE7: =AD7-X7 -> -3 | AF7: =AD7-$E7 -> -7 | AG7: 17 | AH7: 12 | AI7: 8 | AJ7: =SUM(AG7:AI7) -> 37 | AK7: =AJ7-AD7 -> 0 | AL7: =AJ7-$E7 -> -7 | AM7: 17 | AN7: 12 | AO7: 8 | AP7: =SUM(AM7:AO7) -> 37 | AQ7: =AP7-AJ7 -> 0 | AR7: =AP7-$E7 -> -7 | AS7: 16 | AT7: 12 | AU7: 8 | AV7: =SUM(AS7:AU7) -> 36 | AW7: =AV7-AP7 -> -1 | AX7: =AV7-$E7 -> -8 | BB7: =SUM(AY7:BA7) -> 0 | BC7: =BB7-AV7 -> -36 | BD7: =BB7-$E7 -> -44
A8: Automotive Technologies | B8: 44 | C8: 16 | D8: 27 | E8: =SUM(B8:D8) -> 87 | F8: 44 | G8: 16 | H8: 27 | I8: =SUM(F8:H8) -> 87 | J8: =I8-E8 -> 0 | K8: 42 | L8: 16 | M8: 27 | N8: =SUM(K8:M8) -> 85 | O8: =N8-I8 -> -2 | P8: 41 | Q8: 16 | R8: 27 | S8: =SUM(P8:R8) -> 84 | T8: =S8-N8 -> -1 | U8: 40 | V8: 17 | W8: 28 | X8: =SUM(U8:W8) -> 85 | Y8: =X8-S8 -> 1 | Z8: =X8-$E8 -> -2 | AA8: 40 | AB8: 16 | AC8: 27 | AD8: =SUM(AA8:AC8) -> 83 | AE8: =AD8-X8 -> -2 | AF8: =AD8-$E8 -> -4 | AG8: 40 | AH8: 16 | AI8: 27 | AJ8: =SUM(AG8:AI8) -> 83 | AK8: =AJ8-AD8 -> 0 | AL8: =AJ8-$E8 -> -4 | AM8: 42 | AN8: 16 | AO8: 27 | AP8: =SUM(AM8:AO8) -> 85 | AQ8: =AP8-AJ8 -> 2 | AR8: =AP8-$E8 -> -2 | AS8: 41 | AT8: 16 | AU8: 27 | AV8: =SUM(AS8:AU8) -> 84 | AW8: =AV8-AP8 -> -1 | AX8: =AV8-$E8 -> -3 | BB8: =SUM(AY8:BA8) -> 0 | BC8: =BB8-AV8 -> -84 | BD8: =BB8-$E8 -> -87
A9: Computer Info. Systems | B9: 23 | C9: 13 | D9: 9 | E9: =SUM(B9:D9) -> 45 | F9: 21 | G9: 13 | H9: 9 | I9: =SUM(F9:H9) -> 43 | J9: =I9-E9 -> -2 | K9: 20 | L9: 13 | M9: 9 | N9: =SUM(K9:M9) -> 42 | O9: =N9-I9 -> -1 | P9: 20 | Q9: 12 | R9: 9 | S9: =SUM(P9:R9) -> 41 | T9: =S9-N9 -> -1 | U9: 20 | V9: 12 | W9: 9 | X9: =SUM(U9:W9) -> 41 | Y9: =X9-S9 -> 0 | Z9: =X9-$E9 -> -4 | AA9: 21 | AB9: 12 | AC9: 9 | AD9: =SUM(AA9:AC9) -> 42 | AE9: =AD9-X9 -> 1 | AF9: =AD9-$E9 -> -3 | AG9: 21 | AH9: 12 | AI9: 9 | AJ9: =SUM(AG9:AI9) -> 42 | AK9: =AJ9-AD9 -> 0 | AL9: =AJ9-$E9 -> -3 | AM9: 21 | AN9: 12 | AO9: 9 | AP9: =SUM(AM9:AO9) -> 42 | AQ9: =AP9-AJ9 -> 0 | AR9: =AP9-$E9 -> -3 | AS9: 21 | AT9: 12 | AU9: 9 | AV9: =SUM(AS9:AU9) -> 42 | AW9: =AV9-AP9 -> 0 | AX9: =AV9-$E9 -> -3 | BB9: =SUM(AY9:BA9) -> 0 | BC9: =BB9-AV9 -> -42 | BD9: =BB9-$E9 -> -45
A10: Construction Trades | B10: 35 | C10: 23 | D10: 18 | E10: =SUM(B10:D10) -> 76 | F10: 32 | G10: 23 | H10: 18 | I10: =SUM(F10:H10) -> 73 | J10: =I10-E10 -> -3 | K10: 30 | L10: 23 | M10: 18 | N10: =SUM(K10:M10) -> 71 | O10: =N10-I10 -> -2 | P10: 28 | Q10: 23 | R10: 18 | S10: =SUM(P10:R10) -> 69 | T10: =S10-N10 -> -2 | U10: 27 | V10: 23 | W10: 18 | X10: =SUM(U10:W10) -> 68 | Y10: =X10-S10 -> -1 | Z10: =X10-$E10 -> -8 | AA10: 25 | AB10: 21 | AC10: 18 | AD10: =SUM(AA10:AC10) -> 64 | AE10: =AD10-X10 -> -4 | AF10: =AD10-$E10 -> -12 | AG10: 25 | AH10: 21 | AI10: 18 | AJ10: =SUM(AG10:AI10) -> 64 | AK10: =AJ10-AD10 -> 0 | AL10: =AJ10-$E10 -> -12 | AM10: 25 | AN10: 21 | AO10: 18 | AP10: =SUM(AM10:AO10) -> 64 | AQ10: =AP10-AJ10 -> 0 | AR10: =AP10-$E10 -> -12 | AS10: 24 | AT10: 21 | AU10: 17 | AV10: =SUM(AS10:AU10) -> 62 | AW10: =AV10-AP10 -> -2 | AX10: =AV10-$E10 -> -14 | BB10: =SUM(AY10:BA10) -> 0 | BC10: =BB10-AV10 -> -62 | BD10: =BB10-$E10 -> -76
A11: Cosmetology | B11: 13 | C11: 15 | D11: 14 | E11: =SUM(B11:D11) -> 42 | F11: 13 | G11: 15 | H11: 14 | I11: =SUM(F11:H11) -> 42 | J11: =I11-E11 -> 0 | K11: 13 | L11: 15 | M11: 14 | N11: =SUM(K11:M11) -> 42 | O11: =N11-I11 -> 0 | P11: 13 | Q11: 15 | R11: 14 | S11: =SUM(P11:R11) -> 42 | T11: =S11-N11 -> 0 | U11: 13 | V11: 13 | W11: 14 | X11: =SUM(U11:W11) -> 40 | Y11: =X11-S11 -> -2 | Z11: =X11-$E11 -> -2 | AA11: 13 | AB11: 13 | AC11: 13 | AD11: =SUM(AA11:AC11) -> 39 | AE11: =AD11-X11 -> -1 | AF11: =AD11-$E11 -> -3 | AG11: 13 | AH11: 13 | AI11: 13 | AJ11: =SUM(AG11:AI11) -> 39 | AK11: =AJ11-AD11 -> 0 | AL11: =AJ11-$E11 -> -3 | AM11: 13 | AN11: 13 | AO11: 13 | AP11: =SUM(AM11:AO11) -> 39 | AQ11: =AP11-AJ11 -> 0 | AR11: =AP11-$E11 -> -3 | AS11: 13 | AT11: 13 | AU11: 13 | AV11: =SUM(AS11:AU11) -> 39 | AW11: =AV11-AP11 -> 0 | AX11: =AV11-$E11 -> -3 | BB11: =SUM(AY11:BA11) -> 0 | BC11: =BB11-AV11 -> -39 | BD11: =BB11-$E11 -> -42
A12: Culinary Arts | B12: 32 | C12: 25 | D12: 20 | E12: =SUM(B12:D12) -> 77 | F12: 32 | G12: 25 | H12: 20 | I12: =SUM(F12:H12) -> 77 | J12: =I12-E12 -> 0 | K12: 31 | L12: 27 | M12: 20 | N12: =SUM(K12:M12) -> 78 | O12: =N12-I12 -> 1 | P12: 31 | Q12: 26 | R12: 20 | S12: =SUM(P12:R12) -> 77 | T12: =S12-N12 -> -1 | U12: 30 | V12: 25 | W12: 20 | X12: =SUM(U12:W12) -> 75 | Y12: =X12-S12 -> -2 | Z12: =X12-$E12 -> -2 | AA12: 32 | AB12: 23 | AC12: 19 | AD12: =SUM(AA12:AC12) -> 74 | AE12: =AD12-X12 -> -1 | AF12: =AD12-$E12 -> -3 | AG12: 32 | AH12: 23 | AI12: 19 | AJ12: =SUM(AG12:AI12) -> 74 | AK12: =AJ12-AD12 -> 0 | AL12: =AJ12-$E12 -> -3 | AM12: 32 | AN12: 23 | AO12: 19 | AP12: =SUM(AM12:AO12) -> 74 | AQ12: =AP12-AJ12 -> 0 | AR12: =AP12-$E12 -> -3 | AS12: 30 | AT12: 23 | AU12: 19 | AV12: =SUM(AS12:AU12) -> 72 | AW12: =AV12-AP12 -> -2 | AX12: =AV12-$E12 -> -5 | BB12: =SUM(AY12:BA12) -> 0 | BC12: =BB12-AV12 -> -72 | BD12: =BB12-$E12 -> -77
A13: Diversified Ocupations | B13: 15 | E13: =SUM(B13:D13) -> 15 | F13: 15 | G13: 0 | H13: 0 | I13: =SUM(F13:H13) -> 15 | J13: =I13-E13 -> 0 | K13: 11 | L13: 0 | M13: 0 | N13: =SUM(K13:M13) -> 11 | O13: =N13-I13 -> -4 | P13: 11 | Q13: 0 | R13: 0 | S13: =SUM(P13:R13) -> 11 | T13: =S13-N13 -> 0 | U13: 11 | V13: 0 | W13: 0 | X13: =SUM(U13:W13) -> 11 | Y13: =X13-S13 -> 0 | Z13: =X13-$E13 -> -4 | AA13: 13 | AB13: 0 | AC13: 0 | AD13: =SUM(AA13:AC13) -> 13 | AE13: =AD13-X13 -> 2 | AF13: =AD13-$E13 -> -2 | AG13: 13 | AH13: 0 | AI13: 0 | AJ13: =SUM(AG13:AI13) -> 13 | AK13: =AJ13-AD13 -> 0 | AL13: =AJ13-$E13 -> -2 | AM13: 16 | AN13: 0 | AO13: 0 | AP13: =SUM(AM13:AO13) -> 16 | AQ13: =AP13-AJ13 -> 3 | AR13: =AP13-$E13 -> 1 | AS13: 15 | AT13: 0 | AU13: 0 | AV13: =SUM(AS13:AU13) -> 15 | AW13: =AV13-AP13 -> -1 | AX13: =AV13-$E13 -> 0 | BB13: =SUM(AY13:BA13) -> 0 | BC13: =BB13-AV13 -> -15 | BD13: =BB13-$E13 -> -15
A14: Drafting & Design | B14: 15 | C14: 11 | D14: 9 | E14: =SUM(B14:D14) -> 35 | F14: 15 | G14: 11 | H14: 9 | I14: =SUM(F14:H14) -> 35 | J14: =I14-E14 -> 0 | K14: 15 | L14: 11 | M14: 9 | N14: =SUM(K14:M14) -> 35 | O14: =N14-I14 -> 0 | P14: 15 | Q14: 11 | R14: 9 | S14: =SUM(P14:R14) -> 35 | T14: =S14-N14 -> 0 | U14: 15 | V14: 12 | W14: 9 | X14: =SUM(U14:W14) -> 36 | Y14: =X14-S14 -> 1 | Z14: =X14-$E14 -> 1 | AA14: 16 | AB14: 11 | AC14: 9 | AD14: =SUM(AA14:AC14) -> 36 | AE14: =AD14-X14 -> 0 | AF14: =AD14-$E14 -> 1 | AG14: 16 | AH14: 11 | AI14: 9 | AJ14: =SUM(AG14:AI14) -> 36 | AK14: =AJ14-AD14 -> 0 | AL14: =AJ14-$E14 -> 1 | AM14: 16 | AN14: 11 | AO14: 9 | AP14: =SUM(AM14:AO14) -> 36 | AQ14: =AP14-AJ14 -> 0 | AR14: =AP14-$E14 -> 1 | AS14: 16 | AT14: 11 | AU14: 9 | AV14: =SUM(AS14:AU14) -> 36 | AW14: =AV14-AP14 -> 0 | AX14: =AV14-$E14 -> 1 | BB14: =SUM(AY14:BA14) -> 0 | BC14: =BB14-AV14 -> -36 | BD14: =BB14-$E14 -> -35
A15: Early Childhood Education | B15: 20 | C15: 15 | D15: 7 | E15: =SUM(B15:D15) -> 42 | F15: 20 | G15: 14 | H15: 7 | I15: =SUM(F15:H15) -> 41 | J15: =I15-E15 -> -1 | K15: 20 | L15: 14 | M15: 7 | N15: =SUM(K15:M15) -> 41 | O15: =N15-I15 -> 0 | P15: 20 | Q15: 14 | R15: 7 | S15: =SUM(P15:R15) -> 41 | T15: =S15-N15 -> 0 | U15: 20 | V15: 14 | W15: 7 | X15: =SUM(U15:W15) -> 41 | Y15: =X15-S15 -> 0 | Z15: =X15-$E15 -> -1 | AA15: 20 | AB15: 14 | AC15: 7 | AD15: =SUM(AA15:AC15) -> 41 | AE15: =AD15-X15 -> 0 | AF15: =AD15-$E15 -> -1 | AG15: 20 | AH15: 14 | AI15: 7 | AJ15: =SUM(AG15:AI15) -> 41 | AK15: =AJ15-AD15 -> 0 | AL15: =AJ15-$E15 -> -1 | AM15: 20 | AN15: 14 | AO15: 7 | AP15: =SUM(AM15:AO15) -> 41 | AQ15: =AP15-AJ15 -> 0 | AR15: =AP15-$E15 -> -1 | AS15: 21 | AT15: 13 | AU15: 7 | AV15: =SUM(AS15:AU15) -> 41 | AW15: =AV15-AP15 -> 0 | AX15: =AV15-$E15 -> -1 | BB15: =SUM(AY15:BA15) -> 0 | BC15: =BB15-AV15 -> -41 | BD15: =BB15-$E15 -> -42
A16: Electrical Engineering | B16: 14 | C16: 17 | D16: 13 | E16: =SUM(B16:D16) -> 44 | F16: 15 | G16: 17 | H16: 13 | I16: =SUM(F16:H16) -> 45 | J16: =I16-E16 -> 1 | K16: 15 | L16: 17 | M16: 12 | N16: =SUM(K16:M16) -> 44 | O16: =N16-I16 -> -1 | P16: 15 | Q16: 16 | R16: 12 | S16: =SUM(P16:R16) -> 43 | T16: =S16-N16 -> -1 | U16: 15 | V16: 16 | W16: 11 | X16: =SUM(U16:W16) -> 42 | Y16: =X16-S16 -> -1 | Z16: =X16-$E16 -> -2 | AA16: 16 | AB16: 16 | AC16: 10 | AD16: =SUM(AA16:AC16) -> 42 | AE16: =AD16-X16 -> 0 | AF16: =AD16-$E16 -> -2 | AG16: 16 | AH16: 16 | AI16: 10 | AJ16: =SUM(AG16:AI16) -> 42 | AK16: =AJ16-AD16 -> 0 | AL16: =AJ16-$E16 -> -2 | AM16: 16 | AN16: 16 | AO16: 10 | AP16: =SUM(AM16:AO16) -> 42 | AQ16: =AP16-AJ16 -> 0 | AR16: =AP16-$E16 -> -2 | AS16: 15 | AT16: 16 | AU16: 10 | AV16: =SUM(AS16:AU16) -> 41 | AW16: =AV16-AP16 -> -1 | AX16: =AV16-$E16 -> -3 | BB16: =SUM(AY16:BA16) -> 0 | BC16: =BB16-AV16 -> -41 | BD16: =BB16-$E16 -> -44
A17: Electronics | B17: 12 | C17: 12 | D17: 6 | E17: =SUM(B17:D17) -> 30 | F17: 12 | G17: 12 | H17: 6 | I17: =SUM(F17:H17) -> 30 | J17: =I17-E17 -> 0 | K17: 11 | L17: 11 | M17: 6 | N17: =SUM(K17:M17) -> 28 | O17: =N17-I17 -> -2 | P17: 11 | Q17: 11 | R17: 6 | S17: =SUM(P17:R17) -> 28 | T17: =S17-N17 -> 0 | U17: 12 | V17: 11 | W17: 6 | X17: =SUM(U17:W17) -> 29 | Y17: =X17-S17 -> 1 | Z17: =X17-$E17 -> -1 | AA17: 12 | AB17: 11 | AC17: 6 | AD17: =SUM(AA17:AC17) -> 29 | AE17: =AD17-X17 -> 0 | AF17: =AD17-$E17 -> -1 | AG17: 12 | AH17: 11 | AI17: 6 | AJ17: =SUM(AG17:AI17) -> 29 | AK17: =AJ17-AD17 -> 0 | AL17: =AJ17-$E17 -> -1 | AM17: 12 | AN17: 11 | AO17: 5 | AP17: =SUM(AM17:AO17) -> 28 | AQ17: =AP17-AJ17 -> -1 | AR17: =AP17-$E17 -> -2 | AS17: 12 | AT17: 10 | AU17: 5 | AV17: =SUM(AS17:AU17) -> 27 | AW17: =AV17-AP17 -> -1 | AX17: =AV17-$E17 -> -3 | BB17: =SUM(AY17:BA17) -> 0 | BC17: =BB17-AV17 -> -27 | BD17: =BB17-$E17 -> -30
A18: Facilities Maintenance Technologies | B18: 20 | C18: 8 | D18: 3 | E18: =SUM(B18:D18) -> 31 | F18: 20 | G18: 10 | H18: 2 | I18: =SUM(F18:H18) -> 32 | J18: =I18-E18 -> 1 | K18: 21 | L18: 8 | M18: 2 | N18: =SUM(K18:M18) -> 31 | O18: =N18-I18 -> -1 | P18: 20 | Q18: 8 | R18: 2 | S18: =SUM(P18:R18) -> 30 | T18: =S18-N18 -> -1 | U18: 20 | V18: 8 | W18: 2 | X18: =SUM(U18:W18) -> 30 | Y18: =X18-S18 -> 0 | Z18: =X18-$E18 -> -1 | AA18: 20 | AB18: 8 | AC18: 2 | AD18: =SUM(AA18:AC18) -> 30 | AE18: =AD18-X18 -> 0 | AF18: =AD18-$E18 -> -1 | AG18: 20 | AH18: 8 | AI18: 2 | AJ18: =SUM(AG18:AI18) -> 30 | AK18: =AJ18-AD18 -> 0 | AL18: =AJ18-$E18 -> -1 | AM18: 20 | AN18: 8 | AO18: 2 | AP18: =SUM(AM18:AO18) -> 30 | AQ18: =AP18-AJ18 -> 0 | AR18: =AP18-$E18 -> -1 | AS18: 20 | AT18: 8 | AU18: 2 | AV18: =SUM(AS18:AU18) -> 30 | AW18: =AV18-AP18 -> 0 | AX18: =AV18-$E18 -> -1 | BB18: =SUM(AY18:BA18) -> 0 | BC18: =BB18-AV18 -> -30 | BD18: =BB18-$E18 -> -31
A19: Graphic Communications | B19: 15 | C19: 11 | D19: 10 | E19: =SUM(B19:D19) -> 36 | F19: 17 | G19: 10 | H19: 10 | I19: =SUM(F19:H19) -> 37 | J19: =I19-E19 -> 1 | K19: 17 | L19: 10 | M19: 10 | N19: =SUM(K19:M19) -> 37 | O19: =N19-I19 -> 0 | P19: 17 | Q19: 10 | R19: 10 | S19: =SUM(P19:R19) -> 37 | T19: =S19-N19 -> 0 | U19: 17 | V19: 10 | W19: 10 | X19: =SUM(U19:W19) -> 37 | Y19: =X19-S19 -> 0 | Z19: =X19-$E19 -> 1 | AA19: 15 | AB19: 9 | AC19: 10 | AD19: =SUM(AA19:AC19) -> 34 | AE19: =AD19-X19 -> -3 | AF19: =AD19-$E19 -> -2 | AG19: 15 | AH19: 9 | AI19: 10 | AJ19: =SUM(AG19:AI19) -> 34 | AK19: =AJ19-AD19 -> 0 | AL19: =AJ19-$E19 -> -2 | AM19: 15 | AN19: 9 | AO19: 10 | AP19: =SUM(AM19:AO19) -> 34 | AQ19: =AP19-AJ19 -> 0 | AR19: =AP19-$E19 -> -2 | AS19: 14 | AT19: 9 | AU19: 10 | AV19: =SUM(AS19:AU19) -> 33 | AW19: =AV19-AP19 -> -1 | AX19: =AV19-$E19 -> -3 | BB19: =SUM(AY19:BA19) -> 0 | BC19: =BB19-AV19 -> -33 | BD19: =BB19-$E19 -> -36
A20: Health Assistant | B20: 14 | C20: 19 | D20: 13 | E20: =SUM(B20:D20) -> 46 | F20: 14 | G20: 19 | H20: 13 | I20: =SUM(F20:H20) -> 46 | J20: =I20-E20 -> 0 | K20: 14 | L20: 19 | M20: 13 | N20: =SUM(K20:M20) -> 46 | O20: =N20-I20 -> 0 | P20: 14 | Q20: 19 | R20: 13 | S20: =SUM(P20:R20) -> 46 | T20: =S20-N20 -> 0 | U20: 14 | V20: 18 | W20: 13 | X20: =SUM(U20:W20) -> 45 | Y20: =X20-S20 -> -1 | Z20: =X20-$E20 -> -1 | AA20: 14 | AB20: 18 | AC20: 13 | AD20: =SUM(AA20:AC20) -> 45 | AE20: =AD20-X20 -> 0 | AF20: =AD20-$E20 -> -1 | AG20: 14 | AH20: 18 | AI20: 13 | AJ20: =SUM(AG20:AI20) -> 45 | AK20: =AJ20-AD20 -> 0 | AL20: =AJ20-$E20 -> -1 | AM20: 14 | AN20: 18 | AO20: 13 | AP20: =SUM(AM20:AO20) -> 45 | AQ20: =AP20-AJ20 -> 0 | AR20: =AP20-$E20 -> -1 | AS20: 14 | AT20: 17 | AU20: 13 | AV20: =SUM(AS20:AU20) -> 44 | AW20: =AV20-AP20 -> -1 | AX20: =AV20-$E20 -> -2 | BB20: =SUM(AY20:BA20) -> 0 | BC20: =BB20-AV20 -> -44 | BD20: =BB20-$E20 -> -46
A21: Metal Fabrication | B21: 23 | C21: 14 | D21: 10 | E21: =SUM(B21:D21) -> 47 | F21: 22 | G21: 14 | H21: 11 | I21: =SUM(F21:H21) -> 47 | J21: =I21-E21 -> 0 | K21: 22 | L21: 14 | M21: 11 | N21: =SUM(K21:M21) -> 47 | O21: =N21-I21 -> 0 | P21: 22 | Q21: 14 | R21: 11 | S21: =SUM(P21:R21) -> 47 | T21: =S21-N21 -> 0 | U21: 22 | V21: 14 | W21: 11 | X21: =SUM(U21:W21) -> 47 | Y21: =X21-S21 -> 0 | Z21: =X21-$E21 -> 0 | AA21: 20 | AB21: 15 | AC21: 11 | AD21: =SUM(AA21:AC21) -> 46 | AE21: =AD21-X21 -> -1 | AF21: =AD21-$E21 -> -1 | AG21: 20 | AH21: 15 | AI21: 11 | AJ21: =SUM(AG21:AI21) -> 46 | AK21: =AJ21-AD21 -> 0 | AL21: =AJ21-$E21 -> -1 | AM21: 20 | AN21: 13 | AO21: 11 | AP21: =SUM(AM21:AO21) -> 44 | AQ21: =AP21-AJ21 -> -2 | AR21: =AP21-$E21 -> -3 | AS21: 18 | AT21: 14 | AU21: 11 | AV21: =SUM(AS21:AU21) -> 43 | AW21: =AV21-AP21 -> -1 | AX21: =AV21-$E21 -> -4 | BB21: =SUM(AY21:BA21) -> 0 | BC21: =BB21-AV21 -> -43 | BD21: =BB21-$E21 -> -47
A22: Networking Technologies | B22: 16 | C22: 0 | D22: 0 | E22: =SUM(B22:D22) -> 16 | F22: 16 | G22: 0 | H22: 0 | I22: =SUM(F22:H22) -> 16 | J22: =I22-E22 -> 0 | K22: 16 | L22: 0 | M22: 0 | N22: =SUM(K22:M22) -> 16 | O22: =N22-I22 -> 0 | P22: 16 | Q22: 0 | R22: 0 | S22: =SUM(P22:R22) -> 16 | T22: =S22-N22 -> 0 | U22: 16 | V22: 0 | W22: 0 | X22: =SUM(U22:W22) -> 16 | Y22: =X22-S22 -> 0 | Z22: =X22-$E22 -> 0 | AA22: 17 | AB22: 0 | AC22: 0 | AD22: =SUM(AA22:AC22) -> 17 | AE22: =AD22-X22 -> 1 | AF22: =AD22-$E22 -> 1 | AG22: 17 | AH22: 0 | AI22: 0 | AJ22: =SUM(AG22:AI22) -> 17 | AK22: =AJ22-AD22 -> 0 | AL22: =AJ22-$E22 -> 1 | AM22: 17 | AN22: 0 | AO22: 0 | AP22: =SUM(AM22:AO22) -> 17 | AQ22: =AP22-AJ22 -> 0 | AR22: =AP22-$E22 -> 1 | AS22: 17 | AT22: 0 | AU22: 0 | AV22: =SUM(AS22:AU22) -> 17 | AW22: =AV22-AP22 -> 0 | AX22: =AV22-$E22 -> 1 | BB22: =SUM(AY22:BA22) -> 0 | BC22: =BB22-AV22 -> -17 | BD22: =BB22-$E22 -> -16
A23: Plastics Technologies | B23: 7 | C23: 9 | D23: 4 | E23: =SUM(B23:D23) -> 20 | F23: 7 | G23: 9 | H23: 4 | I23: =SUM(F23:H23) -> 20 | J23: =I23-E23 -> 0 | K23: 6 | L23: 9 | M23: 4 | N23: =SUM(K23:M23) -> 19 | O23: =N23-I23 -> -1 | P23: 6 | Q23: 9 | R23: 4 | S23: =SUM(P23:R23) -> 19 | T23: =S23-N23 -> 0 | U23: 5 | V23: 5 | W23: 4 | X23: =SUM(U23:W23) -> 14 | Y23: =X23-S23 -> -5 | Z23: =X23-$E23 -> -6 | AA23: 5 | AB23: 4 | AC23: 4 | AD23: =SUM(AA23:AC23) -> 13 | AE23: =AD23-X23 -> -1 | AF23: =AD23-$E23 -> -7 | AG23: 5 | AH23: 4 | AI23: 4 | AJ23: =SUM(AG23:AI23) -> 13 | AK23: =AJ23-AD23 -> 0 | AL23: =AJ23-$E23 -> -7 | AM23: 4 | AN23: 4 | AO23: 4 | AP23: =SUM(AM23:AO23) -> 12 | AQ23: =AP23-AJ23 -> -1 | AR23: =AP23-$E23 -> -8 | AS23: 4 | AT23: 4 | AU23: 4 | AV23: =SUM(AS23:AU23) -> 12 | AW23: =AV23-AP23 -> 0 | AX23: =AV23-$E23 -> -8 | BB23: =SUM(AY23:BA23) -> 0 | BC23: =BB23-AV23 -> -12 | BD23: =BB23-$E23 -> -20
A24: Tool & Die | B24: 9 | C24: 8 | D24: 1 | E24: =SUM(B24:D24) -> 18 | F24: 9 | G24: 8 | H24: 1 | I24: =SUM(F24:H24) -> 18 | J24: =I24-E24 -> 0 | K24: 9 | L24: 8 | M24: 1 | N24: =SUM(K24:M24) -> 18 | O24: =N24-I24 -> 0 | P24: 9 | Q24: 8 | R24: 1 | S24: =SUM(P24:R24) -> 18 | T24: =S24-N24 -> 0 | U24: 9 | V24: 8 | W24: 1 | X24: =SUM(U24:W24) -> 18 | Y24: =X24-S24 -> 0 | Z24: =X24-$E24 -> 0 | AA24: 7 | AB24: 8 | AC24: 1 | AD24: =SUM(AA24:AC24) -> 16 | AE24: =AD24-X24 -> -2 | AF24: =AD24-$E24 -> -2 | AG24: 7 | AH24: 8 | AI24: 1 | AJ24: =SUM(AG24:AI24) -> 16 | AK24: =AJ24-AD24 -> 0 | AL24: =AJ24-$E24 -> -2 | AM24: 7 | AN24: 8 | AO24: 1 | AP24: =SUM(AM24:AO24) -> 16 | AQ24: =AP24-AJ24 -> 0 | AR24: =AP24-$E24 -> -2 | AS24: 7 | AT24: 8 | AU24: 1 | AV24: =SUM(AS24:AU24) -> 16 | AW24: =AV24-AP24 -> 0 | AX24: =AV24-$E24 -> -2 | BB24: =SUM(AY24:BA24) -> 0 | BC24: =BB24-AV24 -> -16 | BD24: =BB24-$E24 -> -18
A25: Tourism & Hospitality | B25: 38 | C25: 0 | D25: 0 | E25: =SUM(B25:D25) -> 38 | F25: 36 | G25: 0 | H25: 0 | I25: =SUM(F25:H25) -> 36 | J25: =I25-E25 -> -2 | K25: 36 | L25: 0 | M25: 0 | N25: =SUM(K25:M25) -> 36 | O25: =N25-I25 -> 0 | P25: 36 | Q25: 0 | R25: 0 | S25: =SUM(P25:R25) -> 36 | T25: =S25-N25 -> 0 | U25: 36 | V25: 0 | W25: 0 | X25: =SUM(U25:W25) -> 36 | Y25: =X25-S25 -> 0 | Z25: =X25-$E25 -> -2 | AA25: 36 | AB25: 0 | AC25: 0 | AD25: =SUM(AA25:AC25) -> 36 | AE25: =AD25-X25 -> 0 | AF25: =AD25-$E25 -> -2 | AG25: 36 | AH25: 0 | AI25: 0 | AJ25: =SUM(AG25:AI25) -> 36 | AK25: =AJ25-AD25 -> 0 | AL25: =AJ25-$E25 -> -2 | AM25: 35 | AN25: 0 | AO25: 0 | AP25: =SUM(AM25:AO25) -> 35 | AQ25: =AP25-AJ25 -> -1 | AR25: =AP25-$E25 -> -3 | AS25: 35 | AT25: 0 | AU25: 0 | AV25: =SUM(AS25:AU25) -> 35 | AW25: =AV25-AP25 -> 0 | AX25: =AV25-$E25 -> -3 | BB25: =SUM(AY25:BA25) -> 0 | BC25: =BB25-AV25 -> -35 | BD25: =BB25-$E25 -> -38
A26: TOTALS | B26: =SUM(B6:B25) -> 400 | C26: =SUM(C6:C25) -> 241 | D26: =SUM(D6:D25) -> 187 | E26: =SUM(B26:D26) -> 828 | F26: =SUM(F6:F25) -> 396 | G26: =SUM(G6:G25) -> 240 | H26: =SUM(H6:H25) -> 187 | I26: =SUM(I6:I25) -> 823 | J26: =I26-E26 -> -5 | K26: =SUM(K6:K25) -> 385 | L26: =SUM(L6:L25) -> 239 | M26: =SUM(M6:M25) -> 185 | N26: =SUM(N6:N25) -> 809 | O26: =N26-I26 -> -14 | P26: =SUM(P6:P25) -> 380 | Q26: =SUM(Q6:Q25) -> 236 | R26: =SUM(R6:R25) -> 184 | S26: =SUM(S6:S25) -> 800 | T26: =S26-N26 -> -9 | U26: =SUM(U6:U25) -> 376 | V26: =SUM(V6:V25) -> 230 | W26: =SUM(W6:W25) -> 184 | X26: =SUM(X6:X25) -> 790 | Y26: =X26-S26 -> -10 | Z26: =X26-$E26 -> -38 | AA26: =SUM(AA6:AA25) -> 374 | AB26: =SUM(AB6:AB25) -> 220 | AC26: =SUM(AC6:AC25) -> 180 | AD26: =SUM(AD6:AD25) -> 774 | AE26: =AD26-X26 -> -16 | AF26: =AD26-$E26 -> -54 | AG26: =SUM(AG6:AG25) -> 374 | AH26: =SUM(AH6:AH25) -> 220 | AI26: =SUM(AI6:AI25) -> 180 | AJ26: =SUM(AJ6:AJ25) -> 774 | AK26: =AJ26-AD26 -> 0 | AL26: =AJ26-$E26 -> -54 | AM26: =SUM(AM6:AM25) -> 377 | AN26: =SUM(AN6:AN25) -> 218 | AO26: =SUM(AO6:AO25) -> 179 | AP26: =SUM(AP6:AP25) -> 774 | AQ26: =AP26-AJ26 -> 0 | AR26: =AP26-$E26 -> -54 | AS26: =SUM(AS6:AS25) -> 366 | AT26: =SUM(AT6:AT25) -> 216 | AU26: =SUM(AU6:AU25) -> 178 | AV26: =SUM(AV6:AV25) -> 760 | AW26: =AV26-AP26 -> -14 | AX26: =AV26-$E26 -> -68 | AY26: =SUM(AY6:AY25) -> 0 | AZ26: =SUM(AZ6:AZ25) -> 0 | BA26: =SUM(BA6:BA25) -> 0 | BB26: =SUM(BB6:BB25) -> 0 | BC26: =BB26-AV26 -> -760 | BD26: =BB26-$E26 -> -828
B27: 38982 | F27: 39006 | K27: 39034 | P27: 39062 | U27: 39100 | AA27: 39125 | AG27: Thursday, March 15, 2007 | AM27: Wednesday, April 18, 2007 | AS27: Thursday, May 17, 2007 | AY27: Friday, June 15, 2007
B28: 2004-2005 Enrollments | F28: 2004-2005 Enrollments | K28: 2004-2005 Enrollments | P28: 2004-2005 Enrollments | U28: 2004-2005 Enrollments | AA28: 2004-2005 Enrollments | AG28: 2004-2005 Enrollments | AM28: 2004-2005 Enrollments | AS28: 2004-2005 Enrollments | AY28: 2004-2005 Enrollments
B29: Program/Year Level | F29: Program/Year Level | J29: Chg/ Month | K29: Program/Year Level | O29: Chg/ Month | P29: Program/Year Level | T29: Chg/ Month | U29: Program/Year Level | Y29: Chg/ Month | Z29: Chg. from Sept. | AA29: Program/Year Level | AE29: Chg/ Month | AF29: Chg/ Sept | AG29: Program/Year Level | AK29: Chg/ Month | AL29: Chg/ Sept | AM29: Program/Year Level | AQ29: Chg/ Month | AR29: Chg/ Sept | AS29: Program/Year Level | AW29: Chg/ Month | AX29: Chg/ Sept | AY29: Program/Year Level | BC29: Chg/ Month | BD29: Chg/ Sept
A30: School District | B30: 1st | C30: 2nd | D30: 3rd | E30: Total | F30: 1st | G30: 2nd | H30: 3rd | I30: Total | K30: 1st | L30: 2nd | M30: 3rd | N30: Total | P30: 1st | Q30: 2nd | R30: 3rd | S30: Total | U30: 1st | V30: 2nd | W30: 3rd | X30: Total | AA30: 1st | AB30: 2nd | AC30: 3rd | AD30: Total | AG30: 1st | AH30: 2nd | AI30: 3rd | AJ30: Total | AM30: 1st | AN30: 2nd | AO30: 3rd | AP30: Total | AS30: 1st | AT30: 2nd | AU30: 3rd | AV30: Total | AY30: 1st | AZ30: 2nd | BA30: 3rd | BB30: Total
A31: Fairview | B31: 23 | C31: 15 | D31: 8 | E31: =SUM(B31:D31) -> 46 | F31: 23 | G31: 15 | H31: 8 | I31: =SUM(F31:H31) -> 46 | J31: =I31-E31 -> 0 | K31: 24 | L31: 16 | M31: 7 | N31: =SUM(K31:M31) -> 47 | O31: =N31-I31 -> 1 | P31: 24 | Q31: 16 | R31: 7 | S31: =SUM(P31:R31) -> 47 | T31: =S31-N31 -> 0 | U31: 22 | V31: 15 | W31: 7 | X31: =SUM(U31:W31) -> 44 | Y31: =X31-S31 -> -3 | Z31: =X31-$E31 -> -2 | AA31: 20 | AB31: 16 | AC31: 6 | AD31: =SUM(AA31:AC31) -> 42 | AE31: =AD31-X31 -> -2 | AF31: =AD31-$E31 -> -4 | AG31: 20 | AH31: 16 | AI31: 6 | AJ31: =SUM(AG31:AI31) -> 42 | AK31: =AJ31-AD31 -> 0 | AL31: =AJ31-$E31 -> -4 | AM31: 20 | AN31: 15 | AO31: 6 | AP31: =SUM(AM31:AO31) -> 41 | AQ31: =AP31-AJ31 -> -1 | AR31: =AP31-$E31 -> -5 | AS31: 20 | AT31: 14 | AU31: 6 | AV31: =SUM(AS31:AU31) -> 40 | AW31: =AV31-AP31 -> -1 | AX31: =AV31-$E31 -> -6 | BB31: =SUM(AY31:BA31) -> 0 | BC31: =BB31-AV31 -> -40 | BD31: =BB31-$E31 -> -46
A32: Fort LeBoeuf | B32: 40 | C32: 22 | D32: 13 | E32: =SUM(B32:D32) -> 75 | F32: 39 | G32: 24 | H32: 12 | I32: =SUM(F32:H32) -> 75 | J32: =I32-E32 -> 0 | K32: 38 | L32: 22 | M32: 12 | N32: =SUM(K32:M32) -> 72 | O32: =N32-I32 -> -3 | P32: 38 | Q32: 22 | R32: 12 | S32: =SUM(P32:R32) -> 72 | T32: =S32-N32 -> 0 | U32: 39 | V32: 21 | W32: 12 | X32: =SUM(U32:W32) -> 72 | Y32: =X32-S32 -> 0 | Z32: =X32-$E32 -> -3 | AA32: 40 | AB32: 21 | AC32: 12 | AD32: =SUM(AA32:AC32) -> 73 | AE32: =AD32-X32 -> 1 | AF32: =AD32-$E32 -> -2 | AG32: 40 | AH32: 21 | AI32: 12 | AJ32: =SUM(AG32:AI32) -> 73 | AK32: =AJ32-AD32 -> 0 | AL32: =AJ32-$E32 -> -2 | AM32: 40 | AN32: 21 | AO32: 12 | AP32: =SUM(AM32:AO32) -> 73 | AQ32: =AP32-AJ32 -> 0 | AR32: =AP32-$E32 -> -2 | AS32: 40 | AT32: 21 | AU32: 12 | AV32: =SUM(AS32:AU32) -> 73 | AW32: =AV32-AP32 -> 0 | AX32: =AV32-$E32 -> -2 | BB32: =SUM(AY32:BA32) -> 0 | BC32: =BB32-AV32 -> -73 | BD32: =BB32-$E32 -> -75
A33: General McLane | B33: 29 | C33: 17 | D33: 17 | E33: =SUM(B33:D33) -> 63 | F33: 29 | G33: 17 | H33: 17 | I33: =SUM(F33:H33) -> 63 | J33: =I33-E33 -> 0 | K33: 30 | L33: 17 | M33: 17 | N33: =SUM(K33:M33) -> 64 | O33: =N33-I33 -> 1 | P33: 30 | Q33: 16 | R33: 16 | S33: =SUM(P33:R33) -> 62 | T33: =S33-N33 -> -2 | U33: 31 | V33: 16 | W33: 16 | X33: =SUM(U33:W33) -> 63 | Y33: =X33-S33 -> 1 | Z33: =X33-$E33 -> 0 | AA33: 29 | AB33: 16 | AC33: 15 | AD33: =SUM(AA33:AC33) -> 60 | AE33: =AD33-X33 -> -3 | AF33: =AD33-$E33 -> -3 | AG33: 29 | AH33: 16 | AI33: 15 | AJ33: =SUM(AG33:AI33) -> 60 | AK33: =AJ33-AD33 -> 0 | AL33: =AJ33-$E33 -> -3 | AM33: 29 | AN33: 15 | AO33: 16 | AP33: =SUM(AM33:AO33) -> 60 | AQ33: =AP33-AJ33 -> 0 | AR33: =AP33-$E33 -> -3 | AS33: 27 | AT33: 16 | AU33: 14 | AV33: =SUM(AS33:AU33) -> 57 | AW33: =AV33-AP33 -> -3 | AX33: =AV33-$E33 -> -6 | BB33: =SUM(AY33:BA33) -> 0 | BC33: =BB33-AV33 -> -57 | BD33: =BB33-$E33 -> -63
A34: Girard | B34: 30 | C34: 21 | D34: 21 | E34: =SUM(B34:D34) -> 72 | F34: 30 | G34: 21 | H34: 21 | I34: =SUM(F34:H34) -> 72 | J34: =I34-E34 -> 0 | K34: 29 | L34: 21 | M34: 21 | N34: =SUM(K34:M34) -> 71 | O34: =N34-I34 -> -1 | P34: 29 | Q34: 20 | R34: 21 | S34: =SUM(P34:R34) -> 70 | T34: =S34-N34 -> -1 | U34: 29 | V34: 20 | W34: 20 | X34: =SUM(U34:W34) -> 69 | Y34: =X34-S34 -> -1 | Z34: =X34-$E34 -> -3 | AA34: 28 | AB34: 17 | AC34: 20 | AD34: =SUM(AA34:AC34) -> 65 | AE34: =AD34-X34 -> -4 | AF34: =AD34-$E34 -> -7 | AG34: 28 | AH34: 17 | AI34: 20 | AJ34: =SUM(AG34:AI34) -> 65 | AK34: =AJ34-AD34 -> 0 | AL34: =AJ34-$E34 -> -7 | AM34: 28 | AN34: 17 | AO34: 20 | AP34: =SUM(AM34:AO34) -> 65 | AQ34: =AP34-AJ34 -> 0 | AR34: =AP34-$E34 -> -7 | AS34: 28 | AT34: 17 | AU34: 20 | AV34: =SUM(AS34:AU34) -> 65 | AW34: =AV34-AP34 -> 0 | AX34: =AV34-$E34 -> -7 | BB34: =SUM(AY34:BA34) -> 0 | BC34: =BB34-AV34 -> -65 | BD34: =BB34-$E34 -> -72
A35: Harbor Creek | B35: 27 | C35: 24 | D35: 26 | E35: =SUM(B35:D35) -> 77 | F35: 26 | G35: 24 | H35: 26 | I35: =SUM(F35:H35) -> 76 | J35: =I35-E35 -> -1 | K35: 25 | L35: 23 | M35: 26 | N35: =SUM(K35:M35) -> 74 | O35: =N35-I35 -> -2 | P35: 25 | Q35: 21 | R35: 26 | S35: =SUM(P35:R35) -> 72 | T35: =S35-N35 -> -2 | U35: 25 | V35: 21 | W35: 26 | X35: =SUM(U35:W35) -> 72 | Y35: =X35-S35 -> 0 | Z35: =X35-$E35 -> -5 | AA35: 26 | AB35: 20 | AC35: 26 | AD35: =SUM(AA35:AC35) -> 72 | AE35: =AD35-X35 -> 0 | AF35: =AD35-$E35 -> -5 | AG35: 26 | AH35: 20 | AI35: 26 | AJ35: =SUM(AG35:AI35) -> 72 | AK35: =AJ35-AD35 -> 0 | AL35: =AJ35-$E35 -> -5 | AM35: 26 | AN35: 20 | AO35: 26 | AP35: =SUM(AM35:AO35) -> 72 | AQ35: =AP35-AJ35 -> 0 | AR35: =AP35-$E35 -> -5 | AS35: 25 | AT35: 19 | AU35: 26 | AV35: =SUM(AS35:AU35) -> 70 | AW35: =AV35-AP35 -> -2 | AX35: =AV35-$E35 -> -7 | BB35: =SUM(AY35:BA35) -> 0 | BC35: =BB35-AV35 -> -70 | BD35: =BB35-$E35 -> -77
A36: Iroquois | B36: 14 | C36: 11 | D36: 9 | E36: =SUM(B36:D36) -> 34 | F36: 14 | G36: 11 | H36: 9 | I36: =SUM(F36:H36) -> 34 | J36: =I36-E36 -> 0 | K36: 15 | L36: 11 | M36: 9 | N36: =SUM(K36:M36) -> 35 | O36: =N36-I36 -> 1 | P36: 14 | Q36: 11 | R36: 9 | S36: =SUM(P36:R36) -> 34 | T36: =S36-N36 -> -1 | U36: 12 | V36: 12 | W36: 9 | X36: =SUM(U36:W36) -> 33 | Y36: =X36-S36 -> -1 | Z36: =X36-$E36 -> -1 | AA36: 10 | AB36: 11 | AC36: 9 | AD36: =SUM(AA36:AC36) -> 30 | AE36: =AD36-X36 -> -3 | AF36: =AD36-$E36 -> -4 | AG36: 10 | AH36: 11 | AI36: 9 | AJ36: =SUM(AG36:AI36) -> 30 | AK36: =AJ36-AD36 -> 0 | AL36: =AJ36-$E36 -> -4 | AM36: 10 | AN36: 11 | AO36: 9 | AP36: =SUM(AM36:AO36) -> 30 | AQ36: =AP36-AJ36 -> 0 | AR36: =AP36-$E36 -> -4 | AS36: 10 | AT36: 11 | AU36: 9 | AV36: =SUM(AS36:AU36) -> 30 | AW36: =AV36-AP36 -> 0 | AX36: =AV36-$E36 -> -4 | BB36: =SUM(AY36:BA36) -> 0 | BC36: =BB36-AV36 -> -30 | BD36: =BB36-$E36 -> -34
A37: Millcreek | B37: 97 | C37: 48 | D37: 40 | E37: =SUM(B37:D37) -> 185 | F37: 97 | G37: 46 | H37: 41 | I37: =SUM(F37:H37) -> 184 | J37: =I37-E37 -> -1 | K37: 93 | L37: 46 | M37: 40 | N37: =SUM(K37:M37) -> 179 | O37: =N37-I37 -> -5 | P37: 90 | Q37: 46 | R37: 40 | S37: =SUM(P37:R37) -> 176 | T37: =S37-N37 -> -3 | U37: 89 | V37: 44 | W37: 40 | X37: =SUM(U37:W37) -> 173 | Y37: =X37-S37 -> -3 | Z37: =X37-$E37 -> -12 | AA37: 89 | AB37: 43 | AC37: 39 | AD37: =SUM(AA37:AC37) -> 171 | AE37: =AD37-X37 -> -2 | AF37: =AD37-$E37 -> -14 | AG37: 89 | AH37: 43 | AI37: 39 | AJ37: =SUM(AG37:AI37) -> 171 | AK37: =AJ37-AD37 -> 0 | AL37: =AJ37-$E37 -> -14 | AM37: 88 | AN37: 43 | AO37: 38 | AP37: =SUM(AM37:AO37) -> 169 | AQ37: =AP37-AJ37 -> -2 | AR37: =AP37-$E37 -> -16 | AS37: 83 | AT37: 42 | AU37: 38 | AV37: =SUM(AS37:AU37) -> 163 | AW37: =AV37-AP37 -> -6 | AX37: =AV37-$E37 -> -22 | BB37: =SUM(AY37:BA37) -> 0 | BC37: =BB37-AV37 -> -163 | BD37: =BB37-$E37 -> -185
A38: North East | B38: 46 | C38: 26 | D38: 16 | E38: =SUM(B38:D38) -> 88 | F38: 46 | G38: 25 | H38: 16 | I38: =SUM(F38:H38) -> 87 | J38: =I38-E38 -> -1 | K38: 45 | L38: 25 | M38: 16 | N38: =SUM(K38:M38) -> 86 | O38: =N38-I38 -> -1 | P38: 45 | Q38: 25 | R38: 16 | S38: =SUM(P38:R38) -> 86 | T38: =S38-N38 -> 0 | U38: 44 | V38: 24 | W38: 16 | X38: =SUM(U38:W38) -> 84 | Y38: =X38-S38 -> -2 | Z38: =X38-$E38 -> -4 | AA38: 43 | AB38: 23 | AC38: 16 | AD38: =SUM(AA38:AC38) -> 82 | AE38: =AD38-X38 -> -2 | AF38: =AD38-$E38 -> -6 | AG38: 43 | AH38: 23 | AI38: 16 | AJ38: =SUM(AG38:AI38) -> 82 | AK38: =AJ38-AD38 -> 0 | AL38: =AJ38-$E38 -> -6 | AM38: 42 | AN38: 23 | AO38: 16 | AP38: =SUM(AM38:AO38) -> 81 | AQ38: =AP38-AJ38 -> -1 | AR38: =AP38-$E38 -> -7 | AS38: 41 | AT38: 23 | AU38: 16 | AV38: =SUM(AS38:AU38) -> 80 | AW38: =AV38-AP38 -> -1 | AX38: =AV38-$E38 -> -8 | BB38: =SUM(AY38:BA38) -> 0 | BC38: =BB38-AV38 -> -80 | BD38: =BB38-$E38 -> -88
A39: Northwestern | B39: 30 | C39: 25 | D39: 9 | E39: =SUM(B39:D39) -> 64 | F39: 28 | G39: 25 | H39: 9 | I39: =SUM(F39:H39) -> 62 | J39: =I39-E39 -> -2 | K39: 28 | L39: 26 | M39: 9 | N39: =SUM(K39:M39) -> 63 | O39: =N39-I39 -> 1 | P39: 27 | Q39: 26 | R39: 9 | S39: =SUM(P39:R39) -> 62 | T39: =S39-N39 -> -1 | U39: 27 | V39: 26 | W39: 10 | X39: =SUM(U39:W39) -> 63 | Y39: =X39-S39 -> 1 | Z39: =X39-$E39 -> -1 | AA39: 28 | AB39: 25 | AC39: 10 | AD39: =SUM(AA39:AC39) -> 63 | AE39: =AD39-X39 -> 0 | AF39: =AD39-$E39 -> -1 | AG39: 28 | AH39: 25 | AI39: 10 | AJ39: =SUM(AG39:AI39) -> 63 | AK39: =AJ39-AD39 -> 0 | AL39: =AJ39-$E39 -> -1 | AM39: 28 | AN39: 24 | AO39: 10 | AP39: =SUM(AM39:AO39) -> 62 | AQ39: =AP39-AJ39 -> -1 | AR39: =AP39-$E39 -> -2 | AS39: 28 | AT39: 25 | AU39: 10 | AV39: =SUM(AS39:AU39) -> 63 | AW39: =AV39-AP39 -> 1 | AX39: =AV39-$E39 -> -1 | BB39: =SUM(AY39:BA39) -> 0 | BC39: =BB39-AV39 -> -63 | BD39: =BB39-$E39 -> -64
A40: Union City | B40: 18 | C40: 10 | D40: 12 | E40: =SUM(B40:D40) -> 40 | F40: 18 | G40: 10 | H40: 12 | I40: =SUM(F40:H40) -> 40 | J40: =I40-E40 -> 0 | K40: 17 | L40: 10 | M40: 12 | N40: =SUM(K40:M40) -> 39 | O40: =N40-I40 -> -1 | P40: 17 | Q40: 10 | R40: 12 | S40: =SUM(P40:R40) -> 39 | T40: =S40-N40 -> 0 | U40: 17 | V40: 8 | W40: 12 | X40: =SUM(U40:W40) -> 37 | Y40: =X40-S40 -> -2 | Z40: =X40-$E40 -> -3 | AA40: 18 | AB40: 6 | AC40: 11 | AD40: =SUM(AA40:AC40) -> 35 | AE40: =AD40-X40 -> -2 | AF40: =AD40-$E40 -> -5 | AG40: 18 | AH40: 6 | AI40: 11 | AJ40: =SUM(AG40:AI40) -> 35 | AK40: =AJ40-AD40 -> 0 | AL40: =AJ40-$E40 -> -5 | AM40: 18 | AN40: 6 | AO40: 11 | AP40: =SUM(AM40:AO40) -> 35 | AQ40: =AP40-AJ40 -> 0 | AR40: =AP40-$E40 -> -5 | AS40: 18 | AT40: 6 | AU40: 11 | AV40: =SUM(AS40:AU40) -> 35 | AW40: =AV40-AP40 -> 0 | AX40: =AV40-$E40 -> -5 | BB40: =SUM(AY40:BA40) -> 0 | BC40: =BB40-AV40 -> -35 | BD40: =BB40-$E40 -> -40
A41: Wattsburg | B41: 46 | C41: 22 | D41: 16 | E41: =SUM(B41:D41) -> 84 | F41: 46 | G41: 22 | H41: 16 | I41: =SUM(F41:H41) -> 84 | J41: =I41-E41 -> 0 | K41: 41 | L41: 22 | M41: 16 | N41: =SUM(K41:M41) -> 79 | O41: =N41-I41 -> -5 | P41: 41 | Q41: 23 | R41: 16 | S41: =SUM(P41:R41) -> 80 | T41: =S41-N41 -> 1 | U41: 41 | V41: 23 | W41: 16 | X41: =SUM(U41:W41) -> 80 | Y41: =X41-S41 -> 0 | Z41: =X41-$E41 -> -4 | AA41: 43 | AB41: 22 | AC41: 16 | AD41: =SUM(AA41:AC41) -> 81 | AE41: =AD41-X41 -> 1 | AF41: =AD41-$E41 -> -3 | AG41: 43 | AH41: 22 | AI41: 16 | AJ41: =SUM(AG41:AI41) -> 81 | AK41: =AJ41-AD41 -> 0 | AL41: =AJ41-$E41 -> -3 | AM41: 45 | AN41: 22 | AO41: 16 | AP41: 86 | AQ41: =AP41-AJ41 -> 5 | AR41: =AP41-$E41 -> 2 | AS41: 46 | AT41: 22 | AU41: 16 | AV41: =SUM(AS41:AU41) -> 84 | AW41: =AV41-AP41 -> -2 | AX41: =AV41-$E41 -> 0 | BB41: =SUM(AY41:BA41) -> 0 | BC41: =BB41-AV41 -> -84 | BD41: =BB41-$E41 -> -84
A42: Totals | B42: =SUM(B31:B41) -> 400 | C42: =SUM(C31:C41) -> 241 | D42: =SUM(D31:D41) -> 187 | E42: =SUM(E31:E41) -> 828 | F42: =SUM(F31:F41) -> 396 | G42: =SUM(G31:G41) -> 240 | H42: =SUM(H31:H41) -> 187 | I42: =SUM(I31:I41) -> 823 | J42: =I42-E42 -> -5 | K42: =SUM(K31:K41) -> 385 | L42: =SUM(L31:L41) -> 239 | M42: =SUM(M31:M41) -> 185 | N42: =SUM(N31:N41) -> 809 | O42: =N42-I42 -> -14 | P42: =SUM(P31:P41) -> 380 | Q42: =SUM(Q31:Q41) -> 236 | R42: =SUM(R31:R41) -> 184 | S42: =SUM(S31:S41) -> 800 | T42: =S42-N42 -> -9 | U42: =SUM(U31:U41) -> 376 | V42: =SUM(V31:V41) -> 230 | W42: =SUM(W31:W41) -> 184 | X42: =SUM(X31:X41) -> 790 | Y42: =X42-S42 -> -10 | Z42: =X42-$E42 -> -38 | AA42: =SUM(AA31:AA41) -> 374 | AB42: =SUM(AB31:AB41) -> 220 | AC42: =SUM(AC31:AC41) -> 180 | AD42: =SUM(AD31:AD41) -> 774 | AE42: =AD42-X42 -> -16 | AF42: =AD42-$E42 -> -54 | AG42: =SUM(AG31:AG41) -> 374 | AH42: =SUM(AH31:AH41) -> 220 | AI42: =SUM(AI31:AI41) -> 180 | AJ42: =SUM(AJ31:AJ41) -> 774 | AK42: =AJ42-AD42 -> 0 | AL42: =AJ42-$E42 -> -54 | AM42: =SUM(AM31:AM41) -> 374 | AN42: =SUM(AN31:AN41) -> 217 | AO42: =SUM(AO31:AO41) -> 180 | AP42: =SUM(AP31:AP41) -> 774 | AQ42: =AP42-AJ42 -> 0 | AR42: =AP42-$E42 -> -54 | AS42: =SUM(AS31:AS41) -> 366 | AT42: =SUM(AT31:AT41) -> 216 | AU42: =SUM(AU31:AU41) -> 178 | AV42: =SUM(AV31:AV41) -> 760 | AW42: =AV42-AP42 -> -14 | AX42: =AV42-$E42 -> -68 | AY42: =SUM(AY31:AY41) -> 0 | AZ42: =SUM(AZ31:AZ41) -> 0 | BA42: =SUM(BA31:BA41) -> 0 | BB42: =SUM(BB31:BB41) -> 0 | BC42: =BB42-AV42 -> -760 | BD42: =BB42-$E42 -> -828

Sheet 0405 Monthly
A1: Monthly Reports are listed horizontaly
B2: September 2004 | F2: October 2004 | K2: November 2004 | P2: December 2004 | U2: January 2005 | AA2: February 2005 | AG2: March 2005 | AM2: April 2005 | AS2: May 2005 | AY2: June 2005
B3: 2004-2005 Enrollments | F3: 2004-2005 Enrollments | K3: 2004-2005 Enrollments | P3: 2004-2005 Enrollments | U3: 2004-2005 Enrollments | AA3: 2004-2005 Enrollments | AG3: 2004-2005 Enrollments | AM3: 2004-2005 Enrollments | AS3: 2004-2005 Enrollments | AY3: 2004-2005 Enrollments
B4: Program/Year Level | F4: Program/Year Level | J4: Chg/ Month | K4: Program/Year Level | O4: Chg/ Month | P4: Program/Year Level | T4: Chg/ Month | U4: Program/Year Level | Y4: Chg/ Month | Z4: Chg. from Sept. | AA4: Program/Year Level | AE4: Chg/ Month | AF4: Chg/ Mid Year | AG4: Program/Year Level | AK4: Chg/ Month | AL4: Chg/ Sept | AM4: Program/Year Level | AQ4: Chg/ Month | AR4: Chg/ Sept | AS4: Program/Year Level | AW4: Chg/ Month | AX4: Chg/ Sept | AY4: Program/Year Level | BC4: Chg/ Month | BD4: Chg/ Sept
A5: Technical Laboratory | B5: 1st | C5: 2nd | D5: 3rd | E5: Total | F5: 1st | G5: 2nd | H5: 3rd | I5: Total | K5: 1st | L5: 2nd | M5: 3rd | N5: Total | P5: 1st | Q5: 2nd | R5: 3rd | S5: Total | U5: 1st | V5: 2nd | W5: 3rd | X5: Total | AA5: 1st | AB5: 2nd | AC5: 3rd | AD5: Total | AG5: 1st | AH5: 2nd | AI5: 3rd | AJ5: Total | AM5: 1st | AN5: 2nd | AO5: 3rd | AP5: Total | AS5: 1st | AT5: 2nd | AU5: 3rd | AV5: Total | AY5: 1st | AZ5: 2nd | BA5: 3rd | BB5: Total
A6: Auto Body | B6: 20 | C6: 10 | D6: 10 | E6: =SUM(C6:D6) -> 20 | F6: 24 | G6: 7 | H6: 9 | I6: =SUM(F6:H6) -> 40 | J6: =I6-E6 -> 20 | K6: 24 | L6: 7 | M6: 9 | N6: =SUM(K6:M6) -> 40 | O6: =N6-I6 -> 0 | P6: 24 | Q6: 7 | R6: 9 | S6: =SUM(P6:R6) -> 40 | T6: =S6-N6 -> 0 | U6: 24 | V6: 7 | W6: 9 | X6: =SUM(U6:W6) -> 40 | Y6: =X6-S6 -> 0 | Z6: =X6-$E6 -> 20 | AA6: 22 | AB6: 6 | AC6: 9 | AD6: =SUM(AA6:AC6) -> 37 | AE6: =AD6-X6 -> -3 | AF6: =AD6-$E6 -> 17 | AG6: 19 | AH6: 5 | AI6: 9 | AJ6: =SUM(AG6:AI6) -> 33 | AK6: =AJ6-AD6 -> -4 | AL6: =AJ6-$E6 -> 13 | AM6: 19 | AN6: 4 | AO6: 9 | AP6: =SUM(AM6:AO6) -> 32 | AQ6: =AP6-AJ6 -> -1 | AR6: =AP6-$E6 -> 12 | AS6: 19 | AT6: 4 | AU6: 9 | AV6: =SUM(AS6:AU6) -> 32 | AW6: =AV6-AP6 -> 0 | AX6: =AV6-$E6 -> 12 | AY6: 19 | AZ6: 4 | BA6: 9 | BB6: =SUM(AY6:BA6) -> 32 | BC6: =BB6-AV6 -> 0 | BD6: =BB6-$E6 -> 12
A7: Automotive Technologies | B7: 37 | C7: 29 | D7: 14 | E7: =SUM(C7:D7) -> 43 | F7: 44 | G7: 23 | H7: 13 | I7: =SUM(F7:H7) -> 80 | J7: =I7-E7 -> 37 | K7: 43 | L7: 23 | M7: 13 | N7: =SUM(K7:M7) -> 79 | O7: =N7-I7 -> -1 | P7: 43 | Q7: 23 | R7: 13 | S7: =SUM(P7:R7) -> 79 | T7: =S7-N7 -> 0 | U7: 43 | V7: 23 | W7: 13 | X7: =SUM(U7:W7) -> 79 | Y7: =X7-S7 -> 0 | Z7: =X7-$E7 -> 36 | AA7: 45 | AB7: 24 | AC7: 13 | AD7: =SUM(AA7:AC7) -> 82 | AE7: =AD7-X7 -> 3 | AF7: =AD7-$E7 -> 39 | AG7: 47 | AH7: 24 | AI7: 13 | AJ7: =SUM(AG7:AI7) -> 84 | AK7: =AJ7-AD7 -> 2 | AL7: =AJ7-$E7 -> 41 | AM7: 46 | AN7: 24 | AO7: 13 | AP7: =SUM(AM7:AO7) -> 83 | AQ7: =AP7-AJ7 -> -1 | AR7: =AP7-$E7 -> 40 | AS7: 45 | AT7: 24 | AU7: 13 | AV7: =SUM(AS7:AU7) -> 82 | AW7: =AV7-AP7 -> -1 | AX7: =AV7-$E7 -> 39 | AY7: 45 | AZ7: 24 | BA7: 13 | BB7: =SUM(AY7:BA7) -> 82 | BC7: =BB7-AV7 -> 0 | BD7: =BB7-$E7 -> 39
A8: Child Care | B8: 16 | C8: 14 | D8: 15 | E8: =SUM(C8:D8) -> 29 | F8: 19 | G8: 12 | H8: 14 | I8: =SUM(F8:H8) -> 45 | J8: =I8-E8 -> 16 | K8: 18 | L8: 11 | M8: 14 | N8: =SUM(K8:M8) -> 43 | O8: =N8-I8 -> -2 | P8: 17 | Q8: 11 | R8: 14 | S8: =SUM(P8:R8) -> 42 | T8: =S8-N8 -> -1 | U8: 17 | V8: 11 | W8: 14 | X8: =SUM(U8:W8) -> 42 | Y8: =X8-S8 -> 0 | Z8: =X8-$E8 -> 13 | AA8: 14 | AB8: 11 | AC8: 14 | AD8: =SUM(AA8:AC8) -> 39 | AE8: =AD8-X8 -> -3 | AF8: =AD8-$E8 -> 10 | AG8: 14 | AH8: 10 | AI8: 14 | AJ8: =SUM(AG8:AI8) -> 38 | AK8: =AJ8-AD8 -> -1 | AL8: =AJ8-$E8 -> 9 | AM8: 14 | AN8: 10 | AO8: 14 | AP8: =SUM(AM8:AO8) -> 38 | AQ8: =AP8-AJ8 -> 0 | AR8: =AP8-$E8 -> 9 | AS8: 14 | AT8: 10 | AU8: 14 | AV8: =SUM(AS8:AU8) -> 38 | AW8: =AV8-AP8 -> 0 | AX8: =AV8-$E8 -> 9 | AY8: 14 | AZ8: 9 | BA8: 14 | BB8: =SUM(AY8:BA8) -> 37 | BC8: =BB8-AV8 -> -1 | BD8: =BB8-$E8 -> 8
A9: Commercial Art | B9: 16 | C9: 22 | D9: 10 | E9: =SUM(C9:D9) -> 32 | F9: 22 | G9: 17 | H9: 10 | I9: =SUM(F9:H9) -> 49 | J9: =I9-E9 -> 17 | K9: 22 | L9: 17 | M9: 10 | N9: =SUM(K9:M9) -> 49 | O9: =N9-I9 -> 0 | P9: 22 | Q9: 17 | R9: 10 | S9: =SUM(P9:R9) -> 49 | T9: =S9-N9 -> 0 | U9: 22 | V9: 17 | W9: 10 | X9: =SUM(U9:W9) -> 49 | Y9: =X9-S9 -> 0 | Z9: =X9-$E9 -> 17 | AA9: 22 | AB9: 17 | AC9: 9 | AD9: =SUM(AA9:AC9) -> 48 | AE9: =AD9-X9 -> -1 | AF9: =AD9-$E9 -> 16 | AG9: 22 | AH9: 17 | AI9: 9 | AJ9: =SUM(AG9:AI9) -> 48 | AK9: =AJ9-AD9 -> 0 | AL9: =AJ9-$E9 -> 16 | AM9: 22 | AN9: 17 | AO9: 9 | AP9: =SUM(AM9:AO9) -> 48 | AQ9: =AP9-AJ9 -> 0 | AR9: =AP9-$E9 -> 16 | AS9: 22 | AT9: 17 | AU9: 9 | AV9: =SUM(AS9:AU9) -> 48 | AW9: =AV9-AP9 -> 0 | AX9: =AV9-$E9 -> 16 | AY9: 22 | AZ9: 17 | BA9: 9 | BB9: =SUM(AY9:BA9) -> 48 | BC9: =BB9-AV9 -> 0 | BD9: =BB9-$E9 -> 16
A10: Computer Info. Systems | B10: 11 | C10: 21 | D10: 14 | E10: =SUM(C10:D10) -> 35 | F10: 17 | G10: 18 | H10: 12 | I10: =SUM(F10:H10) -> 47 | J10: =I10-E10 -> 12 | K10: 18 | L10: 17 | M10: 12 | N10: =SUM(K10:M10) -> 47 | O10: =N10-I10 -> 0 | P10: 18 | Q10: 17 | R10: 12 | S10: =SUM(P10:R10) -> 47 | T10: =S10-N10 -> 0 | U10: 18 | V10: 17 | W10: 12 | X10: =SUM(U10:W10) -> 47 | Y10: =X10-S10 -> 0 | Z10: =X10-$E10 -> 12 | AA10: 16 | AB10: 16 | AC10: 12 | AD10: =SUM(AA10:AC10) -> 44 | AE10: =AD10-X10 -> -3 | AF10: =AD10-$E10 -> 9 | AG10: 16 | AH10: 16 | AI10: 12 | AJ10: =SUM(AG10:AI10) -> 44 | AK10: =AJ10-AD10 -> 0 | AL10: =AJ10-$E10 -> 9 | AM10: 16 | AN10: 16 | AO10: 12 | AP10: =SUM(AM10:AO10) -> 44 | AQ10: =AP10-AJ10 -> 0 | AR10: =AP10-$E10 -> 9 | AS10: 16 | AT10: 16 | AU10: 12 | AV10: =SUM(AS10:AU10) -> 44 | AW10: =AV10-AP10 -> 0 | AX10: =AV10-$E10 -> 9 | AY10: 16 | AZ10: 16 | BA10: 12 | BB10: =SUM(AY10:BA10) -> 44 | BC10: =BB10-AV10 -> 0 | BD10: =BB10-$E10 -> 9
A11: Construction Trades | B11: 33 | C11: 18 | D11: 21 | E11: =SUM(C11:D11) -> 39 | F11: 33 | G11: 18 | H11: 19 | I11: =SUM(F11:H11) -> 70 | J11: =I11-E11 -> 31 | K11: 31 | L11: 17 | M11: 19 | N11: =SUM(K11:M11) -> 67 | O11: =N11-I11 -> -3 | P11: 31 | Q11: 17 | R11: 19 | S11: =SUM(P11:R11) -> 67 | T11: =S11-N11 -> 0 | U11: 31 | V11: 17 | W11: 19 | X11: =SUM(U11:W11) -> 67 | Y11: =X11-S11 -> 0 | Z11: =X11-$E11 -> 28 | AA11: 33 | AB11: 17 | AC11: 19 | AD11: =SUM(AA11:AC11) -> 69 | AE11: =AD11-X11 -> 2 | AF11: =AD11-$E11 -> 30 | AG11: 33 | AH11: 16 | AI11: 19 | AJ11: =SUM(AG11:AI11) -> 68 | AK11: =AJ11-AD11 -> -1 | AL11: =AJ11-$E11 -> 29 | AM11: 33 | AN11: 16 | AO11: 19 | AP11: =SUM(AM11:AO11) -> 68 | AQ11: =AP11-AJ11 -> 0 | AR11: =AP11-$E11 -> 29 | AS11: 32 | AT11: 16 | AU11: 19 | AV11: =SUM(AS11:AU11) -> 67 | AW11: =AV11-AP11 -> -1 | AX11: =AV11-$E11 -> 28 | AY11: 32 | AZ11: 16 | BA11: 19 | BB11: =SUM(AY11:BA11) -> 67 | BC11: =BB11-AV11 -> 0 | BD11: =BB11-$E11 -> 28
A12: Cosmetology | B12: 18 | C12: 13 | D12: 14 | E12: =SUM(C12:D12) -> 27 | F12: 20 | G12: 13 | H12: 12 | I12: =SUM(F12:H12) -> 45 | J12: =I12-E12 -> 18 | K12: 20 | L12: 13 | M12: 12 | N12: =SUM(K12:M12) -> 45 | O12: =N12-I12 -> 0 | P12: 20 | Q12: 12 | R12: 12 | S12: =SUM(P12:R12) -> 44 | T12: =S12-N12 -> -1 | U12: 20 | V12: 12 | W12: 12 | X12: =SUM(U12:W12) -> 44 | Y12: =X12-S12 -> 0 | Z12: =X12-$E12 -> 17 | AA12: 20 | AB12: 12 | AC12: 12 | AD12: =SUM(AA12:AC12) -> 44 | AE12: =AD12-X12 -> 0 | AF12: =AD12-$E12 -> 17 | AG12: 20 | AH12: 12 | AI12: 12 | AJ12: =SUM(AG12:AI12) -> 44 | AK12: =AJ12-AD12 -> 0 | AL12: =AJ12-$E12 -> 17 | AM12: 20 | AN12: 12 | AO12: 12 | AP12: =SUM(AM12:AO12) -> 44 | AQ12: =AP12-AJ12 -> 0 | AR12: =AP12-$E12 -> 17 | AS12: 20 | AT12: 12 | AU12: 12 | AV12: =SUM(AS12:AU12) -> 44 | AW12: =AV12-AP12 -> 0 | AX12: =AV12-$E12 -> 17 | AY12: 20 | AZ12: 12 | BA12: 12 | BB12: =SUM(AY12:BA12) -> 44 | BC12: =BB12-AV12 -> 0 | BD12: =BB12-$E12 -> 17
A13: Culinary Arts | B13: 31 | C13: 27 | D13: 24 | E13: =SUM(C13:D13) -> 51 | F13: 37 | G13: 22 | H13: 22 | I13: =SUM(F13:H13) -> 81 | J13: =I13-E13 -> 30 | K13: 36 | L13: 20 | M13: 22 | N13: =SUM(K13:M13) -> 78 | O13: =N13-I13 -> -3 | P13: 35 | Q13: 20 | R13: 22 | S13: =SUM(P13:R13) -> 77 | T13: =S13-N13 -> -1 | U13: 34 | V13: 20 | W13: 22 | X13: =SUM(U13:W13) -> 76 | Y13: =X13-S13 -> -1 | Z13: =X13-$E13 -> 25 | AA13: 34 | AB13: 20 | AC13: 22 | AD13: =SUM(AA13:AC13) -> 76 | AE13: =AD13-X13 -> 0 | AF13: =AD13-$E13 -> 25 | AG13: 32 | AH13: 20 | AI13: 22 | AJ13: =SUM(AG13:AI13) -> 74 | AK13: =AJ13-AD13 -> -2 | AL13: =AJ13-$E13 -> 23 | AM13: 32 | AN13: 20 | AO13: 22 | AP13: =SUM(AM13:AO13) -> 74 | AQ13: =AP13-AJ13 -> 0 | AR13: =AP13-$E13 -> 23 | AS13: 31 | AT13: 20 | AU13: 22 | AV13: =SUM(AS13:AU13) -> 73 | AW13: =AV13-AP13 -> -1 | AX13: =AV13-$E13 -> 22 | AY13: 31 | AZ13: 20 | BA13: 22 | BB13: =SUM(AY13:BA13) -> 73 | BC13: =BB13-AV13 -> 0 | BD13: =BB13-$E13 -> 22
A14: Drafting & Design | B14: 13 | C14: 13 | D14: 9 | E14: =SUM(C14:D14) -> 22 | F14: 14 | G14: 13 | H14: 8 | I14: =SUM(F14:H14) -> 35 | J14: =I14-E14 -> 13 | K14: 14 | L14: 13 | M14: 8 | N14: =SUM(K14:M14) -> 35 | O14: =N14-I14 -> 0 | P14: 14 | Q14: 13 | R14: 8 | S14: =SUM(P14:R14) -> 35 | T14: =S14-N14 -> 0 | U14: 14 | V14: 13 | W14: 8 | X14: =SUM(U14:W14) -> 35 | Y14: =X14-S14 -> 0 | Z14: =X14-$E14 -> 13 | AA14: 14 | AB14: 13 | AC14: 7 | AD14: =SUM(AA14:AC14) -> 34 | AE14: =AD14-X14 -> -1 | AF14: =AD14-$E14 -> 12 | AG14: 13 | AH14: 12 | AI14: 7 | AJ14: =SUM(AG14:AI14) -> 32 | AK14: =AJ14-AD14 -> -2 | AL14: =AJ14-$E14 -> 10 | AM14: 13 | AN14: 12 | AO14: 7 | AP14: =SUM(AM14:AO14) -> 32 | AQ14: =AP14-AJ14 -> 0 | AR14: =AP14-$E14 -> 10 | AS14: 13 | AT14: 12 | AU14: 7 | AV14: =SUM(AS14:AU14) -> 32 | AW14: =AV14-AP14 -> 0 | AX14: =AV14-$E14 -> 10 | AY14: 13 | AZ14: 12 | BA14: 7 | BB14: =SUM(AY14:BA14) -> 32 | BC14: =BB14-AV14 -> 0 | BD14: =BB14-$E14 -> 10
A15: Electrical Engineering | B15: 16 | C15: 11 | D15: 9 | E15: =SUM(C15:D15) -> 20 | F15: 20 | G15: 9 | H15: 9 | I15: =SUM(F15:H15) -> 38 | J15: =I15-E15 -> 18 | K15: 20 | L15: 9 | M15: 9 | N15: =SUM(K15:M15) -> 38 | O15: =N15-I15 -> 0 | P15: 20 | Q15: 9 | R15: 9 | S15: =SUM(P15:R15) -> 38 | T15: =S15-N15 -> 0 | U15: 19 | V15: 9 | W15: 9 | X15: =SUM(U15:W15) -> 37 | Y15: =X15-S15 -> -1 | Z15: =X15-$E15 -> 17 | AA15: 19 | AB15: 9 | AC15: 9 | AD15: =SUM(AA15:AC15) -> 37 | AE15: =AD15-X15 -> 0 | AF15: =AD15-$E15 -> 17 | AG15: 20 | AH15: 9 | AI15: 9 | AJ15: =SUM(AG15:AI15) -> 38 | AK15: =AJ15-AD15 -> 1 | AL15: =AJ15-$E15 -> 18 | AM15: 20 | AN15: 9 | AO15: 9 | AP15: =SUM(AM15:AO15) -> 38 | AQ15: =AP15-AJ15 -> 0 | AR15: =AP15-$E15 -> 18 | AS15: 19 | AT15: 9 | AU15: 9 | AV15: =SUM(AS15:AU15) -> 37 | AW15: =AV15-AP15 -> -1 | AX15: =AV15-$E15 -> 17 | AY15: 19 | AZ15: 9 | BA15: 9 | BB15: =SUM(AY15:BA15) -> 37 | BC15: =BB15-AV15 -> 0 | BD15: =BB15-$E15 -> 17
A16: Electronics | B16: 12 | C16: 7 | D16: 8 | E16: =SUM(C16:D16) -> 15 | F16: 11 | G16: 8 | H16: 6 | I16: =SUM(F16:H16) -> 25 | J16: =I16-E16 -> 10 | K16: 11 | L16: 8 | M16: 6 | N16: =SUM(K16:M16) -> 25 | O16: =N16-I16 -> 0 | P16: 11 | Q16: 8 | R16: 6 | S16: =SUM(P16:R16) -> 25 | T16: =S16-N16 -> 0 | U16: 11 | V16: 8 | W16: 6 | X16: =SUM(U16:W16) -> 25 | Y16: =X16-S16 -> 0 | Z16: =X16-$E16 -> 10 | AA16: 12 | AB16: 7 | AC16: 6 | AD16: =SUM(AA16:AC16) -> 25 | AE16: =AD16-X16 -> 0 | AF16: =AD16-$E16 -> 10 | AG16: 12 | AH16: 7 | AI16: 6 | AJ16: =SUM(AG16:AI16) -> 25 | AK16: =AJ16-AD16 -> 0 | AL16: =AJ16-$E16 -> 10 | AM16: 12 | AN16: 7 | AO16: 6 | AP16: =SUM(AM16:AO16) -> 25 | AQ16: =AP16-AJ16 -> 0 | AR16: =AP16-$E16 -> 10 | AS16: 12 | AT16: 7 | AU16: 6 | AV16: =SUM(AS16:AU16) -> 25 | AW16: =AV16-AP16 -> 0 | AX16: =AV16-$E16 -> 10 | AY16: 12 | AZ16: 7 | BA16: 6 | BB16: =SUM(AY16:BA16) -> 25 | BC16: =BB16-AV16 -> 0 | BD16: =BB16-$E16 -> 10
