Workbook
Name QUOAVE: Combo!$AZ$15

Sheet 1011Monthly
C2: August 2010 | H2: September 2010 | O2: October 2010 | V2: November 2010 | AD2: December 2010 | AL2: January 2011 | AT2: February 2011 | BB2: March 2011 | BJ2: April 2011 | BR2: May 2011 | BZ2: June 2011
A3: Program | C3: Program/Year Level | F3: Total | H3: Program/Year Level | K3: Total | L3: Chg/ Month | M3: Chg/ Year | O3: Program/Year Level | R3: Total | S3: Chg/ Month | T3: Chg/ Year | V3: Program/Year Level | Y3: Total | Z3: Chg/ Month | AA3: Chg/ Sept | AB3: Chg/ Year | AD3: Program/Year Level | AG3: Total | AH3: Chg/ Month | AI3: Chg/ Sept | AJ3: Chg/ Year | AL3: Program/Year Level | AO3: Total | AP3: Chg/ Month | AQ3: Chg/ Sept | AR3: Chg/ Year | AT3: Program/Year Level | AW3: Total | AX3: Chg/ Month | AY3: Chg/ Sept | AZ3: Chg/ Year | BB3: Program/Year Level | BE3: Total | BF3: Chg/ Month | BG3: Chg/ Sept | BH3: Chg/ Year | BJ3: Program/Year Level | BM3: Total | BN3: Chg/ Month | BO3: Chg/ Sept | BP3: Chg/ Year | BR3: Program/Year Level | BU3: Total | BV3: Chg/ Month | BW3: Chg/ Sept | BX3: Chg/ Year | BZ3: Program/Year Level | CC3: Total | CD3: Chg/ Month | CE3: Chg/ Sept | CF3: Chg/ Year
B4: Capacity | C4: 1st | D4: 2nd | E4: 3rd | F4: Total | H4: 1st | I4: 2nd | J4: 3rd | K4: Total | O4: 1st | P4: 2nd | Q4: 3rd | R4: Total | V4: 1st | W4: 2nd | X4: 3rd | Y4: Total | AD4: 1st | AE4: 2nd | AF4: 3rd | AG4: Total | AL4: 1st | AM4: 2nd | AN4: 3rd | AO4: Total | AT4: 1st | AU4: 2nd | AV4: 3rd | AW4: Total | BB4: 1st | BC4: 2nd | BD4: 3rd | BE4: Total | BJ4: 1st | BK4: 2nd | BL4: 3rd | BM4: Total | BR4: 1st | BS4: 2nd | BT4: 3rd | BU4: Total | BZ4: 1st | CA4: 2nd | CB4: 3rd | CC4: Total
A5: Art & Design | B5: 48 | C5: 16 | D5: 12 | E5: 17 | F5: =SUM(C5:E5) -> 45 | H5: 19 | I5: 10 | J5: 16 | K5: =SUM(H5:J5) -> 45 | L5: =K5-F5 -> 0 | M5: =K5-'0910 Monthly '!J5 -> -1 | O5: 19 | P5: 10 | Q5: 16 | R5: 45 | S5: =R5-K5 -> 0 | T5: =R5-'0910 Monthly '!N5 -> -1 | V5: 19 | W5: 10 | X5: 16 | Y5: =SUM(V5:X5) -> 45 | Z5: =Y5-R5 -> 0 | AA5: =Y5-$F5 -> 0 | AB5: =Z5-'0910 Monthly '!S5 -> -46 | AD5: 20 | AE5: 10 | AF5: 16 | AG5: 46 | AH5: =AG5-Y5 -> 1 | AI5: =AG5-$F5 -> 1 | AJ5: =AH5-'0910 Monthly '!Y5 -> -45 | AL5: 20 | AM5: 9 | AN5: 17 | AO5: 46 | AP5: =AO5-AG5 -> 0 | AQ5: =AO5-$F5 -> 1 | AR5: =AP5-'0910 Monthly '!AE5 -> -42 | AT5: 20 | AU5: 7 | AV5: 17 | AW5: 44 | AX5: =AW5-AO5 -> -2 | AY5: =AW5-$F5 -> -1 | AZ5: =AX5-'0910 Monthly '!AK5 -> -43 | BF5: =BE5-AW5 -> -44 | BG5: =BE5-$F5 -> -45 | BH5: =BF5-'0910 Monthly '!AQ5 -> -84 | BN5: =BM5-BE5 -> 0 | BO5: =BM5-$F5 -> -45 | BP5: =BN5-'0910 Monthly '!AW5 -> -40 | BV5: =BU5-BM5 -> 0 | BW5: =BU5-$F5 -> -45 | BX5: =BV5-'0910 Monthly '!BC5 -> -40 | CD5: =CC5-BU5 -> 0 | CE5: =CC5-$F5 -> -45 | CF5: =CD5-'0910 Monthly '!BI5 -> -39
A6: Auto Body | B6: 48 | C6: 12 | D6: 6 | E6: 3 | F6: =SUM(C6:E6) -> 21 | H6: 14 | I6: 6 | J6: 3 | K6: =SUM(H6:J6) -> 23 | L6: =K6-F6 -> 2 | M6: =K6-'0910 Monthly '!J6 -> -4 | O6: 12 | P6: 6 | Q6: 3 | R6: 21 | S6: =R6-K6 -> -2 | T6: =R6-'0910 Monthly '!N6 -> -4 | V6: 11 | W6: 6 | X6: 3 | Y6: =SUM(V6:X6) -> 20 | Z6: =Y6-R6 -> -1 | AA6: =Y6-$F6 -> -1 | AB6: =Z6-'0910 Monthly '!S6 -> -26 | AD6: 11 | AE6: 6 | AF6: 3 | AG6: 20 | AH6: =AG6-Y6 -> 0 | AI6: =AG6-$F6 -> -1 | AJ6: =AH6-'0910 Monthly '!Y6 -> -24 | AL6: 10 | AM6: 5 | AN6: 3 | AO6: 18 | AP6: =AO6-AG6 -> -2 | AQ6: =AO6-$F6 -> -3 | AR6: =AP6-'0910 Monthly '!AE6 -> -22 | AT6: 11 | AU6: 5 | AV6: 3 | AW6: 19 | AX6: =AW6-AO6 -> 1 | AY6: =AW6-$F6 -> -2 | AZ6: =AX6-'0910 Monthly '!AK6 -> -19 | BF6: =BE6-AW6 -> -19 | BG6: =BE6-$F6 -> -21 | BH6: =BF6-'0910 Monthly '!AQ6 -> -39 | BN6: =BM6-BE6 -> 0 | BO6: =BM6-$F6 -> -21 | BP6: =BN6-'0910 Monthly '!AW6 -> -20 | BV6: =BU6-BM6 -> 0 | BW6: =BU6-$F6 -> -21 | BX6: =BV6-'0910 Monthly '!BC6 -> -20 | CD6: =CC6-BU6 -> 0 | CE6: =CC6-$F6 -> -21 | CF6: =CD6-'0910 Monthly '!BI6 -> -20
A7: Automotive Technologies | B7: 96 | C7: 25 | D7: 24 | E7: 18 | F7: =SUM(C7:E7) -> 67 | H7: 26 | I7: 22 | J7: 18 | K7: =SUM(H7:J7) -> 66 | L7: =K7-F7 -> -1 | M7: =K7-'0910 Monthly '!J7 -> 8 | O7: 27 | P7: 20 | Q7: 17 | R7: 64 | S7: =R7-K7 -> -2 | T7: =R7-'0910 Monthly '!N7 -> -4 | V7: 27 | W7: 20 | X7: 17 | Y7: =SUM(V7:X7) -> 64 | Z7: =Y7-R7 -> 0 | AA7: =Y7-$F7 -> -3 | AB7: =Z7-'0910 Monthly '!S7 -> -67 | AD7: 27 | AE7: 20 | AF7: 17 | AG7: 64 | AH7: =AG7-Y7 -> 0 | AI7: =AG7-$F7 -> -3 | AJ7: =AH7-'0910 Monthly '!Y7 -> -65 | AL7: 27 | AM7: 19 | AN7: 17 | AO7: 63 | AP7: =AO7-AG7 -> -1 | AQ7: =AO7-$F7 -> -4 | AR7: =AP7-'0910 Monthly '!AE7 -> -64 | AT7: 30 | AU7: 17 | AV7: 17 | AW7: 64 | AX7: =AW7-AO7 -> 1 | AY7: =AW7-$F7 -> -3 | AZ7: =AX7-'0910 Monthly '!AK7 -> -61 | BF7: =BE7-AW7 -> -64 | BG7: =BE7-$F7 -> -67 | BH7: =BF7-'0910 Monthly '!AQ7 -> -126 | BN7: =BM7-BE7 -> 0 | BO7: =BM7-$F7 -> -67 | BP7: =BN7-'0910 Monthly '!AW7 -> -63 | BV7: =BU7-BM7 -> 0 | BW7: =BU7-$F7 -> -67 | BX7: =BV7-'0910 Monthly '!BC7 -> -62 | CD7: =CC7-BU7 -> 0 | CE7: =CC7-$F7 -> -67 | CF7: =CD7-'0910 Monthly '!BI7 -> -62
A8: Computer Info. Systems | B8: 48 | C8: 14 | D8: 12 | E8: 8 | F8: =SUM(C8:E8) -> 34 | H8: 12 | I8: 12 | J8: 9 | K8: =SUM(H8:J8) -> 33 | L8: =K8-F8 -> -1 | M8: =K8-'0910 Monthly '!J8 -> -4 | O8: 12 | P8: 10 | Q8: 8 | R8: 30 | S8: =R8-K8 -> -3 | T8: =R8-'0910 Monthly '!N8 -> -7 | V8: 12 | W8: 10 | X8: 8 | Y8: =SUM(V8:X8) -> 30 | Z8: =Y8-R8 -> 0 | AA8: =Y8-$F8 -> -4 | AB8: =Z8-'0910 Monthly '!S8 -> -37 | AD8: 12 | AE8: 9 | AF8: 8 | AG8: 29 | AH8: =AG8-Y8 -> -1 | AI8: =AG8-$F8 -> -5 | AJ8: =AH8-'0910 Monthly '!Y8 -> -38 | AL8: 12 | AM8: 9 | AN8: 8 | AO8: 29 | AP8: =AO8-AG8 -> 0 | AQ8: =AO8-$F8 -> -5 | AR8: =AP8-'0910 Monthly '!AE8 -> -37 | AT8: 10 | AU8: 9 | AV8: 8 | AW8: 27 | AX8: =AW8-AO8 -> -2 | AY8: =AW8-$F8 -> -7 | AZ8: =AX8-'0910 Monthly '!AK8 -> -39 | BF8: =BE8-AW8 -> -27 | BG8: =BE8-$F8 -> -34 | BH8: =BF8-'0910 Monthly '!AQ8 -> -63 | BN8: =BM8-BE8 -> 0 | BO8: =BM8-$F8 -> -34 | BP8: =BN8-'0910 Monthly '!AW8 -> -36 | BV8: =BU8-BM8 -> 0 | BW8: =BU8-$F8 -> -34 | BX8: =BV8-'0910 Monthly '!BC8 -> -35 | CD8: =CC8-BU8 -> 0 | CE8: =CC8-$F8 -> -34 | CF8: =CD8-'0910 Monthly '!BI8 -> -35
A9: Construction Trades | B9: 96 | C9: 39 | D9: 14 | E9: 21 | F9: =SUM(C9:E9) -> 74 | H9: 29 | I9: 14 | J9: 18 | K9: =SUM(H9:J9) -> 61 | L9: =K9-F9 -> -13 | M9: =K9-'0910 Monthly '!J9 -> -2 | O9: 27 | P9: 13 | Q9: 18 | R9: 58 | S9: =R9-K9 -> -3 | T9: =R9-'0910 Monthly '!N9 -> -1 | V9: 28 | W9: 13 | X9: 18 | Y9: =SUM(V9:X9) -> 59 | Z9: =Y9-R9 -> 1 | AA9: =Y9-$F9 -> -15 | AB9: =Z9-'0910 Monthly '!S9 -> -58 | AD9: 27 | AE9: 13 | AF9: 18 | AG9: 58 | AH9: =AG9-Y9 -> -1 | AI9: =AG9-$F9 -> -16 | AJ9: =AH9-'0910 Monthly '!Y9 -> -59 | AL9: 25 | AM9: 14 | AN9: 20 | AO9: 59 | AP9: =AO9-AG9 -> 1 | AQ9: =AO9-$F9 -> -15 | AR9: =AP9-'0910 Monthly '!AE9 -> -54 | AT9: 21 | AU9: 13 | AV9: 19 | AW9: 53 | AX9: =AW9-AO9 -> -6 | AY9: =AW9-$F9 -> -21 | AZ9: =AX9-'0910 Monthly '!AK9 -> -61 | BF9: =BE9-AW9 -> -53 | BG9: =BE9-$F9 -> -74 | BH9: =BF9-'0910 Monthly '!AQ9 -> -107 | BN9: =BM9-BE9 -> 0 | BO9: =BM9-$F9 -> -74 | BP9: =BN9-'0910 Monthly '!AW9 -> -55 | BV9: =BU9-BM9 -> 0 | BW9: =BU9-$F9 -> -74 | BX9: =BV9-'0910 Monthly '!BC9 -> -54 | CD9: =CC9-BU9 -> 0 | CE9: =CC9-$F9 -> -74 | CF9: =CD9-'0910 Monthly '!BI9 -> -54
A10: Cosmetology | B10: 48 | C10: 21 | D10: 14 | E10: 13 | F10: =SUM(C10:E10) -> 48 | H10: 23 | I10: 12 | J10: 11 | K10: =SUM(H10:J10) -> 46 | L10: =K10-F10 -> -2 | M10: =K10-'0910 Monthly '!J10 -> -2 | O10: 23 | P10: 12 | Q10: 11 | R10: 46 | S10: =R10-K10 -> 0 | T10: =R10-'0910 Monthly '!N10 -> -2 | V10: 23 | W10: 12 | X10: 11 | Y10: =SUM(V10:X10) -> 46 | Z10: =Y10-R10 -> 0 | AA10: =Y10-$F10 -> -2 | AB10: =Z10-'0910 Monthly '!S10 -> -48 | AD10: 23 | AE10: 12 | AF10: 11 | AG10: 46 | AH10: =AG10-Y10 -> 0 | AI10: =AG10-$F10 -> -2 | AJ10: =AH10-'0910 Monthly '!Y10 -> -48 | AL10: 23 | AM10: 12 | AN10: 11 | AO10: 46 | AP10: =AO10-AG10 -> 0 | AQ10: =AO10-$F10 -> -2 | AR10: =AP10-'0910 Monthly '!AE10 -> -47 | AT10: 23 | AU10: 11 | AV10: 11 | AW10: 45 | AX10: =AW10-AO10 -> -1 | AY10: =AW10-$F10 -> -3 | AZ10: =AX10-'0910 Monthly '!AK10 -> -48 | BF10: =BE10-AW10 -> -45 | BG10: =BE10-$F10 -> -48 | BH10: =BF10-'0910 Monthly '!AQ10 -> -92 | BN10: =BM10-BE10 -> 0 | BO10: =BM10-$F10 -> -48 | BP10: =BN10-'0910 Monthly '!AW10 -> -44 | BV10: =BU10-BM10 -> 0 | BW10: =BU10-$F10 -> -48 | BX10: =BV10-'0910 Monthly '!BC10 -> -44 | CD10: =CC10-BU10 -> 0 | CE10: =CC10-$F10 -> -48 | CF10: =CD10-'0910 Monthly '!BI10 -> -44
A11: Culinary Arts | B11: 96 | C11: 48 | D11: 24 | E11: 13 | F11: =SUM(C11:E11) -> 85 | H11: 47 | I11: 22 | J11: 13 | K11: =SUM(H11:J11) -> 82 | L11: =K11-F11 -> -3 | M11: =K11-'0910 Monthly '!J11 -> 9 | O11: 45 | P11: 22 | Q11: 13 | R11: 80 | S11: =R11-K11 -> -2 | T11: =R11-'0910 Monthly '!N11 -> 6 | V11: 45 | W11: 19 | X11: 13 | Y11: =SUM(V11:X11) -> 77 | Z11: =Y11-R11 -> -3 | AA11: =Y11-$F11 -> -8 | AB11: =Z11-'0910 Monthly '!S11 -> -74 | AD11: 45 | AE11: 19 | AF11: 13 | AG11: 77 | AH11: =AG11-Y11 -> 0 | AI11: =AG11-$F11 -> -8 | AJ11: =AH11-'0910 Monthly '!Y11 -> -69 | AL11: 40 | AM11: 23 | AN11: 14 | AO11: 77 | AP11: =AO11-AG11 -> 0 | AQ11: =AO11-$F11 -> -8 | AR11: =AP11-'0910 Monthly '!AE11 -> -71 | AT11: 41 | AU11: 22 | AV11: 13 | AW11: 76 | AX11: =AW11-AO11 -> -1 | AY11: =AW11-$F11 -> -9 | AZ11: =AX11-'0910 Monthly '!AK11 -> -72 | BF11: =BE11-AW11 -> -76 | BG11: =BE11-$F11 -> -85 | BH11: =BF11-'0910 Monthly '!AQ11 -> -147 | BN11: =BM11-BE11 -> 0 | BO11: =BM11-$F11 -> -85 | BP11: =BN11-'0910 Monthly '!AW11 -> -70 | BV11: =BU11-BM11 -> 0 | BW11: =BU11-$F11 -> -85 | BX11: =BV11-'0910 Monthly '!BC11 -> -69 | CD11: =CC11-BU11 -> 0 | CE11: =CC11-$F11 -> -85 | CF11: =CD11-'0910 Monthly '!BI11 -> -69
A12: Diversified Ocupations | C12: 6 | D12: 2 | E12: 0 | F12: =SUM(C12:E12) -> 8 | H12: 4 | I12: 0 | J12: 0 | K12: =SUM(H12:J12) -> 4 | L12: =K12-F12 -> -4 | M12: =K12-'0910 Monthly '!J12 -> 2 | O12: 5 | P12: 0 | Q12: 0 | R12: 5 | S12: =R12-K12 -> 1 | T12: =R12-'0910 Monthly '!N12 -> 2 | V12: 5 | W12: 0 | X12: 0 | Y12: =SUM(V12:X12) -> 5 | Z12: =Y12-R12 -> 0 | AA12: =Y12-$F12 -> -3 | AB12: =Z12-'0910 Monthly '!S12 -> -4 | AD12: 5 | AE12: 0 | AF12: 0 | AG12: 5 | AH12: =AG12-Y12 -> 0 | AI12: =AG12-$F12 -> -3 | AJ12: =AH12-'0910 Monthly '!Y12 -> -4 | AL12: 4 | AM12: 0 | AN12: 0 | AO12: 4 | AP12: =AO12-AG12 -> -1 | AQ12: =AO12-$F12 -> -4 | AR12: =AP12-'0910 Monthly '!AE12 -> -5 | AT12: 7 | AU12: 0 | AV12: 0 | AW12: 7 | AX12: =AW12-AO12 -> 3 | AY12: =AW12-$F12 -> -1 | AZ12: =AX12-'0910 Monthly '!AK12 -> -6 | BF12: =BE12-AW12 -> -7 | BG12: =BE12-$F12 -> -8 | BH12: =BF12-'0910 Monthly '!AQ12 -> -16 | BN12: =BM12-BE12 -> 0 | BO12: =BM12-$F12 -> -8 | BP12: =BN12-'0910 Monthly '!AW12 -> -8 | BV12: =BU12-BM12 -> 0 | BW12: =BU12-$F12 -> -8 | BX12: =BV12-'0910 Monthly '!BC12 -> -8 | CD12: =CC12-BU12 -> 0 | CE12: =CC12-$F12 -> -8 | CF12: =CD12-'0910 Monthly '!BI12 -> -8
A13: Drafting & Design | B13: 48 | C13: 10 | D13: 10 | E13: 7 | F13: =SUM(C13:E13) -> 27 | H13: 13 | I13: 8 | J13: 7 | K13: =SUM(H13:J13) -> 28 | L13: =K13-F13 -> 1 | M13: =K13-'0910 Monthly '!J13 -> -2 | O13: 13 | P13: 8 | Q13: 7 | R13: 28 | S13: =R13-K13 -> 0 | T13: =R13-'0910 Monthly '!N13 -> -3 | V13: 13 | W13: 8 | X13: 7 | Y13: =SUM(V13:X13) -> 28 | Z13: =Y13-R13 -> 0 | AA13: =Y13-$F13 -> 1 | AB13: =Z13-'0910 Monthly '!S13 -> -30 | AD13: 14 | AE13: 8 | AF13: 7 | AG13: 29 | AH13: =AG13-Y13 -> 1 | AI13: =AG13-$F13 -> 2 | AJ13: =AH13-'0910 Monthly '!Y13 -> -29 | AL13: 13 | AM13: 9 | AN13: 7 | AO13: 29 | AP13: =AO13-AG13 -> 0 | AQ13: =AO13-$F13 -> 2 | AR13: =AP13-'0910 Monthly '!AE13 -> -30 | AT13: 12 | AU13: 8 | AV13: 6 | AW13: 26 | AX13: =AW13-AO13 -> -3 | AY13: =AW13-$F13 -> -1 | AZ13: =AX13-'0910 Monthly '!AK13 -> -31 | BF13: =BE13-AW13 -> -26 | BG13: =BE13-$F13 -> -27 | BH13: =BF13-'0910 Monthly '!AQ13 -> -54 | BN13: =BM13-BE13 -> 0 | BO13: =BM13-$F13 -> -27 | BP13: =BN13-'0910 Monthly '!AW13 -> -28 | BV13: =BU13-BM13 -> 0 | BW13: =BU13-$F13 -> -27 | BX13: =BV13-'0910 Monthly '!BC13 -> -28 | CD13: =CC13-BU13 -> 0 | CE13: =CC13-$F13 -> -27 | CF13: =CD13-'0910 Monthly '!BI13 -> -28
A14: Early Childhood Education | B14: 48 | C14: 15 | D14: 15 | E14: 12 | F14: =SUM(C14:E14) -> 42 | H14: 18 | I14: 15 | J14: 12 | K14: =SUM(H14:J14) -> 45 | L14: =K14-F14 -> 3 | M14: =K14-'0910 Monthly '!J14 -> 1 | O14: 19 | P14: 15 | Q14: 12 | R14: 46 | S14: =R14-K14 -> 1 | T14: =R14-'0910 Monthly '!N14 -> 4 | V14: 19 | W14: 15 | X14: 12 | Y14: =SUM(V14:X14) -> 46 | Z14: =Y14-R14 -> 0 | AA14: =Y14-$F14 -> 4 | AB14: =Z14-'0910 Monthly '!S14 -> -42 | AD14: 19 | AE14: 15 | AF14: 12 | AG14: 46 | AH14: =AG14-Y14 -> 0 | AI14: =AG14-$F14 -> 4 | AJ14: =AH14-'0910 Monthly '!Y14 -> -42 | AL14: 19 | AM14: 13 | AN14: 12 | AO14: 44 | AP14: =AO14-AG14 -> -2 | AQ14: =AO14-$F14 -> 2 | AR14: =AP14-'0910 Monthly '!AE14 -> -44 | AT14: 18 | AU14: 13 | AV14: 12 | AW14: 43 | AX14: =AW14-AO14 -> -1 | AY14: =AW14-$F14 -> 1 | AZ14: =AX14-'0910 Monthly '!AK14 -> -43 | BF14: =BE14-AW14 -> -43 | BG14: =BE14-$F14 -> -42 | BH14: =BF14-'0910 Monthly '!AQ14 -> -85 | BN14: =BM14-BE14 -> 0 | BO14: =BM14-$F14 -> -42 | BP14: =BN14-'0910 Monthly '!AW14 -> -42 | BV14: =BU14-BM14 -> 0 | BW14: =BU14-$F14 -> -42 | BX14: =BV14-'0910 Monthly '!BC14 -> -42 | CD14: =CC14-BU14 -> 0 | CE14: =CC14-$F14 -> -42 | CF14: =CD14-'0910 Monthly '!BI14 -> -42
A15: Electrical Engineering | B15: 48 | C15: 12 | D15: 16 | E15: 12 | F15: =SUM(C15:E15) -> 40 | H15: 12 | I15: 15 | J15: 12 | K15: =SUM(H15:J15) -> 39 | L15: =K15-F15 -> -1 | M15: =K15-'0910 Monthly '!J15 -> -5 | O15: 13 | P15: 14 | Q15: 12 | R15: 39 | S15: =R15-K15 -> 0 | T15: =R15-'0910 Monthly '!N15 -> -5 | V15: 13 | W15: 14 | X15: 12 | Y15: =SUM(V15:X15) -> 39 | Z15: =Y15-R15 -> 0 | AA15: =Y15-$F15 -> -1 | AB15: =Z15-'0910 Monthly '!S15 -> -43 | AD15: 13 | AE15: 14 | AF15: 12 | AG15: 39 | AH15: =AG15-Y15 -> 0 | AI15: =AG15-$F15 -> -1 | AJ15: =AH15-'0910 Monthly '!Y15 -> -44 | AL15: 15 | AM15: 14 | AN15: 12 | AO15: 41 | AP15: =AO15-AG15 -> 2 | AQ15: =AO15-$F15 -> 1 | AR15: =AP15-'0910 Monthly '!AE15 -> -41 | AT15: 14 | AU15: 13 | AV15: 12 | AW15: 39 | AX15: =AW15-AO15 -> -2 | AY15: =AW15-$F15 -> -1 | AZ15: =AX15-'0910 Monthly '!AK15 -> -44 | BF15: =BE15-AW15 -> -39 | BG15: =BE15-$F15 -> -40 | BH15: =BF15-'0910 Monthly '!AQ15 -> -81 | BN15: =BM15-BE15 -> 0 | BO15: =BM15-$F15 -> -40 | BP15: =BN15-'0910 Monthly '!AW15 -> -42 | BV15: =BU15-BM15 -> 0 | BW15: =BU15-$F15 -> -40 | BX15: =BV15-'0910 Monthly '!BC15 -> -42 | CD15: =CC15-BU15 -> 0 | CE15: =CC15-$F15 -> -40 | CF15: =CD15-'0910 Monthly '!BI15 -> -42
A16: Electronics | B16: 48 | C16: 11 | D16: 7 | E16: 5 | F16: =SUM(C16:E16) -> 23 | H16: 10 | I16: 7 | J16: 5 | K16: =SUM(H16:J16) -> 22 | L16: =K16-F16 -> -1 | M16: =K16-'0910 Monthly '!J16 -> 0 | O16: 10 | P16: 7 | Q16: 5 | R16: 22 | S16: =R16-K16 -> 0 | T16: =R16-'0910 Monthly '!N16 -> 1 | V16: 10 | W16: 7 | X16: 5 | Y16: =SUM(V16:X16) -> 22 | Z16: =Y16-R16 -> 0 | AA16: =Y16-$F16 -> -1 | AB16: =Z16-'0910 Monthly '!S16 -> -21 | AD16: 10 | AE16: 7 | AF16: 5 | AG16: 22 | AH16: =AG16-Y16 -> 0 | AI16: =AG16-$F16 -> -1 | AJ16: =AH16-'0910 Monthly '!Y16 -> -20 | AL16: 10 | AM16: 8 | AN16: 5 | AO16: 23 | AP16: =AO16-AG16 -> 1 | AQ16: =AO16-$F16 -> 0 | AR16: =AP16-'0910 Monthly '!AE16 -> -15 | AT16: 10 | AU16: 8 | AV16: 5 | AW16: 23 | AX16: =AW16-AO16 -> 0 | AY16: =AW16-$F16 -> 0 | AZ16: =AX16-'0910 Monthly '!AK16 -> -17 | BF16: =BE16-AW16 -> -23 | BG16: =BE16-$F16 -> -23 | BH16: =BF16-'0910 Monthly '!AQ16 -> -41 | BN16: =BM16-BE16 -> 0 | BO16: =BM16-$F16 -> -23 | BP16: =BN16-'0910 Monthly '!AW16 -> -18 | BV16: =BU16-BM16 -> 0 | BW16: =BU16-$F16 -> -23 | BX16: =BV16-'0910 Monthly '!BC16 -> -18 | CD16: =CC16-BU16 -> 0 | CE16: =CC16-$F16 -> -23 | CF16: =CD16-'0910 Monthly '!BI16 -> -18
A17: Facilities Maintenance Tech | B17: 48 | C17: 12 | D17: 22 | E17: 7 | F17: =SUM(C17:E17) -> 41 | H17: 14 | I17: 21 | J17: 6 | K17: =SUM(H17:J17) -> 41 | L17: =K17-F17 -> 0 | M17: =K17-'0910 Monthly '!J17 -> 6 | O17: 14 | P17: 20 | Q17: 6 | R17: 40 | S17: =R17-K17 -> -1 | T17: =R17-'0910 Monthly '!N17 -> 6 | V17: 14 | W17: 19 | X17: 6 | Y17: =SUM(V17:X17) -> 39 | Z17: =Y17-R17 -> -1 | AA17: =Y17-$F17 -> -2 | AB17: =Z17-'0910 Monthly '!S17 -> -35 | AD17: 15 | AE17: 19 | AF17: 6 | AG17: 40 | AH17: =AG17-Y17 -> 1 | AI17: =AG17-$F17 -> -1 | AJ17: =AH17-'0910 Monthly '!Y17 -> -32 | AL17: 15 | AM17: 19 | AN17: 6 | AO17: 40 | AP17: =AO17-AG17 -> 0 | AQ17: =AO17-$F17 -> -1 | AR17: =AP17-'0910 Monthly '!AE17 -> -34 | AT17: 15 | AU17: 19 | AV17: 6 | AW17: 40 | AX17: =AW17-AO17 -> 0 | AY17: =AW17-$F17 -> -1 | AZ17: =AX17-'0910 Monthly '!AK17 -> -33 | BF17: =BE17-AW17 -> -40 | BG17: =BE17-$F17 -> -41 | BH17: =BF17-'0910 Monthly '!AQ17 -> -73 | BN17: =BM17-BE17 -> 0 | BO17: =BM17-$F17 -> -41 | BP17: =BN17-'0910 Monthly '!AW17 -> -33 | BV17: =BU17-BM17 -> 0 | BW17: =BU17-$F17 -> -41 | BX17: =BV17-'0910 Monthly '!BC17 -> -33 | CD17: =CC17-BU17 -> 0 | CE17: =CC17-$F17 -> -41 | CF17: =CD17-'0910 Monthly '!BI17 -> -33
A18: Graphic Communications | B18: 48 | C18: 21 | D18: 9 | E18: 9 | F18: =SUM(C18:E18) -> 39 | H18: 19 | I18: 8 | J18: 8 | K18: =SUM(H18:J18) -> 35 | L18: =K18-F18 -> -4 | M18: =K18-'0910 Monthly '!J18 -> 5 | O18: 19 | P18: 9 | Q18: 8 | R18: 36 | S18: =R18-K18 -> 1 | T18: =R18-'0910 Monthly '!N18 -> 5 | V18: 20 | W18: 9 | X18: 7 | Y18: =SUM(V18:X18) -> 36 | Z18: =Y18-R18 -> 0 | AA18: =Y18-$F18 -> -3 | AB18: =Z18-'0910 Monthly '!S18 -> -31 | AD18: 20 | AE18: 9 | AF18: 7 | AG18: 36 | AH18: =AG18-Y18 -> 0 | AI18: =AG18-$F18 -> -3 | AJ18: =AH18-'0910 Monthly '!Y18 -> -31 | AL18: 19 | AM18: 10 | AN18: 7 | AO18: 36 | AP18: =AO18-AG18 -> 0 | AQ18: =AO18-$F18 -> -3 | AR18: =AP18-'0910 Monthly '!AE18 -> -33 | AT18: 18 | AU18: 9 | AV18: 7 | AW18: 34 | AX18: =AW18-AO18 -> -2 | AY18: =AW18-$F18 -> -5 | AZ18: =AX18-'0910 Monthly '!AK18 -> -36 | BF18: =BE18-AW18 -> -34 | BG18: =BE18-$F18 -> -39 | BH18: =BF18-'0910 Monthly '!AQ18 -> -67 | BN18: =BM18-BE18 -> 0 | BO18: =BM18-$F18 -> -39 | BP18: =BN18-'0910 Monthly '!AW18 -> -33 | BV18: =BU18-BM18 -> 0 | BW18: =BU18-$F18 -> -39 | BX18: =BV18-'0910 Monthly '!BC18 -> -33 | CD18: =CC18-BU18 -> 0 | CE18: =CC18-$F18 -> -39 | CF18: =CD18-'0910 Monthly '!BI18 -> -31
A19: Health Assistant | B19: 48 | C19: 17 | D19: 15 | E19: 11 | F19: =SUM(C19:E19) -> 43 | H19: 17 | I19: 15 | J19: 10 | K19: =SUM(H19:J19) -> 42 | L19: =K19-F19 -> -1 | M19: =K19-'0910 Monthly '!J19 -> -6 | O19: 17 | P19: 15 | Q19: 10 | R19: 42 | S19: =R19-K19 -> 0 | T19: =R19-'0910 Monthly '!N19 -> -5 | V19: 17 | W19: 15 | X19: 10 | Y19: =SUM(V19:X19) -> 42 | Z19: =Y19-R19 -> 0 | AA19: =Y19-$F19 -> -1 | AB19: =Z19-'0910 Monthly '!S19 -> -47 | AD19: 17 | AE19: 15 | AF19: 10 | AG19: 42 | AH19: =AG19-Y19 -> 0 | AI19: =AG19-$F19 -> -1 | AJ19: =AH19-'0910 Monthly '!Y19 -> -47 | AL19: 17 | AM19: 15 | AN19: 10 | AO19: 42 | AP19: =AO19-AG19 -> 0 | AQ19: =AO19-$F19 -> -1 | AR19: =AP19-'0910 Monthly '!AE19 -> -46 | AT19: 17 | AU19: 15 | AV19: 10 | AW19: 42 | AX19: =AW19-AO19 -> 0 | AY19: =AW19-$F19 -> -1 | AZ19: =AX19-'0910 Monthly '!AK19 -> -45 | BF19: =BE19-AW19 -> -42 | BG19: =BE19-$F19 -> -43 | BH19: =BF19-'0910 Monthly '!AQ19 -> -87 | BN19: =BM19-BE19 -> 0 | BO19: =BM19-$F19 -> -43 | BP19: =BN19-'0910 Monthly '!AW19 -> -45 | BV19: =BU19-BM19 -> 0 | BW19: =BU19-$F19 -> -43 | BX19: =BV19-'0910 Monthly '!BC19 -> -45 | CD19: =CC19-BU19 -> 0 | CE19: =CC19-$F19 -> -43 | CF19: =CD19-'0910 Monthly '!BI19 -> -45
A20: Metal Fabrication | B20: 48 | C20: 16 | D20: 17 | E20: 13 | F20: =SUM(C20:E20) -> 46 | H20: 15 | I20: 17 | J20: 13 | K20: =SUM(H20:J20) -> 45 | L20: =K20-F20 -> -1 | M20: =K20-'0910 Monthly '!J20 -> -4 | O20: 14 | P20: 17 | Q20: 13 | R20: 44 | S20: =R20-K20 -> -1 | T20: =R20-'0910 Monthly '!N20 -> -4 | V20: 14 | W20: 17 | X20: 13 | Y20: =SUM(V20:X20) -> 44 | Z20: =Y20-R20 -> 0 | AA20: =Y20-$F20 -> -2 | AB20: =Z20-'0910 Monthly '!S20 -> -47 | AD20: 14 | AE20: 17 | AF20: 12 | AG20: 43 | AH20: =AG20-Y20 -> -1 | AI20: =AG20-$F20 -> -3 | AJ20: =AH20-'0910 Monthly '!Y20 -> -47 | AL20: 14 | AM20: 16 | AN20: 12 | AO20: 42 | AP20: =AO20-AG20 -> -1 | AQ20: =AO20-$F20 -> -4 | AR20: =AP20-'0910 Monthly '!AE20 -> -47 | AT20: 14 | AU20: 16 | AV20: 12 | AW20: 42 | AX20: =AW20-AO20 -> 0 | AY20: =AW20-$F20 -> -4 | AZ20: =AX20-'0910 Monthly '!AK20 -> -45 | BF20: =BE20-AW20 -> -42 | BG20: =BE20-$F20 -> -46 | BH20: =BF20-'0910 Monthly '!AQ20 -> -87 | BN20: =BM20-BE20 -> 0 | BO20: =BM20-$F20 -> -46 | BP20: =BN20-'0910 Monthly '!AW20 -> -43 | BV20: =BU20-BM20 -> 0 | BW20: =BU20-$F20 -> -46 | BX20: =BV20-'0910 Monthly '!BC20 -> -43 | CD20: =CC20-BU20 -> 0 | CE20: =CC20-$F20 -> -46 | CF20: =CD20-'0910 Monthly '!BI20 -> -43
A21: Networking Technologies | B21: 48 | C21: 15 | D21: 0 | E21: 0 | F21: =SUM(C21:E21) -> 15 | H21: 16 | I21: 0 | J21: 0 | K21: =SUM(H21:J21) -> 16 | L21: =K21-F21 -> 1 | M21: =K21-'0910 Monthly '!J21 -> -16 | O21: 18 | P21: 0 | Q21: 0 | R21: 18 | S21: =R21-K21 -> 2 | T21: =R21-'0910 Monthly '!N21 -> -14 | V21: 18 | W21: 0 | X21: 0 | Y21: =SUM(V21:X21) -> 18 | Z21: =Y21-R21 -> 0 | AA21: =Y21-$F21 -> 3 | AB21: =Z21-'0910 Monthly '!S21 -> -32 | AD21: 18 | AE21: 0 | AF21: 0 | AG21: 18 | AH21: =AG21-Y21 -> 0 | AI21: =AG21-$F21 -> 3 | AJ21: =AH21-'0910 Monthly '!Y21 -> -32 | AL21: 18 | AM21: 0 | AN21: 0 | AO21: 18 | AP21: =AO21-AG21 -> 0 | AQ21: =AO21-$F21 -> 3 | AR21: =AP21-'0910 Monthly '!AE21 -> -32 | AT21: 18 | AU21: 0 | AV21: 0 | AW21: 18 | AX21: =AW21-AO21 -> 0 | AY21: =AW21-$F21 -> 3 | AZ21: =AX21-'0910 Monthly '!AK21 -> -29 | BF21: =BE21-AW21 -> -18 | BG21: =BE21-$F21 -> -15 | BH21: =BF21-'0910 Monthly '!AQ21 -> -47 | BN21: =BM21-BE21 -> 0 | BO21: =BM21-$F21 -> -15 | BP21: =BN21-'0910 Monthly '!AW21 -> -29 | BV21: =BU21-BM21 -> 0 | BW21: =BU21-$F21 -> -15 | BX21: =BV21-'0910 Monthly '!BC21 -> -29 | CD21: =CC21-BU21 -> 0 | CE21: =CC21-$F21 -> -15 | CF21: =CD21-'0910 Monthly '!BI21 -> -29
A22: Tool & Die | B22: 48 | C22: 6 | D22: 10 | E22: 11 | F22: =SUM(C22:E22) -> 27 | H22: 7 | I22: 10 | J22: 11 | K22: =SUM(H22:J22) -> 28 | L22: =K22-F22 -> 1 | M22: =K22-'0910 Monthly '!J22 -> 1 | O22: 8 | P22: 10 | Q22: 11 | R22: 29 | S22: =R22-K22 -> 1 | T22: =R22-'0910 Monthly '!N22 -> 3 | V22: 9 | W22: 10 | X22: 11 | Y22: =SUM(V22:X22) -> 30 | Z22: =Y22-R22 -> 1 | AA22: =Y22-$F22 -> 3 | AB22: =Z22-'0910 Monthly '!S22 -> -24 | AD22: 9 | AE22: 10 | AF22: 10 | AG22: 29 | AH22: =AG22-Y22 -> -1 | AI22: =AG22-$F22 -> 2 | AJ22: =AH22-'0910 Monthly '!Y22 -> -26 | AL22: 9 | AM22: 10 | AN22: 10 | AO22: 29 | AP22: =AO22-AG22 -> 0 | AQ22: =AO22-$F22 -> 2 | AR22: =AP22-'0910 Monthly '!AE22 -> -25 | AT22: 9 | AU22: 10 | AV22: 10 | AW22: 29 | AX22: =AW22-AO22 -> 0 | AY22: =AW22-$F22 -> 2 | AZ22: =AX22-'0910 Monthly '!AK22 -> -25 | BF22: =BE22-AW22 -> -29 | BG22: =BE22-$F22 -> -27 | BH22: =BF22-'0910 Monthly '!AQ22 -> -54 | BN22: =BM22-BE22 -> 0 | BO22: =BM22-$F22 -> -27 | BP22: =BN22-'0910 Monthly '!AW22 -> -25 | BV22: =BU22-BM22 -> 0 | BW22: =BU22-$F22 -> -27 | BX22: =BV22-'0910 Monthly '!BC22 -> -25 | CD22: =CC22-BU22 -> 0 | CE22: =CC22-$F22 -> -27 | CF22: =CD22-'0910 Monthly '!BI22 -> -25
A23: Tourism & Hospitality | B23: 48 | C23: 36 | D23: 0 | E23: 0 | F23: =SUM(C23:E23) -> 36 | H23: 40 | I23: 0 | J23: 0 | K23: =SUM(H23:J23) -> 40 | L23: =K23-F23 -> 4 | M23: =K23-'0910 Monthly '!J23 -> 4 | O23: 38 | P23: 0 | Q23: 0 | R23: 38 | S23: =R23-K23 -> -2 | T23: =R23-'0910 Monthly '!N23 -> 2 | V23: 38 | W23: 0 | X23: 0 | Y23: =SUM(V23:X23) -> 38 | Z23: =Y23-R23 -> 0 | AA23: =Y23-$F23 -> 2 | AB23: =Z23-'0910 Monthly '!S23 -> -35 | AD23: 37 | AE23: 0 | AF23: 0 | AG23: 37 | AH23: =AG23-Y23 -> -1 | AI23: =AG23-$F23 -> 1 | AJ23: =AH23-'0910 Monthly '!Y23 -> -34 | AL23: 37 | AM23: 0 | AN23: 0 | AO23: 37 | AP23: =AO23-AG23 -> 0 | AQ23: =AO23-$F23 -> 1 | AR23: =AP23-'0910 Monthly '!AE23 -> -33 | AT23: 34 | AU23: 0 | AV23: 0 | AW23: 34 | AX23: =AW23-AO23 -> -3 | AY23: =AW23-$F23 -> -2 | AZ23: =AX23-'0910 Monthly '!AK23 -> -35 | BF23: =BE23-AW23 -> -34 | BG23: =BE23-$F23 -> -36 | BH23: =BF23-'0910 Monthly '!AQ23 -> -65 | BN23: =BM23-BE23 -> 0 | BO23: =BM23-$F23 -> -36 | BP23: =BN23-'0910 Monthly '!AW23 -> -31 | BV23: =BU23-BM23 -> 0 | BW23: =BU23-$F23 -> -36 | BX23: =BV23-'0910 Monthly '!BC23 -> -31 | CD23: =CC23-BU23 -> 0 | CE23: =CC23-$F23 -> -36 | CF23: =CD23-'0910 Monthly '!BI23 -> -31
A24: TOTALS | B24: =SUM(B5:B23) -> 1008 | C24: =SUM(C5:C23) -> 352 | D24: =SUM(D5:D23) -> 229 | E24: =SUM(E5:E23) -> 180 | F24: =SUM(F5:F23) -> 761 | H24: =SUM(H5:H23) -> 355 | I24: =SUM(I5:I23) -> 214 | J24: =SUM(J5:J23) -> 172 | K24: =SUM(H24:J24) -> 741 | L24: =K24-F24 -> -20 | M24: =K24-'0910 Monthly '!J24 -> -10 | O24: =SUM(O5:O23) -> 353 | P24: =SUM(P5:P23) -> 208 | Q24: =SUM(Q5:Q23) -> 170 | R24: =SUM(R5:R23) -> 731 | S24: =R24-K24 -> -10 | T24: =R24-'0910 Monthly '!N24 -> -21 | V24: =SUM(V5:V23) -> 355 | W24: =SUM(W5:W23) -> 204 | X24: =SUM(X5:X23) -> 169 | Y24: =SUM(Y5:Y23) -> 728 | Z24: =Y24-R24 -> -3 | AA24: =Y24-$F24 -> -33 | AB24: =Z24-'0910 Monthly '!S24 -> -747 | AD24: =SUM(AD5:AD23) -> 356 | AE24: =SUM(AE5:AE23) -> 203 | AF24: =SUM(AF5:AF23) -> 167 | AG24: =SUM(AG5:AG23) -> 726 | AH24: =AG24-Y24 -> -2 | AI24: =AG24-$F24 -> -35 | AJ24: =AH24-'0910 Monthly '!Y24 -> -736 | AL24: =SUM(AL5:AL23) -> 347 | AM24: =SUM(AM5:AM23) -> 205 | AN24: =SUM(AN5:AN23) -> 171 | AO24: =SUM(AO5:AO23) -> 723 | AP24: =AO24-AG24 -> -3 | AQ24: =AO24-$F24 -> -38 | AR24: =AP24-'0910 Monthly '!AE24 -> -722 | AT24: =SUM(AT5:AT23) -> 342 | AU24: =SUM(AU5:AU23) -> 195 | AV24: =SUM(AV5:AV23) -> 168 | AW24: =SUM(AW5:AW23) -> 705 | AX24: =AW24-AO24 -> -18 | AY24: =AW24-$F24 -> -56 | AZ24: =AX24-'0910 Monthly '!AK24 -> -732 | BB24: =SUM(BB5:BB23) -> 0 | BC24: =SUM(BC5:BC23) -> 0 | BD24: =SUM(BD5:BD23) -> 0 | BE24: =SUM(BE5:BE23) -> 0 | BF24: =BE24-AW24 -> -705 | BG24: =BE24-$F24 -> -761 | BH24: =BF24-'0910 Monthly '!AQ24 -> -1415 | BJ24: =SUM(BJ5:BJ23) -> 0 | BK24: =SUM(BK5:BK23) -> 0 | BL24: =SUM(BL5:BL23) -> 0 | BM24: =SUM(BM5:BM23) -> 0 | BN24: =BM24-BE24 -> 0 | BO24: =BM24-$F24 -> -761 | BP24: =BN24-'0910 Monthly '!AW24 -> -705 | BR24: =SUM(BR5:BR23) -> 0 | BS24: =SUM(BS5:BS23) -> 0 | BT24: =SUM(BT5:BT23) -> 0 | BU24: =SUM(BU5:BU23) -> 0 | BV24: =BU24-BM24 -> 0 | BW24: =BU24-$F24 -> -761 | BX24: =BV24-'0910 Monthly '!BC24 -> -701 | BZ24: 0 | CA24: 0 | CB24: 0 | CD24: =CC24-BU24 -> 0 | CE24: =CC24-$F24 -> -761 | CF24: =CD24-'0910 Monthly '!BI24 -> -698
A25: Date of Report | C25: 40414 | H25: 40436 | O25: Thursday, October 21, 2010 | V25: 40500 | AD25: 40528 | AL25: Friday, January 21, 2011 | AT25: Tuesday, February 15, 2011
A26: School District | C26: Program/Year Level | H26: Program/Year Level | K26: Total | L26: Chg/ Month | M26: Chg/ Year | O26: Program/Year Level | R26: Total | S26: Chg/ Month | T26: Chg/ Year | V26: Program/Year Level | Y26: Total | Z26: Chg/ Month | AA26: Chg/ Sept | AB26: Chg/ Year | AD26: Program/Year Level | AG26: Total | AH26: Chg/ Month | AI26: Chg/ Sept | AJ26: Chg/ Year | AL26: Program/Year Level | AO26: Total | AP26: Chg/ Month | AQ26: Chg/ Sept | AR26: Chg/ Year | AT26: Program/Year Level | AW26: Total | AX26: Chg/ Month | AY26: Chg/ Sept | AZ26: Chg/ Year | BB26: Program/Year Level | BE26: Total | BF26: Chg/ Month | BG26: Chg/ Sept | BH26: Chg/ Year | BJ26: Program/Year Level | BM26: Total | BN26: Chg/ Month | BO26: Chg/ Sept | BP26: Chg/ Year | BR26: Program/Year Level | BU26: Total | BV26: Chg/ Month | BW26: Chg/ Sept | BX26: Chg/ Year | BZ26: Program/Year Level | CC26: Total | CD26: Chg/ Month | CE26: Chg/ Sept | CF26: Chg/ Year
A27: School District | B27: Quota | C27: 1st | D27: 2nd | E27: 3rd | F27: Total | H27: 1st | I27: 2nd | J27: 3rd | K27: Total | O27: 1st | P27: 2nd | Q27: 3rd | R27: Total | V27: 1st | W27: 2nd | X27: 3rd | Y27: Total | AD27: 1st | AE27: 2nd | AF27: 3rd | AG27: Total | AL27: 1st | AM27: 2nd | AN27: 3rd | AO27: Total | AT27: 1st | AU27: 2nd | AV27: 3rd | AW27: Total | BB27: 1st | BC27: 2nd | BD27: 3rd | BE27: Total | BJ27: 1st | BK27: 2nd | BL27: 3rd | BM27: Total | BR27: 1st | BS27: 2nd | BT27: 3rd | BU27: Total | BZ27: 1st | CA27: 2nd | CB27: 3rd | CC27: Total
A28: Fairview | B28: =$B$24*B43 -> 73.158321 | C28: 9 | D28: 11 | E28: 5 | F28: 25 | H28: 13 | I28: 10 | J28: 5 | K28: 28 | L28: =K28-F28 -> 3 | M28: =K28-'0910 Monthly '!J28 -> -1 | O28: 13 | P28: 10 | Q28: 5 | R28: 28 | S28: =R28-K28 -> 0 | T28: =R28-'0910 Monthly '!N28 -> -2 | V28: 13 | W28: 9 | X28: 5 | Y28: 27 | Z28: =Y28-R28 -> -1 | AA28: =Y28-$F28 -> 2 | AB28: =Z28-'0910 Monthly '!S28 -> -31 | AD28: 13 | AE28: 9 | AF28: 5 | AG28: 27 | AH28: =AG28-Y28 -> 0 | AI28: =AG28-$F28 -> 2 | AJ28: =AH28-'0910 Monthly '!Y28 -> -29 | AL28: 13 | AM28: 8 | AN28: 5 | AO28: 26 | AP28: =AO28-AG28 -> -1 | AQ28: =AO28-$F28 -> 1 | AR28: =AP28-'0910 Monthly '!AE28 -> -29 | AT28: 14 | AU28: 8 | AV28: 5 | AW28: 27 | AX28: =AW28-AO28 -> 1 | AY28: =AW28-$F28 -> 2 | AZ28: =AX28-'0910 Monthly '!AK28 -> -26 | BF28: =BE28-AW28 -> -27 | BG28: =BE28-$F28 -> -25 | BH28: =BF28-'0910 Monthly '!AQ28 -> -54 | BN28: =BM28-BE28 -> 0 | BO28: =BM28-$F28 -> -25 | BP28: =BN28-'0910 Monthly '!AW28 -> -27 | BV28: =BU28-BM28 -> 0 | BW28: =BU28-$F28 -> -25 | BX28: =BV28-'0910 Monthly '!BC28 -> -27 | CD28: =CC28-BU28 -> 0 | CE28: =CC28-$F28 -> -25 | CF28: =CD28-'0910 Monthly '!BI28 -> -26
A29: Fort LeBoeuf | B29: =$B$24*B44 -> 86.062595 | C29: 42 | D29: 32 | E29: 24 | F29: 98 | H29: 40 | I29: 29 | J29: 22 | K29: 91 | L29: =K29-F29 -> -7 | M29: =K29-'0910 Monthly '!J29 -> 5 | O29: 38 | P29: 28 | Q29: 22 | R29: 88 | S29: =R29-K29 -> -3 | T29: =R29-'0910 Monthly '!N29 -> 1 | V29: 40 | W29: 27 | X29: 22 | Y29: 89 | Z29: 1 | AA29: =Y29-$F29 -> -9 | AB29: =Z29-'0910 Monthly '!S29 -> -85 | AD29: 41 | AE29: 27 | AF29: 22 | AG29: 90 | AH29: =AG29-Y29 -> 1 | AI29: =AG29-$F29 -> -8 | AJ29: =AH29-'0910 Monthly '!Y29 -> -83 | AL29: 42 | AM29: 26 | AN29: 22 | AO29: 90 | AP29: =AO29-AG29 -> 0 | AQ29: =AO29-$F29 -> -8 | AR29: =AP29-'0910 Monthly '!AE29 -> -81 | AT29: 42 | AU29: 23 | AV29: 22 | AW29: 87 | AX29: =AW29-AO29 -> -3 | AY29: =AW29-$F29 -> -11 | AZ29: =AX29-'0910 Monthly '!AK29 -> -83 | BF29: =BE29-AW29 -> -87 | BG29: =BE29-$F29 -> -98 | BH29: =BF29-'0910 Monthly '!AQ29 -> -166 | BN29: =BM29-BE29 -> 0 | BO29: =BM29-$F29 -> -98 | BP29: =BN29-'0910 Monthly '!AW29 -> -78 | BV29: =BU29-BM29 -> 0 | BW29: =BU29-$F29 -> -98 | BX29: =BV29-'0910 Monthly '!BC29 -> -78 | CD29: =CC29-BU29 -> 0 | CE29: =CC29-$F29 -> -98 | CF29: =CD29-'0910 Monthly '!BI29 -> -78
A30: General McLane | B30: =$B$24*B45 -> 93.30237 | C30: 33 | D30: 13 | E30: 10 | F30: 56 | H30: 33 | I30: 13 | J30: 11 | K30: 57 | L30: =K30-F30 -> 1 | M30: =K30-'0910 Monthly '!J30 -> 1 | O30: 35 | P30: 13 | Q30: 10 | R30: 58 | S30: =R30-K30 -> 1 | T30: =R30-'0910 Monthly '!N30 -> 3 | V30: 34 | W30: 13 | X30: 10 | Y30: 57 | Z30: =Y30-R30 -> -1 | AA30: =Y30-$F30 -> 1 | AB30: =Z30-'0910 Monthly '!S30 -> -56 | AD30: 33 | AE30: 13 | AF30: 9 | AG30: 55 | AH30: =AG30-Y30 -> -2 | AI30: =AG30-$F30 -> -1 | AJ30: =AH30-'0910 Monthly '!Y30 -> -57 | AL30: 33 | AM30: 14 | AN30: 9 | AO30: 56 | AP30: =AO30-AG30 -> 1 | AQ30: =AO30-$F30 -> 0 | AR30: =AP30-'0910 Monthly '!AE30 -> -55 | AT30: 32 | AU30: 14 | AV30: 8 | AW30: 54 | AX30: =AW30-AO30 -> -2 | AY30: =AW30-$F30 -> -2 | AZ30: =AX30-'0910 Monthly '!AK30 -> -56 | BF30: =BE30-AW30 -> -54 | BG30: =BE30-$F30 -> -56 | BH30: =BF30-'0910 Monthly '!AQ30 -> -108 | BN30: =BM30-BE30 -> 0 | BO30: =BM30-$F30 -> -56 | BP30: =BN30-'0910 Monthly '!AW30 -> -50 | BV30: =BU30-BM30 -> 0 | BW30: =BU30-$F30 -> -56 | BX30: =BV30-'0910 Monthly '!BC30 -> -50 | CD30: =CC30-BU30 -> 0 | CE30: =CC30-$F30 -> -56 | CF30: =CD30-'0910 Monthly '!BI30 -> -50
A31: Girard | B31: =$B$24*B46 -> 77.925959 | C31: 30 | D31: 21 | E31: 21 | F31: 72 | H31: 29 | I31: 20 | J31: 19 | K31: 68 | L31: =K31-F31 -> -4 | M31: =K31-'0910 Monthly '!J31 -> -4 | O31: 28 | P31: 19 | Q31: 19 | R31: 66 | S31: =R31-K31 -> -2 | T31: =R31-'0910 Monthly '!N31 -> -3 | V31: 29 | W31: 18 | X31: 19 | Y31: 66 | Z31: =Y31-R31 -> 0 | AA31: =Y31-$F31 -> -6 | AB31: =Z31-'0910 Monthly '!S31 -> -67 | AD31: 29 | AE31: 18 | AF31: 19 | AG31: 66 | AH31: =AG31-Y31 -> 0 | AI31: =AG31-$F31 -> -6 | AJ31: =AH31-'0910 Monthly '!Y31 -> -67 | AL31: 26 | AM31: 18 | AN31: 22 | AO31: 66 | AP31: =AO31-AG31 -> 0 | AQ31: =AO31-$F31 -> -6 | AR31: =AP31-'0910 Monthly '!AE31 -> -68 | AT31: 24 | AU31: 15 | AV31: 20 | AW31: 59 | AX31: =AW31-AO31 -> -7 | AY31: =AW31-$F31 -> -13 | AZ31: =AX31-'0910 Monthly '!AK31 -> -76 | BF31: =BE31-AW31 -> -59 | BG31: =BE31-$F31 -> -72 | BH31: =BF31-'0910 Monthly '!AQ31 -> -128 | BN31: =BM31-BE31 -> 0 | BO31: =BM31-$F31 -> -72 | BP31: =BN31-'0910 Monthly '!AW31 -> -69 | BV31: =BU31-BM31 -> 0 | BW31: =BU31-$F31 -> -72 | BX31: =BV31-'0910 Monthly '!BC31 -> -69 | CD31: =CC31-BU31 -> 0 | CE31: =CC31-$F31 -> -72 | CF31: =CD31-'0910 Monthly '!BI31 -> -69
A32: Harbor Creek | B32: =$B$24*B47 -> 79.14312 | C32: 34 | D32: 9 | E32: 16 | F32: 59 | H32: 36 | I32: 10 | J32: 16 | K32: 62 | L32: =K32-F32 -> 3 | M32: =K32-'0910 Monthly '!J32 -> 4 | O32: 35 | P32: 10 | Q32: 15 | R32: 60 | S32: =R32-K32 -> -2 | T32: =R32-'0910 Monthly '!N32 -> 3 | V32: 35 | W32: 10 | X32: 15 | Y32: 60 | Z32: =Y32-R32 -> 0 | AA32: =Y32-$F32 -> 1 | AB32: =Z32-'0910 Monthly '!S32 -> -57 | AD32: 36 | AE32: 10 | AF32: 15 | AG32: 61 | AH32: =AG32-Y32 -> 1 | AI32: =AG32-$F32 -> 2 | AJ32: =AH32-'0910 Monthly '!Y32 -> -56 | AL32: 35 | AM32: 10 | AN32: 15 | AO32: 60 | AP32: =AO32-AG32 -> -1 | AQ32: =AO32-$F32 -> 1 | AR32: =AP32-'0910 Monthly '!AE32 -> -56 | AT32: 35 | AU32: 10 | AV32: 15 | AW32: 60 | AX32: =AW32-AO32 -> 0 | AY32: =AW32-$F32 -> 1 | AZ32: =AX32-'0910 Monthly '!AK32 -> -57 | BF32: =BE32-AW32 -> -60 | BG32: =BE32-$F32 -> -59 | BH32: =BF32-'0910 Monthly '!AQ32 -> -115 | BN32: =BM32-BE32 -> 0 | BO32: =BM32-$F32 -> -59 | BP32: =BN32-'0910 Monthly '!AW32 -> -56 | BV32: =BU32-BM32 -> 0 | BW32: =BU32-$F32 -> -59 | BX32: =BV32-'0910 Monthly '!BC32 -> -54 | CD32: =CC32-BU32 -> 0 | CE32: =CC32-$F32 -> -59 | CF32: =CD32-'0910 Monthly '!BI32 -> -54
A33: Iroquois | B33: =$B$24*B48 -> 51.145988 | C33: 13 | D33: 6 | E33: 5 | F33: 24 | H33: 15 | I33: 6 | J33: 4 | K33: 25 | L33: =K33-F33 -> 1 | M33: =K33-'0910 Monthly '!J33 -> 0 | O33: 14 | P33: 6 | Q33: 4 | R33: 24 | S33: =R33-K33 -> -1 | T33: =R33-'0910 Monthly '!N33 -> 1 | V33: 14 | W33: 6 | X33: 4 | Y33: 24 | Z33: =Y33-R33 -> 0 | AA33: =Y33-$F33 -> 0 | AB33: =Z33-'0910 Monthly '!S33 -> -21 | AD33: 14 | AE33: 6 | AF33: 4 | AG33: 24 | AH33: =AG33-Y33 -> 0 | AI33: =AG33-$F33 -> 0 | AJ33: =AH33-'0910 Monthly '!Y33 -> -21 | AL33: 14 | AM33: 6 | AN33: 4 | AO33: 24 | AP33: =AO33-AG33 -> 0 | AQ33: =AO33-$F33 -> 0 | AR33: =AP33-'0910 Monthly '!AE33 -> -21 | AT33: 14 | AU33: 6 | AV33: 4 | AW33: 24 | AX33: =AW33-AO33 -> 0 | AY33: =AW33-$F33 -> 0 | AZ33: =AX33-'0910 Monthly '!AK33 -> -21 | BF33: =BE33-AW33 -> -24 | BG33: =BE33-$F33 -> -24 | BH33: =BF33-'0910 Monthly '!AQ33 -> -45 | BN33: =BM33-BE33 -> 0 | BO33: =BM33-$F33 -> -24 | BP33: =BN33-'0910 Monthly '!AW33 -> -21 | BV33: =BU33-BM33 -> 0 | BW33: =BU33-$F33 -> -24 | BX33: =BV33-'0910 Monthly '!BC33 -> -20 | CD33: =CC33-BU33 -> 0 | CE33: =CC33-$F33 -> -24 | CF33: =CD33-'0910 Monthly '!BI33 -> -20
A34: Millcreek | B34: =$B$24*B49 -> 296.31921 | C34: 60 | D34: 62 | E34: 43 | F34: 165 | H34: 52 | I34: 58 | J34: 41 | K34: 151 | L34: =K34-F34 -> -14 | M34: =K34-'0910 Monthly '!J34 -> -40 | O34: 53 | P34: 56 | Q34: 41 | R34: 150 | S34: =R34-K34 -> -1 | T34: =R34-'0910 Monthly '!N34 -> -41 | V34: 51 | W34: 54 | X34: 40 | Y34: 145 | Z34: =Y34-R34 -> -5 | AA34: =Y34-$F34 -> -20 | AB34: =Z34-'0910 Monthly '!S34 -> -195 | AD34: 51 | AE34: 53 | AF34: 39 | AG34: 143 | AH34: =AG34-Y34 -> -2 | AI34: =AG34-$F34 -> -22 | AJ34: =AH34-'0910 Monthly '!Y34 -> -187 | AL34: 50 | AM34: 53 | AN34: 40 | AO34: 143 | AP34: =AO34-AG34 -> 0 | AQ34: =AO34-$F34 -> -22 | AR34: =AP34-'0910 Monthly '!AE34 -> -176 | AT34: 51 | AU34: 51 | AV34: 40 | AW34: 142 | AX34: =AW34-AO34 -> -1 | AY34: =AW34-$F34 -> -23 | AZ34: =AX34-'0910 Monthly '!AK34 -> -177 | BF34: =BE34-AW34 -> -142 | BG34: =BE34-$F34 -> -165 | BH34: =BF34-'0910 Monthly '!AQ34 -> -318 | BN34: =BM34-BE34 -> 0 | BO34: =BM34-$F34 -> -165 | BP34: =BN34-'0910 Monthly '!AW34 -> -175 | BV34: =BU34-BM34 -> 0 | BW34: =BU34-$F34 -> -165 | BX34: =BV34-'0910 Monthly '!BC34 -> -174 | CD34: =CC34-BU34 -> 0 | CE34: =CC34-$F34 -> -165 | CF34: =CD34-'0910 Monthly '!BI34 -> -173
A35: North East | B35: =$B$24*B50 -> 75.171167 | C35: 38 | D35: 21 | E35: 12 | F35: 71 | H35: 41 | I35: 21 | J35: 12 | K35: 74 | L35: =K35-F35 -> 3 | M35: =K35-'0910 Monthly '!J35 -> 4 | O35: 43 | P35: 21 | Q35: 12 | R35: 76 | S35: =R35-K35 -> 2 | T35: =R35-'0910 Monthly '!N35 -> 2 | V35: 45 | W35: 21 | X35: 12 | Y35: 78 | Z35: =Y35-R35 -> 2 | AA35: =Y35-$F35 -> 7 | AB35: =Z35-'0910 Monthly '!S35 -> -71 | AD35: 46 | AE35: 21 | AF35: 12 | AG35: 79 | AH35: =AG35-Y35 -> 1 | AI35: =AG35-$F35 -> 8 | AJ35: =AH35-'0910 Monthly '!Y35 -> -72 | AL35: 43 | AM35: 24 | AN35: 12 | AO35: 79 | AP35: =AO35-AG35 -> 0 | AQ35: =AO35-$F35 -> 8 | AR35: =AP35-'0910 Monthly '!AE35 -> -73 | AT35: 39 | AU35: 24 | AV35: 12 | AW35: 75 | AX35: =AW35-AO35 -> -4 | AY35: =AW35-$F35 -> 4 | AZ35: =AX35-'0910 Monthly '!AK35 -> -70 | BF35: =BE35-AW35 -> -75 | BG35: =BE35-$F35 -> -71 | BH35: =BF35-'0910 Monthly '!AQ35 -> -140 | BN35: =BM35-BE35 -> 0 | BO35: =BM35-$F35 -> -71 | BP35: =BN35-'0910 Monthly '!AW35 -> -67 | BV35: =BU35-BM35 -> 0 | BW35: =BU35-$F35 -> -71 | BX35: =BV35-'0910 Monthly '!BC35 -> -67 | CD35: =CC35-BU35 -> 0 | CE35: =CC35-$F35 -> -71 | CF35: =CD35-'0910 Monthly '!BI35 -> -66
A36: Northwestern | B36: =$B$24*B51 -> 69.359123 | C36: 37 | D36: 18 | E36: 11 | F36: 66 | H36: 40 | I36: 17 | J36: 11 | K36: 68 | L36: =K36-F36 -> 2 | M36: =K36-'0910 Monthly '!J36 -> 8 | O36: 41 | P36: 15 | Q36: 11 | R36: 67 | S36: =R36-K36 -> -1 | T36: =R36-'0910 Monthly '!N36 -> 6 | V36: 41 | W36: 17 | X36: 11 | Y36: 69 | Z36: =Y36-R36 -> 2 | AA36: =Y36-$F36 -> 3 | AB36: =Z36-'0910 Monthly '!S36 -> -58 | AD36: 42 | AE36: 17 | AF36: 11 | AG36: 70 | AH36: =AG36-Y36 -> 1 | AI36: =AG36-$F36 -> 4 | AJ36: =AH36-'0910 Monthly '!Y36 -> -58 | AL36: 41 | AM36: 18 | AN36: 11 | AO36: 70 | AP36: =AO36-AG36 -> 0 | AQ36: =AO36-$F36 -> 4 | AR36: =AP36-'0910 Monthly '!AE36 -> -61 | AT36: 41 | AU36: 17 | AV36: 11 | AW36: 69 | AX36: =AW36-AO36 -> -1 | AY36: =AW36-$F36 -> 3 | AZ36: =AX36-'0910 Monthly '!AK36 -> -60 | BF36: =BE36-AW36 -> -69 | BG36: =BE36-$F36 -> -66 | BH36: =BF36-'0910 Monthly '!AQ36 -> -129 | BN36: =BM36-BE36 -> 0 | BO36: =BM36-$F36 -> -66 | BP36: =BN36-'0910 Monthly '!AW36 -> -60 | BV36: =BU36-BM36 -> 0 | BW36: =BU36-$F36 -> -66 | BX36: =BV36-'0910 Monthly '!BC36 -> -60 | CD36: =CC36-BU36 -> 0 | CE36: =CC36-$F36 -> -66 | CF36: =CD36-'0910 Monthly '!BI36 -> -60
A37: Union City | B37: =$B$24*B52 -> 46.710468 | C37: 22 | D37: 12 | E37: 12 | F37: 46 | H37: 27 | I37: 11 | J37: 11 | K37: 49 | L37: =K37-F37 -> 3 | M37: =K37-'0910 Monthly '!J37 -> 12 | O37: 26 | P37: 12 | Q37: 11 | R37: 49 | S37: =R37-K37 -> 0 | T37: =R37-'0910 Monthly '!N37 -> 12 | V37: 26 | W37: 12 | X37: 11 | Y37: 49 | Z37: =Y37-R37 -> 0 | AA37: =Y37-$F37 -> 3 | AB37: =Z37-'0910 Monthly '!S37 -> -37 | AD37: 25 | AE37: 12 | AF37: 11 | AG37: 48 | AH37: =AG37-Y37 -> -1 | AI37: =AG37-$F37 -> 2 | AJ37: =AH37-'0910 Monthly '!Y37 -> -38 | AL37: 25 | AM37: 12 | AN37: 11 | AO37: 48 | AP37: =AO37-AG37 -> 0 | AQ37: =AO37-$F37 -> 2 | AR37: =AP37-'0910 Monthly '!AE37 -> -33 | AT37: 23 | AU37: 11 | AV37: 11 | AW37: 45 | AX37: =AW37-AO37 -> -3 | AY37: =AW37-$F37 -> -1 | AZ37: =AX37-'0910 Monthly '!AK37 -> -36 | BF37: =BE37-AW37 -> -45 | BG37: =BE37-$F37 -> -46 | BH37: =BF37-'0910 Monthly '!AQ37 -> -77 | BN37: =BM37-BE37 -> 0 | BO37: =BM37-$F37 -> -46 | BP37: =BN37-'0910 Monthly '!AW37 -> -32 | BV37: =BU37-BM37 -> 0 | BW37: =BU37-$F37 -> -46 | BX37: =BV37-'0910 Monthly '!BC37 -> -32 | CD37: =CC37-BU37 -> 0 | CE37: =CC37-$F37 -> -46 | CF37: =CD37-'0910 Monthly '!BI37 -> -32
A38: Wattsburg | B38: =$B$24*B53 -> 59.701682 | C38: 34 | D38: 24 | E38: 21 | F38: 79 | H38: 29 | I38: 19 | J38: 20 | K38: 68 | L38: =K38-F38 -> -11 | M38: =K38-'0910 Monthly '!J38 -> 1 | O38: 27 | P38: 18 | Q38: 20 | R38: 65 | S38: =R38-K38 -> -3 | T38: =R38-'0910 Monthly '!N38 -> -3 | V38: 27 | W38: 17 | X38: 20 | Y38: 64 | Z38: =Y38-R38 -> -1 | AA38: =Y38-$F38 -> -15 | AB38: =Z38-'0910 Monthly '!S38 -> -69 | AD38: 26 | AE38: 17 | AF38: 20 | AG38: 63 | AH38: =AG38-Y38 -> -1 | AI38: =AG38-$F38 -> -16 | AJ38: =AH38-'0910 Monthly '!Y38 -> -68 | AL38: 25 | AM38: 16 | AN38: 20 | AO38: 61 | AP38: =AO38-AG38 -> -2 | AQ38: =AO38-$F38 -> -18 | AR38: =AP38-'0910 Monthly '!AE38 -> -69 | AT38: 27 | AU38: 16 | AV38: 20 | AW38: 63 | AX38: =AW38-AO38 -> 2 | AY38: =AW38-$F38 -> -16 | AZ38: =AX38-'0910 Monthly '!AK38 -> -70 | BF38: =BE38-AW38 -> -63 | BG38: =BE38-$F38 -> -79 | BH38: =BF38-'0910 Monthly '!AQ38 -> -135 | BN38: =BM38-BE38 -> 0 | BO38: =BM38-$F38 -> -79 | BP38: =BN38-'0910 Monthly '!AW38 -> -70 | BV38: =BU38-BM38 -> 0 | BW38: =BU38-$F38 -> -79 | BX38: =BV38-'0910 Monthly '!BC38 -> -70 | CD38: =CC38-BU38 -> 0 | CE38: =CC38-$F38 -> -79 | CF38: =CD38-'0910 Monthly '!BI38 -> -70
A39: Totals | B39: =SUM(B28:B38) -> 1008 | C39: 352 | D39: 229 | E39: 180 | F39: 761 | H39: =SUM(H28:H38) -> 355 | I39: =SUM(I28:I38) -> 214 | J39: =SUM(J28:J38) -> 172 | K39: =SUM(K28:K38) -> 741 | L39: =K39-F39 -> -20 | M39: =K39-'0910 Monthly '!J39 -> -10 | O39: 353 | P39: 208 | Q39: 170 | R39: 731 | S39: 0 | T39: =R39-'0910 Monthly '!N39 -> -21 | V39: =SUM(V28:V38) -> 355 | W39: =SUM(W28:W38) -> 204 | X39: =SUM(X28:X38) -> 169 | Y39: =SUM(Y28:Y38) -> 728 | Z39: =Y39-R39 -> -3 | AA39: =Y39-$F39 -> -33 | AB39: =Z39-'0910 Monthly '!S39 -> -747 | AD39: =SUM(AD28:AD38) -> 356 | AE39: =SUM(AE28:AE38) -> 203 | AF39: =SUM(AF28:AF38) -> 167 | AG39: =SUM(AG28:AG38) -> 726 | AH39: =AG39-Y39 -> -2 | AI39: =AG39-$F39 -> -35 | AJ39: =AH39-'0910 Monthly '!Y39 -> -736 | AL39: =SUM(AL28:AL38) -> 347 | AM39: =SUM(AM28:AM38) -> 205 | AN39: =SUM(AN28:AN38) -> 171 | AO39: =SUM(AO28:AO38) -> 723 | AP39: =AO39-AG39 -> -3 | AQ39: =AO39-$F39 -> -38 | AR39: =AP39-'0910 Monthly '!AE39 -> -722 | AT39: =SUM(AT28:AT38) -> 342 | AU39: =SUM(AU28:AU38) -> 195 | AV39: =SUM(AV28:AV38) -> 168 | AW39: =SUM(AW28:AW38) -> 705 | AX39: =AW39-AO39 -> -18 | AY39: =AW39-$F39 -> -56 | AZ39: =AX39-'0910 Monthly '!AK39 -> -732 | BB39: =SUM(BB28:BB38) -> 0 | BC39: =SUM(BC28:BC38) -> 0 | BD39: =SUM(BD28:BD38) -> 0 | BE39: =SUM(BE28:BE38) -> 0 | BF39: =BE39-AW39 -> -705 | BG39: =BE39-$F39 -> -761 | BH39: =BF39-'0910 Monthly '!AQ39 -> -1415 | BJ39: =SUM(BJ28:BJ38) -> 0 | BK39: =SUM(BK28:BK38) -> 0 | BL39: =SUM(BL28:BL38) -> 0 | BM39: =SUM(BM28:BM38) -> 0 | BN39: =BM39-BE39 -> 0 | BO39: =BM39-$F39 -> -761 | BP39: =BN39-'0910 Monthly '!AW39 -> -705 | BR39: =SUM(BR28:BR38) -> 0 | BS39: =SUM(BS28:BS38) -> 0 | BT39: =SUM(BT28:BT38) -> 0 | BU39: =SUM(BU28:BU38) -> 0 | BV39: =BU39-BM39 -> 0 | BW39: =BU39-$F39 -> -761 | BX39: =BV39-'0910 Monthly '!BC39 -> -701 | BZ39: =SUM(BZ28:BZ38) -> 0 | CA39: =SUM(CA28:CA38) -> 0 | CB39: =SUM(CB28:CB38) -> 0 | CC39: =SUM(CC28:CC38) -> 0 | CD39: =CC39-BU39 -> 0 | CE39: =CC39-$F39 -> -761 | CF39: =CD39-'0910 Monthly '!BI39 -> -698
A42: Quota Percentage
A43: Fairview | B43: 0.072577699
...

Sheet 0910 Monthly 
C2: August 2009 | G2: September 2009 | K2: October 2009 | P2: November 2009 | V2: December 2009 | AB2: January 2010 | AH2: February 2010 | AN2: March 2010 | AT2: April 2010 | AZ2: May 2010 | BF2: June 2010
A3: Program | C3: Program/Year Level | F3: Total | G3: Program/Year Level | J3: Total | K3: Program/Year Level | N3: Total | O3: Chg/ Month | P3: Program/Year Level | S3: Total | T3: Chg/ Month | U3: Chg/ Sept | V3: Program/Year Level | Y3: Total | Z3: Chg/ Month | AA3: Chg/ Sept | AB3: Program/Year Level | AE3: Total | AF3: Chg/ Month | AG3: Chg/ Sept | AH3: Program/Year Level | AK3: Total | AL3: Chg/ Month | AM3: Chg/ Sept | AN3: Program/Year Level | AQ3: Total | AR3: Chg/ Month | AS3: Chg/ Sept | AT3: Program/Year Level | AW3: Total | AX3: Chg/ Month | AY3: Chg/ Sept | AZ3: Program/Year Level | BC3: Total | BD3: Chg/ Month | BE3: Chg/ Sept | BF3: Program/Year Level | BI3: Total | BJ3: Chg/ Month | BK3: Chg/ Sept
B4: Capacity | C4: 1st | D4: 2nd | E4: 3rd | F4: Total | G4: 1st | H4: 2nd | I4: 3rd | J4: Total | K4: 1st | L4: 2nd | M4: 3rd | N4: Total | P4: 1st | Q4: 2nd | R4: 3rd | S4: Total | V4: 1st | W4: 2nd | X4: 3rd | Y4: Total | AB4: 1st | AC4: 2nd | AD4: 3rd | AE4: Total | AH4: 1st | AI4: 2nd | AJ4: 3rd | AK4: Total | AN4: 1st | AO4: 2nd | AP4: 3rd | AQ4: Total | AT4: 1st | AU4: 2nd | AV4: 3rd | AW4: Total | AZ4: 1st | BA4: 2nd | BB4: 3rd | BC4: Total | BF4: 1st | BG4: 2nd | BH4: 3rd | BI4: Total
A5: Art & Design | B5: 48 | C5: 17 | D5: 19 | E5: 8 | F5: 44 | G5: 19 | H5: 19 | I5: 8 | J5: 46 | K5: 19 | L5: 19 | M5: 8 | N5: 46 | O5: =N5-J5 -> 0 | P5: 19 | Q5: 19 | R5: 8 | S5: =SUM(P5:R5) -> 46 | T5: =S5-N5 -> 0 | U5: =S5-$F5 -> 2 | V5: 19 | W5: 19 | X5: 8 | Y5: =SUM(V5:X5) -> 46 | Z5: =Y5-S5 -> 0 | AA5: =Y5-$F5 -> 2 | AB5: 13 | AC5: 21 | AD5: 8 | AE5: =SUM(AB5:AD5) -> 42 | AF5: =AE5-Y5 -> -4 | AG5: =AE5-$F5 -> -2 | AH5: 13 | AI5: 20 | AJ5: 8 | AK5: =SUM(AH5:AJ5) -> 41 | AL5: =AK5-AE5 -> -1 | AM5: =AK5-$F5 -> -3 | AN5: 13 | AO5: 19 | AP5: 8 | AQ5: =SUM(AN5:AP5) -> 40 | AR5: =AQ5-AK5 -> -1 | AS5: =AQ5-$F5 -> -4 | AT5: 13 | AU5: 19 | AV5: 8 | AW5: =SUM(AT5:AV5) -> 40 | AX5: =AW5-AQ5 -> 0 | AY5: =AW5-$F5 -> -4 | AZ5: 13 | BA5: 19 | BB5: 8 | BC5: =SUM(AZ5:BB5) -> 40 | BD5: =BC5-AW5 -> 0 | BE5: =BC5-$F5 -> -4 | BF5: 13 | BG5: 18 | BH5: 8 | BI5: =SUM(BF5:BH5) -> 39 | BJ5: =BI5-BC5 -> -1 | BK5: =BI5-$F5 -> -5
A6: Auto Body | B6: 48 | C6: 13 | D6: 8 | E6: 10 | F6: 31 | G6: 12 | H6: 5 | I6: 10 | J6: 27 | K6: 10 | L6: 5 | M6: 10 | N6: 25 | O6: =N6-J6 -> -2 | P6: 10 | Q6: 5 | R6: 10 | S6: =SUM(P6:R6) -> 25 | T6: =S6-N6 -> 0 | U6: =S6-$F6 -> -6 | V6: 10 | W6: 5 | X6: 9 | Y6: =SUM(V6:X6) -> 24 | Z6: =Y6-S6 -> -1 | AA6: =Y6-$F6 -> -7 | AB6: 7 | AC6: 5 | AD6: 8 | AE6: =SUM(AB6:AD6) -> 20 | AF6: =AE6-Y6 -> -4 | AG6: =AE6-$F6 -> -11 | AH6: 7 | AI6: 5 | AJ6: 8 | AK6: =SUM(AH6:AJ6) -> 20 | AL6: =AK6-AE6 -> 0 | AM6: =AK6-$F6 -> -11 | AN6: 7 | AO6: 5 | AP6: 8 | AQ6: =SUM(AN6:AP6) -> 20 | AR6: =AQ6-AK6 -> 0 | AS6: =AQ6-$F6 -> -11 | AT6: 7 | AU6: 5 | AV6: 8 | AW6: =SUM(AT6:AV6) -> 20 | AX6: =AW6-AQ6 -> 0 | AY6: =AW6-$F6 -> -11 | AZ6: 7 | BA6: 5 | BB6: 8 | BC6: =SUM(AZ6:BB6) -> 20 | BD6: =BC6-AW6 -> 0 | BE6: =BC6-$F6 -> -11 | BF6: 7 | BG6: 5 | BH6: 8 | BI6: =SUM(BF6:BH6) -> 20 | BJ6: =BI6-BC6 -> 0 | BK6: =BI6-$F6 -> -11
A7: Automotive Technologies | B7: 96 | C7: 23 | D7: 22 | E7: 15 | F7: 60 | G7: 23 | H7: 21 | I7: 14 | J7: 58 | K7: 34 | L7: 20 | M7: 14 | N7: 68 | O7: =N7-J7 -> 10 | P7: 33 | Q7: 20 | R7: 14 | S7: =SUM(P7:R7) -> 67 | T7: =S7-N7 -> -1 | U7: =S7-$F7 -> 7 | V7: 31 | W7: 20 | X7: 14 | Y7: =SUM(V7:X7) -> 65 | Z7: =Y7-S7 -> -2 | AA7: =Y7-$F7 -> 5 | AB7: 29 | AC7: 21 | AD7: 13 | AE7: =SUM(AB7:AD7) -> 63 | AF7: =AE7-Y7 -> -2 | AG7: =AE7-$F7 -> 3 | AH7: 29 | AI7: 21 | AJ7: 12 | AK7: =SUM(AH7:AJ7) -> 62 | AL7: =AK7-AE7 -> -1 | AM7: =AK7-$F7 -> 2 | AN7: 29 | AO7: 21 | AP7: 12 | AQ7: =SUM(AN7:AP7) -> 62 | AR7: =AQ7-AK7 -> 0 | AS7: =AQ7-$F7 -> 2 | AT7: 30 | AU7: 21 | AV7: 12 | AW7: =SUM(AT7:AV7) -> 63 | AX7: =AW7-AQ7 -> 1 | AY7: =AW7-$F7 -> 3 | AZ7: 29 | BA7: 21 | BB7: 12 | BC7: =SUM(AZ7:BB7) -> 62 | BD7: =BC7-AW7 -> -1 | BE7: =BC7-$F7 -> 2 | BF7: 29 | BG7: 21 | BH7: 12 | BI7: =SUM(BF7:BH7) -> 62 | BJ7: =BI7-BC7 -> 0 | BK7: =BI7-$F7 -> 2
A8: Computer Info. Systems | B8: 48 | C8: 21 | D8: 10 | E8: 9 | F8: 40 | G8: 18 | H8: 10 | I8: 9 | J8: 37 | K8: 18 | L8: 10 | M8: 9 | N8: 37 | O8: =N8-J8 -> 0 | P8: 18 | Q8: 10 | R8: 9 | S8: =SUM(P8:R8) -> 37 | T8: =S8-N8 -> 0 | U8: =S8-$F8 -> -3 | V8: 18 | W8: 10 | X8: 9 | Y8: =SUM(V8:X8) -> 37 | Z8: =Y8-S8 -> 0 | AA8: =Y8-$F8 -> -3 | AB8: 17 | AC8: 11 | AD8: 9 | AE8: =SUM(AB8:AD8) -> 37 | AF8: =AE8-Y8 -> 0 | AG8: =AE8-$F8 -> -3 | AH8: 17 | AI8: 11 | AJ8: 9 | AK8: =SUM(AH8:AJ8) -> 37 | AL8: =AK8-AE8 -> 0 | AM8: =AK8-$F8 -> -3 | AN8: 17 | AO8: 10 | AP8: 9 | AQ8: =SUM(AN8:AP8) -> 36 | AR8: =AQ8-AK8 -> -1 | AS8: =AQ8-$F8 -> -4 | AT8: 17 | AU8: 10 | AV8: 9 | AW8: =SUM(AT8:AV8) -> 36 | AX8: =AW8-AQ8 -> 0 | AY8: =AW8-$F8 -> -4 | AZ8: 17 | BA8: 9 | BB8: 9 | BC8: =SUM(AZ8:BB8) -> 35 | BD8: =BC8-AW8 -> -1 | BE8: =BC8-$F8 -> -5 | BF8: 17 | BG8: 9 | BH8: 9 | BI8: =SUM(BF8:BH8) -> 35 | BJ8: =BI8-BC8 -> 0 | BK8: =BI8-$F8 -> -5
A9: Construction Trades | B9: 96 | C9: 30 | D9: 27 | E9: 13 | F9: 70 | G9: 25 | H9: 27 | I9: 11 | J9: 63 | K9: 22 | L9: 26 | M9: 11 | N9: 59 | O9: =N9-J9 -> -4 | P9: 22 | Q9: 26 | R9: 11 | S9: =SUM(P9:R9) -> 59 | T9: =S9-N9 -> 0 | U9: =S9-$F9 -> -11 | V9: 22 | W9: 25 | X9: 11 | Y9: =SUM(V9:X9) -> 58 | Z9: =Y9-S9 -> -1 | AA9: =Y9-$F9 -> -12 | AB9: 18 | AC9: 28 | AD9: 9 | AE9: =SUM(AB9:AD9) -> 55 | AF9: =AE9-Y9 -> -3 | AG9: =AE9-$F9 -> -15 | AH9: 18 | AI9: 28 | AJ9: 9 | AK9: =SUM(AH9:AJ9) -> 55 | AL9: =AK9-AE9 -> 0 | AM9: =AK9-$F9 -> -15 | AN9: 17 | AO9: 28 | AP9: 9 | AQ9: =SUM(AN9:AP9) -> 54 | AR9: =AQ9-AK9 -> -1 | AS9: =AQ9-$F9 -> -16 | AT9: 18 | AU9: 28 | AV9: 9 | AW9: =SUM(AT9:AV9) -> 55 | AX9: =AW9-AQ9 -> 1 | AY9: =AW9-$F9 -> -15 | AZ9: 18 | BA9: 27 | BB9: 9 | BC9: =SUM(AZ9:BB9) -> 54 | BD9: =BC9-AW9 -> -1 | BE9: =BC9-$F9 -> -16 | BF9: 18 | BG9: 27 | BH9: 9 | BI9: =SUM(BF9:BH9) -> 54 | BJ9: =BI9-BC9 -> 0 | BK9: =BI9-$F9 -> -16
A10: Cosmetology | B10: 48 | C10: 14 | D10: 14 | E10: 18 | F10: 46 | G10: 15 | H10: 15 | I10: 18 | J10: 48 | K10: 15 | L10: 15 | M10: 18 | N10: 48 | O10: =N10-J10 -> 0 | P10: 15 | Q10: 15 | R10: 18 | S10: =SUM(P10:R10) -> 48 | T10: =S10-N10 -> 0 | U10: =S10-$F10 -> 2 | V10: 15 | W10: 15 | X10: 18 | Y10: =SUM(V10:X10) -> 48 | Z10: =Y10-S10 -> 0 | AA10: =Y10-$F10 -> 2 | AB10: 15 | AC10: 15 | AD10: 17 | AE10: =SUM(AB10:AD10) -> 47 | AF10: =AE10-Y10 -> -1 | AG10: =AE10-$F10 -> 1 | AH10: 15 | AI10: 15 | AJ10: 17 | AK10: =SUM(AH10:AJ10) -> 47 | AL10: =AK10-AE10 -> 0 | AM10: =AK10-$F10 -> 1 | AN10: 15 | AO10: 15 | AP10: 17 | AQ10: =SUM(AN10:AP10) -> 47 | AR10: =AQ10-AK10 -> 0 | AS10: =AQ10-$F10 -> 1 | AT10: 15 | AU10: 13 | AV10: 16 | AW10: =SUM(AT10:AV10) -> 44 | AX10: =AW10-AQ10 -> -3 | AY10: =AW10-$F10 -> -2 | AZ10: 15 | BA10: 13 | BB10: 16 | BC10: =SUM(AZ10:BB10) -> 44 | BD10: =BC10-AW10 -> 0 | BE10: =BC10-$F10 -> -2 | BF10: 15 | BG10: 13 | BH10: 16 | BI10: =SUM(BF10:BH10) -> 44 | BJ10: =BI10-BC10 -> 0 | BK10: =BI10-$F10 -> -2
A11: Culinary Arts | B11: 96 | C11: 38 | D11: 21 | E11: 22 | F11: 81 | G11: 34 | H11: 18 | I11: 21 | J11: 73 | K11: 36 | L11: 17 | M11: 21 | N11: 74 | O11: =N11-J11 -> 1 | P11: 33 | Q11: 17 | R11: 21 | S11: =SUM(P11:R11) -> 71 | T11: =S11-N11 -> -3 | U11: =S11-$F11 -> -10 | V11: 31 | W11: 17 | X11: 21 | Y11: =SUM(V11:X11) -> 69 | Z11: =Y11-S11 -> -2 | AA11: =Y11-$F11 -> -12 | AB11: 33 | AC11: 17 | AD11: 21 | AE11: =SUM(AB11:AD11) -> 71 | AF11: =AE11-Y11 -> 2 | AG11: =AE11-$F11 -> -10 | AH11: 33 | AI11: 17 | AJ11: 21 | AK11: =SUM(AH11:AJ11) -> 71 | AL11: =AK11-AE11 -> 0 | AM11: =AK11-$F11 -> -10 | AN11: 34 | AO11: 17 | AP11: 20 | AQ11: =SUM(AN11:AP11) -> 71 | AR11: =AQ11-AK11 -> 0 | AS11: =AQ11-$F11 -> -10 | AT11: 33 | AU11: 17 | AV11: 20 | AW11: =SUM(AT11:AV11) -> 70 | AX11: =AW11-AQ11 -> -1 | AY11: =AW11-$F11 -> -11 | AZ11: 33 | BA11: 17 | BB11: 19 | BC11: =SUM(AZ11:BB11) -> 69 | BD11: =BC11-AW11 -> -1 | BE11: =BC11-$F11 -> -12 | BF11: 33 | BG11: 17 | BH11: 19 | BI11: =SUM(BF11:BH11) -> 69 | BJ11: =BI11-BC11 -> 0 | BK11: =BI11-$F11 -> -12
A12: Diversified Ocupations | C12: 0 | D12: 0 | E12: 0 | F12: 0 | G12: 2 | H12: 0 | I12: 0 | J12: 2 | K12: 3 | L12: 0 | M12: 0 | N12: 3 | O12: =N12-J12 -> 1 | P12: 4 | Q12: 0 | R12: 0 | S12: =SUM(P12:R12) -> 4 | T12: =S12-N12 -> 1 | U12: =S12-$F12 -> 4 | V12: 4 | W12: 0 | X12: 0 | Y12: =SUM(V12:X12) -> 4 | Z12: =Y12-S12 -> 0 | AA12: =Y12-$F12 -> 4 | AB12: 3 | AC12: 1 | AD12: 0 | AE12: =SUM(AB12:AD12) -> 4 | AF12: =AE12-Y12 -> 0 | AG12: =AE12-$F12 -> 4 | AH12: 8 | AI12: 1 | AJ12: 0 | AK12: =SUM(AH12:AJ12) -> 9 | AL12: =AK12-AE12 -> 5 | AM12: =AK12-$F12 -> 9 | AN12: 8 | AO12: 1 | AP12: 0 | AQ12: =SUM(AN12:AP12) -> 9 | AR12: =AQ12-AK12 -> 0 | AS12: =AQ12-$F12 -> 9 | AT12: 7 | AU12: 1 | AV12: 0 | AW12: =SUM(AT12:AV12) -> 8 | AX12: =AW12-AQ12 -> -1 | AY12: =AW12-$F12 -> 8 | AZ12: 7 | BA12: 1 | BB12: 0 | BC12: =SUM(AZ12:BB12) -> 8 | BD12: =BC12-AW12 -> 0 | BE12: =BC12-$F12 -> 8 | BF12: 7 | BG12: 1 | BH12: 0 | BI12: =SUM(BF12:BH12) -> 8 | BJ12: =BI12-BC12 -> 0 | BK12: =BI12-$F12 -> 8
A13: Drafting & Design | B13: 48 | C13: 8 | D13: 10 | E13: 9 | F13: 27 | G13: 11 | H13: 10 | I13: 9 | J13: 30 | K13: 12 | L13: 10 | M13: 9 | N13: 31 | O13: =N13-J13 -> 1 | P13: 12 | Q13: 9 | R13: 9 | S13: =SUM(P13:R13) -> 30 | T13: =S13-N13 -> -1 | U13: =S13-$F13 -> 3 | V13: 12 | W13: 9 | X13: 9 | Y13: =SUM(V13:X13) -> 30 | Z13: =Y13-S13 -> 0 | AA13: =Y13-$F13 -> 3 | AB13: 11 | AC13: 8 | AD13: 11 | AE13: =SUM(AB13:AD13) -> 30 | AF13: =AE13-Y13 -> 0 | AG13: =AE13-$F13 -> 3 | AH13: 11 | AI13: 7 | AJ13: 10 | AK13: =SUM(AH13:AJ13) -> 28 | AL13: =AK13-AE13 -> -2 | AM13: =AK13-$F13 -> 1 | AN13: 11 | AO13: 7 | AP13: 10 | AQ13: =SUM(AN13:AP13) -> 28 | AR13: =AQ13-AK13 -> 0 | AS13: =AQ13-$F13 -> 1 | AT13: 11 | AU13: 7 | AV13: 10 | AW13: =SUM(AT13:AV13) -> 28 | AX13: =AW13-AQ13 -> 0 | AY13: =AW13-$F13 -> 1 | AZ13: 11 | BA13: 7 | BB13: 10 | BC13: =SUM(AZ13:BB13) -> 28 | BD13: =BC13-AW13 -> 0 | BE13: =BC13-$F13 -> 1 | BF13: 11 | BG13: 7 | BH13: 10 | BI13: =SUM(BF13:BH13) -> 28 | BJ13: =BI13-BC13 -> 0 | BK13: =BI13-$F13 -> 1
A14: Early Childhood Education | B14: 48 | C14: 20 | D14: 15 | E14: 11 | F14: 46 | G14: 20 | H14: 14 | I14: 10 | J14: 44 | K14: 18 | L14: 14 | M14: 10 | N14: 42 | O14: =N14-J14 -> -2 | P14: 18 | Q14: 14 | R14: 10 | S14: =SUM(P14:R14) -> 42 | T14: =S14-N14 -> 0 | U14: =S14-$F14 -> -4 | V14: 18 | W14: 14 | X14: 10 | Y14: =SUM(V14:X14) -> 42 | Z14: =Y14-S14 -> 0 | AA14: =Y14-$F14 -> -4 | AB14: 17 | AC14: 15 | AD14: 10 | AE14: =SUM(AB14:AD14) -> 42 | AF14: =AE14-Y14 -> 0 | AG14: =AE14-$F14 -> -4 | AH14: 17 | AI14: 15 | AJ14: 10 | AK14: =SUM(AH14:AJ14) -> 42 | AL14: =AK14-AE14 -> 0 | AM14: =AK14-$F14 -> -4 | AN14: 17 | AO14: 15 | AP14: 10 | AQ14: =SUM(AN14:AP14) -> 42 | AR14: =AQ14-AK14 -> 0 | AS14: =AQ14-$F14 -> -4 | AT14: 17 | AU14: 15 | AV14: 10 | AW14: =SUM(AT14:AV14) -> 42 | AX14: =AW14-AQ14 -> 0 | AY14: =AW14-$F14 -> -4 | AZ14: 17 | BA14: 15 | BB14: 10 | BC14: =SUM(AZ14:BB14) -> 42 | BD14: =BC14-AW14 -> 0 | BE14: =BC14-$F14 -> -4 | BF14: 17 | BG14: 15 | BH14: 10 | BI14: =SUM(BF14:BH14) -> 42 | BJ14: =BI14-BC14 -> 0 | BK14: =BI14-$F14 -> -4
A15: Electrical Engineering | B15: 48 | C15: 16 | D15: 16 | E15: 14 | F15: 46 | G15: 16 | H15: 15 | I15: 13 | J15: 44 | K15: 16 | L15: 15 | M15: 13 | N15: 44 | O15: =N15-J15 -> 0 | P15: 15 | Q15: 15 | R15: 13 | S15: =SUM(P15:R15) -> 43 | T15: =S15-N15 -> -1 | U15: =S15-$F15 -> -3 | V15: 16 | W15: 15 | X15: 13 | Y15: =SUM(V15:X15) -> 44 | Z15: =Y15-S15 -> 1 | AA15: =Y15-$F15 -> -2 | AB15: 15 | AC15: 14 | AD15: 14 | AE15: =SUM(AB15:AD15) -> 43 | AF15: =AE15-Y15 -> -1 | AG15: =AE15-$F15 -> -3 | AH15: 15 | AI15: 14 | AJ15: 13 | AK15: =SUM(AH15:AJ15) -> 42 | AL15: =AK15-AE15 -> -1 | AM15: =AK15-$F15 -> -4 | AN15: 15 | AO15: 14 | AP15: 13 | AQ15: =SUM(AN15:AP15) -> 42 | AR15: =AQ15-AK15 -> 0 | AS15: =AQ15-$F15 -> -4 | AT15: 16 | AU15: 13 | AV15: 13 | AW15: =SUM(AT15:AV15) -> 42 | AX15: =AW15-AQ15 -> 0 | AY15: =AW15-$F15 -> -4 | AZ15: 16 | BA15: 13 | BB15: 13 | BC15: =SUM(AZ15:BB15) -> 42 | BD15: =BC15-AW15 -> 0 | BE15: =BC15-$F15 -> -4 | BF15: 16 | BG15: 13 | BH15: 13 | BI15: =SUM(BF15:BH15) -> 42 | BJ15: =BI15-BC15 -> 0 | BK15: =BI15-$F15 -> -4
A16: Electronics | B16: 48 | C16: 10 | D16: 10 | E16: 4 | F16: 24 | G16: 9 | H16: 9 | I16: 4 | J16: 22 | K16: 8 | L16: 9 | M16: 4 | N16: 21 | O16: =N16-J16 -> -1 | P16: 8 | Q16: 9 | R16: 4 | S16: =SUM(P16:R16) -> 21 | T16: =S16-N16 -> 0 | U16: =S16-$F16 -> -3 | V16: 8 | W16: 8 | X16: 4 | Y16: =SUM(V16:X16) -> 20 | Z16: =Y16-S16 -> -1 | AA16: =Y16-$F16 -> -4 | AB16: 7 | AC16: 5 | AD16: 4 | AE16: =SUM(AB16:AD16) -> 16 | AF16: =AE16-Y16 -> -4 | AG16: =AE16-$F16 -> -8 | AH16: 8 | AI16: 5 | AJ16: 4 | AK16: =SUM(AH16:AJ16) -> 17 | AL16: =AK16-AE16 -> 1 | AM16: =AK16-$F16 -> -7 | AN16: 9 | AO16: 5 | AP16: 4 | AQ16: =SUM(AN16:AP16) -> 18 | AR16: =AQ16-AK16 -> 1 | AS16: =AQ16-$F16 -> -6 | AT16: 9 | AU16: 5 | AV16: 4 | AW16: =SUM(AT16:AV16) -> 18 | AX16: =AW16-AQ16 -> 0 | AY16: =AW16-$F16 -> -6 | AZ16: 9 | BA16: 5 | BB16: 4 | BC16: =SUM(AZ16:BB16) -> 18 | BD16: =BC16-AW16 -> 0 | BE16: =BC16-$F16 -> -6 | BF16: 9 | BG16: 5 | BH16: 4 | BI16: =SUM(BF16:BH16) -> 18 | BJ16: =BI16-BC16 -> 0 | BK16: =BI16-$F16 -> -6
A17: Facilities Maintenance Tech | B17: 48 | C17: 22 | D17: 10 | E17: 1 | F17: 33 | G17: 25 | H17: 9 | I17: 1 | J17: 35 | K17: 25 | L17: 8 | M17: 1 | N17: 34 | O17: =N17-J17 -> -1 | P17: 25 | Q17: 8 | R17: 1 | S17: =SUM(P17:R17) -> 34 | T17: =S17-N17 -> 0 | U17: =S17-$F17 -> 1 | V17: 24 | W17: 8 | X17: 1 | Y17: =SUM(V17:X17) -> 33 | Z17: =Y17-S17 -> -1 | AA17: =Y17-$F17 -> 0 | AB17: 24 | AC17: 9 | AD17: 1 | AE17: =SUM(AB17:AD17) -> 34 | AF17: =AE17-Y17 -> 1 | AG17: =AE17-$F17 -> 1 | AH17: 23 | AI17: 9 | AJ17: 1 | AK17: =SUM(AH17:AJ17) -> 33 | AL17: =AK17-AE17 -> -1 | AM17: =AK17-$F17 -> 0 | AN17: 23 | AO17: 9 | AP17: 1 | AQ17: =SUM(AN17:AP17) -> 33 | AR17: =AQ17-AK17 -> 0 | AS17: =AQ17-$F17 -> 0 | AT17: 24 | AU17: 8 | AV17: 1 | AW17: =SUM(AT17:AV17) -> 33 | AX17: =AW17-AQ17 -> 0 | AY17: =AW17-$F17 -> 0 | AZ17: 24 | BA17: 8 | BB17: 1 | BC17: =SUM(AZ17:BB17) -> 33 | BD17: =BC17-AW17 -> 0 | BE17: =BC17-$F17 -> 0 | BF17: 24 | BG17: 8 | BH17: 1 | BI17: =SUM(BF17:BH17) -> 33 | BJ17: =BI17-BC17 -> 0 | BK17: =BI17-$F17 -> 0
A18: Graphic Communications | B18: 48 | C18: 8 | D18: 13 | E18: 9 | F18: 30 | G18: 9 | H18: 12 | I18: 9 | J18: 30 | K18: 10 | L18: 12 | M18: 9 | N18: 31 | O18: =N18-J18 -> 1 | P18: 10 | Q18: 12 | R18: 9 | S18: =SUM(P18:R18) -> 31 | T18: =S18-N18 -> 0 | U18: =S18-$F18 -> 1 | V18: 10 | W18: 12 | X18: 9 | Y18: =SUM(V18:X18) -> 31 | Z18: =Y18-S18 -> 0 | AA18: =Y18-$F18 -> 1 | AB18: 12 | AC18: 12 | AD18: 9 | AE18: =SUM(AB18:AD18) -> 33 | AF18: =AE18-Y18 -> 2 | AG18: =AE18-$F18 -> 3 | AH18: 13 | AI18: 12 | AJ18: 9 | AK18: =SUM(AH18:AJ18) -> 34 | AL18: =AK18-AE18 -> 1 | AM18: =AK18-$F18 -> 4 | AN18: 12 | AO18: 12 | AP18: 9 | AQ18: =SUM(AN18:AP18) -> 33 | AR18: =AQ18-AK18 -> -1 | AS18: =AQ18-$F18 -> 3 | AT18: 12 | AU18: 12 | AV18: 9 | AW18: =SUM(AT18:AV18) -> 33 | AX18: =AW18-AQ18 -> 0 | AY18: =AW18-$F18 -> 3 | AZ18: 12 | BA18: 12 | BB18: 9 | BC18: =SUM(AZ18:BB18) -> 33 | BD18: =BC18-AW18 -> 0 | BE18: =BC18-$F18 -> 3 | BF18: 12 | BG18: 11 | BH18: 8 | BI18: =SUM(BF18:BH18) -> 31 | BJ18: =BI18-BC18 -> -2 | BK18: =BI18-$F18 -> 1
A19: Health Assistant | B19: 48 | C19: 18 | D19: 15 | E19: 15 | F19: 48 | G19: 19 | H19: 14 | I19: 15 | J19: 48 | K19: 19 | L19: 13 | M19: 15 | N19: 47 | O19: =N19-J19 -> -1 | P19: 19 | Q19: 13 | R19: 15 | S19: =SUM(P19:R19) -> 47 | T19: =S19-N19 -> 0 | U19: =S19-$F19 -> -1 | V19: 19 | W19: 13 | X19: 15 | Y19: =SUM(V19:X19) -> 47 | Z19: =Y19-S19 -> 0 | AA19: =Y19-$F19 -> -1 | AB19: 16 | AC19: 15 | AD19: 15 | AE19: =SUM(AB19:AD19) -> 46 | AF19: =AE19-Y19 -> -1 | AG19: =AE19-$F19 -> -2 | AH19: 16 | AI19: 14 | AJ19: 15 | AK19: =SUM(AH19:AJ19) -> 45 | AL19: =AK19-AE19 -> -1 | AM19: =AK19-$F19 -> -3 | AN19: 16 | AO19: 14 | AP19: 15 | AQ19: =SUM(AN19:AP19) -> 45 | AR19: =AQ19-AK19 -> 0 | AS19: =AQ19-$F19 -> -3 | AT19: 16 | AU19: 14 | AV19: 15 | AW19: =SUM(AT19:AV19) -> 45 | AX19: =AW19-AQ19 -> 0 | AY19: =AW19-$F19 -> -3 | AZ19: 17 | BA19: 13 | BB19: 15 | BC19: =SUM(AZ19:BB19) -> 45 | BD19: =BC19-AW19 -> 0 | BE19: =BC19-$F19 -> -3 | BF19: 17 | BG19: 13 | BH19: 15 | BI19: =SUM(BF19:BH19) -> 45 | BJ19: =BI19-BC19 -> 0 | BK19: =BI19-$F19 -> -3
